{"text_format":"1","workbook":"xlsx","n_sheets":65,"sheets":["START","Instructions","Template names","Lookup and lists","Org structure","Contacts","A1-Sum","A2-FinPerf SC","A2A","A3-FinPerf V","A3A","A4-FinPerf RE","A5-Capex","A5A","Chart1","A6-FinPos","A7-CFlow","A8-ResRecon","A9-Asset","A10-SerDel","SA1","SA2","SA3","SA4","SA5","SA6","SA7","SA8","SA9","SA10","SA11","SA12a","SA12b","SA13a","SA13b","SA14","SA15","SA16","SA17","SA18","SA19","SA20","SA21","SA22","SA23","SA24","SA25","SA26","SA27","SA28","SA29","SA30","SA31","SA32","SA33","SA34a","SA34b","SA34c","SA34d","SA34e","SA35","SA36","SA37","SA38","LGDB_EXPORT"],"not_rendered":{"charts":2,"images":18,"macros":1,"external_links":2,"defined_names":1917,"comments":0,"pivot_tables":0},"unopened":[{"sheet":"Chart1","index":14,"reason":"not_a_worksheet"}],"bounds":{"document_bytes":16777216,"sheet_cells":100000,"rows_first":2000,"rows_last":500,"rows_between":2000,"halvings":0,"cell_chars":16384,"cell_head_chars":4096},"cells_cut":0,"cells_raw":0,"read":"whole","date_system":"1900"}

{"sheet":"START","index":0,"n_rows":0,"n_cols":0,"rows_kept":0,"cut":false,"hidden":false,"merged":[]}

{"sheet":"Instructions","index":1,"n_rows":77,"n_cols":24,"rows_kept":77,"cut":false,"hidden":false,"merged":[]}
[]
[null,null,null,2020]
[]
[null,null,null,null,null,null,null,null,null,null,null,null,null,null,null,null,null,null,null,null,null,null,null,"Yes"]
[null,null,null,null,null,null,null,null,null,null,null,null,null,null,null,null,null,null,null,null,null,null,null,"No"]
[]
[null,null,null,null,null,null,null,null,null,null,null,null,null,null,null,null,null,null,null,null,null,null,"Type of Entities Range:"]
[null,null,null,null,null,null,null,null,null,null,null,null,null,null,null,null,null,null,null,null,null,null,null,"Parent Municipality"]
[null,null,null,null,null,null,null,null,null,null,null,null,null,null,null,null,null,null,null,null,null,null,null,"Consolidated Information"]
[]
[]
[]
[]
[null,null,null,null,null,"START"]
[null,null,null,null,null,"Instructions"]
[null,null,null,null,null,"Template names"]
[null,null,null,null,null,"Lookup and lists",null,null,null,null,null,null,null,null,null,null,null,null,null,null,null,null,"MTREF Range:",2013]
[null,null,null,null,null,"Org structure",null,null,null,null,null,null,null,null,null,null,null,null,null,null,null,null,null,2014]
[null,null,null,null,null,"Contacts",null,null,null,null,null,null,null,null,null,null,null,null,null,null,null,null,null,2015]
[null,null,null,null,null,"A1-Sum",null,null,null,null,null,null,null,null,null,null,null,null,null,null,null,null,null,2016]
[null,null,null,null,null,"A2-FinPerf SC",null,null,null,null,null,null,null,null,null,null,null,null,null,null,null,null,null,2017]
[null,null,null,null,null,"A2A",null,null,null,null,null,null,null,null,null,null,null,null,null,null,null,null,null,2018]
[null,null,null,null,null,"A3-FinPerf V",null,null,null,null,null,null,null,null,null,null,null,null,null,null,null,null,null,2019]
[null,null,null,null,null,"A3A",null,null,null,null,null,null,null,null,null,null,null,null,null,null,null,null,null,2020]
[null,null,null,null,null,"A4-FinPerf RE",null,null,null,null,null,null,null,null,null,null,null,null,null,null,null,null,null,2021]
[null,null,null,null,null,"A5-Capex",null,null,null,null,null,null,null,null,null,null,null,null,null,null,null,null,null,2022]
[null,null,null,null,null,"A5A",null,null,null,null,null,null,null,null,null,null,null,null,null,null,null,null,null,2023]
[null,null,null,null,null,"A6-FinPos",null,null,null,null,null,null,null,null,null,null,null,null,null,null,null,null,null,2024]
[null,null,null,null,null,"A7-CFlow",null,null,null,null,null,null,null,null,null,null,null,null,null,null,null,null,null,2025]
[null,null,null,null,null,"A8-ResRecon",null,null,null,null,null,null,null,null,null,null,null,null,null,null,null,null,null,2026]
[null,null,null,null,null,"A9-Asset",null,null,null,null,null,null,null,null,null,null,null,null,null,null,null,null,null,2027]
[null,null,null,null,null,"A10-SerDel"]
[null,null,null,null,null,"SA1",null,null,null,null,null,null,null,null,null,null,null,null,null,null,null,null,"MTREF Linked:",10]
[null,null,null,null,null,"SA2",null,null,null,null,null,null,null,null,null,null,null,null,null,null,null,null,"MTREF:",{"$f":"INDEX(X17:X26,X33,1)","v":2022}]
[null,null,null,null,null,"SA3"]
[null,null,null,null,null,"SA4",null,null,null,null,null,null,null,null,null,null,null,null,null,null,null,null,"Fin Year:",{"$f":"MTREF&\"/\"&RIGHT(MTREF,2)+1","v":"2022/23"}]
[null,null,null,null,null,"SA5"]
[null,null,null,null,null,"SA6"]
[null,null,null,null,null,"SA7"]
[null,null,null,null,null,"SA8"]
[null,null,null,null,null,"SA9"]
[null,null,null,null,null,"SA10"]
[null,null,null,null,null,"SA11"]
[null,null,null,null,null,"SA12a"]
[null,null,null,null,null,"SA12b"]
[null,null,null,null,null,"SA13a"]
[null,null,null,null,null,"SA13b"]
[null,null,null,null,null,"SA14"]
[null,null,null,null,null,"SA15"]
[null,null,null,null,null,"SA16"]
[null,null,null,null,null,"SA17"]
[null,null,null,null,null,"SA18"]
[null,null,null,null,null,"SA19"]
[null,null,null,null,null,"SA20"]
[null,null,null,null,null,"SA21"]
[null,null,null,null,null,"SA22"]
[null,null,null,null,null,"SA23"]
[null,null,null,null,null,"SA24"]
[null,null,null,null,null,"SA25"]
[null,null,null,null,null,"SA26"]
[null,null,null,null,null,"SA27"]
[null,null,null,null,null,"SA28"]
[null,null,null,null,null,"SA29"]
[null,null,null,null,null,"SA30"]
[null,null,null,null,null,"SA31"]
[null,null,null,null,null,"SA32"]
[null,null,null,null,null,"SA33"]
[null,null,null,null,null,"SA34a"]
[null,null,null,null,null,"SA34b"]
[null,null,null,null,null,"SA34c"]
[null,null,null,null,null,"SA34d"]
[null,null,null,null,null,"SA34e"]
[null,null,null,null,null,"SA35"]
[null,null,null,null,null,"SA36"]
[null,null,null,null,null,"SA37"]
[null,null,null,null,null,"SA38"]
[null,null,null,null,null,"LGDB_EXPORT"]

{"sheet":"Template names","index":2,"n_rows":179,"n_cols":6,"rows_kept":179,"cut":false,"hidden":true,"merged":[[0,0,0,3],[86,0,86,1],[109,0,109,1],[98,0,98,1],[91,0,91,3]]}
["Common sheet headings"]
["Head1",{"$f":"HLOOKUP(MTREF,Headings,2)","v":"2020/21"},"Prior year -1"]
["Head1A",{"$f":"HLOOKUP(MTREF,Headings,3)","v":"2019/20"},"Prior year -2"]
["Head1B",{"$f":"HLOOKUP(MTREF,Headings,4)","v":"2018/19"},"Prior year -3"]
["Head2",{"$f":"HLOOKUP(MTREF,Headings,5)","v":"Current Year 2021/22"},"Year in which budget is being prepared"]
["Head2A",{"$f":"HLOOKUP(MTREF,Headings,6)","v":"2021/22"},"Year in which budget is being prepared"]
["Head3",{"$f":"HLOOKUP(MTREF,Headings,7)","v":"2022/23 Medium Term Revenue & Expenditure Framework"},"MTREF name"]
["Head4","LTFS","Long term financial strategy"]
["Head5","Audited Outcome"]
["Head5A","Outcome"]
["Head5B","Pre-audit outcome"]
["Head6","Original Budget"]
["Head7","Adjusted Budget"]
["Head8","Full Year Forecast"]
["Head9",{"$f":"HLOOKUP(MTREF,Headings,8)","v":"Budget Year 2022/23"},"1st year of MTREF","Year1"]
["Head10",{"$f":"HLOOKUP(MTREF,Headings,9)","v":"Budget Year +1 2023/24"},"2nd year of MTREF","Year2"]
["Head11",{"$f":"HLOOKUP(MTREF,Headings,10)","v":"Budget Year +2 2024/25"},"3rd year of MTREF","Year3"]
["Head12",{"$f":"HLOOKUP(MTREF,Headings,11)","v":"Forecast 2025/26"},"1st yr of long term forecast","Year4"]
["Head13",{"$f":"HLOOKUP(MTREF,Headings,12)","v":"Forecast 2026/27"},"Next yr of long term forecast","Year5"]
["Head14",{"$f":"HLOOKUP(MTREF,Headings,13)","v":"Forecast 2027/28"},"Next yr of long term forecast","Year6"]
["Head15",{"$f":"HLOOKUP(MTREF,Headings,14)","v":"Forecast 2028/29"},"Next yr of long term forecast","Year7"]
["Head16",{"$f":"HLOOKUP(MTREF,Headings,15)","v":"Forecast 2029/30"},"Next yr of long term forecast","Year8"]
["Head17",{"$f":"HLOOKUP(MTREF,Headings,16)","v":"Forecast 2030/31"},"Next yr of long term forecast","Year9"]
["Head18",{"$f":"HLOOKUP(MTREF,Headings,17)","v":"Forecast 2031/32"},"Next yr of long term forecast","Year10"]
["Head19",{"$f":"HLOOKUP(MTREF,Headings,18)","v":"Forecast 2032/33"},"Next yr of long term forecast","Year11"]
["Head20",{"$f":"HLOOKUP(MTREF,Headings,19)","v":"Forecast 2033/34"},"Next yr of long term forecast","Year12"]
["Head21",{"$f":"HLOOKUP(MTREF,Headings,20)","v":"Forecast 2034/35"},"Next yr of long term forecast","Year13"]
["Head22",{"$f":"HLOOKUP(MTREF,Headings,21)","v":"Forecast 2035/36"},"Next yr of long term forecast","Year14"]
["Head23",{"$f":"HLOOKUP(MTREF,Headings,22)","v":"Forecast 2036/37"},"Next yr of long term forecast","Year15"]
["Head24","Description"]
["Head25"]
["Head26","Vote Description"]
["Head27","Ref"]
["Head27a","References"]
["Head28","Surplus/(Deficit) for the year",null,"Result"]
["Head29",{"$f":"HLOOKUP(MTREF,Headings,23)","v":"Annual target 2022/23"}]
["Head30",{"$f":"HLOOKUP(MTREF,Headings,24)","v":"Revised target 2022/23"}]
["Head31","Quarter ended 30 September"]
["Head32","Quarter ended 31 December"]
["Head33","Quarter ended 31 March"]
["Head34","Quarter ended 30 June"]
["Head35","Variance explanation"]
["Head36","YTD  Actual 31 Dec"]
["Head37","YTD  Budget 31 Dec"]
["Head38","Monthly actual"]
["Head39","YTD actual"]
["Head40","YTD budget"]
["Head41","YTD variance"]
["Head42","Surplus/ (Deficit) for the yr/period"]
["Head43",{"$f":"Head3&\" Summary\"","v":"2022/23 Medium Term Revenue & Expenditure Framework Summary"}]
["Head44","2001 Census"]
["Head45","2011 Census"]
["Head46"," - Adjustments Budget - January 2007"]
["Head47","Previous target year to complete"]
["Head48","Present value"]
["Head49"]
["Head50","Other Adjusts."]
["Head51","Accum. Funds"]
["Head52","Multi-year capital"]
["Head53","Unfore. Unavoid."]
["Head54","Prior Adjusted"]
["Head55","Nat. or Prov. Govt"]
["Head56","Total Adjusts."]
["SFPerf1","Budgeted Financial Performance"]
["SFPerf2","Forecast Financial Performance"]
["SFPos1","Budgeted Financial Position"]
["SFPos2","Forecast Financial Position"]
["Cash1","Budget Cash Flow"]
["Cash2","Forecast Cash Flow"]
["RandM","Expenditure includes repairs & maintenance of R'000"]
["Depart1","Department 1 - ",null,"DEP1"]
["Depart2","Department 2 - ",null,"DEP2"]
["Depart3","Department 3 - ",null,"DEP3"]
["Depart4","Department 4 - ",null,"DEP4"]
["Depart5","Department 5 - ",null,"DEP5"]
["Depart6","Department 6 - ",null,"DEP6"]
["Depart7","Department 7 - ",null,"DEP7"]
["Depart8","Department 8 - ",null,"DEP8"]
["Depart9","Department 9 - ",null,"DEP9"]
["Depart10","Department 10 - ",null,"DEP10"]
["Depart11","Department 11 - ",null,"DEP11"]
["Depart12","Department 12 - ",null,"DEP12"]
["Depart13","Department 13 - ",null,"DEP13"]
["Depart14","Department 14 - ",null,"DEP14"]
[]
[]
["Base year of forecast column selection names"]
["Choose","ACT"]
[null,"APP"]
[null,"ADJ"]
[]
["Standard nomenclature"]
["Muni",{"$f":"'Lookup and lists'!B28","v":"DC47 Sekhukhune"}]
["Municipal Entities",1,"Type of report:",1]
[{"$f":"IF((MuniEntities=1)*(MuniType=2),\"YES\",\"NO\")","v":"NO"},"Does this municipality have entities (consolidated budget and entity budgets required)? YES/NO"]
["Entity 1","(Pty) Ltd Example 1 - Municipal entity - ",null,"Ent1"]
["Entity 2","(Pty) Ltd Example 2 - Municipal entity - ",null,"Ent2"]
["Entity 3","Municipal Entity Example 3",null,"Ent3"]
["Budget approval tables",null,"Chart x-ref","Sch/Tab/Ch","Alternative for municipalities without entities","Alternative for municipalities without entities"]
[null,{"$f":"IF(Consolques=\"YES\",E100,F100)","v":"Table A1 Budget Summary"},null,"Table A1 ",{"$f":"D100&\"Consolidated Budget Summary\"","v":"Table A1 Consolidated Budget Summary"},{"$f":"D100&\"Budget Summary\"","v":"Table A1 Budget Summary"}]
[null,"Table A2 Budgeted Financial Performance (revenue and expenditure by functional classification)","Charts 5, 6","Table A2 ",{"$f":"D101&\"Consolidated Budgeted Financial Performance (revenue and expenditure by functional classification)\"","v":"Table A2 Consolidated Budgeted Financial Performance (revenue and expenditure by functional classification)"},{"$f":"D101&\"Budgeted Financial Performance (revenue and expenditure by functional classification)\"","v":"Table A2 Budgeted Financial Performance (revenue and expenditure by functional classification)"}]
[null,"Table A3 Budgeted Financial Performance (revenue and expenditure by municipal vote)",null,"Table A3 ",{"$f":"D102&\"Consolidated Budgeted Financial Performance (revenue and expenditure by municipal vote)\"","v":"Table A3 Consolidated Budgeted Financial Performance (revenue and expenditure by municipal vote)"},{"$f":"D102&\"Budgeted Financial Performance (revenue and expenditure by municipal vote)\"","v":"Table A3 Budgeted Financial Performance (revenue and expenditure by municipal vote)"}]
[null,"Table A4 Budgeted Financial Performance (revenue and expenditure)","Charts 1, 2, 3, 4","Table A4 ",{"$f":"D103&\"Consolidated Budgeted Financial Performance (revenue and expenditure)\"","v":"Table A4 Consolidated Budgeted Financial Performance (revenue and expenditure)"},{"$f":"D103&\"Budgeted Financial Performance (revenue and expenditure)\"","v":"Table A4 Budgeted Financial Performance (revenue and expenditure)"}]
[null,"Table A5 Budgeted Capital Expenditure by vote, functional classification and funding","Charts 7, 8, 9, 10, 20","Table A5 ",{"$f":"D104&\"Consolidated Budgeted Capital Expenditure by vote, functional classification and funding\"","v":"Table A5 Consolidated Budgeted Capital Expenditure by vote, functional classification and funding"},{"$f":"D104&\"Budgeted Capital Expenditure by vote, functional classification and funding\"","v":"Table A5 Budgeted Capital Expenditure by vote, functional classification and funding"}]
[null,"Table A6 Budgeted Financial Position",null,"Table A6 ",{"$f":"D105&\"Consolidated Budgeted Financial Position\"","v":"Table A6 Consolidated Budgeted Financial Position"},{"$f":"D105&\"Budgeted Financial Position\"","v":"Table A6 Budgeted Financial Position"}]
[null,"Table A7 Budgeted Cash Flows",null,"Table A7 ",{"$f":"D106&\"Consolidated Budgeted Cash Flows\"","v":"Table A7 Consolidated Budgeted Cash Flows"},{"$f":"D106&\"Budgeted Cash Flows\"","v":"Table A7 Budgeted Cash Flows"}]
[null,"Table A8 Cash backed reserves/accumulated surplus reconciliation",null,"Table A8 ",{"$f":"D107&\"Consolidated Cash backed reserves/accumulated surplus reconciliation\"","v":"Table A8 Consolidated Cash backed reserves/accumulated surplus reconciliation"},{"$f":"D107&\"Cash backed reserves/accumulated surplus reconciliation\"","v":"Table A8 Cash backed reserves/accumulated surplus reconciliation"}]
[null,"Table A9 Asset Management",null,"Table A9 ",{"$f":"D108&\"Consolidated Asset Management\"","v":"Table A9 Consolidated Asset Management"},{"$f":"D108&\"Asset Management\"","v":"Table A9 Asset Management"}]
[null,"Table A10 Basic service delivery measurement",null,"Table A10 ",{"$f":"D109&\"Consolidated basic service delivery measurement\"","v":"Table A10 Consolidated basic service delivery measurement"},{"$f":"D109&\"Basic service delivery measurement\"","v":"Table A10 Basic service delivery measurement"}]
["Supportinging Tables to the Budget Approval Tables",null,{"$f":"$C$99","v":"Chart x-ref"},{"$f":"$D$99","v":"Sch/Tab/Ch"}]
["Supporting Table SA1",{"$f":"A111&\" Supportinging detail to 'Budgeted Financial Performance'\"","v":"Supporting Table SA1 Supportinging detail to 'Budgeted Financial Performance'"}]
["Supporting Table SA2 ",{"$f":"IF(Consolques=\"YES\",E112,F112)","v":"Supporting Table SA2 Matrix Financial Performance Budget (revenue source/expenditure type and dept.)"},null,null,{"$f":"A112&\"Consolidated Matrix Financial Performance Budget (revenue source/expenditure type & dept.)\"","v":"Supporting Table SA2 Consolidated Matrix Financial Performance Budget (revenue source/expenditure type & dept.)"},{"$f":"A112&\"Matrix Financial Performance Budget (revenue source/expenditure type and dept.)\"","v":"Supporting Table SA2 Matrix Financial Performance Budget (revenue source/expenditure type and dept.)"}]
["Supporting Table SA3 ",{"$f":"A113&\"Supportinging detail to 'Budgeted Financial Position'\"","v":"Supporting Table SA3 Supportinging detail to 'Budgeted Financial Position'"}]
["Supporting Table SA4 ",{"$f":"A114&\"Reconciliation of IDP strategic objectives and budget (revenue)\"","v":"Supporting Table SA4 Reconciliation of IDP strategic objectives and budget (revenue)"},"Chart 11"]
["Supporting Table SA5 ",{"$f":"A115&\"Reconciliation of IDP strategic objectives and budget (operating expenditure)\"","v":"Supporting Table SA5 Reconciliation of IDP strategic objectives and budget (operating expenditure)"},"Chart 12"]
["Supporting Table SA6 ",{"$f":"A116&\"Reconciliation of IDP strategic objectives and budget (capital expenditure)\"","v":"Supporting Table SA6 Reconciliation of IDP strategic objectives and budget (capital expenditure)"},"Chart 13"]
["Supporting Table SA7",{"$f":"A117&\" Measureable performance objectives\"","v":"Supporting Table SA7 Measureable performance objectives"}]
["Supporting Table SA8",{"$f":"A118&\" Performance indicators and benchmarks\"","v":"Supporting Table SA8 Performance indicators and benchmarks"},"Chts 15-19"]
["Supporting Table SA9",{"$f":"A119&\" Social, economic and demographic statistics and assumptions\"","v":"Supporting Table SA9 Social, economic and demographic statistics and assumptions"}]
["Supporting Table SA10",{"$f":"A120&\" Funding measurement\"","v":"Supporting Table SA10 Funding measurement"},"Chart 14"]
["Supporting Table SA11",{"$f":"A121&\" Property rates summary\"","v":"Supporting Table SA11 Property rates summary"}]
["Supporting Table SA12a",{"$f":"A122&\" Property rates by category (current year)\"","v":"Supporting Table SA12a Property rates by category (current year)"}]
["Supporting Table SA12b",{"$f":"A123&\" Property rates by category (budget year)\"","v":"Supporting Table SA12b Property rates by category (budget year)"}]
["Supporting Table SA13a",{"$f":"A124&\" Service Tariffs by category\"","v":"Supporting Table SA13a Service Tariffs by category"}]
["Supporting Table SA13b",{"$f":"A125&\" Service Tariffs by category - explanatory\"","v":"Supporting Table SA13b Service Tariffs by category - explanatory"}]
["Supporting Table SA14",{"$f":"A126&\" Household bills\"","v":"Supporting Table SA14 Household bills"}]
["Supporting Table SA15",{"$f":"A127&\" Investment particulars by type\"","v":"Supporting Table SA15 Investment particulars by type"}]
["Supporting Table SA16",{"$f":"A128&\" Investment particulars by maturity\"","v":"Supporting Table SA16 Investment particulars by maturity"}]
["Supporting Table SA17",{"$f":"A129&\" Borrowing\"","v":"Supporting Table SA17 Borrowing"}]
["Supporting Table SA18",{"$f":"A130&\" Transfers and grant receipts\"","v":"Supporting Table SA18 Transfers and grant receipts"}]
["Supporting Table SA19",{"$f":"A131&\" Expenditure on transfers and grant programme\"","v":"Supporting Table SA19 Expenditure on transfers and grant programme"}]
["Supporting Table SA20",{"$f":"A132&\" Reconciliation of transfers, grant receipts and unspent funds\"","v":"Supporting Table SA20 Reconciliation of transfers, grant receipts and unspent funds"}]
["Supporting Table SA21",{"$f":"A133&\" Transfers and grants made by the municipality\"","v":"Supporting Table SA21 Transfers and grants made by the municipality"}]
["Supporting Table SA22",{"$f":"A134&\" Summary councillor and staff benefits\"","v":"Supporting Table SA22 Summary councillor and staff benefits"}]
["Supporting Table SA23",{"$f":"A135&\" Salaries, allowances & benefits (political office bearers/councillors/senior managers)\"","v":"Supporting Table SA23 Salaries, allowances & benefits (political office bearers/councillors/senior managers)"}]
["Supporting Table SA24",{"$f":"A136&\" Summary of personnel numbers\"","v":"Supporting Table SA24 Summary of personnel numbers"}]
["Supporting Table SA25",{"$f":"IF(Consolques=\"YES\",E137,F137)","v":"Supporting Table SA25 Budgeted monthly revenue and expenditure"},null,null,{"$f":"A137&\" Consolidated budgeted monthly revenue and expenditure\"","v":"Supporting Table SA25 Consolidated budgeted monthly revenue and expenditure"},{"$f":"A137&\" Budgeted monthly revenue and expenditure\"","v":"Supporting Table SA25 Budgeted monthly revenue and expenditure"}]
["Supporting Table SA26","Supporting Table SA26 Budgeted monthly revenue and expenditure (municipal vote)",null,null,{"$f":"A138&\" Consolidated budgeted monthly revenue and expenditure (municipal vote)\"","v":"Supporting Table SA26 Consolidated budgeted monthly revenue and expenditure (municipal vote)"},{"$f":"A138&\" Budgeted monthly revenue and expenditure (municipal vote)\"","v":"Supporting Table SA26 Budgeted monthly revenue and expenditure (municipal vote)"}]
["Supporting Table SA27","Supporting Table SA27 Budgeted monthly revenue and expenditure (functional classification)",null,null,{"$f":"A139&\" Consolidated budgeted monthly revenue and expenditure (functional classification)\"","v":"Supporting Table SA27 Consolidated budgeted monthly revenue and expenditure (functional classification)"},{"$f":"A139&\" Budgeted monthly revenue and expenditure (functional classification)\"","v":"Supporting Table SA27 Budgeted monthly revenue and expenditure (functional classification)"}]
["Supporting Table SA28","Supporting Table SA28 Budgeted monthly capital expenditure (municipal vote)",null,null,{"$f":"A140&\" Consolidated budgeted monthly capital expenditure (municipal vote)\"","v":"Supporting Table SA28 Consolidated budgeted monthly capital expenditure (municipal vote)"},{"$f":"A140&\" Budgeted monthly capital expenditure (municipal vote)\"","v":"Supporting Table SA28 Budgeted monthly capital expenditure (municipal vote)"}]
["Supporting Table SA29","Supporting Table SA29 Budgeted monthly capital expenditure (functional classification)",null,null,{"$f":"A141&\" Consolidated budgeted monthly capital expenditure (functional classification)\"","v":"Supporting Table SA29 Consolidated budgeted monthly capital expenditure (functional classification)"},{"$f":"A141&\" Budgeted monthly capital expenditure (functional classification)\"","v":"Supporting Table SA29 Budgeted monthly capital expenditure (functional classification)"}]
["Supporting Table SA30","Supporting Table SA30 Budgeted monthly cash flow",null,null,{"$f":"A142&\" Consolidated budgeted monthly cash flow\"","v":"Supporting Table SA30 Consolidated budgeted monthly cash flow"},{"$f":"A142&\" Budgeted monthly cash flow\"","v":"Supporting Table SA30 Budgeted monthly cash flow"}]
["Supporting Table SA31","NOT REQUIRED - municipality does not have entities",null,null,{"$f":"A143&\" Aggregated entity budget\"","v":"Supporting Table SA31 Aggregated entity budget"},"NOT REQUIRED - municipality does not have entities"]
["Supporting Table SA32",{"$f":"A144&\" List of external mechanisms\"","v":"Supporting Table SA32 List of external mechanisms"}]
["Supporting Table SA33",{"$f":"A145&\" Contracts having future budgetary implications\"","v":"Supporting Table SA33 Contracts having future budgetary implications"}]
["Supporting Table SA34a",{"$f":"IF(Consolques=\"YES\",E146,F146)","v":"Supporting Table SA34a Capital expenditure on new assets by asset class"},null,null,{"$f":"A146&\" Consolidated capital expenditure on new assets by asset class\"","v":"Supporting Table SA34a Consolidated capital expenditure on new assets by asset class"},{"$f":"A146&\" Capital expenditure on new assets by asset class\"","v":"Supporting Table SA34a Capital expenditure on new assets by asset class"}]
["Supporting Table SA34b","Supporting Table SA34b Capital expenditure on the renewal of existing assets by asset class",null,null,{"$f":"A147&\" Consolidated capital expenditure on the renewal of existing assets by asset class\"","v":"Supporting Table SA34b Consolidated capital expenditure on the renewal of existing assets by asset class"},{"$f":"A147&\" Capital expenditure on the renewal of existing assets by asset class\"","v":"Supporting Table SA34b Capital expenditure on the renewal of existing assets by asset class"}]
["Supporting Table SA34c","Supporting Table SA34c Repairs and maintenance expenditure by asset class",null,null,{"$f":"A148&\" Consolidated repairs and maintenance by asset class\"","v":"Supporting Table SA34c Consolidated repairs and maintenance by asset class"},{"$f":"A148&\" Repairs and maintenance expenditure by asset class\"","v":"Supporting Table SA34c Repairs and maintenance expenditure by asset class"}]
["Supporting Table SA34d",{"$f":"IF(Consolques=\"YES\",E149,F149)","v":"Supporting Table SA34d Depreciation by asset class"},null,null,{"$f":"A149&\" Consolidated Depreciation by asset class\"","v":"Supporting Table SA34d Consolidated Depreciation by asset class"},{"$f":"A149&\" Depreciation by asset class\"","v":"Supporting Table SA34d Depreciation by asset class"}]
["Supporting Table SA34e",{"$f":"IF(Consolques=\"YES\",E150,F150)","v":"Supporting Table SA34e Capital expenditure on the upgrading of existing assets by asset class"},null,null,{"$f":"A150&\" Consolidated capital expenditure on the upgrading of existing assets by asset class\"","v":"Supporting Table SA34e Consolidated capital expenditure on the upgrading of existing assets by asset class"},{"$f":"A150&\" Capital expenditure on the upgrading of existing assets by asset class\"","v":"Supporting Table SA34e Capital expenditure on the upgrading of existing assets by asset class"}]
["Supporting Table SA35","Supporting Table SA35 Future financial implications of the capital budget",null,null,{"$f":"A151&\" Consolidated future financial implications of the capital budget\"","v":"Supporting Table SA35 Consolidated future financial implications of the capital budget"},{"$f":"A151& \" Future financial implications of the capital budget\"","v":"Supporting Table SA35 Future financial implications of the capital budget"}]
["Supporting Table SA36","Supporting Table SA36 Detailed capital budget",null,null,{"$f":"A152&\" Consolidated detailed capital budget\"","v":"Supporting Table SA36 Consolidated detailed capital budget"},{"$f":"A152& \" Detailed capital budget\"","v":"Supporting Table SA36 Detailed capital budget"}]
["Supporting Table SA37","Supporting Table SA37 Projects delayed from previous financial year/s",null,null,{"$f":"A153&\" Consolidated projects delayed from previous financial year/s\"","v":"Supporting Table SA37 Consolidated projects delayed from previous financial year/s"},{"$f":"A153& \" Projects delayed from previous financial year/s\"","v":"Supporting Table SA37 Projects delayed from previous financial year/s"}]
["Supporting Table SA38",{"$f":"IF(Consolques=\"YES\",E154,F154)","v":"Supporting Table SA38 Detailed operational projects"},null,null,{"$f":"A154&\" Consolidated detailed operational projects\"","v":"Supporting Table SA38 Consolidated detailed operational projects"},{"$f":"A154& \" Detailed operational projects\"","v":"Supporting Table SA38 Detailed operational projects"}]
[]
["Budget Charts","Charts","Cross reference"]
["Chart A1 ",{"$f":"A157&\"Revenue by Municipal Vote\"","v":"Chart A1 Revenue by Municipal Vote"}]
["Chart A2 ",{"$f":"A158&\"Expenditure by Municipal Vote\"","v":"Chart A2 Expenditure by Municipal Vote"}]
["Chart A3 ",{"$f":"A159&\"Revenue by Standard Classification\"","v":"Chart A3 Revenue by Standard Classification"},"A2"]
["Chart A4 ",{"$f":"A160&\"Expenditure by Standard Classification\"","v":"Chart A4 Expenditure by Standard Classification"},"A2"]
["Chart A5 ",{"$f":"A161&\"Revenue by Major Source (refer 'Minor' source for 'Other Revenue' allocation\"","v":"Chart A5 Revenue by Major Source (refer 'Minor' source for 'Other Revenue' allocation"},"A3"]
["Chart A6 ",{"$f":"A162&\"Revenue by Minor Source (Other)\"","v":"Chart A6 Revenue by Minor Source (Other)"},"A3"]
["Chart A7 ",{"$f":"A163&\"Expenditure by Major Type\"","v":"Chart A7 Expenditure by Major Type"},"A3"]
["Chart A8 ",{"$f":"A164&\"Expenditure by Minor Type (Other)\"","v":"Chart A8 Expenditure by Minor Type (Other)"},"A3"]
["Chart A9 ",{"$f":"A165&\"Capital Expenditure by Municipal Vote/Appropriation (Major)\"","v":"Chart A9 Capital Expenditure by Municipal Vote/Appropriation (Major)"},"A5"]
["Chart A10 ",{"$f":"A166&\"Capital Expenditure by Municipal Vote/Appropriation (Minor)\"","v":"Chart A10 Capital Expenditure by Municipal Vote/Appropriation (Minor)"},"A5"]
["Chart A11 ",{"$f":"A166&\"Capital Expenditure by Standard Classification\"","v":"Chart A10 Capital Expenditure by Standard Classification"},"A5"]
["Chart A12 ",{"$f":"A168&\"Capital expenditure performance trend\"","v":"Chart A12 Capital expenditure performance trend"},"A5"]
["Chart A13 ",{"$f":"A169&\"Capital funding by Source\"","v":"Chart A13 Capital funding by Source"},"A5"]
["Chart A14 ",{"$f":"A170&\"Cash flow trend\"","v":"Chart A14 Cash flow trend"},"A7"]
["Chart A15 ",{"$f":"A171&\"IDP Strategic Objective - Revenue\"","v":"Chart A15 IDP Strategic Objective - Revenue"},"Table A4"]
["Chart A16 ",{"$f":"A172&\"IDP Strategic Objective - Expenditure\"","v":"Chart A16 IDP Strategic Objective - Expenditure"},"Table A5"]
["Chart A17 ",{"$f":"A173&\"IDP Strategic Objective - Capital Expenditure\"","v":"Chart A17 IDP Strategic Objective - Capital Expenditure"},"Table A6"]
["Chart A18 ",{"$f":"A174&\"Debt (borrowing to Total Revenue)\"","v":"Chart A18 Debt (borrowing to Total Revenue)"},"Table A8"]
["Chart A19 ",{"$f":"A175&\"Debtors' trend analysis\"","v":"Chart A19 Debtors' trend analysis"},"Table A8"]
["Chart A20 ",{"$f":"A176&\"Distribution losses\"","v":"Chart A20 Distribution losses"},"Table A8"]
["Chart A21 ",{"$f":"A177&\"Borrowed funding of capital expenditure\"","v":"Chart A21 Borrowed funding of capital expenditure"},"Table A8"]
["Chart A22 ",{"$f":"A178&\"Expenditure analysis (% of Revenue)\"","v":"Chart A22 Expenditure analysis (% of Revenue)"},"Table A8"]
["Chart A23 ",{"$f":"A179&\"Increases in service charges\"","v":"Chart A23 Increases in service charges"},"Table A10"]

{"sheet":"Lookup and lists","index":3,"n_rows":308,"n_cols":30,"rows_kept":308,"cut":false,"hidden":true,"merged":[]}
["Description",2013,2014,2015,2016,2017,2018,2019,2020,2021,2022,2023,2024,2025,2026,null,"Lists",null,null,null,null,null,null,null,"Grants:","National - opex","Provincial - opex","National - capex","Provincial - capex"]
[{"$f":"'Template names'!C2","v":"Prior year -1"},{"$f":"B1-2&\"/\"&RIGHT(B1,2)-1","v":"2011/12"},"2012/13","2013/14","2014/15","2015/16","2016/17","2017/18","2018/19",{"$f":"J1-2&\"/\"&RIGHT(J1,2)-1","v":"2019/20"},"2020/21","2021/22","2022/23","2023/24","2024/25",null,"Yes","<1","<4","Market","Land & impr.","Yes","Uniform","Yrs",null,"Local Government Equitable Share","Health subsidy"," Municipal Infrastructure Grant (MIG)","Agriculture"]
[{"$f":"'Template names'!C3","v":"Prior year -2"},{"$f":"B1-3&\"/\"&RIGHT(B1,2)-2","v":"2010/11"},"2011/12","2012/13","2013/14","2014/15","2015/16","2016/17","2017/18",{"$f":"J1-3&\"/\"&RIGHT(J1,2)-2","v":"2018/19"},"2019/20","2020/21","2021/22","2022/23","2023/24",null,"No",1,4,"Dep.Replace","Land only","No","Variable","Mths",null,"RSC Levy Replacement ","Ambulance subsidy"," Public Transport and Systems","Education"]
[{"$f":"'Template names'!C4","v":"Prior year -3"},{"$f":"B1-4&\"/\"&RIGHT(B1,2)-3","v":"2009/10"},"2010/11","2011/12","2012/13","2013/14","2014/15","2015/16","2016/17",{"$f":"J1-4&\"/\"&RIGHT(J1,2)-3","v":"2017/18"},"2018/19","2019/20","2020/21","2021/22","2022/23",null,null,2,5,"Other","Other",null,null,null,null,"Finance Management ","Housing","Rural Transport Services and Infrastructure","Health"]
[{"$f":"'Template names'!C5","v":"Year in which budget is being prepared"},{"$f":"\"Current Year \"& B1-1&\"/\"&RIGHT(B1,2)","v":"Current Year 2012/13"},"Current Year 2013/14","Current Year 2014/15","Current Year 2015/16","Current Year 2016/17","Current Year 2017/18","Current Year 2018/19","Current Year 2019/20",{"$f":"\"Current Year \"& J1-1&\"/\"&RIGHT(J1,2)","v":"Current Year 2020/21"},"Current Year 2021/22","Current Year 2022/23","Current Year 2023/24","Current Year 2024/25","Current Year 2025/26",null,null,3,6,null,null,null,null,null,null,"Municipal Systems Improvement","Sport and Recreation","Regional Bulk Infrastructure","Housing and Local Government "]
[{"$f":"'Template names'!C6","v":"Year in which budget is being prepared"},{"$f":"B1-1&\"/\"&RIGHT(B1,2)","v":"2012/13"},"2013/14","2014/15","2015/16","2016/17","2017/18","2018/19","2019/20",{"$f":"J1-1&\"/\"&RIGHT(J1,2)","v":"2020/21"},"2021/22","2022/23","2023/24","2024/25","2025/26",null,null,4,"6-10",null,null,null,null,null,null,"Water Services Operating Subsidy ",null,"Rural Households Infrastructure ","Other Departments"]
[{"$f":"'Template names'!C7","v":"MTREF name"},{"$f":"B1&\"/\"&RIGHT(B1,2)+1&\" Medium Term Revenue & Expenditure Framework\"","v":"2013/14 Medium Term Revenue & Expenditure Framework"},"2014/15 Medium Term Revenue & Expenditure Framework","2015/16 Medium Term Revenue & Expenditure Framework","2016/17 Medium Term Revenue & Expenditure Framework","2017/18 Medium Term Revenue & Expenditure Framework","2018/19 Medium Term Revenue & Expenditure Framework","2019/20 Medium Term Revenue & Expenditure Framework","2020/21 Medium Term Revenue & Expenditure Framework",{"$f":"J1&\"/\"&RIGHT(J1,2)+1&\" Medium Term Revenue & Expenditure Framework\"","v":"2021/22 Medium Term Revenue & Expenditure Framework"},"2022/23 Medium Term Revenue & Expenditure Framework","2023/24 Medium Term Revenue & Expenditure Framework","2024/25 Medium Term Revenue & Expenditure Framework","2025/26 Medium Term Revenue & Expenditure Framework","2026/27 Medium Term Revenue & Expenditure Framework",null,null,5,">10",null,null,null,null,null,null,"Energy Efficiency  and Demand Management",null,"Neighbourhood Development Partnership","Public Works, Roads, Transport "]
[{"$f":"'Template names'!C15","v":"1st year of MTREF"},{"$f":"\"Budget Year \"&B1&\"/\"&RIGHT(B1,2)+1","v":"Budget Year 2013/14"},"Budget Year 2014/15","Budget Year 2015/16","Budget Year 2016/17","Budget Year 2017/18","Budget Year 2018/19","Budget Year 2019/20","Budget Year 2020/21",{"$f":"\"Budget Year \"&J1&\"/\"&RIGHT(J1,2)+1","v":"Budget Year 2021/22"},"Budget Year 2022/23","Budget Year 2023/24","Budget Year 2024/25","Budget Year 2025/26","Budget Year 2026/27",null,null,">5",null,null,null,null,null,null,null,"Integrated National Electrification Programme",null,"2010 FIFA World Cup Stadiums Development","Sport and Recreation"]
[{"$f":"'Template names'!C16","v":"2nd year of MTREF"},{"$f":"\"Budget Year +1 \"&B1+1&\"/\"&RIGHT(B1,2)+2","v":"Budget Year +1 2014/15"},"Budget Year +1 2015/16","Budget Year +1 2016/17","Budget Year +1 2017/18","Budget Year +1 2018/19","Budget Year +1 2019/20","Budget Year +1 2020/21","Budget Year +1 2021/22",{"$f":"\"Budget Year +1 \"&J1+1&\"/\"&RIGHT(J1,2)+2","v":"Budget Year +1 2022/23"},"Budget Year +1 2023/24","Budget Year +1 2024/25","Budget Year +1 2025/26","Budget Year +1 2026/27","Budget Year +1 2027/28",null,null,null,null,null,null,null,null,null,null,"Municipal Drought Relief "]
[{"$f":"'Template names'!C17","v":"3rd year of MTREF"},{"$f":"\"Budget Year +2 \"&B1+2&\"/\"&RIGHT(B1,2)+3","v":"Budget Year +2 2015/16"},"Budget Year +2 2016/17","Budget Year +2 2017/18","Budget Year +2 2018/19","Budget Year +2 2019/20","Budget Year +2 2020/21","Budget Year +2 2021/22","Budget Year +2 2022/23",{"$f":"\"Budget Year +2 \"&J1+2&\"/\"&RIGHT(J1,2)+3","v":"Budget Year +2 2023/24"},"Budget Year +2 2024/25","Budget Year +2 2025/26","Budget Year +2 2026/27","Budget Year +2 2027/28","Budget Year +2 2028/29",null,null,null,null,null,null,null,null,null,null,"2010 FIFA World Cup Operating"]
[{"$f":"'Template names'!C18","v":"1st yr of long term forecast"},{"$f":"\"Forecast \"&B1+3&\"/\"&RIGHT(B1,2)+4","v":"Forecast 2016/17"},"Forecast 2017/18","Forecast 2018/19","Forecast 2019/20","Forecast 2020/21","Forecast 2021/22","Forecast 2022/23","Forecast 2023/24",{"$f":"\"Forecast \"&J1+3&\"/\"&RIGHT(J1,2)+4","v":"Forecast 2024/25"},"Forecast 2025/26","Forecast 2026/27","Forecast 2027/28","Forecast 2028/29","Forecast 2029/30",null,null,null,null,null,null,null,null,null,null,"Electricity Demand Side Management"]
[{"$f":"'Template names'!C19","v":"Next yr of long term forecast"},{"$f":"\"Forecast \"&B1+4&\"/\"&RIGHT(B1,2)+5","v":"Forecast 2017/18"},"Forecast 2018/19","Forecast 2019/20","Forecast 2020/21","Forecast 2021/22","Forecast 2022/23","Forecast 2023/24","Forecast 2024/25",{"$f":"\"Forecast \"&J1+4&\"/\"&RIGHT(J1,2)+5","v":"Forecast 2025/26"},"Forecast 2026/27","Forecast 2027/28","Forecast 2028/29","Forecast 2029/30","Forecast 2030/31",null,null,null,null,null,null,null,null,null,null,"EPWP Incentive"]
[{"$f":"'Template names'!C20","v":"Next yr of long term forecast"},{"$f":"\"Forecast \"&B1+5&\"/\"&RIGHT(B1,2)+6","v":"Forecast 2018/19"},"Forecast 2019/20","Forecast 2020/21","Forecast 2021/22","Forecast 2022/23","Forecast 2023/24","Forecast 2024/25","Forecast 2025/26",{"$f":"\"Forecast \"&J1+5&\"/\"&RIGHT(J1,2)+6","v":"Forecast 2026/27"},"Forecast 2027/28","Forecast 2028/29","Forecast 2029/30","Forecast 2030/31","Forecast 2031/32"]
[{"$f":"'Template names'!C21","v":"Next yr of long term forecast"},{"$f":"\"Forecast \"&B1+6&\"/\"&RIGHT(B1,2)+7","v":"Forecast 2019/20"},"Forecast 2020/21","Forecast 2021/22","Forecast 2022/23","Forecast 2023/24","Forecast 2024/25","Forecast 2025/26","Forecast 2026/27",{"$f":"\"Forecast \"&J1+6&\"/\"&RIGHT(J1,2)+7","v":"Forecast 2027/28"},"Forecast 2028/29","Forecast 2029/30","Forecast 2030/31","Forecast 2031/32","Forecast 2032/33",null,null,null,null,null,null,null,null,null,null,"Asset Class","Asset sub-class old","Asset sub-class","IUDF","MTSF"]
[{"$f":"'Template names'!C22","v":"Next yr of long term forecast"},{"$f":"\"Forecast \"&B1+7&\"/\"&RIGHT(B1,2)+8","v":"Forecast 2020/21"},"Forecast 2021/22","Forecast 2022/23","Forecast 2023/24","Forecast 2024/25","Forecast 2025/26","Forecast 2026/27","Forecast 2027/28",{"$f":"\"Forecast \"&J1+7&\"/\"&RIGHT(J1,2)+8","v":"Forecast 2028/29"},"Forecast 2029/30","Forecast 2030/31","Forecast 2031/32","Forecast 2032/33","Forecast 2033/34"]
[{"$f":"'Template names'!C23","v":"Next yr of long term forecast"},{"$f":"\"Forecast \"&B1+8&\"/\"&RIGHT(B1,2)+9","v":"Forecast 2021/22"},"Forecast 2022/23","Forecast 2023/24","Forecast 2024/25","Forecast 2025/26","Forecast 2026/27","Forecast 2027/28","Forecast 2028/29",{"$f":"\"Forecast \"&J1+8&\"/\"&RIGHT(J1,2)+9","v":"Forecast 2029/30"},"Forecast 2030/31","Forecast 2031/32","Forecast 2032/33","Forecast 2033/34","Forecast 2034/35",null,null,null,null,null,null,null,null,null,null,"Roads Infrastructure","Roads, Pavements & Bridges","Roads","Spatial integration","Quality basic education"]
[{"$f":"'Template names'!C24","v":"Next yr of long term forecast"},{"$f":"\"Forecast \"&B1+9&\"/\"&RIGHT(B1,2)+10","v":"Forecast 2022/23"},"Forecast 2023/24","Forecast 2024/25","Forecast 2025/26","Forecast 2026/27","Forecast 2027/28","Forecast 2028/29","Forecast 2029/30",{"$f":"\"Forecast \"&J1+9&\"/\"&RIGHT(J1,2)+10","v":"Forecast 2030/31"},"Forecast 2031/32","Forecast 2032/33","Forecast 2033/34","Forecast 2034/35","Forecast 2035/36",null,null,null,null,null,null,null,null,null,null,"Storm water Infrastructure","Storm water","Road Structures","Inclusion and access","A long and healthy life for all South Africans"]
[{"$f":"'Template names'!C25","v":"Next yr of long term forecast"},{"$f":"\"Forecast \"&B1+10&\"/\"&RIGHT(B1,2)+11","v":"Forecast 2023/24"},"Forecast 2024/25","Forecast 2025/26","Forecast 2026/27","Forecast 2027/28","Forecast 2028/29","Forecast 2029/30","Forecast 2030/31",{"$f":"\"Forecast \"&J1+10&\"/\"&RIGHT(J1,2)+11","v":"Forecast 2031/32"},"Forecast 2032/33","Forecast 2033/34","Forecast 2034/35","Forecast 2035/36","Forecast 2036/37",null,null,null,null,null,null,null,null,null,null,"Electrical Infrastructure","Generation","Road Furniture","Growth","All people in South Africa are and feel safe"]
[{"$f":"'Template names'!C26","v":"Next yr of long term forecast"},{"$f":"\"Forecast \"&B1+11&\"/\"&RIGHT(B1,2)+12","v":"Forecast 2024/25"},"Forecast 2025/26","Forecast 2026/27","Forecast 2027/28","Forecast 2028/29","Forecast 2029/30","Forecast 2030/31","Forecast 2031/32",{"$f":"\"Forecast \"&J1+11&\"/\"&RIGHT(J1,2)+12","v":"Forecast 2032/33"},"Forecast 2033/34","Forecast 2034/35","Forecast 2035/36","Forecast 2036/37","Forecast 2037/38",null,null,null,null,null,null,null,null,null,null,"Water Supply Infrastructure","Transmission & Reticulation","Capital Spares","Governance","Decent employment through inclusive growth"]
[{"$f":"'Template names'!C27","v":"Next yr of long term forecast"},{"$f":"\"Forecast \"&B1+12&\"/\"&RIGHT(B1,2)+13","v":"Forecast 2025/26"},"Forecast 2026/27","Forecast 2027/28","Forecast 2028/29","Forecast 2029/30","Forecast 2030/31","Forecast 2031/32","Forecast 2032/33",{"$f":"\"Forecast \"&J1+12&\"/\"&RIGHT(J1,2)+13","v":"Forecast 2033/34"},"Forecast 2034/35","Forecast 2035/36","Forecast 2036/37","Forecast 2037/38","Forecast 2038/39",null,null,null,null,null,null,null,null,null,null,"Sanitation Infrastructure","Street Lighting","Drainage Collection",null,"A skilled and capable workforce to support an inclusive growth path"]
[{"$f":"'Template names'!C28","v":"Next yr of long term forecast"},{"$f":"\"Forecast \"&B1+13&\"/\"&RIGHT(B1,2)+14","v":"Forecast 2026/27"},"Forecast 2027/28","Forecast 2028/29","Forecast 2029/30","Forecast 2030/31","Forecast 2031/32","Forecast 2032/33","Forecast 2033/34",{"$f":"\"Forecast \"&J1+13&\"/\"&RIGHT(J1,2)+14","v":"Forecast 2034/35"},"Forecast 2035/36","Forecast 2036/37","Forecast 2037/38","Forecast 2038/39","Forecast 2039/40",null,null,null,null,null,null,null,null,null,null,"Solid Waste Infrastructure","Dams & Reservoirs","Storm water Conveyance",null,"An efficient, competitive and responsive economic infrastructure network"]
[{"$f":"'Template names'!C29","v":"Next yr of long term forecast"},{"$f":"\"Forecast \"&B1+14&\"/\"&RIGHT(B1,2)+15","v":"Forecast 2027/28"},"Forecast 2028/29","Forecast 2029/30","Forecast 2030/31","Forecast 2031/32","Forecast 2032/33","Forecast 2033/34","Forecast 2034/35",{"$f":"\"Forecast \"&J1+14&\"/\"&RIGHT(J1,2)+15","v":"Forecast 2035/36"},"Forecast 2036/37","Forecast 2037/38","Forecast 2038/39","Forecast 2039/40","Forecast 2040/41",null,null,null,null,null,null,null,null,null,null,"Rail Infrastructure","Water purification","Attenuation",null,"Vibrant, equitable, sustainable rural communities contributing towards food security for all"]
["Adjustments Budget",{"$f":"\"Annual target \" & B1&\"/\"&RIGHT(B1,2)+1","v":"Annual target 2013/14"},"Annual target 2014/15","Annual target 2015/16","Annual target 2016/17","Annual target 2017/18","Annual target 2018/19","Annual target 2019/20","Annual target 2020/21",{"$f":"\"Annual target \" & J1&\"/\"&RIGHT(J1,2)+1","v":"Annual target 2021/22"},"Annual target 2022/23","Annual target 2023/24","Annual target 2024/25","Annual target 2025/26","Annual target 2026/27",null,null,null,null,null,null,null,null,null,null,"Coastal Infrastructure","Reticulation","Power Plants",null,"Sustainable human settlements and improved quality of household life"]
[{"$f":"A23","v":"Adjustments Budget"},{"$f":"\"Revised target \"& B1&\"/\"&RIGHT(B1,2)+1","v":"Revised target 2013/14"},"Revised target 2014/15","Revised target 2015/16","Revised target 2016/17","Revised target 2017/18","Revised target 2018/19","Revised target 2019/20","Revised target 2020/21",{"$f":"\"Revised target \"& J1&\"/\"&RIGHT(J1,2)+1","v":"Revised target 2021/22"},"Revised target 2022/23","Revised target 2023/24","Revised target 2024/25","Revised target 2025/26","Revised target 2026/27",null,null,null,null,null,null,null,null,null,null,"Information and Communication Infrastructure","Sewerage purification","HV Substations",null,"Responsive, accountable, effective and efficient local government"]
["NOTE: This sheet should not be directly amended - select headings from sheet 'S'",null,null,null,null,null,null,null,null,null,null,null,null,null,null,null,null,null,null,null,null,null,null,null,null,"Community Facilities","Waste Management","HV Switching Station",null,"Protect and enhance our environmental assets and natural resources"]
[null,null,null,null,null,null,null,null,null,null,null,null,null,null,null,null,null,null,null,null,null,null,null,null,null,"Sport and Recreation Facilities","Transportation","HV Transmission Conductors",null,"Create a better South Africa and contribute to a better Africa and a better world"]
["Name link",155,null,null,null,null,null,null,null,null,null,null,null,null,null,null,null,null,null,null,null,null,null,null,null,"Heritage assets","Gas","MV Substations",null,"An efficient, effective and development-oriented public service"]
["Name of Muni",{"$f":"INDEX(B29:B307,B27,1)","v":"DC47 Sekhukhune"},null,null,null,null,null,null,null,null,null,null,null,null,null,null,null,null,null,null,null,null,null,null,null,"Revenue Generating","Parks & gardens","MV Switching Stations",null,"A comprehensive, responsive and sustainable social protection system"]
[null,"Choose name from list","Set name on 'Instructions' sheet",null,null,null,null,null,null,null,null,null,null,null,null,null,null,null,null,null,null,null,null,null,null,"Non-revenue Generating","Sportsfields & stadia","MV Networks",null,"A diverse, socially cohesive society with a common national identity"]
[null,"BUF Buffalo City","EC EASTERN CAPE",null,null,null,null,null,null,null,null,null,null,null,null,null,null,null,null,null,null,null,null,null,null,"Operational Buildings","Swimming pools","LV Networks"]
[null,"NMA Nelson Mandela Bay","EC EASTERN CAPE",null,null,null,null,null,null,null,null,null,null,null,null,null,null,null,null,null,null,null,null,null,null,"Housing","Community halls","Capital Spares"]
[null,"EC101 Dr Beyers Naude","EC EASTERN CAPE",null,null,null,null,null,null,null,null,null,null,null,null,null,null,null,null,null,null,null,null,null,null,"Biological or Cultivated Assets","Libraries","Dams and Weirs"]
[null,"EC102 Blue Crane Route","EC EASTERN CAPE",null,null,null,null,null,null,null,null,null,null,null,null,null,null,null,null,null,null,null,null,null,null,"Servitudes","Recreational facilities","Boreholes"]
[null,"EC104 Makana","EC EASTERN CAPE",null,null,null,null,null,null,null,null,null,null,null,null,null,null,null,null,null,null,null,null,null,null,"Licences and Rights","Fire, safety & emergency","Reservoirs"]
[null,"EC105 Ndlambe","EC EASTERN CAPE",null,null,null,null,null,null,null,null,null,null,null,null,null,null,null,null,null,null,null,null,null,null,"Computer Equipment","Security and policing","Pump Stations"]
[null,"EC106 Sundays River Valley","EC EASTERN CAPE",null,null,null,null,null,null,null,null,null,null,null,null,null,null,null,null,null,null,null,null,null,null,"Furniture and Office Equipment","Buses","Water Treatment Works"]
[null,"EC108 Kouga","EC EASTERN CAPE",null,null,null,null,null,null,null,null,null,null,null,null,null,null,null,null,null,null,null,null,null,null,"Machinery and Equipment","Clinics","Bulk Mains"]
[null,"EC109 Kou-Kamma","EC EASTERN CAPE",null,null,null,null,null,null,null,null,null,null,null,null,null,null,null,null,null,null,null,null,null,null,"Transport Assets","Museums & Art Galleries","Distribution"]
[null,"DC10 Sarah Baartman","EC EASTERN CAPE",null,null,null,null,null,null,null,null,null,null,null,null,null,null,null,null,null,null,null,null,null,null,"Land","Cemeteries","Distribution Points"]
[null,"EC121 Mbhashe","EC EASTERN CAPE",null,null,null,null,null,null,null,null,null,null,null,null,null,null,null,null,null,null,null,null,null,null,"Zoo's, Marine and Non-biological Animals","Social rental housing","PRV Stations"]
[null,"EC122 Mnquma","EC EASTERN CAPE",null,null,null,null,null,null,null,null,null,null,null,null,null,null,null,null,null,null,null,null,null,null,null,"Buildings","Capital Spares"]
[null,"EC123 Great Kei","EC EASTERN CAPE",null,null,null,null,null,null,null,null,null,null,null,null,null,null,null,null,null,null,null,null,null,null,null,"Housing development","Pump Station"]
[null,"EC124 Amahlathi","EC EASTERN CAPE",null,null,null,null,null,null,null,null,null,null,null,null,null,null,null,null,null,null,null,null,null,null,null,"General vehicles","Reticulation"]
[null,"EC126 Ngqushwa","EC EASTERN CAPE",null,null,null,null,null,null,null,null,null,null,null,null,null,null,null,null,null,null,null,null,null,null,null,"Specialised vehicles - Refuse","Waste Water Treatment Works"]
[null,"EC129 Raymond Mhlaba","EC EASTERN CAPE",null,null,null,null,null,null,null,null,null,null,null,null,null,null,null,null,null,null,null,null,null,null,null,"Specialised vehicles - Fire","Outfall Sewers"]
[null,"DC12 Amathole","EC EASTERN CAPE",null,null,null,null,null,null,null,null,null,null,null,null,null,null,null,null,null,null,null,null,null,null,null,"Specialised vehicles - Conservancy","Toilet Facilities"]
[null,"EC131 Inxuba Yethemba","EC EASTERN CAPE",null,null,null,null,null,null,null,null,null,null,null,null,null,null,null,null,null,null,null,null,null,null,null,"Specialised vehicles - Ambulances","Capital Spares"]
[null,"EC135 Intsika Yethu","EC EASTERN CAPE",null,null,null,null,null,null,null,null,null,null,null,null,null,null,null,null,null,null,null,null,null,null,null,"Plant & equipment","Landfill Sites"]
[null,"EC136 Emalahleni (Ec)","EC EASTERN CAPE",null,null,null,null,null,null,null,null,null,null,null,null,null,null,null,null,null,null,null,null,null,null,null,"Computers - hardware/equipment","Waste Transfer Stations"]
[null,"EC137 Engcobo","EC EASTERN CAPE",null,null,null,null,null,null,null,null,null,null,null,null,null,null,null,null,null,null,null,null,null,null,null,"Furniture and other office equipment","Waste Processing Facilities"]
[null,"EC138 Sakhisizwe","EC EASTERN CAPE",null,null,null,null,null,null,null,null,null,null,null,null,null,null,null,null,null,null,null,null,null,null,null,"Abattoirs","Waste Drop-off Points"]
[null,"EC139 Enoch Mgijima","EC EASTERN CAPE",null,null,null,null,null,null,null,null,null,null,null,null,null,null,null,null,null,null,null,null,null,null,null,"Markets","Waste Separation Facilities"]
[null,"DC13 Chris Hani","EC EASTERN CAPE",null,null,null,null,null,null,null,null,null,null,null,null,null,null,null,null,null,null,null,null,null,null,null,"Civic Land and Buildings","Electricity Generation Facilities"]
[null,"EC141 Elundini","EC EASTERN CAPE",null,null,null,null,null,null,null,null,null,null,null,null,null,null,null,null,null,null,null,null,null,null,null,"Other Buildings","Capital Spares"]
[null,"EC142 Senqu","EC EASTERN CAPE",null,null,null,null,null,null,null,null,null,null,null,null,null,null,null,null,null,null,null,null,null,null,null,"Other Land","Rail Lines"]
[null,"EC145 Walter Sisulu","EC EASTERN CAPE",null,null,null,null,null,null,null,null,null,null,null,null,null,null,null,null,null,null,null,null,null,null,null,"Surplus Assets - (Investment or Inventory)","Rail Structures"]
[null,"DC14 Joe Gqabi","EC EASTERN CAPE",null,null,null,null,null,null,null,null,null,null,null,null,null,null,null,null,null,null,null,null,null,null,null,"Computers - software & programming","Rail Furniture"]
[null,"EC153 Ngquza Hills","EC EASTERN CAPE",null,null,null,null,null,null,null,null,null,null,null,null,null,null,null,null,null,null,null,null,null,null,null,"Other","Drainage Collection"]
[null,"EC154 Port St Johns","EC EASTERN CAPE",null,null,null,null,null,null,null,null,null,null,null,null,null,null,null,null,null,null,null,null,null,null,null,null,"Storm water Conveyance"]
[null,"EC155 Nyandeni","EC EASTERN CAPE",null,null,null,null,null,null,null,null,null,null,null,null,null,null,null,null,null,null,null,null,null,null,"SA16 - Investments",null,"Attenuation"]
[null,"EC156 Mhlontlo","EC EASTERN CAPE",null,null,null,null,null,null,null,null,null,null,null,null,null,null,null,null,null,null,null,null,null,null,"Security","Interest rate","MV Substations"]
[null,"EC157 King Sabata Dalindyebo","EC EASTERN CAPE",null,null,null,null,null,null,null,null,null,null,null,null,null,null,null,null,null,null,null,null,null,null,"Yes","Fixed","LV Networks"]
[null,"DC15 O .R. Tambo","EC EASTERN CAPE",null,null,null,null,null,null,null,null,null,null,null,null,null,null,null,null,null,null,null,null,null,null,"No","Variable","Capital Spares"]
[null,"EC441 Matatiele","EC EASTERN CAPE",null,null,null,null,null,null,null,null,null,null,null,null,null,null,null,null,null,null,null,null,null,null,null,null,"Sand Pumps"]
[null,"EC442 Umzimvubu","EC EASTERN CAPE",null,null,null,null,null,null,null,null,null,null,null,null,null,null,null,null,null,null,null,null,null,null,null,null,"Piers"]
[null,"EC443 Winnie Madikizela Mandela","EC EASTERN CAPE",null,null,null,null,null,null,null,null,null,null,null,null,null,null,null,null,null,null,null,null,null,null,"SA36, SA37 - Capital projects",null,"Revetments"]
[null,"EC444 Ntabankulu","EC EASTERN CAPE",null,null,null,null,null,null,null,null,null,null,null,null,null,null,null,null,null,null,null,null,null,null,"Yes",null,"Promenades"]
[null,"DC44 Alfred Nzo","EC EASTERN CAPE",null,null,null,null,null,null,null,null,null,null,null,null,null,null,null,null,null,null,null,null,null,null,"No",null,"Capital Spares"]
[null,"MAN Mangaung","FS FREE STATE",null,null,null,null,null,null,null,null,null,null,null,null,null,null,null,null,null,null,null,null,null,null,null,null,"Data Centres"]
[null,"FS161 Letsemeng","FS FREE STATE",null,null,null,null,null,null,null,null,null,null,null,null,null,null,null,null,null,null,null,null,null,null,null,null,"Core Layers"]
[null,"FS162 Kopanong","FS FREE STATE",null,null,null,null,null,null,null,null,null,null,null,null,null,null,null,null,null,null,null,null,null,null,null,null,"Distribution Layers"]
[null,"FS163 Mohokare","FS FREE STATE",null,null,null,null,null,null,null,null,null,null,null,null,null,null,null,null,null,null,null,null,null,null,null,null,"Capital Spares"]
[null,"DC16 Xhariep","FS FREE STATE",null,null,null,null,null,null,null,null,null,null,null,null,null,null,null,null,null,null,null,null,null,null,null,null,"Halls"]
[null,"FS181 Masilonyana","FS FREE STATE",null,null,null,null,null,null,null,null,null,null,null,null,null,null,null,null,null,null,null,null,null,null,null,null,"Centres"]
[null,"FS182 Tokologo","FS FREE STATE",null,null,null,null,null,null,null,null,null,null,null,null,null,null,null,null,null,null,null,null,null,null,null,null,"Crèches"]
[null,"FS183 Tswelopele","FS FREE STATE",null,null,null,null,null,null,null,null,null,null,null,null,null,null,null,null,null,null,null,null,null,null,null,null,"Clinics/Care Centres"]
[null,"FS184 Matjhabeng","FS FREE STATE",null,null,null,null,null,null,null,null,null,null,null,null,null,null,null,null,null,null,null,null,null,null,null,null,"Fire/Ambulance Stations"]
[null,"FS185 Nala","FS FREE STATE",null,null,null,null,null,null,null,null,null,null,null,null,null,null,null,null,null,null,null,null,null,null,null,null,"Testing Stations"]
[null,"DC18 Lejweleputswa","FS FREE STATE",null,null,null,null,null,null,null,null,null,null,null,null,null,null,null,null,null,null,null,null,null,null,null,null,"Museums"]
[null,"FS191 Setsoto","FS FREE STATE",null,null,null,null,null,null,null,null,null,null,null,null,null,null,null,null,null,null,null,null,null,null,null,null,"Galleries"]
[null,"FS192 Dihlabeng","FS FREE STATE",null,null,null,null,null,null,null,null,null,null,null,null,null,null,null,null,null,null,null,null,null,null,null,null,"Theatres"]
[null,"FS193 Nketoana","FS FREE STATE",null,null,null,null,null,null,null,null,null,null,null,null,null,null,null,null,null,null,null,null,null,null,null,null,"Libraries"]
[null,"FS194 Maluti-a-Phofung","FS FREE STATE",null,null,null,null,null,null,null,null,null,null,null,null,null,null,null,null,null,null,null,null,null,null,null,null,"Cemeteries/Crematoria"]
[null,"FS195 Phumelela","FS FREE STATE",null,null,null,null,null,null,null,null,null,null,null,null,null,null,null,null,null,null,null,null,null,null,null,null,"Police"]
[null,"FS196 Mantsopa","FS FREE STATE",null,null,null,null,null,null,null,null,null,null,null,null,null,null,null,null,null,null,null,null,null,null,null,null,"Purls"]
[null,"DC19 Thabo Mofutsanyana","FS FREE STATE",null,null,null,null,null,null,null,null,null,null,null,null,null,null,null,null,null,null,null,null,null,null,null,null,"Public Open Space"]
[null,"FS201 Moqhaka","FS FREE STATE",null,null,null,null,null,null,null,null,null,null,null,null,null,null,null,null,null,null,null,null,null,null,null,null,"Nature Reserves"]
[null,"FS203 Ngwathe","FS FREE STATE",null,null,null,null,null,null,null,null,null,null,null,null,null,null,null,null,null,null,null,null,null,null,null,null,"Public Ablution Facilities"]
[null,"FS204 Metsimaholo","FS FREE STATE",null,null,null,null,null,null,null,null,null,null,null,null,null,null,null,null,null,null,null,null,null,null,null,null,"Markets"]
[null,"FS205 Mafube","FS FREE STATE",null,null,null,null,null,null,null,null,null,null,null,null,null,null,null,null,null,null,null,null,null,null,null,null,"Stalls"]
[null,"DC20 Fezile Dabi","FS FREE STATE",null,null,null,null,null,null,null,null,null,null,null,null,null,null,null,null,null,null,null,null,null,null,null,null,"Abattoirs"]
[null,"EKU City of Ekurhuleni","GT GAUTENG",null,null,null,null,null,null,null,null,null,null,null,null,null,null,null,null,null,null,null,null,null,null,null,null,"Airports"]
[null,"JHB City Of Johannesburg","GT GAUTENG",null,null,null,null,null,null,null,null,null,null,null,null,null,null,null,null,null,null,null,null,null,null,null,null,"Taxi Ranks/Bus Terminals"]
[null,"TSH City Of Tshwane","GT GAUTENG",null,null,null,null,null,null,null,null,null,null,null,null,null,null,null,null,null,null,null,null,null,null,null,null,"Capital Spares"]
[null,"GT421 Emfuleni","GT GAUTENG",null,null,null,null,null,null,null,null,null,null,null,null,null,null,null,null,null,null,null,null,null,null,null,null,"Indoor Facilities"]
[null,"GT422 Midvaal","GT GAUTENG",null,null,null,null,null,null,null,null,null,null,null,null,null,null,null,null,null,null,null,null,null,null,null,null,"Outdoor Facilities"]
[null,"GT423 Lesedi","GT GAUTENG",null,null,null,null,null,null,null,null,null,null,null,null,null,null,null,null,null,null,null,null,null,null,null,null,"Capital Spares"]
[null,"DC42 Sedibeng","GT GAUTENG",null,null,null,null,null,null,null,null,null,null,null,null,null,null,null,null,null,null,null,null,null,null,null,null,"Monuments"]
[null,"GT481 Mogale City","GT GAUTENG",null,null,null,null,null,null,null,null,null,null,null,null,null,null,null,null,null,null,null,null,null,null,null,null,"Historic Buildings"]
[null,"GT484 Merafong City","GT GAUTENG",null,null,null,null,null,null,null,null,null,null,null,null,null,null,null,null,null,null,null,null,null,null,null,null,"Works of Art"]
[null,"GT485 Rand West City","GT GAUTENG",null,null,null,null,null,null,null,null,null,null,null,null,null,null,null,null,null,null,null,null,null,null,null,null,"Conservation Areas"]
[null,"DC48 West Rand","GT GAUTENG",null,null,null,null,null,null,null,null,null,null,null,null,null,null,null,null,null,null,null,null,null,null,null,null,"Other Heritage"]
[null,"ETH eThekwini","KZN KWAZULU-NATAL",null,null,null,null,null,null,null,null,null,null,null,null,null,null,null,null,null,null,null,null,null,null,null,null,"Improved Property"]
[null,"KZN212 Umdoni","KZN KWAZULU-NATAL",null,null,null,null,null,null,null,null,null,null,null,null,null,null,null,null,null,null,null,null,null,null,null,null,"Unimproved Property"]
[null,"KZN213 Umzumbe","KZN KWAZULU-NATAL",null,null,null,null,null,null,null,null,null,null,null,null,null,null,null,null,null,null,null,null,null,null,null,null,"Municipal Offices"]
[null,"KZN214 uMuziwabantu","KZN KWAZULU-NATAL",null,null,null,null,null,null,null,null,null,null,null,null,null,null,null,null,null,null,null,null,null,null,null,null,"Pay/Enquiry Points"]
[null,"KZN216 Ray Nkonyeni","KZN KWAZULU-NATAL",null,null,null,null,null,null,null,null,null,null,null,null,null,null,null,null,null,null,null,null,null,null,null,null,"Building Plan Offices"]
[null,"DC21 Ugu","KZN KWAZULU-NATAL",null,null,null,null,null,null,null,null,null,null,null,null,null,null,null,null,null,null,null,null,null,null,null,null,"Workshops"]
[null,"KZN221 uMshwathi","KZN KWAZULU-NATAL",null,null,null,null,null,null,null,null,null,null,null,null,null,null,null,null,null,null,null,null,null,null,null,null,"Yards"]
[null,"KZN222 uMngeni","KZN KWAZULU-NATAL",null,null,null,null,null,null,null,null,null,null,null,null,null,null,null,null,null,null,null,null,null,null,null,null,"Stores"]
[null,"KZN223 Mpofana","KZN KWAZULU-NATAL",null,null,null,null,null,null,null,null,null,null,null,null,null,null,null,null,null,null,null,null,null,null,null,null,"Laboratories"]
[null,"KZN224 Impendle","KZN KWAZULU-NATAL",null,null,null,null,null,null,null,null,null,null,null,null,null,null,null,null,null,null,null,null,null,null,null,null,"Training Centres"]
[null,"KZN225 Msunduzi","KZN KWAZULU-NATAL",null,null,null,null,null,null,null,null,null,null,null,null,null,null,null,null,null,null,null,null,null,null,null,null,"Manufacturing Plant"]
[null,"KZN226 Mkhambathini","KZN KWAZULU-NATAL",null,null,null,null,null,null,null,null,null,null,null,null,null,null,null,null,null,null,null,null,null,null,null,null,"Depots"]
[null,"KZN227 Richmond","KZN KWAZULU-NATAL",null,null,null,null,null,null,null,null,null,null,null,null,null,null,null,null,null,null,null,null,null,null,null,null,"Capital Spares"]
[null,"DC22 uMgungundlovu","KZN KWAZULU-NATAL",null,null,null,null,null,null,null,null,null,null,null,null,null,null,null,null,null,null,null,null,null,null,null,null,"Staff Housing"]
[null,"KZN235 Okhahlamba","KZN KWAZULU-NATAL",null,null,null,null,null,null,null,null,null,null,null,null,null,null,null,null,null,null,null,null,null,null,null,null,"Social Housing"]
[null,"KZN237 Inkosi Langalibalele","KZN KWAZULU-NATAL",null,null,null,null,null,null,null,null,null,null,null,null,null,null,null,null,null,null,null,null,null,null,null,null,"Capital Spares"]
[null,"KZN238 Alfred Duma","KZN KWAZULU-NATAL",null,null,null,null,null,null,null,null,null,null,null,null,null,null,null,null,null,null,null,null,null,null,null,null,"Water Rights"]
[null,"DC23 Uthukela","KZN KWAZULU-NATAL",null,null,null,null,null,null,null,null,null,null,null,null,null,null,null,null,null,null,null,null,null,null,null,null,"Effluent Licenses"]
[null,"KZN241 Endumeni","KZN KWAZULU-NATAL",null,null,null,null,null,null,null,null,null,null,null,null,null,null,null,null,null,null,null,null,null,null,null,null,"Solid Waste Licenses"]
[null,"KZN242 Nquthu","KZN KWAZULU-NATAL",null,null,null,null,null,null,null,null,null,null,null,null,null,null,null,null,null,null,null,null,null,null,null,null,"Computer Software and Applications"]
[null,"KZN244 Msinga","KZN KWAZULU-NATAL",null,null,null,null,null,null,null,null,null,null,null,null,null,null,null,null,null,null,null,null,null,null,null,null,"Load Settlement Software Applications"]
[null,"KZN245 Umvoti","KZN KWAZULU-NATAL",null,null,null,null,null,null,null,null,null,null,null,null,null,null,null,null,null,null,null,null,null,null,null,null,"Unspecified"]
[null,"DC24 Umzinyathi","KZN KWAZULU-NATAL"]
[null,"KZN252 Newcastle","KZN KWAZULU-NATAL"]
[null,"KZN253 Emadlangeni","KZN KWAZULU-NATAL"]
[null,"KZN254 Dannhauser","KZN KWAZULU-NATAL"]
[null,"DC25 Amajuba","KZN KWAZULU-NATAL"]
[null,"KZN261 eDumbe","KZN KWAZULU-NATAL"]
[null,"KZN262 uPhongolo","KZN KWAZULU-NATAL"]
[null,"KZN263 Abaqulusi","KZN KWAZULU-NATAL"]
[null,"KZN265 Nongoma","KZN KWAZULU-NATAL"]
[null,"KZN266 Ulundi","KZN KWAZULU-NATAL"]
[null,"DC26 Zululand","KZN KWAZULU-NATAL"]
[null,"KZN271 Umhlabuyalingana","KZN KWAZULU-NATAL"]
[null,"KZN272 Jozini","KZN KWAZULU-NATAL"]
[null,"KZN275 Mtubatuba","KZN KWAZULU-NATAL"]
[null,"KZN276 Hlabisa Big Five","KZN KWAZULU-NATAL"]
[null,"DC27 Umkhanyakude","KZN KWAZULU-NATAL"]
[null,"KZN281 Mfolozi","KZN KWAZULU-NATAL"]
[null,"KZN282 uMhlathuze","KZN KWAZULU-NATAL"]
[null,"KZN284 uMlalazi","KZN KWAZULU-NATAL"]
[null,"KZN285 Mthonjaneni","KZN KWAZULU-NATAL"]
[null,"KZN286 Nkandla","KZN KWAZULU-NATAL"]
[null,"DC28 King Cetshwayo","KZN KWAZULU-NATAL"]
[null,"KZN291 Mandeni","KZN KWAZULU-NATAL"]
[null,"KZN292 KwaDukuza","KZN KWAZULU-NATAL"]
[null,"KZN293 Ndwedwe","KZN KWAZULU-NATAL"]
[null,"KZN294 Maphumulo","KZN KWAZULU-NATAL"]
[null,"DC29 iLembe","KZN KWAZULU-NATAL"]
[null,"KZN433 Greater Kokstad","KZN KWAZULU-NATAL"]
[null,"KZN434 Ubuhlebezwe","KZN KWAZULU-NATAL"]
[null,"KZN435 Umzimkhulu","KZN KWAZULU-NATAL"]
[null,"KZN436 Dr Nkosazana Dlamini Zuma","KZN KWAZULU-NATAL"]
[null,"DC43 Harry Gwala","KZN KWAZULU-NATAL"]
[null,"LIM331 Greater Giyani","LIM LIMPOPO"]
[null,"LIM332 Greater Letaba","LIM LIMPOPO"]
[null,"LIM333 Greater Tzaneen","LIM LIMPOPO"]
[null,"LIM334 Ba-Phalaborwa","LIM LIMPOPO"]
[null,"LIM335 Maruleng","LIM LIMPOPO"]
[null,"DC33 Mopani","LIM LIMPOPO"]
[null,"LIM341 Musina","LIM LIMPOPO"]
[null,"LIM343 Thulamela","LIM LIMPOPO"]
[null,"LIM344 Makhado","LIM LIMPOPO"]
[null,"LIM345 Collins Chabane","LIM LIMPOPO"]
[null,"DC34 Vhembe","LIM LIMPOPO"]
[null,"LIM351 Blouberg","LIM LIMPOPO"]
[null,"LIM353 Molemole","LIM LIMPOPO"]
[null,"LIM354 Polokwane","LIM LIMPOPO"]
[null,"LIM355 Lepelle-Nkumpi","LIM LIMPOPO"]
[null,"DC35 Capricorn","LIM LIMPOPO"]
[null,"LIM361 Thabazimbi","LIM LIMPOPO"]
[null,"LIM362 Lephalale","LIM LIMPOPO"]
[null,"LIM366 Bela Bela","LIM LIMPOPO"]
[null,"LIM367 Mogalakwena","LIM LIMPOPO"]
[null,"LIM368 Modimolle-Mookgopong","LIM LIMPOPO"]
[null,"DC36 Waterberg","LIM LIMPOPO"]
[null,"LIM471 Ephraim Mogale","LIM LIMPOPO"]
[null,"LIM472 Elias Motsoaledi","LIM LIMPOPO"]
[null,"LIM473 Makhuduthamaga","LIM LIMPOPO"]
[null,"LIM476 Tubatse Fetakgomo","LIM LIMPOPO"]
[null,"DC47 Sekhukhune","LIM LIMPOPO"]
[null,"MP301 Albert Luthuli","MP MPUMALANGA"]
[null,"MP302 Msukaligwa","MP MPUMALANGA"]
[null,"MP303 Mkhondo","MP MPUMALANGA"]
[null,"MP304 Pixley Ka Seme (MP)","MP MPUMALANGA"]
[null,"MP305 Lekwa","MP MPUMALANGA"]
[null,"MP306 Dipaleseng","MP MPUMALANGA"]
[null,"MP307 Govan Mbeki","MP MPUMALANGA"]
[null,"DC30 Gert Sibande","MP MPUMALANGA"]
[null,"MP311 Victor Khanye","MP MPUMALANGA"]
[null,"MP312 Emalahleni (Mp)","MP MPUMALANGA"]
[null,"MP313 Steve Tshwete","MP MPUMALANGA"]
[null,"MP314 Emakhazeni","MP MPUMALANGA"]
[null,"MP315 Thembisile Hani","MP MPUMALANGA"]
[null,"MP316 Dr J.S. Moroka","MP MPUMALANGA"]
[null,"DC31 Nkangala","MP MPUMALANGA"]
[null,"MP321 Thaba Chweu","MP MPUMALANGA"]
[null,"MP324 Nkomazi","MP MPUMALANGA"]
[null,"MP325 Bushbuckridge","MP MPUMALANGA"]
[null,"MP326 City of Mbombela","MP MPUMALANGA"]
[null,"DC32 Ehlanzeni","MP MPUMALANGA"]
[null,"NC451 Joe Morolong","NC NORTHERN CAPE"]
[null,"NC452 Ga-Segonyana","NC NORTHERN CAPE"]
[null,"NC453 Gamagara","NC NORTHERN CAPE"]
[null,"DC45 John Taolo Gaetsewe","NC NORTHERN CAPE"]
[null,"NC061 Richtersveld","NC NORTHERN CAPE"]
[null,"NC062 Nama Khoi","NC NORTHERN CAPE"]
[null,"NC064 Kamiesberg","NC NORTHERN CAPE"]
[null,"NC065 Hantam","NC NORTHERN CAPE"]
[null,"NC066 Karoo Hoogland","NC NORTHERN CAPE"]
[null,"NC067 Khai-Ma","NC NORTHERN CAPE"]
[null,"DC6 Namakwa","NC NORTHERN CAPE"]
[null,"NC071 Ubuntu","NC NORTHERN CAPE"]
[null,"NC072 Umsobomvu","NC NORTHERN CAPE"]
[null,"NC073 Emthanjeni","NC NORTHERN CAPE"]
[null,"NC074 Kareeberg","NC NORTHERN CAPE"]
[null,"NC075 Renosterberg","NC NORTHERN CAPE"]
[null,"NC076 Thembelihle","NC NORTHERN CAPE"]
[null,"NC077 Siyathemba","NC NORTHERN CAPE"]
[null,"NC078 Siyancuma","NC NORTHERN CAPE"]
[null,"DC7 Pixley Ka Seme (Nc)","NC NORTHERN CAPE"]
[null,"NC082 !Kai! Garib","NC NORTHERN CAPE"]
[null,"NC084 !Kheis","NC NORTHERN CAPE"]
[null,"NC085 Tsantsabane","NC NORTHERN CAPE"]
[null,"NC086 Kgatelopele","NC NORTHERN CAPE"]
[null,"NC087 Dawid Kruiper","NC NORTHERN CAPE"]
[null,"DC8 Z F Mgcawu","NC NORTHERN CAPE"]
[null,"NC091 Sol Plaatje","NC NORTHERN CAPE"]
[null,"NC092 Dikgatlong","NC NORTHERN CAPE"]
[null,"NC093 Magareng","NC NORTHERN CAPE"]
[null,"NC094 Phokwane","NC NORTHERN CAPE"]
[null,"DC9 Frances Baard","NC NORTHERN CAPE"]
[null,"NW371 Moretele","NW NORTH WEST"]
[null,"NW372 Madibeng","NW NORTH WEST"]
[null,"NW373 Rustenburg","NW NORTH WEST"]
[null,"NW374 Kgetlengrivier","NW NORTH WEST"]
[null,"NW375 Moses Kotane","NW NORTH WEST"]
[null,"DC37 Bojanala Platinum","NW NORTH WEST"]
[null,"NW381 Ratlou","NW NORTH WEST"]
[null,"NW382 Tswaing","NW NORTH WEST"]
[null,"NW383 Mafikeng","NW NORTH WEST"]
[null,"NW384 Ditsobotla","NW NORTH WEST"]
[null,"NW385 Ramotshere Moiloa","NW NORTH WEST"]
[null,"DC38 Ngaka Modiri Molema","NW NORTH WEST"]
[null,"NW392 Naledi (Nw)","NW NORTH WEST"]
[null,"NW393 Mamusa","NW NORTH WEST"]
[null,"NW394 Greater Taung","NW NORTH WEST"]
[null,"NW396 Lekwa-Teemane","NW NORTH WEST"]
[null,"NW397 Kagisano-Molopo","NW NORTH WEST"]
[null,"DC39 Dr Ruth Segomotsi Mompati","NW NORTH WEST"]
[null,"NW403 City Of Matlosana","NW NORTH WEST"]
[null,"NW404 Maquassi Hills","NW NORTH WEST"]
[null,"NW405 J B Marks","NW NORTH WEST"]
[null,"DC40 Dr Kenneth Kaunda","NW NORTH WEST"]
[null,"CPT Cape Town","WC WESTERN CAPE"]
[null,"WC011 Matzikama","WC WESTERN CAPE"]
[null,"WC012 Cederberg","WC WESTERN CAPE"]
[null,"WC013 Bergrivier","WC WESTERN CAPE"]
[null,"WC014 Saldanha Bay","WC WESTERN CAPE"]
[null,"WC015 Swartland","WC WESTERN CAPE"]
[null,"DC1 West Coast","WC WESTERN CAPE"]
[null,"WC022 Witzenberg","WC WESTERN CAPE"]
[null,"WC023 Drakenstein","WC WESTERN CAPE"]
[null,"WC024 Stellenbosch","WC WESTERN CAPE"]
[null,"WC025 Breede Valley","WC WESTERN CAPE"]
[null,"WC026 Langeberg","WC WESTERN CAPE"]
[null,"DC2 Cape Winelands DM","WC WESTERN CAPE"]
[null,"WC031 Theewaterskloof","WC WESTERN CAPE"]
[null,"WC032 Overstrand","WC WESTERN CAPE"]
[null,"WC033 Cape Agulhas","WC WESTERN CAPE"]
[null,"WC034 Swellendam","WC WESTERN CAPE"]
[null,"DC3 Overberg","WC WESTERN CAPE"]
[null,"WC041 Kannaland","WC WESTERN CAPE"]
[null,"WC042 Hessequa","WC WESTERN CAPE"]
[null,"WC043 Mossel Bay","WC WESTERN CAPE"]
[null,"WC044 George","WC WESTERN CAPE"]
[null,"WC045 Oudtshoorn","WC WESTERN CAPE"]
[null,"WC047 Bitou","WC WESTERN CAPE"]
[null,"WC048 Knysna","WC WESTERN CAPE"]
[null,"DC4 Garden Route","WC WESTERN CAPE"]
[null,"WC051 Laingsburg","WC WESTERN CAPE"]
[null,"WC052 Prince Albert","WC WESTERN CAPE"]
[null,"WC053 Beaufort West","WC WESTERN CAPE"]
[null,"DC5 Central Karoo","WC WESTERN CAPE"]
[]
[]
[]
[]
[]
[]
[]
[]
[]
[]
[]
[]
[]
[]
[]
[]
[]
[]
[]
[]
[]
[null,{"$f":"COUNTA(B30:B307)","v":257}]

{"sheet":"Org structure","index":4,"n_rows":30,"n_cols":5,"rows_kept":30,"cut":false,"hidden":false,"merged":[]}
["Organisational Structure Votes",null,"Organisational Structure Sub-Votes",null,"Display Sub-Votes"]
[{"$f":"B2&\" - \"&C2","v":"Vote 01 - Speakers Office"},"Vote 01","Speakers Office"]
[{"$f":"B5&\" - \"&C5","v":"Vote 02 - Executive Mayor's Office"},"01.1","Office Of The Speaker",{"$f":"CONCATENATE(B3, \" - \", C3)","v":"01.1 - Office Of The Speaker"},"01.1 - Office Of The Speaker"]
[{"$f":"B7&\" - \"&C7","v":"Vote 03 - Municipal Manager  Office"},"01.2","Office Of The Chief Whip",{"$f":"CONCATENATE(B4, \" - \", C4)","v":"01.2 - Office Of The Chief Whip"},"01.2 - Office Of The Chief Whip"]
[{"$f":"B9&\" - \"&C9","v":"Vote 04 - Budget And Treasury"},"Vote 02","Executive Mayor's Office"]
[{"$f":"B12&\" - \"&C12","v":"Vote 05 - Infrustracture And Water Services"},"02.1","Executive Mayor's Office",{"$f":"CONCATENATE(B6, \" - \", C6)","v":"02.1 - Executive Mayor's Office"},"02.1 - Executive Mayor's Office"]
[{"$f":"B16&\" - \"&C16","v":"Vote 06 - Planning And Economic Development"},"Vote 03","Municipal Manager  Office"]
[{"$f":"B18&\" - \"&C18","v":"Vote 07 - Community Services"},"03.1","Municipal Manager Admin",{"$f":"CONCATENATE(B8, \" - \", C8)","v":"03.1 - Municipal Manager Admin"},"03.1 - Municipal Manager Admin"]
[{"$f":"B20&\" - \"&C20","v":"Vote 08 - Sekhukhune Development Angancy"},"Vote 04","Budget And Treasury"]
[{"$f":"B22&\" - \"&C22","v":"Vote 09 - Corporate Services"},"04.1","Budget & Treasury Admin",{"$f":"CONCATENATE(B10, \" - \", C10)","v":"04.1 - Budget & Treasury Admin"},"04.1 - Budget & Treasury Admin"]
[{"$f":"B24&\" - \"&C24","v":"Vote 10 - "},"04.2","Budget & Treasury Admin",{"$f":"CONCATENATE(B11, \" - \", C11)","v":"04.2 - Budget & Treasury Admin"},"04.2 - Budget & Treasury Admin"]
["Vote 11 - ","Vote 05","Infrustracture And Water Services"]
["Vote 12 - ","05.1","Technical Services Admin",{"$f":"CONCATENATE(B13, \" - \", C13)","v":"05.1 - Technical Services Admin"},"05.1 - Technical Services Admin"]
["Vote 13 - ","05.2","Water Services",{"$f":"CONCATENATE(B14, \" - \", C14)","v":"05.2 - Water Services"},"05.2 - Water Services"]
["Vote 14 - ","05.3","Sanitation Services",{"$f":"CONCATENATE(B15, \" - \", C15)","v":"05.3 - Sanitation Services"},"05.3 - Sanitation Services"]
["Vote 15 - Other","Vote 06","Planning And Economic Development"]
[null,"06.1","Planning & Economic Dev Admin",{"$f":"CONCATENATE(B17, \" - \", C17)","v":"06.1 - Planning & Economic Dev Admin"},"06.1 - Planning & Economic Dev Admin"]
[null,"Vote 07","Community Services"]
[null,"07.1","Community Services Admin",{"$f":"CONCATENATE(B19, \" - \", C19)","v":"07.1 - Community Services Admin"},"07.1 - Community Services Admin"]
[null,"Vote 08","Sekhukhune Development Angancy"]
[null,"08.1","Sekhukhune Development Agency",{"$f":"CONCATENATE(B21, \" - \", C21)","v":"08.1 - Sekhukhune Development Agency"},"08.1 - Sekhukhune Development Agency"]
[null,"Vote 09","Corporate Services"]
[null,"09.1","Corporate Services Admin",{"$f":"CONCATENATE(B23, \" - \", C23)","v":"09.1 - Corporate Services Admin"},"09.1 - Corporate Services Admin"]
[null,"Vote 10"]
[null,"Vote 11"]
[null,"Vote 12"]
[null,"Vote 13"]
[null,"Vote 14"]
[null,"Vote 15","Other"]
[null,"15.1","Electricity Reporting Function",{"$f":"CONCATENATE(B30, \" - \", C30)","v":"15.1 - Electricity Reporting Function"},"15.1 - Electricity Reporting Function"]

{"sheet":"Contacts","index":5,"n_rows":140,"n_cols":4,"rows_kept":140,"cut":false,"hidden":false,"merged":[[132,0,132,1],[132,2,132,3],[76,0,76,1],[57,0,57,1],[76,2,76,3],[92,2,92,3],[67,2,67,3],[124,0,124,1],[124,2,124,3],[116,0,116,1],[116,2,116,3],[108,0,108,1],[108,2,108,3],[100,0,100,1],[58,2,58,3],[84,0,84,1],[84,2,84,3],[30,2,30,3],[29,2,29,3],[48,0,48,1],[100,2,100,3],[39,2,39,3],[48,2,48,3],[57,2,57,3],[92,0,92,1],[39,0,39,1],[7,2,7,3],[13,0,13,1],[29,0,29,1],[10,2,10,3],[12,2,12,3]]}
[{"$f":"muni&\" - \"&\" Contact Information\"","v":"DC47 Sekhukhune -  Contact Information"}]
[]
["A. GENERAL INFORMATION"]
["Municipality",{"$f":"muni","v":"DC47 Sekhukhune"},{"$f":"IF(B4=\"Choose name from List\",\"Set name on 'Instructions' sheet\", \"\")","v":""}]
[]
["Grade","grade 4","1 Grade in terms of the Remuneration of Public Office Bearers Act."]
[]
["Province",{"$f":"IF(B4>\" \",VLOOKUP(B4,'Lookup and lists'!B29:C307,2, FALSE),\" \")","v":"LIM LIMPOPO"}]
[]
["Web Address","www.sekhukhune.gov.za"]
[]
["e-mail Address","www.sekhukhune.gov.za"]
[]
["B. CONTACT INFORMATION"]
["Postal address:"]
["P.O. Box","8611"]
["City / Town","Groblersdal"]
["Postal Code","0470"]
[]
["Street address"]
["Building","Bareki Mall"]
["Street No. & Name","Cnr Van Rebeck and Cris Wild"]
["City / Town","groblersdal"]
["Postal Code","0470"]
[]
["General Contacts"]
["Telephone number","0132627000"]
["Fax number","0132623688"]
[]
["C. POLITICAL LEADERSHIP"]
["Speaker:",null,"Secretary/PA to the Speaker:"]
["ID Number","6902027028084","ID Number","7612010524085"]
["Title","Mr","Title","Ms"]
["Name","Chego David Kgwediebotse","Name","Patricia Madibane"]
["Telephone number","0132627300","Telephone number","0132627301"]
["Cell number","0721852639","Cell number","0727496229"]
["Fax number","0132623688","Fax number","0132627300"]
["E-mail address","chegod@sekhukhune.gov.za","E-mail address","madibanep@sekhukhune.gov.za"]
[]
["Mayor/Executive Mayor:",null,"Secretary/PA to the Mayor/Executive Mayor:"]
["ID Number","7202200395080","ID Number","8207020769082"]
["Title","Miss","Title","Ms"]
["Name","Julia LATA Mathebe","Name","Mpai Rammupudu"]
["Telephone number","0132627459","Telephone number","0132627300"]
["Cell number","","Cell number","0727496336"]
["Fax number","0132623688","Fax number","0132623688"]
["E-mail address","mathebej@Sekhukhune.gov.za","E-mail address","rammupudum@sekhukhune.gov.za"]
[]
["Deputy Mayor/Executive Mayor:",null,"Secretary/PA to the Deputy Mayor/Executive Mayor:"]
["ID Number",null,"ID Number"]
["Title",null,"Title"]
["Name",null,"Name"]
["Telephone number",null,"Telephone number"]
["Cell number",null,"Cell number"]
["Fax number",null,"Fax number"]
["E-mail address",null,"E-mail address"]
[]
["D. MANAGEMENT LEADERSHIP"]
["Municipal Manager:",null,"Secretary/PA to the Municipal Manager:"]
["ID Number","7203140607089","ID Number","8705310747080"]
["Title","Ms","Title","Ms"]
["Name","Maureen Ntshudisane","Name","Rachel Maunatlala"]
["Telephone number","0132627312","Telephone number","0132627312"]
["Cell number","0825519666","Cell number","0728168285"]
["Fax number","0132623688","Fax number","0132623688"]
["E-mail address","0825519666","E-mail address","Maunatlalar@sekhukhune.gov.za"]
[]
["Chief Financial Officer",null,"Secretary/PA to the Chief Financial Officer"]
["ID Number","8602245736082","ID Number","9503010837080"]
["Title","Mr","Title","Ms"]
["Name","Hendrick Legamane Nkadimeng","Name","Lethabo Matlala"]
["Telephone number","0132627584","Telephone number","0132627584"]
["Cell number","0832691411","Cell number","0723790629"]
["Fax number","013 262 4303","Fax number","0132623688"]
["E-mail address","nkadimengh@sekhukhune.gov.za","E-mail address","Matlalalm@sekhukhune.gov.za"]
[]
["Official responsible for submitting financial information",null,"Official responsible for submitting financial information"]
["ID Number","8612040651089","ID Number","7809030373085"]
["Title","Ms","Title","Ms"]
["Name","MAPHOKENG PETUNIA PITJO","Name","MATHUNG MATLALA"]
["Telephone number","0132627666","Telephone number","013 262 7522"]
["Cell number","0605269306","Cell number","0828529934"]
["Fax number","0132623688","Fax number","013 262 4303"]
["E-mail address","pitjom@sekhukhune.gov.za","E-mail address","matlalam@Sekhukhune.gov.za"]
["Official responsible for submitting financial information",null,"Official responsible for submitting financial information"]
["ID Number","910712 0452 008","ID Number"]
["Title","Ms","Title"]
["Name","SENZILE MASEKO","Name"]
["Telephone number","013 262 7670","Telephone number"]
["Cell number","073 985 1961","Cell number"]
["Fax number","013 262 4303","Fax number"]
["E-mail address","masekos@sekhukhune.gov.za","E-mail address"]
["Official responsible for submitting financial information",null,"Official responsible for submitting financial information"]
["ID Number",null,"ID Number"]
["Title",null,"Title"]
["Name",null,"Name"]
["Telephone number",null,"Telephone number"]
["Cell number",null,"Cell number"]
["Fax number",null,"Fax number"]
["E-mail address",null,"E-mail address"]
["Official responsible for submitting financial information",null,"Official responsible for submitting financial information"]
["ID Number",null,"ID Number"]
["Title",null,"Title"]
["Name",null,"Name"]
["Telephone number",null,"Telephone number"]
["Cell number",null,"Cell number"]
["Fax number",null,"Fax number"]
["E-mail address",null,"E-mail address"]
["Official responsible for submitting financial information",null,"Official responsible for submitting financial information"]
["ID Number",null,"ID Number"]
["Title",null,"Title"]
["Name",null,"Name"]
["Telephone number",null,"Telephone number"]
["Cell number",null,"Cell number"]
["Fax number",null,"Fax number"]
["E-mail address",null,"E-mail address"]
["Official responsible for submitting financial information",null,"Official responsible for submitting financial information"]
["ID Number",null,"ID Number"]
["Title",null,"Title"]
["Name",null,"Name"]
["Telephone number",null,"Telephone number"]
["Cell number",null,"Cell number"]
["Fax number",null,"Fax number"]
["E-mail address",null,"E-mail address"]
["Official responsible for submitting financial information",null,"Official responsible for submitting financial information"]
["ID Number",null,"ID Number"]
["Title",null,"Title"]
["Name",null,"Name"]
["Telephone number",null,"Telephone number"]
["Cell number",null,"Cell number"]
["Fax number",null,"Fax number"]
["E-mail address",null,"E-mail address"]
["Official responsible for submitting financial information"]
["ID Number"]
["Title"]
["Name"]
["Telephone number"]
["Cell number"]
["Fax number"]
["E-mail address"]

{"sheet":"A1-Sum","index":6,"n_rows":65,"n_cols":11,"rows_kept":65,"cut":false,"hidden":false,"merged":[[1,8,1,10],[1,4,1,7],[0,0,0,2]]}
[{"$f":"muni&\" - \"&Approve1","v":"DC47 Sekhukhune - Table A1 Budget Summary"}]
[{"$f":"desc","v":"Description"},{"$f":"head1b","v":"2018/19"},{"$f":"head1A","v":"2019/20"},{"$f":"Head1","v":"2020/21"},{"$f":"Head2","v":"Current Year 2021/22"},null,null,null,{"$f":"Head3","v":"2022/23 Medium Term Revenue & Expenditure Framework"}]
["R thousands",{"$f":"Head5","v":"Audited Outcome"},{"$f":"Head5","v":"Audited Outcome"},{"$f":"Head5","v":"Audited Outcome"},{"$f":"Head6","v":"Original Budget"},{"$f":"Head7","v":"Adjusted Budget"},{"$f":"Head8","v":"Full Year Forecast"},{"$f":"Head5b","v":"Pre-audit outcome"},{"$f":"Head9","v":"Budget Year 2022/23"},{"$f":"Head10","v":"Budget Year +1 2023/24"},{"$f":"Head11","v":"Budget Year +2 2024/25"}]
["Financial Performance"]
["Property rates",{"$f":"'A4-FinPerf RE'!C5","v":0},{"$f":"'A4-FinPerf RE'!D5","v":0},{"$f":"'A4-FinPerf RE'!E5","v":0},{"$f":"'A4-FinPerf RE'!F5","v":0},{"$f":"'A4-FinPerf RE'!G5","v":0},{"$f":"'A4-FinPerf RE'!H5","v":0},{"$f":"'A4-FinPerf RE'!I5","v":0},{"$f":"'A4-FinPerf RE'!J5","v":0},{"$f":"'A4-FinPerf RE'!K5","v":0},{"$f":"'A4-FinPerf RE'!L5","v":0}]
["Service charges",{"$f":"SUM('A4-FinPerf RE'!C6:C9)","v":86094738.889999986},{"$f":"SUM('A4-FinPerf RE'!D6:D9)","v":94840931.75},{"$f":"SUM('A4-FinPerf RE'!E6:E9)","v":85340370.099999994},{"$f":"SUM('A4-FinPerf RE'!F6:F9)","v":95858109},{"$f":"SUM('A4-FinPerf RE'!G6:G9)","v":98638109},{"$f":"SUM('A4-FinPerf RE'!H6:H9)","v":98638109},{"$f":"SUM('A4-FinPerf RE'!I6:I9)","v":84321917.170000002},{"$f":"SUM('A4-FinPerf RE'!J6:J9)","v":103570014},{"$f":"SUM('A4-FinPerf RE'!K6:K9)","v":108748515},{"$f":"SUM('A4-FinPerf RE'!L6:L9)","v":114185942}]
["Investment revenue",{"$f":"'A4-FinPerf RE'!C12","v":2264470.08},{"$f":"'A4-FinPerf RE'!D12","v":9889632.3599999994},{"$f":"'A4-FinPerf RE'!E12","v":15003055.27},{"$f":"'A4-FinPerf RE'!F12","v":17485844},{"$f":"'A4-FinPerf RE'!G12","v":21485844},{"$f":"'A4-FinPerf RE'!H12","v":21485844},{"$f":"'A4-FinPerf RE'!I12","v":19684813.399999999},{"$f":"'A4-FinPerf RE'!J12","v":21659404},{"$f":"'A4-FinPerf RE'!K12","v":22612419},{"$f":"'A4-FinPerf RE'!L12","v":23629977}]
["Transfers recognised - operational",{"$f":"'A4-FinPerf RE'!C18","v":1194612913.0899999},{"$f":"'A4-FinPerf RE'!D18","v":859188517.01999998},{"$f":"'A4-FinPerf RE'!E18","v":1074694102.6900001},{"$f":"'A4-FinPerf RE'!F18","v":982113000},{"$f":"'A4-FinPerf RE'!G18","v":1024213000},{"$f":"'A4-FinPerf RE'!H18","v":1024213000},{"$f":"'A4-FinPerf RE'!I18","v":893473483.84000003},{"$f":"'A4-FinPerf RE'!J18","v":1087843560},{"$f":"'A4-FinPerf RE'!K18","v":1149230990},{"$f":"'A4-FinPerf RE'!L18","v":1253412000}]
["Other own revenue",{"$f":"'A4-FinPerf RE'!C11+'A4-FinPerf RE'!C13+'A4-FinPerf RE'!C14+'A4-FinPerf RE'!C15+'A4-FinPerf RE'!C16+'A4-FinPerf RE'!C17+'A4-FinPerf RE'!C19+'A4-FinPerf RE'!C20","v":36754061.799999997},{"$f":"'A4-FinPerf RE'!D11+'A4-FinPerf RE'!D13+'A4-FinPerf RE'!D14+'A4-FinPerf RE'!D15+'A4-FinPerf RE'!D16+'A4-FinPerf RE'!D17+'A4-FinPerf RE'!D19+'A4-FinPerf RE'!D20","v":18655253.359999999},{"$f":"'A4-FinPerf RE'!E11+'A4-FinPerf RE'!E13+'A4-FinPerf RE'!E14+'A4-FinPerf RE'!E15+'A4-FinPerf RE'!E16+'A4-FinPerf RE'!E17+'A4-FinPerf RE'!E19+'A4-FinPerf RE'!E20","v":95926888.900000006},{"$f":"'A4-FinPerf RE'!F11+'A4-FinPerf RE'!F13+'A4-FinPerf RE'!F14+'A4-FinPerf RE'!F15+'A4-FinPerf RE'!F16+'A4-FinPerf RE'!F17+'A4-FinPerf RE'!F19+'A4-FinPerf RE'!F20","v":17589924},{"$f":"'A4-FinPerf RE'!G11+'A4-FinPerf RE'!G13+'A4-FinPerf RE'!G14+'A4-FinPerf RE'!G15+'A4-FinPerf RE'!G16+'A4-FinPerf RE'!G17+'A4-FinPerf RE'!G19+'A4-FinPerf RE'!G20","v":17024924},{"$f":"'A4-FinPerf RE'!H11+'A4-FinPerf RE'!H13+'A4-FinPerf RE'!H14+'A4-FinPerf RE'!H15+'A4-FinPerf RE'!H16+'A4-FinPerf RE'!H17+'A4-FinPerf RE'!H19+'A4-FinPerf RE'!H20","v":17024924},{"$f":"'A4-FinPerf RE'!I11+'A4-FinPerf RE'!I13+'A4-FinPerf RE'!I14+'A4-FinPerf RE'!I15+'A4-FinPerf RE'!I16+'A4-FinPerf RE'!I17+'A4-FinPerf RE'!I19+'A4-FinPerf RE'!I20","v":13081413.070000002},{"$f":"'A4-FinPerf RE'!J11+'A4-FinPerf RE'!J13+'A4-FinPerf RE'!J14+'A4-FinPerf RE'!J15+'A4-FinPerf RE'!J16+'A4-FinPerf RE'!J17+'A4-FinPerf RE'!J19+'A4-FinPerf RE'!J20","v":17876171},{"$f":"'A4-FinPerf RE'!K11+'A4-FinPerf RE'!K13+'A4-FinPerf RE'!K14+'A4-FinPerf RE'!K15+'A4-FinPerf RE'!K16+'A4-FinPerf RE'!K17+'A4-FinPerf RE'!K19+'A4-FinPerf RE'!K20","v":18769978},{"$f":"'A4-FinPerf RE'!L11+'A4-FinPerf RE'!L13+'A4-FinPerf RE'!L14+'A4-FinPerf RE'!L15+'A4-FinPerf RE'!L16+'A4-FinPerf RE'!L17+'A4-FinPerf RE'!L19+'A4-FinPerf RE'!L20","v":19708478}]
[{"$f":"'A4-FinPerf RE'!A21","v":"Total Revenue (excluding capital transfers and contributions)"},{"$f":"SUM(B5:B9)","v":1319726183.8599999},982574334.49000001,1270964416.96,1113046877,1161361877,1161361877,1010561627.4800001,1230949149,1299361902,1410936397]
["Employee costs",{"$f":"'A4-FinPerf RE'!C24","v":373154682.80000001},{"$f":"'A4-FinPerf RE'!D24","v":395222658.88999993},{"$f":"'A4-FinPerf RE'!E24","v":413179304.49000001},{"$f":"'A4-FinPerf RE'!F24","v":433126807},{"$f":"'A4-FinPerf RE'!G24","v":419505838},{"$f":"'A4-FinPerf RE'!H24","v":419505838},{"$f":"'A4-FinPerf RE'!I24","v":369587724.38999999},{"$f":"'A4-FinPerf RE'!J24","v":459428896},{"$f":"'A4-FinPerf RE'!K24","v":458356373},{"$f":"'A4-FinPerf RE'!L24","v":483772787}]
["Remuneration of councillors",{"$f":"'A4-FinPerf RE'!C25","v":16597723.23},{"$f":"'A4-FinPerf RE'!D25","v":15466714.199999999},{"$f":"'A4-FinPerf RE'!E25","v":15042795.470000001},{"$f":"'A4-FinPerf RE'!F25","v":18330456},{"$f":"'A4-FinPerf RE'!G25","v":18330456},{"$f":"'A4-FinPerf RE'!H25","v":18330456},{"$f":"'A4-FinPerf RE'!I25","v":14029089.23},{"$f":"'A4-FinPerf RE'!J25","v":18422108},{"$f":"'A4-FinPerf RE'!K25","v":19232682},{"$f":"'A4-FinPerf RE'!L25","v":20098150}]
["Depreciation & asset impairment",{"$f":"'A4-FinPerf RE'!C27","v":101039967.96000001},{"$f":"'A4-FinPerf RE'!D27","v":122229924.3},{"$f":"'A4-FinPerf RE'!E27","v":94331435.570000008},{"$f":"'A4-FinPerf RE'!F27","v":102514292},{"$f":"'A4-FinPerf RE'!G27","v":102554292},{"$f":"'A4-FinPerf RE'!H27","v":102554292},{"$f":"'A4-FinPerf RE'!I27","v":0},{"$f":"'A4-FinPerf RE'!J27","v":106884864},{"$f":"'A4-FinPerf RE'!K27","v":111671318},{"$f":"'A4-FinPerf RE'!L27","v":127396528}]
["Finance charges",{"$f":"'A4-FinPerf RE'!C28","v":346933.09},{"$f":"'A4-FinPerf RE'!D28","v":0},{"$f":"'A4-FinPerf RE'!E28","v":0},{"$f":"'A4-FinPerf RE'!F28","v":489818},{"$f":"'A4-FinPerf RE'!G28","v":489818},{"$f":"'A4-FinPerf RE'!H28","v":489818},{"$f":"'A4-FinPerf RE'!I28","v":0},{"$f":"'A4-FinPerf RE'!J28","v":509411},{"$f":"'A4-FinPerf RE'!K28","v":531825},{"$f":"'A4-FinPerf RE'!L28","v":555757}]
["Inventory consumed and bulk purchases",{"$f":"'A4-FinPerf RE'!C29+'A4-FinPerf RE'!C30","v":12465554.890000001},{"$f":"'A4-FinPerf RE'!D29+'A4-FinPerf RE'!D30","v":25650772.940000001},{"$f":"'A4-FinPerf RE'!E29+'A4-FinPerf RE'!E30","v":24307533.879999999},{"$f":"'A4-FinPerf RE'!F29+'A4-FinPerf RE'!F30","v":177905447},{"$f":"'A4-FinPerf RE'!G29+'A4-FinPerf RE'!G30","v":168470546},{"$f":"'A4-FinPerf RE'!H29+'A4-FinPerf RE'!H30","v":168470546},{"$f":"'A4-FinPerf RE'!I29+'A4-FinPerf RE'!I30","v":19642284.579999998},{"$f":"'A4-FinPerf RE'!J29+'A4-FinPerf RE'!J30","v":191075226},{"$f":"'A4-FinPerf RE'!K29+'A4-FinPerf RE'!K30","v":187994806},{"$f":"'A4-FinPerf RE'!L29+'A4-FinPerf RE'!L30","v":207271499}]
["Transfers and grants",{"$f":"'A4-FinPerf RE'!C32","v":7415578.3499999996},{"$f":"'A4-FinPerf RE'!D32","v":3497209.2},{"$f":"'A4-FinPerf RE'!E32","v":2556298.0299999998},{"$f":"'A4-FinPerf RE'!F32","v":758211},{"$f":"'A4-FinPerf RE'!G32","v":796171},{"$f":"'A4-FinPerf RE'!H32","v":796171},{"$f":"'A4-FinPerf RE'!I32","v":734369.14},{"$f":"'A4-FinPerf RE'!J32","v":0},{"$f":"'A4-FinPerf RE'!K32","v":0},{"$f":"'A4-FinPerf RE'!L32","v":0}]
["Other expenditure",{"$f":"'A4-FinPerf RE'!C26+'A4-FinPerf RE'!C31+'A4-FinPerf RE'!C33+'A4-FinPerf RE'!C34","v":376707075.69999999},{"$f":"'A4-FinPerf RE'!D26+'A4-FinPerf RE'!D31+'A4-FinPerf RE'!D33+'A4-FinPerf RE'!D34","v":376167056.24999994},{"$f":"'A4-FinPerf RE'!E26+'A4-FinPerf RE'!E31+'A4-FinPerf RE'!E33+'A4-FinPerf RE'!E34","v":372463520.89999998},{"$f":"'A4-FinPerf RE'!F26+'A4-FinPerf RE'!F31+'A4-FinPerf RE'!F33+'A4-FinPerf RE'!F34","v":370407267},{"$f":"'A4-FinPerf RE'!G26+'A4-FinPerf RE'!G31+'A4-FinPerf RE'!G33+'A4-FinPerf RE'!G34","v":440780888},{"$f":"'A4-FinPerf RE'!H26+'A4-FinPerf RE'!H31+'A4-FinPerf RE'!H33+'A4-FinPerf RE'!H34","v":440780888},{"$f":"'A4-FinPerf RE'!I26+'A4-FinPerf RE'!I31+'A4-FinPerf RE'!I33+'A4-FinPerf RE'!I34","v":275415149.95999998},{"$f":"'A4-FinPerf RE'!J26+'A4-FinPerf RE'!J31+'A4-FinPerf RE'!J33+'A4-FinPerf RE'!J34","v":434265231},{"$f":"'A4-FinPerf RE'!K26+'A4-FinPerf RE'!K31+'A4-FinPerf RE'!K33+'A4-FinPerf RE'!K34","v":511139304},{"$f":"'A4-FinPerf RE'!L26+'A4-FinPerf RE'!L31+'A4-FinPerf RE'!L33+'A4-FinPerf RE'!L34","v":562189349}]
[{"$f":"'A4-FinPerf RE'!A35","v":"Total Expenditure"},{"$f":"SUM(B11:B17)","v":887727516.01999998},{"$f":"SUM(C11:C17)","v":938234335.77999997},921880888.34000003,1103532298,1150928009,1150928009,679408617.29999995,1210585736,1288926308,1401284070]
[{"$f":"'A4-FinPerf RE'!A37","v":"Surplus/(Deficit)"},{"$f":"B10-B18","v":431998667.83999991},44339998.710000038,349083528.62,9514579,10433868,10433868,331153010.18000019,20363413,10435594,9652327]
[{"$f":"'A4-FinPerf RE'!A38","v":"Transfers and subsidies - capital (monetary allocations) (National / Provincial and District)"},{"$f":"'A4-FinPerf RE'!C38","v":125779291.93000001},{"$f":"'A4-FinPerf RE'!D38","v":443917155.89999998},{"$f":"'A4-FinPerf RE'!E38","v":448726686.91000003},{"$f":"'A4-FinPerf RE'!F38","v":415901000},{"$f":"'A4-FinPerf RE'!G38","v":379101000},{"$f":"'A4-FinPerf RE'!H38","v":379101000},{"$f":"'A4-FinPerf RE'!I38","v":270293604.44},{"$f":"'A4-FinPerf RE'!J38","v":469076440},{"$f":"'A4-FinPerf RE'!K38","v":501682010},{"$f":"'A4-FinPerf RE'!L38","v":512086000}]
[{"$f":"'A4-FinPerf RE'!A39&\" & \"&'A4-FinPerf RE'!A40","v":"Transfers and subsidies - capital (monetary allocations) (National / Provincial Departmental Agencies, Households, Non-profit Institutions, Private Enterprises, Public Corporatons, Higher Educational Institutions) & Transfers and subsidies - capital (in-kind - all) "},{"$f":"'A4-FinPerf RE'!C39+'A4-FinPerf RE'!C40","v":696797.27},{"$f":"'A4-FinPerf RE'!D39+'A4-FinPerf RE'!D40","v":708098.46},{"$f":"'A4-FinPerf RE'!E39+'A4-FinPerf RE'!E40","v":1208023.31},{"$f":"'A4-FinPerf RE'!F39+'A4-FinPerf RE'!F40","v":0},{"$f":"'A4-FinPerf RE'!G39+'A4-FinPerf RE'!G40","v":0},{"$f":"'A4-FinPerf RE'!H39+'A4-FinPerf RE'!H40","v":0},{"$f":"'A4-FinPerf RE'!I39+'A4-FinPerf RE'!I40","v":1298415.56},{"$f":"'A4-FinPerf RE'!J39+'A4-FinPerf RE'!J40","v":0},{"$f":"'A4-FinPerf RE'!K39+'A4-FinPerf RE'!K40","v":0},{"$f":"'A4-FinPerf RE'!L39+'A4-FinPerf RE'!L40","v":0}]
[{"$f":"'A4-FinPerf RE'!A41","v":"Surplus/(Deficit) after capital transfers & contributions"},{"$f":"B19+SUM(B20:B21)","v":558474757.03999996},{"$f":"C19+SUM(C20:C21)","v":488965253.06999999},null,425415579,389534868,389534868,602745030.18000019,489439853,512117604,521738327]
[{"$f":"'A4-FinPerf RE'!A46","v":"Share of surplus/ (deficit) of associate"},{"$f":"'A4-FinPerf RE'!C46","v":0},{"$f":"'A4-FinPerf RE'!D46","v":0},{"$f":"'A4-FinPerf RE'!E46","v":0},{"$f":"'A4-FinPerf RE'!F46","v":0},{"$f":"'A4-FinPerf RE'!G46","v":0},{"$f":"'A4-FinPerf RE'!H46","v":0},{"$f":"'A4-FinPerf RE'!I46","v":0},{"$f":"'A4-FinPerf RE'!J46","v":0},{"$f":"'A4-FinPerf RE'!K46","v":0},{"$f":"'A4-FinPerf RE'!L46","v":0}]
[{"$f":"'A4-FinPerf RE'!A47","v":"Surplus/(Deficit) for the year"},{"$f":"B22+B23","v":558474757.03999996},{"$f":"C22+C23","v":488965253.06999999},0,425415579,389534868,389534868,602745030.18000019,489439853,512117604,521738327]
[]
["Capital expenditure & funds sources"]
["Capital expenditure",{"$f":"'A5-Capex'!C63","v":457492910.36999995},{"$f":"'A5-Capex'!D63","v":390198097.97000003},{"$f":"'A5-Capex'!E63","v":429537047.58999997},{"$f":"'A5-Capex'!F63","v":424001000},{"$f":"'A5-Capex'!G63","v":397397708},{"$f":"'A5-Capex'!H63","v":397397708},{"$f":"'A5-Capex'!I63","v":253043211.15000001},{"$f":"'A5-Capex'!J63","v":489206441},{"$f":"'A5-Capex'!K63","v":511713530},{"$f":"'A5-Capex'!L63","v":520355239}]
["Transfers recognised - capital",{"$f":"'A5-Capex'!C70","v":449103607.43000001},{"$f":"'A5-Capex'!D70","v":386878394.88},{"$f":"'A5-Capex'!E70","v":400327020.75999999},{"$f":"'A5-Capex'!F70","v":415901000},{"$f":"'A5-Capex'!G70","v":379617708},{"$f":"'A5-Capex'!H70","v":379617708},{"$f":"'A5-Capex'!I70","v":244894146.47},{"$f":"'A5-Capex'!J70","v":469076441},{"$f":"'A5-Capex'!K70","v":501682010},{"$f":"'A5-Capex'!L70","v":512086000}]
[]
[{"$f":"'A5-Capex'!A72","v":"Borrowing"},{"$f":"'A5-Capex'!C72","v":0},{"$f":"'A5-Capex'!D72","v":0},{"$f":"'A5-Capex'!E72","v":0},{"$f":"'A5-Capex'!F72","v":0},{"$f":"'A5-Capex'!G72","v":0},{"$f":"'A5-Capex'!H72","v":0},{"$f":"'A5-Capex'!I72","v":0},{"$f":"'A5-Capex'!J72","v":0},{"$f":"'A5-Capex'!K72","v":0},{"$f":"'A5-Capex'!L72","v":0}]
[{"$f":"'A5-Capex'!A73","v":"Internally generated funds"},{"$f":"'A5-Capex'!C73","v":8740883.9000000004},{"$f":"'A5-Capex'!D73","v":3319703.09},{"$f":"'A5-Capex'!E73","v":29210026.829999998},{"$f":"'A5-Capex'!F73","v":8100000},{"$f":"'A5-Capex'!G73","v":17780000},{"$f":"'A5-Capex'!H73","v":17780000},{"$f":"'A5-Capex'!I73","v":8149064.6799999997},{"$f":"'A5-Capex'!J73","v":20130000},{"$f":"'A5-Capex'!K73","v":10031520},{"$f":"'A5-Capex'!L73","v":8269239}]
["Total sources of capital funds",{"$f":"+B28+B30+B31","v":457844491.32999998},{"$f":"+C28+C30+C31","v":390198097.96999997},429537047.58999997,424001000,397397708,397397708,253043211.15000001,489206441,511713530,520355239]
[]
["Financial position"]
[{"$f":"'A6-FinPos'!A12","v":"Total current assets"},{"$f":"'A6-FinPos'!C12","v":242685877.02999997},{"$f":"'A6-FinPos'!D12","v":446919951.12},{"$f":"'A6-FinPos'!E12","v":310897376.14000005},{"$f":"'A6-FinPos'!F12","v":481347215.48000002},{"$f":"'A6-FinPos'!G12","v":709095175.48000002},{"$f":"'A6-FinPos'!H12","v":709095175.48000002},{"$f":"'A6-FinPos'!I12","v":499307715.22999996},{"$f":"'A6-FinPos'!J12","v":723908311.48000002},{"$f":"'A6-FinPos'!K12","v":945429581.48000002},{"$f":"'A6-FinPos'!L12","v":1166111806.48}]
[{"$f":"'A6-FinPos'!A24","v":"Total non current assets"},{"$f":"'A6-FinPos'!C24","v":3417918350.71},{"$f":"'A6-FinPos'!D24","v":3552763769.1699996},{"$f":"'A6-FinPos'!E24","v":3882179948.3299999},{"$f":"'A6-FinPos'!F24","v":3713221145},{"$f":"'A6-FinPos'!G24","v":3677517853},{"$f":"'A6-FinPos'!H24","v":3677517853},{"$f":"'A6-FinPos'!I24","v":4754814834.710001},{"$f":"'A6-FinPos'!J24","v":3772526586},{"$f":"'A6-FinPos'!K24","v":3795033675},{"$f":"'A6-FinPos'!L24","v":3819015492}]
[{"$f":"'A6-FinPos'!A34","v":"Total current liabilities"},{"$f":"'A6-FinPos'!C34","v":489443088.55000007},{"$f":"'A6-FinPos'!D34","v":518007939.69},{"$f":"'A6-FinPos'!E34","v":722210000.29000008},{"$f":"'A6-FinPos'!F34","v":224314762},{"$f":"'A6-FinPos'!G34","v":281317807},{"$f":"'A6-FinPos'!H34","v":281317807},{"$f":"'A6-FinPos'!I34","v":709016438.33000004},{"$f":"'A6-FinPos'!J34","v":278604277},{"$f":"'A6-FinPos'!K34","v":299062127},{"$f":"'A6-FinPos'!L34","v":441371157}]
[{"$f":"'A6-FinPos'!A39","v":"Total non current liabilities"},{"$f":"'A6-FinPos'!C39","v":53030087.079999998},{"$f":"'A6-FinPos'!D39","v":53508243.5},{"$f":"'A6-FinPos'!E39","v":62793987.859999999},{"$f":"'A6-FinPos'!F39","v":51802526},{"$f":"'A6-FinPos'!G39","v":51802526},{"$f":"'A6-FinPos'!H39","v":51802526},{"$f":"'A6-FinPos'!I39","v":62793987.859999999},{"$f":"'A6-FinPos'!J39","v":51802526},{"$f":"'A6-FinPos'!K39","v":51802526},{"$f":"'A6-FinPos'!L39","v":51802526}]
["Community wealth/Equity",{"$f":"'A6-FinPos'!C48","v":3344127597.8799996},{"$f":"'A6-FinPos'!D48","v":3565196820.5200005},{"$f":"'A6-FinPos'!E48","v":4147224907.8000002},{"$f":"'A6-FinPos'!F48","v":4010275759},{"$f":"'A6-FinPos'!G48","v":4020961505},{"$f":"'A6-FinPos'!H48","v":4020961505},{"$f":"'A6-FinPos'!I48","v":4551981402.0299997},{"$f":"'A6-FinPos'!J48","v":4085220273},{"$f":"'A6-FinPos'!K48","v":4247770374},{"$f":"'A6-FinPos'!L48","v":4198404444}]
[]
["Cash flows"]
["Net cash from (used) operating",{"$f":"'A7-CFlow'!C17","v":0},{"$f":"'A7-CFlow'!D17","v":0},{"$f":"'A7-CFlow'!E17","v":-686790700.60000002},{"$f":"'A7-CFlow'!F17","v":1073781701},{"$f":"'A7-CFlow'!G17","v":1647050386},{"$f":"'A7-CFlow'!H17","v":1647050386},{"$f":"'A7-CFlow'!I17","v":-1547554918.4400001},{"$f":"'A7-CFlow'!J17","v":550275334},{"$f":"'A7-CFlow'!K17","v":583703114},{"$f":"'A7-CFlow'!L17","v":616896300}]
["Net cash from (used) investing",{"$f":"'A7-CFlow'!C27","v":58868291.990000002},{"$f":"'A7-CFlow'!D27","v":-177160774.75999999},{"$f":"'A7-CFlow'!E27","v":-366227989.88},{"$f":"'A7-CFlow'!F27","v":-294947865.04000002},{"$f":"'A7-CFlow'!G27","v":-396988164},{"$f":"'A7-CFlow'!H27","v":-396988164},{"$f":"'A7-CFlow'!I27","v":391744786.85000002},{"$f":"'A7-CFlow'!J27","v":-488776420},{"$f":"'A7-CFlow'!K27","v":-511262008},{"$f":"'A7-CFlow'!L27","v":-519881141}]
["Net cash from (used) financing",{"$f":"'A7-CFlow'!C36","v":-4209179.54},{"$f":"'A7-CFlow'!D36","v":-162235.87999999989},{"$f":"'A7-CFlow'!E36","v":-252963.53000000026},{"$f":"'A7-CFlow'!F36","v":309616.95000000019},{"$f":"'A7-CFlow'!G36","v":0},{"$f":"'A7-CFlow'!H36","v":0},{"$f":"'A7-CFlow'!I36","v":-234385.09},{"$f":"'A7-CFlow'!J36","v":0},{"$f":"'A7-CFlow'!K36","v":0},{"$f":"'A7-CFlow'!L36","v":0}]
[{"$f":"LEFT('A7-CFlow'!A40,37)","v":"Cash/cash equivalents at the year end"},{"$f":"'A7-CFlow'!C40","v":72908217.379999995},{"$f":"'A7-CFlow'!D40","v":-165162216.95999998},{"$f":"'A7-CFlow'!E40","v":-872573909.24000001},{"$f":"'A7-CFlow'!F40","v":960321251.91000009},{"$f":"'A7-CFlow'!G40","v":1487464310},{"$f":"'A7-CFlow'!H40","v":1487464310},{"$f":"'A7-CFlow'!I40","v":-1156044516.6800001},{"$f":"'A7-CFlow'!J40","v":280203917},{"$f":"'A7-CFlow'!K40","v":352645023},{"$f":"'A7-CFlow'!L40","v":449660182}]
[]
["Cash backing/surplus reconciliation"]
[{"$f":"'A8-ResRecon'!A4","v":"Cash and investments available"},{"$f":"'A8-ResRecon'!C8","v":71029085.670000002},{"$f":"'A8-ResRecon'!D8","v":62405262.000000045},{"$f":"'A8-ResRecon'!E8","v":-174297036.10999995},{"$f":"'A8-ResRecon'!F8","v":236447215},{"$f":"'A8-ResRecon'!G8","v":310563840},{"$f":"'A8-ResRecon'!H8","v":310563840},{"$f":"'A8-ResRecon'!I8","v":541523466.47000003},{"$f":"'A8-ResRecon'!J8","v":271871583},{"$f":"'A8-ResRecon'!K8","v":344312689},{"$f":"'A8-ResRecon'!L8","v":432994514}]
[{"$f":"'A8-ResRecon'!A10","v":"Application of cash and investments"},{"$f":"'A8-ResRecon'!C18","v":446860706.45000005},{"$f":"'A8-ResRecon'!D18","v":460781707.93000001},{"$f":"'A8-ResRecon'!E18","v":338208166.21999997},{"$f":"'A8-ResRecon'!F18","v":118812000},{"$f":"'A8-ResRecon'!G18","v":143466045},{"$f":"'A8-ResRecon'!H18","v":143466045},{"$f":"'A8-ResRecon'!I18","v":1982026985.8400002},{"$f":"'A8-ResRecon'!J18","v":174952515},{"$f":"'A8-ResRecon'!K18","v":196816365},{"$f":"'A8-ResRecon'!L18","v":332882395}]
["Balance - surplus (shortfall)",{"$f":"B48-B49","v":-375831620.78000003},{"$f":"C48-C49","v":-398376445.92999995},-512505202.32999992,117635215,167097795,167097795,-1440503519.3700001,96919068,147496324,100112119]
[]
["Asset management"]
["Asset register summary (WDV)",{"$f":"'A9-Asset'!C165","v":2233021658.3699999},{"$f":"'A9-Asset'!D165","v":2388135370.8500004},{"$f":"'A9-Asset'!E165","v":2672393451.4400001},{"$f":"'A9-Asset'!F165","v":2587192745},{"$f":"'A9-Asset'!G165","v":2551489453},{"$f":"'A9-Asset'!H165","v":2551489453},{"$f":"'A9-Asset'!H165","v":2551489453},{"$f":"'A9-Asset'!I165","v":2646498186},{"$f":"'A9-Asset'!J165","v":2669005275},{"$f":"'A9-Asset'!K165","v":2692987092}]
[{"$f":"'A9-Asset'!A168","v":"Depreciation"},{"$f":"'A9-Asset'!C168","v":101039967.95999999},{"$f":"'A9-Asset'!D168","v":122229924.3},{"$f":"'A9-Asset'!E168","v":94331435.569999978},{"$f":"'A9-Asset'!F168","v":102514292},{"$f":"'A9-Asset'!G168","v":102554292},{"$f":"'A9-Asset'!H168","v":102554292},{"$f":"'A9-Asset'!H168","v":102554292},{"$f":"'A9-Asset'!I168","v":106884864},{"$f":"'A9-Asset'!J168","v":111671318},{"$f":"'A9-Asset'!K168","v":127396528}]
["Renewal and Upgrading of Existing Assets",{"$f":"'A9-Asset'!C37+'A9-Asset'!C69","v":5086255.0299999993},{"$f":"'A9-Asset'!D37+'A9-Asset'!D69","v":105683550.39},{"$f":"'A9-Asset'!E37+'A9-Asset'!E69","v":141676551.87},{"$f":"'A9-Asset'!F37+'A9-Asset'!F69","v":34927829},{"$f":"'A9-Asset'!G37+'A9-Asset'!G69","v":26662865},{"$f":"'A9-Asset'!H37+'A9-Asset'!H69","v":26662865},{"$f":"'A9-Asset'!H37+'A9-Asset'!H69","v":26662865},{"$f":"'A9-Asset'!I37+'A9-Asset'!I69","v":6493603},{"$f":"'A9-Asset'!J37+'A9-Asset'!J69","v":9320000},{"$f":"'A9-Asset'!K37+'A9-Asset'!K69","v":8549000}]
["Repairs and Maintenance",{"$f":"'A9-Asset'!C169","v":119285458.95999999},{"$f":"'A9-Asset'!D169","v":99305933.840000004},{"$f":"'A9-Asset'!E169","v":96569483.100000024},{"$f":"'A9-Asset'!F169","v":130173794},{"$f":"'A9-Asset'!G169","v":173120535},{"$f":"'A9-Asset'!H169","v":173120535},{"$f":"'A9-Asset'!H169","v":173120535},{"$f":"'A9-Asset'!I169","v":123052346},{"$f":"'A9-Asset'!J169","v":119571247},{"$f":"'A9-Asset'!K169","v":123573276}]
[]
["Free services"]
["Cost of Free Basic Services provided",{"$f":"'A10-SerDel'!C60","v":0},{"$f":"'A10-SerDel'!D60","v":0},{"$f":"'A10-SerDel'!E60","v":0},{"$f":"'A10-SerDel'!F60","v":0},{"$f":"'A10-SerDel'!G60","v":0},{"$f":"'A10-SerDel'!H60","v":0},{"$f":"'A10-SerDel'!I60","v":0},{"$f":"'A10-SerDel'!I60","v":0},{"$f":"'A10-SerDel'!J60","v":0},{"$f":"'A10-SerDel'!K60","v":0}]
["Revenue cost of free services provided",{"$f":"'A10-SerDel'!C79","v":0},{"$f":"'A10-SerDel'!D79","v":0},{"$f":"'A10-SerDel'!E79","v":0},{"$f":"'A10-SerDel'!F79","v":0},{"$f":"'A10-SerDel'!G79","v":0},{"$f":"'A10-SerDel'!H79","v":0},{"$f":"'A10-SerDel'!I79","v":0},{"$f":"'A10-SerDel'!I79","v":0},{"$f":"'A10-SerDel'!J79","v":0},{"$f":"'A10-SerDel'!K79","v":0}]
["Households below minimum service level"]
[{"$f":"'A10-SerDel'!A5","v":"Water:"},{"$f":"'A10-SerDel'!C14","v":0},{"$f":"'A10-SerDel'!D14","v":0},{"$f":"'A10-SerDel'!E14","v":0},{"$f":"'A10-SerDel'!F14","v":0},{"$f":"'A10-SerDel'!G14","v":0},{"$f":"'A10-SerDel'!H14","v":0},{"$f":"'A10-SerDel'!I14","v":50000},{"$f":"'A10-SerDel'!I14","v":50000},{"$f":"'A10-SerDel'!J14","v":15000},{"$f":"'A10-SerDel'!K14","v":0}]
[{"$f":"'A10-SerDel'!A16","v":"Sanitation/sewerage:"},{"$f":"'A10-SerDel'!C26","v":0},{"$f":"'A10-SerDel'!D26","v":0},{"$f":"'A10-SerDel'!E26","v":0},{"$f":"'A10-SerDel'!F26","v":0},{"$f":"'A10-SerDel'!G26","v":0},{"$f":"'A10-SerDel'!H26","v":0},{"$f":"'A10-SerDel'!I26","v":5000},{"$f":"'A10-SerDel'!I26","v":5000},{"$f":"'A10-SerDel'!J26","v":10000},{"$f":"'A10-SerDel'!K26","v":15000}]
[{"$f":"'A10-SerDel'!A28","v":"Energy:"},{"$f":"'A10-SerDel'!C35","v":0},{"$f":"'A10-SerDel'!D35","v":0},{"$f":"'A10-SerDel'!E35","v":0},{"$f":"'A10-SerDel'!F35","v":0},{"$f":"'A10-SerDel'!G35","v":0},{"$f":"'A10-SerDel'!H35","v":0},{"$f":"'A10-SerDel'!I35","v":0},{"$f":"'A10-SerDel'!I35","v":0},{"$f":"'A10-SerDel'!J35","v":0},{"$f":"'A10-SerDel'!K35","v":0}]
[{"$f":"'A10-SerDel'!A37","v":"Refuse:"},{"$f":"'A10-SerDel'!C45","v":0},{"$f":"'A10-SerDel'!D45","v":0},{"$f":"'A10-SerDel'!E45","v":0},{"$f":"'A10-SerDel'!F45","v":0},{"$f":"'A10-SerDel'!G45","v":0},{"$f":"'A10-SerDel'!H45","v":0},{"$f":"'A10-SerDel'!I45","v":0},{"$f":"'A10-SerDel'!I45","v":0},{"$f":"'A10-SerDel'!J45","v":0},{"$f":"'A10-SerDel'!K45","v":0}]

{"sheet":"A2-FinPerf SC","index":7,"n_rows":58,"n_cols":11,"rows_kept":58,"cut":false,"hidden":false,"merged":[[53,0,53,10],[1,5,1,7],[1,8,1,10]]}
[{"$f":"muni&\" - \"&Approve3","v":"DC47 Sekhukhune - Table A2 Budgeted Financial Performance (revenue and expenditure by functional classification)"}]
[{"$f":"\"Functional Classification \"&desc","v":"Functional Classification Description"},{"$f":"head27","v":"Ref"},{"$f":"head1b","v":"2018/19"},{"$f":"head1A","v":"2019/20"},{"$f":"Head1","v":"2020/21"},{"$f":"Head2","v":"Current Year 2021/22"},null,null,{"$f":"Head3","v":"2022/23 Medium Term Revenue & Expenditure Framework"}]
["R thousand",1,{"$f":"Head5","v":"Audited Outcome"},{"$f":"Head5","v":"Audited Outcome"},{"$f":"Head5","v":"Audited Outcome"},{"$f":"Head6","v":"Original Budget"},{"$f":"Head7","v":"Adjusted Budget"},{"$f":"Head8","v":"Full Year Forecast"},{"$f":"Head9","v":"Budget Year 2022/23"},{"$f":"Head10","v":"Budget Year +1 2023/24"},{"$f":"Head11","v":"Budget Year +2 2024/25"}]
["Revenue - Functional"]
["Governance and administration",null,{"$f":"SUM(C6:C8)","v":1446205265.8099999},{"$f":"SUM(D6:D8)","v":1427199588.8499999},1720899127.1800001,1528947877,1540462877,1540462877,1700025589,1801043912,1923022397]
["Executive and council",null,{"$f":"A2A!C6","v":-1810},{"$f":"A2A!D6","v":0},{"$f":"A2A!E6","v":0},{"$f":"A2A!F6","v":0},{"$f":"A2A!G6","v":0},{"$f":"A2A!H6","v":0},{"$f":"A2A!I6","v":0},{"$f":"A2A!J6","v":0},{"$f":"A2A!K6","v":0}]
["Finance and administration",null,{"$f":"A2A!C9","v":1446207075.8099999},{"$f":"A2A!D9","v":1427199588.8499999},{"$f":"A2A!E9","v":1720899127.1800001},{"$f":"A2A!F9","v":1528947877},{"$f":"A2A!G9","v":1540462877},{"$f":"A2A!H9","v":1540462877},{"$f":"A2A!I9","v":1700025589},{"$f":"A2A!J9","v":1801043912},{"$f":"A2A!K9","v":1923022397}]
["Internal audit",null,{"$f":"A2A!C23","v":0},{"$f":"A2A!D23","v":0},{"$f":"A2A!E23","v":0},{"$f":"A2A!F23","v":0},{"$f":"A2A!G23","v":0},{"$f":"A2A!H23","v":0},{"$f":"A2A!I23","v":0},{"$f":"A2A!J23","v":0},{"$f":"A2A!K23","v":0}]
["Community and public safety",null,{"$f":"SUM(C10:C14)","v":0},{"$f":"SUM(D10:D14)","v":0},0,0,0,0,0,0,0]
["Community and social services",null,{"$f":"A2A!C26","v":0},{"$f":"A2A!D26","v":0},{"$f":"A2A!E26","v":0},{"$f":"A2A!F26","v":0},{"$f":"A2A!G26","v":0},{"$f":"A2A!H26","v":0},{"$f":"A2A!I26","v":0},{"$f":"A2A!J26","v":0},{"$f":"A2A!K26","v":0}]
["Sport and recreation",null,{"$f":"A2A!C48","v":0},{"$f":"A2A!D48","v":0},{"$f":"A2A!E48","v":0},{"$f":"A2A!F48","v":0},{"$f":"A2A!G48","v":0},{"$f":"A2A!H48","v":0},{"$f":"A2A!I48","v":0},{"$f":"A2A!J48","v":0},{"$f":"A2A!K48","v":0}]
["Public safety",null,{"$f":"A2A!C54","v":0},{"$f":"A2A!D54","v":0},{"$f":"A2A!E54","v":0},{"$f":"A2A!F54","v":0},{"$f":"A2A!G54","v":0},{"$f":"A2A!H54","v":0},{"$f":"A2A!I54","v":0},{"$f":"A2A!J54","v":0},{"$f":"A2A!K54","v":0}]
["Housing",null,{"$f":"A2A!C63","v":0},{"$f":"A2A!D63","v":0},{"$f":"A2A!E63","v":0},{"$f":"A2A!F63","v":0},{"$f":"A2A!G63","v":0},{"$f":"A2A!H63","v":0},{"$f":"A2A!I63","v":0},{"$f":"A2A!J63","v":0},{"$f":"A2A!K63","v":0}]
["Health",null,{"$f":"A2A!C66","v":0},{"$f":"A2A!D66","v":0},{"$f":"A2A!E66","v":0},{"$f":"A2A!F66","v":0},{"$f":"A2A!G66","v":0},{"$f":"A2A!H66","v":0},{"$f":"A2A!I66","v":0},{"$f":"A2A!J66","v":0},{"$f":"A2A!K66","v":0}]
["Economic and environmental services",null,{"$f":"SUM(C16:C18)","v":0},{"$f":"SUM(D16:D18)","v":0},0,0,0,0,0,0,0]
["Planning and development",null,{"$f":"A2A!C75","v":0},{"$f":"A2A!D75","v":0},{"$f":"A2A!E75","v":0},{"$f":"A2A!F75","v":0},{"$f":"A2A!G75","v":0},{"$f":"A2A!H75","v":0},{"$f":"A2A!I75","v":0},{"$f":"A2A!J75","v":0},{"$f":"A2A!K75","v":0}]
["Road transport",null,{"$f":"A2A!C86","v":0},{"$f":"A2A!D86","v":0},{"$f":"A2A!E86","v":0},{"$f":"A2A!F86","v":0},{"$f":"A2A!G86","v":0},{"$f":"A2A!H86","v":0},{"$f":"A2A!I86","v":0},{"$f":"A2A!J86","v":0},{"$f":"A2A!K86","v":0}]
["Environmental protection",null,{"$f":"A2A!C91","v":0},{"$f":"A2A!D91","v":0},{"$f":"A2A!E91","v":0},{"$f":"A2A!F91","v":0},{"$f":"A2A!G91","v":0},{"$f":"A2A!H91","v":0},{"$f":"A2A!I91","v":0},{"$f":"A2A!J91","v":0},{"$f":"A2A!K91","v":0}]
["Trading services",null,{"$f":"SUM(C20:C23)","v":-2992.75},{"$f":"SUM(D20:D23)","v":0},0,0,0,0,0,{"$f":"SUM(J20:J23)","v":0},0]
["Energy sources",null,{"$f":"A2A!C99","v":0},{"$f":"A2A!D99","v":0},{"$f":"A2A!E99","v":0},{"$f":"A2A!F99","v":0},{"$f":"A2A!G99","v":0},{"$f":"A2A!H99","v":0},{"$f":"A2A!I99","v":0},{"$f":"A2A!J99","v":0},{"$f":"A2A!K99","v":0}]
["Water management",null,{"$f":"A2A!C103","v":-2992.75},{"$f":"A2A!D103","v":0},{"$f":"A2A!E103","v":0},{"$f":"A2A!F103","v":0},{"$f":"A2A!G103","v":0},{"$f":"A2A!H103","v":0},{"$f":"A2A!I103","v":0},{"$f":"A2A!J103","v":0},{"$f":"A2A!K103","v":0}]
["Waste water management",null,{"$f":"A2A!C107","v":0},{"$f":"A2A!D107","v":0},{"$f":"A2A!E107","v":0},{"$f":"A2A!F107","v":0},{"$f":"A2A!G107","v":0},{"$f":"A2A!H107","v":0},{"$f":"A2A!I107","v":0},{"$f":"A2A!J107","v":0},{"$f":"A2A!K107","v":0}]
["Waste management",null,{"$f":"A2A!C112","v":0},{"$f":"A2A!D112","v":0},{"$f":"A2A!E112","v":0},{"$f":"A2A!F112","v":0},{"$f":"A2A!G112","v":0},{"$f":"A2A!H112","v":0},{"$f":"A2A!I112","v":0},{"$f":"A2A!J112","v":0},{"$f":"A2A!K112","v":0}]
["Other",4,{"$f":"A2A!C117","v":0},{"$f":"A2A!D117","v":0},{"$f":"A2A!E117","v":0},{"$f":"A2A!F117","v":0},{"$f":"A2A!G117","v":0},{"$f":"A2A!H117","v":0},{"$f":"A2A!I117","v":0},{"$f":"A2A!J117","v":0},{"$f":"A2A!K117","v":0}]
[{"$f":"\"Total \"&A4","v":"Total Revenue - Functional"},2,{"$f":"C5+C9+C15+C19+C24","v":1446202273.0599999},{"$f":"D5+D9+D15+D19+D24","v":1427199588.8499999},{"$f":"E5+E9+E15+E19+E24","v":1720899127.1800001},1528947877,1540462877,1540462877,{"$f":"I5+I9+I15+I19+I24","v":1700025589},1801043912,1923022397]
[]
["Expenditure - Functional"]
["Governance and administration",null,{"$f":"SUM(C29:C31)","v":510187363.99999994},{"$f":"SUM(D29:D31)","v":466709161.48000002},427095829.88999999,551834846,568986140,568986140,612157778,677780528,751082547]
["Executive and council",null,{"$f":"A2A!C128","v":151008963.94999999},{"$f":"A2A!D128","v":159844921.74000001},{"$f":"A2A!E128","v":149418498.25},{"$f":"A2A!F128","v":154805971},{"$f":"A2A!G128","v":163349608},{"$f":"A2A!H128","v":163349608},{"$f":"A2A!I128","v":179833377},{"$f":"A2A!J128","v":201748347},{"$f":"A2A!K128","v":223570974}]
["Finance and administration",null,{"$f":"A2A!C131","v":359178400.04999995},{"$f":"A2A!D131","v":306864239.74000001},{"$f":"A2A!E131","v":277677331.63999999},{"$f":"A2A!F131","v":397028875},{"$f":"A2A!G131","v":405636532},{"$f":"A2A!H131","v":405636532},{"$f":"A2A!I131","v":432324401},{"$f":"A2A!J131","v":476032181},{"$f":"A2A!K131","v":527511573}]
["Internal audit",null,{"$f":"A2A!C145","v":0},{"$f":"A2A!D145","v":0},{"$f":"A2A!E145","v":0},{"$f":"A2A!F145","v":0},{"$f":"A2A!G145","v":0},{"$f":"A2A!H145","v":0},{"$f":"A2A!I145","v":0},{"$f":"A2A!J145","v":0},{"$f":"A2A!K145","v":0}]
["Community and public safety",null,{"$f":"SUM(C33:C37)","v":0},{"$f":"SUM(D33:D37)","v":0},0,0,0,0,0,0,0]
["Community and social services",null,{"$f":"A2A!C148","v":0},{"$f":"A2A!D148","v":0},{"$f":"A2A!E148","v":0},{"$f":"A2A!F148","v":0},{"$f":"A2A!G148","v":0},{"$f":"A2A!H148","v":0},{"$f":"A2A!I148","v":0},{"$f":"A2A!J148","v":0},{"$f":"A2A!K148","v":0}]
["Sport and recreation",null,{"$f":"A2A!C170","v":0},{"$f":"A2A!D170","v":0},{"$f":"A2A!E170","v":0},{"$f":"A2A!F170","v":0},{"$f":"A2A!G170","v":0},{"$f":"A2A!H170","v":0},{"$f":"A2A!I170","v":0},{"$f":"A2A!J170","v":0},{"$f":"A2A!K170","v":0}]
["Public safety",null,{"$f":"A2A!C176","v":0},{"$f":"A2A!D176","v":0},{"$f":"A2A!E176","v":0},{"$f":"A2A!F176","v":0},{"$f":"A2A!G176","v":0},{"$f":"A2A!H176","v":0},{"$f":"A2A!I176","v":0},{"$f":"A2A!J176","v":0},{"$f":"A2A!K176","v":0}]
["Housing",null,{"$f":"A2A!C185","v":0},{"$f":"A2A!D185","v":0},{"$f":"A2A!E185","v":0},{"$f":"A2A!F185","v":0},{"$f":"A2A!G185","v":0},{"$f":"A2A!H185","v":0},{"$f":"A2A!I185","v":0},{"$f":"A2A!J185","v":0},{"$f":"A2A!K185","v":0}]
["Health",null,{"$f":"A2A!C188","v":0},{"$f":"A2A!D188","v":0},{"$f":"A2A!E188","v":0},{"$f":"A2A!F188","v":0},{"$f":"A2A!G188","v":0},{"$f":"A2A!H188","v":0},{"$f":"A2A!I188","v":0},{"$f":"A2A!J188","v":0},{"$f":"A2A!K188","v":0}]
["Economic and environmental services",null,{"$f":"SUM(C39:C41)","v":14281721.09},{"$f":"SUM(D39:D41)","v":11037768},12664245.74,21172858,21499194,21499194,26917179,34066257,38973305]
["Planning and development",null,{"$f":"A2A!C197","v":14281721.09},{"$f":"A2A!D197","v":11037768},{"$f":"A2A!E197","v":12664245.74},{"$f":"A2A!F197","v":21172858},{"$f":"A2A!G197","v":21499194},{"$f":"A2A!H197","v":21499194},{"$f":"A2A!I197","v":26917179},{"$f":"A2A!J197","v":34066257},{"$f":"A2A!K197","v":38973305}]
["Road transport",null,{"$f":"A2A!C208","v":0},{"$f":"A2A!D208","v":0},{"$f":"A2A!E208","v":0},{"$f":"A2A!F208","v":0},{"$f":"A2A!G208","v":0},{"$f":"A2A!H208","v":0},{"$f":"A2A!I208","v":0},{"$f":"A2A!J208","v":0},{"$f":"A2A!K208","v":0}]
["Environmental protection",null,{"$f":"A2A!C213","v":0},{"$f":"A2A!D213","v":0},{"$f":"A2A!E213","v":0},{"$f":"A2A!F213","v":0},{"$f":"A2A!G213","v":0},{"$f":"A2A!H213","v":0},{"$f":"A2A!I213","v":0},{"$f":"A2A!J213","v":0},{"$f":"A2A!K213","v":0}]
["Trading services",null,{"$f":"SUM(C43:C46)","v":589296380.20999992},{"$f":"SUM(D43:D46)","v":580368119.86000001},676813234.02999997,{"$f":"SUM(F43:F46)","v":530524594},565929576,565929576,571510778,577079534,{"$f":"SUM(K43:K46)","v":611228228}]
["Energy sources",null,{"$f":"A2A!C221","v":0},{"$f":"A2A!D221","v":0},{"$f":"A2A!E221","v":0},{"$f":"A2A!F221","v":0},{"$f":"A2A!G221","v":0},{"$f":"A2A!H221","v":0},{"$f":"A2A!I221","v":0},{"$f":"A2A!J221","v":0},{"$f":"A2A!K221","v":0}]
["Water management",null,{"$f":"A2A!C225","v":577510375.79999995},{"$f":"A2A!D225","v":562013677.83000004},{"$f":"A2A!E225","v":658060684.79999995},{"$f":"A2A!F225","v":530524594},{"$f":"A2A!G225","v":564455776},{"$f":"A2A!H225","v":564455776},{"$f":"A2A!I225","v":569958867},{"$f":"A2A!J225","v":575445370},{"$f":"A2A!K225","v":609507455}]
["Waste water management",null,{"$f":"A2A!C229","v":11786004.41},{"$f":"A2A!D229","v":18354442.030000001},{"$f":"A2A!E229","v":18752549.23},{"$f":"A2A!F229","v":0},{"$f":"A2A!G229","v":1473800},{"$f":"A2A!H229","v":1473800},{"$f":"A2A!I229","v":1551911},{"$f":"A2A!J229","v":1634164},{"$f":"A2A!K229","v":1720773}]
["Waste management",null,{"$f":"A2A!C234","v":0},{"$f":"A2A!D234","v":0},{"$f":"A2A!E234","v":0},{"$f":"A2A!F234","v":0},{"$f":"A2A!G234","v":0},{"$f":"A2A!H234","v":0},{"$f":"A2A!I234","v":0},{"$f":"A2A!J234","v":0},{"$f":"A2A!K234","v":0}]
["Other",4,{"$f":"A2A!C239","v":0},{"$f":"A2A!D239","v":0},{"$f":"A2A!E239","v":0},{"$f":"A2A!F239","v":0},{"$f":"A2A!G239","v":0},{"$f":"A2A!H239","v":0},{"$f":"A2A!I239","v":0},{"$f":"A2A!J239","v":0},{"$f":"A2A!K239","v":0}]
[{"$f":"\"Total \"&A27","v":"Total Expenditure - Functional"},3,{"$f":"C28+C32+C38+C42+C47","v":1113765465.2999997},{"$f":"D28+D32+D38+D42+D47","v":1058115049.34},{"$f":"E28+E32+E38+E42+E47","v":1116573309.6599998},{"$f":"F28+F32+F38+F42+F47","v":1103532298},1156414910,1156414910,1210585735,1288926319,1401284080]
[{"$f":"result","v":"Surplus/(Deficit) for the year"},null,{"$f":"C25-C48","v":332436807.76000023},{"$f":"D25-D48","v":369084539.50999987},604325817.52000022,425415579,384047967,384047967,489439854,512117593,521738317]
[{"$f":"head27a","v":"References"}]
["1. Government Finance Statistics Functions and Sub-functions are standardised to assist the compilation of national and international accounts for comparison purposes"]
["2. Total Revenue by functional classification must reconcile to Total Operating Revenue shown in Budgeted Financial Performance (revenue and expenditure)"]
["3. Total Expenditure by Functional Classification must reconcile to Total Operating Expenditure shown in Budgeted Financial Performance (revenue and expenditure)"]
["4. All amounts must be classified under a functional classification . The GFS function 'Other' is only for Abbatoirs, Air Transport,  Forestry, Licensing and Regulation, Markets and Tourism - and if used must be supported by footnotes. Nothing else may be placed under 'Other'. Assign associate share to relevant classification."]
[]
[]
["check oprev balance",null,{"$f":"C25-'A4-FinPerf RE'!C59","v":0},{"$f":"D25-'A4-FinPerf RE'!D59","v":0},{"$f":"E25-'A4-FinPerf RE'!E59","v":0},{"$f":"F25-'A4-FinPerf RE'!F59","v":0},{"$f":"G25-'A4-FinPerf RE'!G59","v":0},{"$f":"H25-'A4-FinPerf RE'!H59","v":0},{"$f":"I25-'A4-FinPerf RE'!J59","v":0},{"$f":"J25-'A4-FinPerf RE'!K59","v":0},{"$f":"K25-'A4-FinPerf RE'!L59","v":0}]
["check opexp balance",null,{"$f":"C48-'A4-FinPerf RE'!C35","v":226037949.27999973},{"$f":"D48-'A4-FinPerf RE'!D35","v":119880713.56000006},{"$f":"E48-'A4-FinPerf RE'!E35","v":194692421.31999993},{"$f":"F48-'A4-FinPerf RE'!F35","v":0},{"$f":"G48-'A4-FinPerf RE'!G35","v":5486901},{"$f":"H48-'A4-FinPerf RE'!H35","v":5486901},{"$f":"I48-'A4-FinPerf RE'!J35","v":-1},{"$f":"J48-'A4-FinPerf RE'!K35","v":11},{"$f":"K48-'A4-FinPerf RE'!L35","v":10}]

{"sheet":"A2A","index":8,"n_rows":256,"n_cols":11,"rows_kept":256,"cut":false,"hidden":false,"merged":[[1,5,1,7],[1,8,1,10],[251,0,251,10]]}
[{"$f":"muni&\" - \"&Approve3","v":"DC47 Sekhukhune - Table A2 Budgeted Financial Performance (revenue and expenditure by functional classification)"}]
[{"$f":"\"Functional Classification \"&desc","v":"Functional Classification Description"},{"$f":"head27","v":"Ref"},{"$f":"head1b","v":"2018/19"},{"$f":"head1A","v":"2019/20"},{"$f":"Head1","v":"2020/21"},{"$f":"Head2","v":"Current Year 2021/22"},null,null,{"$f":"Head3","v":"2022/23 Medium Term Revenue & Expenditure Framework"}]
["R thousand",1,{"$f":"Head5","v":"Audited Outcome"},{"$f":"Head5","v":"Audited Outcome"},{"$f":"Head5","v":"Audited Outcome"},{"$f":"Head6","v":"Original Budget"},{"$f":"Head7","v":"Adjusted Budget"},{"$f":"Head8","v":"Full Year Forecast"},{"$f":"Head9","v":"Budget Year 2022/23"},{"$f":"Head10","v":"Budget Year +1 2023/24"},{"$f":"Head11","v":"Budget Year +2 2024/25"}]
["Revenue - Functional"]
["Municipal governance and administration",null,{"$f":"C6+C9+C23","v":1446205265.8099999},1427199588.8499999,1720899127.1800001,1528947877,1540462877,1540462877,1700025589,1801043912,1923022397]
["Executive and council",null,{"$f":"SUM(C7:C8)","v":-1810},{"$f":"SUM(D7:D8)","v":0},0,0,0,0,0,0,0]
["Mayor and Council",null,0,0,0,0,0,0,0,0,0]
["Municipal Manager, Town Secretary and Chief Executive",null,-1810,0,0,0,0,0,0,0,0]
["Finance and administration",null,{"$f":"SUM(C10:C22)","v":1446207075.8099999},1427199588.8499999,1720899127.1800001,1528947877,1540462877,1540462877,1700025589,1801043912,1923022397]
["Administrative and Corporate Support",null,-16272,0,0,0,0,0,0,0,0]
["Asset Management"]
["Finance",null,1446223347.8099999,1427199588.8499999,1720899127.1800001,1528947877,1540462877,1540462877,1700025589,1801043912,1923022397]
["Fleet Management"]
["Human Resources"]
["Information Technology"]
["Legal Services"]
["Marketing, Customer Relations, Publicity and Media Co-ordination"]
["Property Services"]
["Risk Management"]
["Security Services"]
["Supply Chain Management "]
["Valuation Service"]
["Internal audit",null,{"$f":"SUM(C24:C24)","v":0},0,0,0,0,0,0,0,0]
["Governance Function"]
["Community and public safety",null,{"$f":"C26+C48+C54+C63+C66","v":0},0,0,0,0,0,0,0,0]
["Community and social services",null,{"$f":"SUM(C27:C47)","v":0},{"$f":"SUM(D27:D47)","v":0},0,0,0,0,0,0,0]
["Aged Care"]
["Agricultural"]
["Animal Care and Diseases"]
["Cemeteries, Funeral Parlours and Crematoriums"]
["Child Care Facilities"]
["Community Halls and Facilities"]
["Consumer Protection"]
["Cultural Matters"]
["Disaster Management"]
["Education"]
["Indigenous and Customary Law"]
["Industrial Promotion"]
["Language Policy"]
["Libraries and Archives"]
["Literacy Programmes"]
["Media Services"]
["Museums and Art Galleries"]
["Population Development"]
["Provincial Cultural Matters"]
["Theatres"]
["Zoo's"]
["Sport and recreation",null,{"$f":"SUM(C49:C53)","v":0},{"$f":"SUM(D49:D53)","v":0},0,0,0,0,0,0,0]
["Beaches and Jetties "]
["Casinos, Racing, Gambling, Wagering"]
["Community Parks (including Nurseries)"]
["Recreational Facilities"]
["Sports Grounds and Stadiums"]
["Public safety",null,{"$f":"SUM(C55:C62)","v":0},0,0,0,0,0,0,0,0]
["Civil Defence"]
["Cleansing"]
["Control of Public Nuisances"]
["Fencing and Fences "]
["Fire Fighting and Protection"]
["Licensing and Control of Animals"]
["Police Forces, Traffic and Street Parking Control"]
["Pounds"]
["Housing",null,{"$f":"SUM(C64:C65)","v":0},{"$f":"SUM(D64:D65)","v":0},0,0,0,0,0,0,0]
["Housing"]
["Informal Settlements"]
["Health",null,{"$f":"SUM(C67:C73)","v":0},{"$f":"SUM(D67:D73)","v":0},0,0,0,0,0,0,0]
["Ambulance"]
["Health Services"]
["Laboratory Services"]
["Food Control"]
["Health Surveillance and Prevention of Communicable Diseases including immunizations"]
["Vector Control"]
["Chemical Safety"]
["Economic and environmental services",null,{"$f":"C75+C86+C91","v":0},0,0,0,0,0,0,0,0]
["Planning and development",null,{"$f":"SUM(C76:C85)","v":0},{"$f":"SUM(D76:D85)","v":0},0,0,0,0,0,0,0]
["Billboards"]
["Corporate Wide Strategic Planning (IDPs, LEDs)"]
["Central City Improvement District"]
["Development Facilitation"]
["Economic Development/Planning",null,0,0,0,0,0,0,0,0,0]
["Regional Planning and Development"]
["Town Planning, Building Regulations and Enforcement, and City Engineer"]
["Project Management Unit"]
["Provincial Planning"]
["Support to Local Municipalities",null,0,0,0,0,0,0,0,0,0]
["Road transport",null,{"$f":"SUM(C87:C90)","v":0},0,0,0,0,0,0,0,0]
["Public Transport"]
["Road and Traffic Regulation"]
["Roads"]
["Taxi Ranks"]
["Environmental protection",null,{"$f":"SUM(C92:C97)","v":0},{"$f":"SUM(D92:D97)","v":0},0,0,0,0,0,0,0]
["Biodiversity and Landscape"]
["Coastal Protection"]
["Indigenous Forests"]
["Nature Conservation"]
["Pollution Control"]
["Soil Conservation"]
["Trading services",null,{"$f":"C99+C103+C107+C112","v":-2992.75},{"$f":"D99+D103+D107+D112","v":0},0,0,0,0,0,0,{"$f":"K99+K103+K107+K112","v":0}]
["Energy sources",null,{"$f":"SUM(C100:C102)","v":0},{"$f":"SUM(D100:D102)","v":0},0,0,0,0,0,0,0]
["Electricity "]
["Street Lighting and Signal Systems"]
["Nonelectric Energy"]
["Water management",null,{"$f":"SUM(C104:C106)","v":-2992.75},{"$f":"SUM(D104:D106)","v":0},0,0,0,0,0,0,0]
["Water Treatment"]
["Water Distribution",null,-2992.75,0,0,0,0,0,0,0,0]
["Water Storage"]
["Waste water management",null,{"$f":"SUM(C108:C111)","v":0},{"$f":"SUM(D108:D111)","v":0},0,0,0,0,0,0,0]
["Public Toilets"]
["Sewerage"]
["Storm Water Management"]
["Waste Water Treatment",null,0,0,0,0,0,0,0,0,0]
["Waste management",null,{"$f":"SUM(C113:C116)","v":0},{"$f":"SUM(D113:D116)","v":0},0,0,0,0,0,0,0]
["Recycling"]
["Solid Waste Disposal (Landfill Sites)"]
["Solid Waste Removal"]
["Street Cleaning"]
["Other",null,{"$f":"SUM(C118:C123)","v":0},{"$f":"SUM(D118:D123)","v":0},0,0,0,0,0,0,0]
["Abattoirs"]
["Air Transport"]
["Forestry "]
["Licensing and Regulation"]
["Markets"]
["Tourism"]
[{"$f":"\"Total \"&A4","v":"Total Revenue - Functional"},2,{"$f":"C5+C25+C74+C98+C117","v":1446202273.0599999},1427199588.8499999,1720899127.1800001,1528947877,1540462877,1540462877,1700025589,1801043912,1923022397]
[]
["Expenditure - Functional"]
[{"$f":"A5","v":"Municipal governance and administration"},null,{"$f":"C128+C131+C145","v":510187363.99999994},466709161.48000002,427095829.88999999,551834846,568986140,568986140,612157778,677780528,751082547]
["Executive and council",null,{"$f":"SUM(C129:C130)","v":151008963.94999999},159844921.74000001,149418498.25,154805971,163349608,163349608,179833377,201748347,223570974]
["Mayor and Council",null,68485195.689999998,66393754.359999999,68269937.930000007,81026062,83301497,83301497,91170679,92851922,97384293]
["Municipal Manager, Town Secretary and Chief Executive",null,82523768.260000005,93451167.379999995,81148560.319999993,73779909,80048111,80048111,88662698,108896425,126186681]
["Finance and administration",null,{"$f":"SUM(C132:C144)","v":359178400.04999995},306864239.74000001,277677331.63999999,397028875,405636532,405636532,432324401,476032181,527511573]
["Administrative and Corporate Support",null,179674761.59999999,193735053.63999999,203533947.24000001,196373730,210768825,210768825,225453097,243948744,274062000]
["Asset Management"]
["Finance",null,179503638.44999999,113129186.09999999,74143384.400000006,200655145,194867707,194867707,206871304,232083437,253449573]
["Fleet Management"]
["Human Resources"]
["Information Technology"]
["Legal Services"]
["Marketing, Customer Relations, Publicity and Media Co-ordination"]
["Property Services"]
["Risk Management"]
["Security Services"]
["Supply Chain Management "]
["Valuation Service"]
["Internal audit",null,{"$f":"SUM(C146:C146)","v":0},0,0,0,0,0,0,0,0]
["Governance Function"]
["Community and public safety",null,{"$f":"C148+C170+C176+C185+C188","v":0},0,0,0,0,0,0,0,0]
["Community and social services",null,{"$f":"SUM(C149:C169)","v":0},{"$f":"SUM(D149:D169)","v":0},0,0,0,0,0,0,0]
["Aged Care"]
["Agricultural"]
["Animal Care and Diseases"]
["Cemeteries, Funeral Parlours and Crematoriums"]
["Child Care Facilities"]
["Community Halls and Facilities"]
["Consumer Protection"]
["Cultural Matters"]
["Disaster Management"]
["Education"]
[{"$f":"A37","v":"Indigenous and Customary Law"}]
["Industrial Promotion"]
["Language Policy"]
["Libraries and Archives"]
["Literacy Programmes"]
["Media Services"]
["Museums and Art Galleries"]
["Population Development"]
["Provincial Cultural Matters"]
["Theatres"]
["Zoo's"]
["Sport and recreation",null,{"$f":"SUM(C171:C175)","v":0},0,0,0,0,0,0,0,0]
["Beaches and Jetties "]
["Casinos, Racing, Gambling, Wagering"]
["Community Parks (including Nurseries)"]
["Recreational Facilities"]
["Sports Grounds and Stadiums"]
["Public safety",null,{"$f":"SUM(C177:C184)","v":0},0,0,0,0,0,0,0,0]
["Civil Defence"]
["Cleansing"]
[{"$f":"A57","v":"Control of Public Nuisances"}]
["Fencing and Fences "]
["Fire Fighting and Protection"]
["Licensing and Control of Animals"]
["Police Forces, Traffic and Street Parking Control"]
["Pounds"]
[{"$f":"A63","v":"Housing"},null,{"$f":"SUM(C186:C187)","v":0},0,0,0,0,0,0,0,0]
["Housing"]
["Informal Settlements"]
["Health",null,{"$f":"SUM(C189:C195)","v":0},{"$f":"SUM(D189:D195)","v":0},0,0,0,0,0,0,0]
["Ambulance"]
["Health Services"]
["Laboratory Services"]
["Food Control"]
["Health Surveillance and Prevention of Communicable Diseases including immunizations"]
["Vector Control"]
["Chemical Safety"]
["Economic and environmental services",null,{"$f":"C197+C208+C213","v":14281721.09},11037768,12664245.74,21172858,21499194,21499194,26917179,34066257,38973305]
["Planning and development",null,{"$f":"SUM(C198:C207)","v":14281721.09},{"$f":"SUM(D198:D207)","v":11037768},12664245.74,21172858,21499194,21499194,26917179,34066257,38973305]
["Billboards"]
["Corporate Wide Strategic Planning (IDPs, LEDs)"]
["Central City Improvement District"]
["Development Facilitation"]
["Economic Development/Planning",null,10582670.74,7540558.7999999998,10107947.710000001,16635058,16011395,16011395,19209120,22557537,23662589]
["Regional Planning and Development"]
["Town Planning, Building Regulations and Enforcement, and City Engineer"]
["Project Management Unit"]
["Provincial Planning"]
["Support to Local Municipalities",null,3699050.35,3497209.2,2556298.0299999998,4537800,5487799,5487799,7708059,11508720,15310716]
["Road transport",null,{"$f":"SUM(C209:C212)","v":0},0,0,0,0,0,0,0,0]
["Public Transport"]
["Road and Traffic Regulation"]
["Roads"]
["Taxi Ranks"]
["Environmental protection",null,{"$f":"SUM(C214:C219)","v":0},{"$f":"SUM(D214:D219)","v":0},0,0,0,0,0,0,0]
["Biodiversity and Landscape"]
["Coastal Protection"]
["Indigenous Forests"]
[{"$f":"A95","v":"Nature Conservation"}]
["Pollution Control"]
["Soil Conservation"]
["Trading services",null,{"$f":"C221+C225+C229+C234","v":589296380.20999992},{"$f":"D221+D225+D229+D234","v":580368119.86000001},676813234.02999997,530524594,565929576,565929576,571510778,577079534,611228228]
["Energy sources",null,{"$f":"SUM(C222:C224)","v":0},{"$f":"SUM(D222:D224)","v":0},0,0,0,0,0,0,0]
["Electricity ",null,0,0,0,0,0,0,0,0,0]
["Street Lighting and Signal Systems"]
["Nonelectric Energy"]
["Water management",null,{"$f":"SUM(C226:C228)","v":577510375.79999995},{"$f":"SUM(D226:D228)","v":562013677.83000004},658060684.79999995,530524594,564455776,564455776,569958867,575445370,609507455]
["Water Treatment"]
["Water Distribution",null,577510375.79999995,562013677.83000004,658060684.79999995,530524594,564455776,564455776,569958867,575445370,609507455]
["Water Storage"]
["Waste water management",null,{"$f":"SUM(C230:C233)","v":11786004.41},{"$f":"SUM(D230:D233)","v":18354442.030000001},18752549.23,0,1473800,1473800,1551911,1634164,1720773]
["Public Toilets"]
["Sewerage"]
["Storm Water Management"]
["Waste Water Treatment",null,11786004.41,18354442.030000001,18752549.23,0,1473800,1473800,1551911,1634164,1720773]
["Waste management",null,{"$f":"SUM(C235:C238)","v":0},{"$f":"SUM(D235:D238)","v":0},0,0,0,0,0,0,0]
["Recycling"]
["Solid Waste Disposal (Landfill Sites)"]
["Solid Waste Removal"]
["Street Cleaning"]
["Other",null,{"$f":"SUM(C240:C245)","v":0},{"$f":"SUM(D240:D245)","v":0},0,0,0,0,0,0,0]
["Abattoirs"]
["Air Transport"]
["Forestry "]
["Licensing and Regulation"]
["Markets"]
["Tourism"]
[{"$f":"\"Total \"&A126","v":"Total Expenditure - Functional"},3,{"$f":"C127+C147+C196+C220+C239","v":1113765465.2999997},1058115049.34,1116573309.6599998,1103532298,1156414910,1156414910,1210585735,1288926319,1401284080]
[{"$f":"result","v":"Surplus/(Deficit) for the year"},null,{"$f":"C124-C246","v":332436807.76000023},369084539.50999987,604325817.52000022,425415579,384047967,384047967,489439854,512117593,521738317]
[{"$f":"head27a","v":"References"}]
["1. Government Finance Statistics Functions and Sub-functions are standardised to assist national and international accounts and comparison"]
["2. Total Revenue by Functional Classification must reconcile to total operating revenue shown in Financial Performance (revenue and expenditure)"]
["3. Total Expenditure by Functional Classification must reconcile to total operating expenditure shown in Financial Performance (revenue and expenditure)"]
["4. All amounts must be classified under a Functional classification. The GFS function 'Other' is only for Abbatoirs, Air Transport,  Forestry, Licensing and Regulation, Markets and Tourism - and if used must be supported by footnotes. Nothing else may be placed under 'Other'. Assign associate share to relevant classification"]
[]
[]
["check oprev balance",null,{"$f":"C124-'A4-FinPerf RE'!C59","v":0},{"$f":"D124-'A4-FinPerf RE'!D59","v":0},{"$f":"E124-'A4-FinPerf RE'!E59","v":0},{"$f":"F124-'A4-FinPerf RE'!F59","v":0},{"$f":"G124-'A4-FinPerf RE'!G59","v":0},{"$f":"H124-'A4-FinPerf RE'!H59","v":0},{"$f":"I124-'A4-FinPerf RE'!J59","v":0},{"$f":"J124-'A4-FinPerf RE'!K59","v":0},{"$f":"K124-'A4-FinPerf RE'!L59","v":0}]
["check opexp balance",null,{"$f":"C246-'A4-FinPerf RE'!C35","v":226037949.27999973},{"$f":"D246-'A4-FinPerf RE'!D35","v":119880713.56000006},{"$f":"E246-'A4-FinPerf RE'!E35","v":194692421.31999993},{"$f":"F246-'A4-FinPerf RE'!F35","v":0},{"$f":"G246-'A4-FinPerf RE'!G35","v":5486901},{"$f":"H246-'A4-FinPerf RE'!H35","v":5486901},{"$f":"I246-'A4-FinPerf RE'!J35","v":-1},{"$f":"J246-'A4-FinPerf RE'!K35","v":11},{"$f":"K246-'A4-FinPerf RE'!L35","v":10}]

{"sheet":"A3-FinPerf V","index":9,"n_rows":45,"n_cols":23,"rows_kept":45,"cut":false,"hidden":false,"merged":[[1,5,1,7],[1,8,1,10],[1,11,1,22]]}
[{"$f":"muni&\" - \"&Approve2","v":"DC47 Sekhukhune - Table A3 Budgeted Financial Performance (revenue and expenditure by municipal vote)"}]
[{"$f":"Vdesc","v":"Vote Description"},{"$f":"head27","v":"Ref"},{"$f":"head1b","v":"2018/19"},{"$f":"head1A","v":"2019/20"},{"$f":"Head1","v":"2020/21"},{"$f":"Head2","v":"Current Year 2021/22"},null,null,{"$f":"Head3","v":"2022/23 Medium Term Revenue & Expenditure Framework"},null,null,{"$f":"Head4","v":"LTFS"}]
["R thousand",null,{"$f":"Head5","v":"Audited Outcome"},{"$f":"Head5","v":"Audited Outcome"},{"$f":"Head5","v":"Audited Outcome"},{"$f":"Head6","v":"Original Budget"},{"$f":"Head7","v":"Adjusted Budget"},{"$f":"Head8","v":"Full Year Forecast"},{"$f":"Head9","v":"Budget Year 2022/23"},{"$f":"Head10","v":"Budget Year +1 2023/24"},{"$f":"Head11","v":"Budget Year +2 2024/25"},{"$f":"Head12","v":"Forecast 2025/26"},{"$f":"Head13","v":"Forecast 2026/27"},{"$f":"Head14","v":"Forecast 2027/28"},{"$f":"Head15","v":"Forecast 2028/29"},{"$f":"Head16","v":"Forecast 2029/30"},{"$f":"Head17","v":"Forecast 2030/31"},{"$f":"Head18","v":"Forecast 2031/32"},{"$f":"Head19","v":"Forecast 2032/33"},{"$f":"Head20","v":"Forecast 2033/34"},{"$f":"Head21","v":"Forecast 2034/35"},{"$f":"Head22","v":"Forecast 2035/36"},{"$f":"Head23","v":"Forecast 2036/37"}]
["Revenue by Vote",1]
[{"$f":"A3A!A5","v":"Vote 01 - Speakers Office"},null,{"$f":"A3A!C5","v":0},{"$f":"A3A!D5","v":0},{"$f":"A3A!E5","v":0},{"$f":"A3A!F5","v":0},{"$f":"A3A!G5","v":0},{"$f":"A3A!H5","v":0},{"$f":"A3A!I5","v":0},{"$f":"A3A!J5","v":0},{"$f":"A3A!K5","v":0}]
[{"$f":"A3A!A8","v":"Vote 02 - Executive Mayor's Office"},null,{"$f":"A3A!C8","v":0},{"$f":"A3A!D8","v":0},{"$f":"A3A!E8","v":0},{"$f":"A3A!F8","v":0},{"$f":"A3A!G8","v":0},{"$f":"A3A!H8","v":0},{"$f":"A3A!I8","v":0},{"$f":"A3A!J8","v":0},{"$f":"A3A!K8","v":0}]
[{"$f":"A3A!A10","v":"Vote 03 - Municipal Manager  Office"},null,{"$f":"A3A!C10","v":-1810},{"$f":"A3A!D10","v":0},{"$f":"A3A!E10","v":0},{"$f":"A3A!F10","v":0},{"$f":"A3A!G10","v":0},{"$f":"A3A!H10","v":0},{"$f":"A3A!I10","v":0},{"$f":"A3A!J10","v":0},{"$f":"A3A!K10","v":0}]
[{"$f":"A3A!A12","v":"Vote 04 - Budget And Treasury"},null,{"$f":"A3A!C12","v":1446223347.8100002},{"$f":"A3A!D12","v":1427199588.8499999},{"$f":"A3A!E12","v":1720899127.1800001},{"$f":"A3A!F12","v":1528947877},{"$f":"A3A!G12","v":1540462877},{"$f":"A3A!H12","v":1540462877},{"$f":"A3A!I12","v":1700025589},{"$f":"A3A!J12","v":1801043912},{"$f":"A3A!K12","v":1923022397}]
[{"$f":"A3A!A15","v":"Vote 05 - Infrustracture And Water Services"},null,{"$f":"A3A!C15","v":-2992.75},{"$f":"A3A!D15","v":0},{"$f":"A3A!E15","v":0},{"$f":"A3A!F15","v":0},{"$f":"A3A!G15","v":0},{"$f":"A3A!H15","v":0},{"$f":"A3A!I15","v":0},{"$f":"A3A!J15","v":0},{"$f":"A3A!K15","v":0}]
[{"$f":"A3A!A19","v":"Vote 06 - Planning And Economic Development"},null,{"$f":"A3A!C19","v":0},{"$f":"A3A!D19","v":0},{"$f":"A3A!E19","v":0},{"$f":"A3A!F19","v":0},{"$f":"A3A!G19","v":0},{"$f":"A3A!H19","v":0},{"$f":"A3A!I19","v":0},{"$f":"A3A!J19","v":0},{"$f":"A3A!K19","v":0}]
[{"$f":"A3A!A21","v":"Vote 07 - Community Services"},null,{"$f":"A3A!C21","v":-16272},{"$f":"A3A!D21","v":0},{"$f":"A3A!E21","v":0},{"$f":"A3A!F21","v":0},{"$f":"A3A!G21","v":0},{"$f":"A3A!H21","v":0},{"$f":"A3A!I21","v":0},{"$f":"A3A!J21","v":0},{"$f":"A3A!K21","v":0}]
[{"$f":"A3A!A23","v":"Vote 08 - Sekhukhune Development Angancy"},null,{"$f":"A3A!C23","v":0},{"$f":"A3A!D23","v":0},{"$f":"A3A!E23","v":0},{"$f":"A3A!F23","v":0},{"$f":"A3A!G23","v":0},{"$f":"A3A!H23","v":0},{"$f":"A3A!I23","v":0},{"$f":"A3A!J23","v":0},{"$f":"A3A!K23","v":0}]
[{"$f":"A3A!A25","v":"Vote 09 - Corporate Services"},null,{"$f":"A3A!C25","v":0},{"$f":"A3A!D25","v":0},{"$f":"A3A!E25","v":0},{"$f":"A3A!F25","v":0},{"$f":"A3A!G25","v":0},{"$f":"A3A!H25","v":0},{"$f":"A3A!I25","v":0},{"$f":"A3A!J25","v":0},{"$f":"A3A!K25","v":0}]
[{"$f":"'Org structure'!A11","v":"Vote 10 - "},null,{"$f":"A3A!C27","v":0},{"$f":"A3A!D27","v":0},{"$f":"A3A!E27","v":0},{"$f":"A3A!F27","v":0},{"$f":"A3A!G27","v":0},{"$f":"A3A!H27","v":0},{"$f":"A3A!I27","v":0},{"$f":"A3A!J27","v":0},{"$f":"A3A!K27","v":0}]
[{"$f":"'Org structure'!A12","v":"Vote 11 - "},null,{"$f":"A3A!C28","v":0},{"$f":"A3A!D28","v":0},{"$f":"A3A!E28","v":0},{"$f":"A3A!F28","v":0},{"$f":"A3A!G28","v":0},{"$f":"A3A!H28","v":0},{"$f":"A3A!I28","v":0},{"$f":"A3A!J28","v":0},{"$f":"A3A!K28","v":0},{"$f":"A5A!#REF!","v":{"$error":"#REF!"}}]
[{"$f":"'Org structure'!A13","v":"Vote 12 - "},null,{"$f":"A3A!C29","v":0},{"$f":"A3A!D29","v":0},{"$f":"A3A!E29","v":0},{"$f":"A3A!F29","v":0},{"$f":"A3A!G29","v":0},{"$f":"A3A!H29","v":0},{"$f":"A3A!I29","v":0},{"$f":"A3A!J29","v":0},{"$f":"A3A!K29","v":0},{"$f":"A5A!#REF!","v":{"$error":"#REF!"}}]
[{"$f":"'Org structure'!A14","v":"Vote 13 - "},null,{"$f":"A3A!C30","v":0},{"$f":"A3A!D30","v":0},{"$f":"A3A!E30","v":0},{"$f":"A3A!F30","v":0},{"$f":"A3A!G30","v":0},{"$f":"A3A!H30","v":0},{"$f":"A3A!I30","v":0},{"$f":"A3A!J30","v":0},{"$f":"A3A!K30","v":0},{"$f":"A5A!#REF!","v":{"$error":"#REF!"}}]
[{"$f":"'Org structure'!A15","v":"Vote 14 - "},null,{"$f":"A3A!C31","v":0},{"$f":"A3A!D31","v":0},{"$f":"A3A!E31","v":0},{"$f":"A3A!F31","v":0},{"$f":"A3A!G31","v":0},{"$f":"A3A!H31","v":0},{"$f":"A3A!I31","v":0},{"$f":"A3A!J31","v":0},{"$f":"A3A!K31","v":0},{"$f":"A5A!#REF!","v":{"$error":"#REF!"}}]
[{"$f":"A3A!A32","v":"Vote 15 - Other"},null,{"$f":"A3A!C32","v":0},{"$f":"A3A!D32","v":0},{"$f":"A3A!E32","v":0},{"$f":"A3A!F32","v":0},{"$f":"A3A!G32","v":0},{"$f":"A3A!H32","v":0},{"$f":"A3A!I32","v":0},{"$f":"A3A!J32","v":0},{"$f":"A3A!K32","v":0},{"$f":"A5A!#REF!","v":{"$error":"#REF!"}}]
["Total Revenue by Vote",2,{"$f":"SUM(C5:C19)","v":1446202273.0600002},{"$f":"SUM(D5:D19)","v":1427199588.8499999},1720899127.1800001,1528947877,1540462877,1540462877,1700025589,1801043912,1923022397]
[]
["Expenditure by Vote to be appropriated",1]
[{"$f":"A3A!A37","v":"Vote 01 - Speakers Office"},null,{"$f":"A3A!C37","v":35925429.920000002},{"$f":"A3A!D37","v":35235856.229999997},{"$f":"A3A!E37","v":36276364.549999997},{"$f":"A3A!F37","v":42272942},{"$f":"A3A!G37","v":45342410},{"$f":"A3A!H37","v":45342410},{"$f":"A3A!I37","v":48349161},{"$f":"A3A!J37","v":48421963},{"$f":"A3A!K37","v":50724050}]
[{"$f":"A3A!A40","v":"Vote 02 - Executive Mayor's Office"},null,{"$f":"A3A!C40","v":32559765.77},{"$f":"A3A!D40","v":31157898.129999999},{"$f":"A3A!E40","v":31993573.379999999},{"$f":"A3A!F40","v":38753120},{"$f":"A3A!G40","v":37959087},{"$f":"A3A!H40","v":37959087},{"$f":"A3A!I40","v":42821518},{"$f":"A3A!J40","v":44429959},{"$f":"A3A!K40","v":46660243}]
[{"$f":"A3A!A42","v":"Vote 03 - Municipal Manager  Office"},null,{"$f":"A3A!C42","v":82523768.260000005},{"$f":"A3A!D42","v":93451167.379999995},{"$f":"A3A!E42","v":81148560.319999993},{"$f":"A3A!F42","v":73779909},{"$f":"A3A!G42","v":80048111},{"$f":"A3A!H42","v":80048111},{"$f":"A3A!I42","v":88662698},{"$f":"A3A!J42","v":108896425},{"$f":"A3A!K42","v":126186681}]
[{"$f":"A3A!A44","v":"Vote 04 - Budget And Treasury"},null,{"$f":"A3A!C44","v":179503638.44999999},{"$f":"A3A!D44","v":113129186.09999999},{"$f":"A3A!E44","v":74143384.400000006},{"$f":"A3A!F44","v":200655145},{"$f":"A3A!G44","v":194867707},{"$f":"A3A!H44","v":194867707},{"$f":"A3A!I44","v":206871304},{"$f":"A3A!J44","v":232083437},{"$f":"A3A!K44","v":253449573}]
[{"$f":"A3A!A47","v":"Vote 05 - Infrustracture And Water Services"},null,{"$f":"A3A!C47","v":589296380.20999992},{"$f":"A3A!D47","v":580368119.8599999},{"$f":"A3A!E47","v":676813234.03000009},{"$f":"A3A!F47","v":530524594},{"$f":"A3A!G47","v":565929576},{"$f":"A3A!H47","v":565929576},{"$f":"A3A!I47","v":571510778},{"$f":"A3A!J47","v":577079534},{"$f":"A3A!K47","v":611228228}]
[{"$f":"A3A!A51","v":"Vote 06 - Planning And Economic Development"},null,{"$f":"A3A!C51","v":10582670.74},{"$f":"A3A!D51","v":7540558.7999999998},{"$f":"A3A!E51","v":10107947.710000001},{"$f":"A3A!F51","v":16635058},{"$f":"A3A!G51","v":16011395},{"$f":"A3A!H51","v":16011395},{"$f":"A3A!I51","v":19209120},{"$f":"A3A!J51","v":22557537},{"$f":"A3A!K51","v":23662589}]
[{"$f":"A3A!A53","v":"Vote 07 - Community Services"},null,{"$f":"A3A!C53","v":59031897.25},{"$f":"A3A!D53","v":63649658},{"$f":"A3A!E53","v":67605289.099999994},{"$f":"A3A!F53","v":70987803},{"$f":"A3A!G53","v":73440924},{"$f":"A3A!H53","v":73440924},{"$f":"A3A!I53","v":76902221},{"$f":"A3A!J53","v":81085303},{"$f":"A3A!K53","v":85276547}]
[{"$f":"A3A!A55","v":"Vote 08 - Sekhukhune Development Angancy"},null,{"$f":"A3A!C55","v":3699050.35},{"$f":"A3A!D55","v":3497209.2},{"$f":"A3A!E55","v":2556298.0299999998},{"$f":"A3A!F55","v":4537800},{"$f":"A3A!G55","v":5487799},{"$f":"A3A!H55","v":5487799},{"$f":"A3A!I55","v":7708059},{"$f":"A3A!J55","v":11508720},{"$f":"A3A!K55","v":15310716}]
[{"$f":"A3A!A57","v":"Vote 09 - Corporate Services"},null,{"$f":"A3A!C57","v":120642864.34999999},{"$f":"A3A!D57","v":130085395.64},{"$f":"A3A!E57","v":135928658.13999999},{"$f":"A3A!F57","v":125385927},{"$f":"A3A!G57","v":137327901},{"$f":"A3A!H57","v":137327901},{"$f":"A3A!I57","v":148550876},{"$f":"A3A!J57","v":162863441},{"$f":"A3A!K57","v":188785453}]
[{"$f":"'Org structure'!A11","v":"Vote 10 - "},null,{"$f":"A3A!C59","v":0},{"$f":"A3A!D59","v":0},{"$f":"A3A!E59","v":0},{"$f":"A3A!F59","v":0},{"$f":"A3A!G59","v":0},{"$f":"A3A!H59","v":0},{"$f":"A3A!I59","v":0},{"$f":"A3A!J59","v":0},{"$f":"A3A!K59","v":0}]
[{"$f":"'Org structure'!A12","v":"Vote 11 - "},null,{"$f":"A3A!C60","v":0},{"$f":"A3A!D60","v":0},{"$f":"A3A!E60","v":0},{"$f":"A3A!F60","v":0},{"$f":"A3A!G60","v":0},{"$f":"A3A!H60","v":0},{"$f":"A3A!I60","v":0},{"$f":"A3A!J60","v":0},{"$f":"A3A!K60","v":0},{"$f":"A3A!#REF!","v":{"$error":"#REF!"}}]
[{"$f":"'Org structure'!A13","v":"Vote 12 - "},null,{"$f":"A3A!C61","v":0},{"$f":"A3A!D61","v":0},{"$f":"A3A!E61","v":0},{"$f":"A3A!F61","v":0},{"$f":"A3A!G61","v":0},{"$f":"A3A!H61","v":0},{"$f":"A3A!I61","v":0},{"$f":"A3A!J61","v":0},{"$f":"A3A!K61","v":0},{"$f":"A3A!#REF!","v":{"$error":"#REF!"}}]
[{"$f":"'Org structure'!A14","v":"Vote 13 - "},null,{"$f":"A3A!C62","v":0},{"$f":"A3A!D62","v":0},{"$f":"A3A!E62","v":0},{"$f":"A3A!F62","v":0},{"$f":"A3A!G62","v":0},{"$f":"A3A!H62","v":0},{"$f":"A3A!I62","v":0},{"$f":"A3A!J62","v":0},{"$f":"A3A!K62","v":0},{"$f":"A3A!#REF!","v":{"$error":"#REF!"}}]
[{"$f":"'Org structure'!A15","v":"Vote 14 - "},null,{"$f":"A3A!C63","v":0},{"$f":"A3A!D63","v":0},{"$f":"A3A!E63","v":0},{"$f":"A3A!F63","v":0},{"$f":"A3A!G63","v":0},{"$f":"A3A!H63","v":0},{"$f":"A3A!I63","v":0},{"$f":"A3A!J63","v":0},{"$f":"A3A!K63","v":0},{"$f":"A3A!#REF!","v":{"$error":"#REF!"}}]
[{"$f":"A3A!A64","v":"Vote 15 - Other"},null,{"$f":"A3A!C64","v":0},{"$f":"A3A!D64","v":0},{"$f":"A3A!E64","v":0},{"$f":"A3A!F64","v":0},{"$f":"A3A!G64","v":0},{"$f":"A3A!H64","v":0},{"$f":"A3A!I64","v":0},{"$f":"A3A!J64","v":0},{"$f":"A3A!K64","v":0},{"$f":"A3A!L65","v":0}]
["Total Expenditure by Vote",2,{"$f":"SUM(C23:C37)","v":1113765465.3},{"$f":"SUM(D23:D37)","v":1058115049.3399999},1116573309.6600001,1103532298,1156414910,1156414910,1210585735,1288926319,1401284080,{"$f":"SUM(L23:L29)","v":0},0,0,0,0,0,0,0,0,0,0,0]
[{"$f":"result","v":"Surplus/(Deficit) for the year"},2,{"$f":"C20-C38","v":332436807.76000023},369084539.50999999,604325817.51999998,425415579,384047967,384047967,489439854,512117593,521738317,0,0,0,0,0,0,0,0,0,0,0,0]
[{"$f":"head27a","v":"References"}]
["1. Insert 'Vote'; e.g. department, if different to functional classification structure"]
["2. Must reconcile to Budgeted Financial Performance (revenue and expenditure)"]
["3. Assign share in 'associate' to relevant Vote"]
[]
[{"$f":"\"check \"&A39","v":"check Surplus/(Deficit) for the year"},null,{"$f":"C39-A3A!C68","v":0},{"$f":"D39-A3A!D68","v":0},{"$f":"E39-A3A!E68","v":0},{"$f":"F39-A3A!F68","v":0},{"$f":"G39-A3A!G68","v":0},{"$f":"H39-A3A!H68","v":0},{"$f":"I39-A3A!I68","v":0},{"$f":"J39-A3A!J68","v":0},{"$f":"K39-A3A!K68","v":0}]

{"sheet":"A3A","index":10,"n_rows":75,"n_cols":23,"rows_kept":75,"cut":false,"hidden":false,"merged":[[1,11,1,22],[1,5,1,7],[1,8,1,10]]}
[{"$f":"muni&\" - \"&Approve2&\"A\"","v":"DC47 Sekhukhune - Table A3 Budgeted Financial Performance (revenue and expenditure by municipal vote)A"}]
[{"$f":"Vdesc","v":"Vote Description"},{"$f":"head27","v":"Ref"},{"$f":"head1b","v":"2018/19"},{"$f":"head1A","v":"2019/20"},{"$f":"Head1","v":"2020/21"},{"$f":"Head2","v":"Current Year 2021/22"},null,null,{"$f":"Head3","v":"2022/23 Medium Term Revenue & Expenditure Framework"},null,null,{"$f":"Head4","v":"LTFS"}]
["R thousand",null,{"$f":"Head5","v":"Audited Outcome"},{"$f":"Head5","v":"Audited Outcome"},{"$f":"Head5","v":"Audited Outcome"},{"$f":"Head6","v":"Original Budget"},{"$f":"Head7","v":"Adjusted Budget"},{"$f":"Head8","v":"Full Year Forecast"},{"$f":"Head9","v":"Budget Year 2022/23"},{"$f":"Head10","v":"Budget Year +1 2023/24"},{"$f":"Head11","v":"Budget Year +2 2024/25"},{"$f":"Head12","v":"Forecast 2025/26"},{"$f":"Head13","v":"Forecast 2026/27"},{"$f":"Head14","v":"Forecast 2027/28"},{"$f":"Head15","v":"Forecast 2028/29"},{"$f":"Head16","v":"Forecast 2029/30"},{"$f":"Head17","v":"Forecast 2030/31"},{"$f":"Head18","v":"Forecast 2031/32"},{"$f":"Head19","v":"Forecast 2032/33"},{"$f":"Head20","v":"Forecast 2033/34"},{"$f":"Head21","v":"Forecast 2034/35"},{"$f":"Head22","v":"Forecast 2035/36"},{"$f":"Head23","v":"Forecast 2036/37"}]
["Revenue by Vote",1]
[{"$f":"'Org structure'!A2","v":"Vote 01 - Speakers Office"},null,{"$f":"SUM(C6:C7)","v":0},0,0,0,0,0,0,0,0]
[{"$f":"'Org structure'!E3","v":"01.1 - Office Of The Speaker"},null,0,0,0,0,0,0,0,0,0]
[{"$f":"'Org structure'!E4","v":"01.2 - Office Of The Chief Whip"},null,0,0,0,0,0,0,0,0,0]
[{"$f":"'Org structure'!A3","v":"Vote 02 - Executive Mayor's Office"},null,{"$f":"SUM(C9:C9)","v":0},0,0,0,0,0,0,0,0]
[{"$f":"'Org structure'!E6","v":"02.1 - Executive Mayor's Office"},null,0,0,0,0,0,0,0,0,0]
[{"$f":"'Org structure'!A4","v":"Vote 03 - Municipal Manager  Office"},null,{"$f":"SUM(C11:C11)","v":-1810},0,0,0,0,0,0,0,0]
[{"$f":"'Org structure'!E8","v":"03.1 - Municipal Manager Admin"},null,-1810,0,0,0,0,0,0,0,0]
[{"$f":"'Org structure'!A5","v":"Vote 04 - Budget And Treasury"},null,{"$f":"SUM(C13:C14)","v":1446223347.8100002},1427199588.8499999,1720899127.1800001,1528947877,1540462877,1540462877,1700025589,1801043912,1923022397]
[{"$f":"'Org structure'!E10","v":"04.1 - Budget & Treasury Admin"},null,1433245531.9000001,0,0,0,0,0,0,0,0]
[{"$f":"'Org structure'!E11","v":"04.2 - Budget & Treasury Admin"},null,12977815.91,1427199588.8499999,1720899127.1800001,1528947877,1540462877,1540462877,1700025589,1801043912,1923022397]
[{"$f":"'Org structure'!A6","v":"Vote 05 - Infrustracture And Water Services"},null,{"$f":"SUM(C16:C18)","v":-2992.75},0,0,0,0,0,0,0,0]
[{"$f":"'Org structure'!E13","v":"05.1 - Technical Services Admin"},null,0,0,0,0,0,0,0,0,0]
[{"$f":"'Org structure'!E14","v":"05.2 - Water Services"},null,-2992.75,0,0,0,0,0,0,0,0]
[{"$f":"'Org structure'!E15","v":"05.3 - Sanitation Services"},null,0,0,0,0,0,0,0,0,0]
[{"$f":"'Org structure'!A7","v":"Vote 06 - Planning And Economic Development"},null,{"$f":"SUM(C20:C20)","v":0},0,0,0,0,0,0,0,0]
[{"$f":"'Org structure'!E17","v":"06.1 - Planning & Economic Dev Admin"},null,0,0,0,0,0,0,0,0,0]
[{"$f":"'Org structure'!A8","v":"Vote 07 - Community Services"},null,{"$f":"SUM(C22:C22)","v":-16272},0,0,0,0,0,0,0,0]
[{"$f":"'Org structure'!E19","v":"07.1 - Community Services Admin"},null,-16272,0,0,0,0,0,0,0,0]
[{"$f":"'Org structure'!A9","v":"Vote 08 - Sekhukhune Development Angancy"},null,{"$f":"SUM(C24:C24)","v":0},0,0,0,0,0,0,0,0]
[{"$f":"'Org structure'!E21","v":"08.1 - Sekhukhune Development Agency"},null,0,0,0,0,0,0,0,0,0]
[{"$f":"'Org structure'!A10","v":"Vote 09 - Corporate Services"},null,{"$f":"SUM(C26:C26)","v":0},0,0,0,0,0,0,0,0]
[{"$f":"'Org structure'!E23","v":"09.1 - Corporate Services Admin"},null,0,0,0,0,0,0,0,0,0]
[{"$f":"'Org structure'!A11","v":"Vote 10 - "},null,0,0,0,0,0,0,0,0,0]
[{"$f":"'Org structure'!A12","v":"Vote 11 - "},null,0,0,0,0,0,0,0,0,0]
[{"$f":"'Org structure'!A13","v":"Vote 12 - "},null,0,0,0,0,0,0,0,0,0]
[{"$f":"'Org structure'!A14","v":"Vote 13 - "},null,0,0,0,0,0,0,0,0,0]
[{"$f":"'Org structure'!A15","v":"Vote 14 - "},null,0,0,0,0,0,0,0,0,0]
[{"$f":"'Org structure'!A16","v":"Vote 15 - Other"},null,{"$f":"SUM(C33:C33)","v":0},0,0,0,0,0,0,0,0]
[{"$f":"'Org structure'!E30","v":"15.1 - Electricity Reporting Function"},null,0,0,0,0,0,0,0,0,0]
["Total Revenue by Vote",2,{"$f":"C5+C8+C10+C12+C15+C19+C21+C23+C25+C27+C28+C29+C30+C31+C32","v":1446202273.0600002},1427199588.8499999,1720899127.1800001,1528947877,1540462877,1540462877,1700025589,1801043912,1923022397,{"$f":"SUM(#REF!)","v":{"$error":"#REF!"}},{"$f":"SUM(#REF!)","v":{"$error":"#REF!"}},{"$f":"SUM(#REF!)","v":{"$error":"#REF!"}},{"$f":"SUM(#REF!)","v":{"$error":"#REF!"}},{"$f":"SUM(#REF!)","v":{"$error":"#REF!"}},{"$f":"SUM(#REF!)","v":{"$error":"#REF!"}},{"$f":"SUM(#REF!)","v":{"$error":"#REF!"}},{"$f":"SUM(#REF!)","v":{"$error":"#REF!"}},{"$f":"SUM(#REF!)","v":{"$error":"#REF!"}},{"$f":"SUM(#REF!)","v":{"$error":"#REF!"}},{"$f":"SUM(#REF!)","v":{"$error":"#REF!"}},{"$f":"SUM(#REF!)","v":{"$error":"#REF!"}}]
[]
["Expenditure by Vote",1]
[{"$f":"'Org structure'!A2","v":"Vote 01 - Speakers Office"},null,{"$f":"SUM(C38:C39)","v":35925429.920000002},35235856.229999997,36276364.549999997,42272942,45342410,45342410,48349161,48421963,50724050]
[{"$f":"'Org structure'!E3","v":"01.1 - Office Of The Speaker"},null,36354199.100000001,35394952.799999997,36276364.549999997,42272942,45342410,45342410,48349161,48421963,50724050]
[{"$f":"'Org structure'!E4","v":"01.2 - Office Of The Chief Whip"},null,-428769.18,-159096.57,0,0,0,0,0,0,0]
[{"$f":"'Org structure'!A3","v":"Vote 02 - Executive Mayor's Office"},null,{"$f":"SUM(C41:C41)","v":32559765.77},31157898.129999999,31993573.379999999,38753120,37959087,37959087,42821518,44429959,46660243]
[{"$f":"'Org structure'!E6","v":"02.1 - Executive Mayor's Office"},null,32559765.77,31157898.129999999,31993573.379999999,38753120,37959087,37959087,42821518,44429959,46660243]
[{"$f":"'Org structure'!A4","v":"Vote 03 - Municipal Manager  Office"},null,{"$f":"SUM(C43:C43)","v":82523768.260000005},93451167.379999995,81148560.319999993,73779909,80048111,80048111,88662698,108896425,126186681]
[{"$f":"'Org structure'!E8","v":"03.1 - Municipal Manager Admin"},null,82523768.260000005,93451167.379999995,81148560.319999993,73779909,80048111,80048111,88662698,108896425,126186681]
[{"$f":"'Org structure'!A5","v":"Vote 04 - Budget And Treasury"},null,{"$f":"SUM(C45:C46)","v":179503638.44999999},113129186.09999999,74143384.400000006,200655145,194867707,194867707,206871304,232083437,253449573]
[{"$f":"'Org structure'!E10","v":"04.1 - Budget & Treasury Admin"},null,0,0,0,0,0,0,0,0,0]
[{"$f":"'Org structure'!E11","v":"04.2 - Budget & Treasury Admin"},null,179503638.44999999,113129186.09999999,74143384.400000006,200655145,194867707,194867707,206871304,232083437,253449573]
[{"$f":"'Org structure'!A6","v":"Vote 05 - Infrustracture And Water Services"},null,{"$f":"SUM(C48:C50)","v":589296380.20999992},580368119.8599999,676813234.03000009,530524594,565929576,565929576,571510778,577079534,611228228]
[{"$f":"'Org structure'!E13","v":"05.1 - Technical Services Admin"},null,68844869.319999993,59159588.93,78914769.079999998,73066226,114467557,114467557,82535706,91506910,91675027]
[{"$f":"'Org structure'!E14","v":"05.2 - Water Services"},null,508665506.48000002,502854088.89999998,579145915.72000003,457458368,449988219,449988219,487423161,483938460,517832428]
[{"$f":"'Org structure'!E15","v":"05.3 - Sanitation Services"},null,11786004.41,18354442.030000001,18752549.23,0,1473800,1473800,1551911,1634164,1720773]
[{"$f":"'Org structure'!A7","v":"Vote 06 - Planning And Economic Development"},null,{"$f":"SUM(C52:C52)","v":10582670.74},7540558.7999999998,10107947.710000001,16635058,16011395,16011395,19209120,22557537,23662589]
[{"$f":"'Org structure'!E17","v":"06.1 - Planning & Economic Dev Admin"},null,10582670.74,7540558.7999999998,10107947.710000001,16635058,16011395,16011395,19209120,22557537,23662589]
[{"$f":"'Org structure'!A8","v":"Vote 07 - Community Services"},null,{"$f":"SUM(C54:C54)","v":59031897.25},63649658,67605289.099999994,70987803,73440924,73440924,76902221,81085303,85276547]
[{"$f":"'Org structure'!E19","v":"07.1 - Community Services Admin"},null,59031897.25,63649658,67605289.099999994,70987803,73440924,73440924,76902221,81085303,85276547]
[{"$f":"'Org structure'!A9","v":"Vote 08 - Sekhukhune Development Angancy"},null,{"$f":"SUM(C56:C56)","v":3699050.35},3497209.2,2556298.0299999998,4537800,5487799,5487799,7708059,11508720,15310716]
[{"$f":"'Org structure'!E21","v":"08.1 - Sekhukhune Development Agency"},null,3699050.35,3497209.2,2556298.0299999998,4537800,5487799,5487799,7708059,11508720,15310716]
[{"$f":"'Org structure'!A10","v":"Vote 09 - Corporate Services"},null,{"$f":"SUM(C58:C58)","v":120642864.34999999},130085395.64,135928658.13999999,125385927,137327901,137327901,148550876,162863441,188785453]
[{"$f":"'Org structure'!E23","v":"09.1 - Corporate Services Admin"},null,120642864.34999999,130085395.64,135928658.13999999,125385927,137327901,137327901,148550876,162863441,188785453]
[{"$f":"'Org structure'!A11","v":"Vote 10 - "},null,0,0,0,0,0,0,0,0,0]
[{"$f":"'Org structure'!A12","v":"Vote 11 - "},null,0,0,0,0,0,0,0,0,0]
[{"$f":"'Org structure'!A13","v":"Vote 12 - "},null,0,0,0,0,0,0,0,0,0]
[{"$f":"'Org structure'!A14","v":"Vote 13 - "},null,0,0,0,0,0,0,0,0,0]
[{"$f":"'Org structure'!A15","v":"Vote 14 - "},null,0,0,0,0,0,0,0,0,0]
[{"$f":"'Org structure'!A16","v":"Vote 15 - Other"},null,{"$f":"SUM(C65:C65)","v":0},0,0,0,0,0,0,0,0]
[{"$f":"'Org structure'!E30","v":"15.1 - Electricity Reporting Function"},null,0,0,0,0,0,0,0,0,0]
["Total Expenditure by Vote",2,{"$f":"C37+C40+C42+C44+C47+C51+C53+C55+C57+C59+C60+C61+C62+C63+C64","v":1113765465.3},1058115049.3399999,1116573309.6600001,1103532298,1156414910,1156414910,1210585735,1288926319,1401284080,{"$f":"SUM(L37:L54)","v":0},0,0,0,0,0,0,0,0,0,0,0]
[]
[{"$f":"result","v":"Surplus/(Deficit) for the year"},2,{"$f":"C34-C66","v":332436807.76000023},369084539.50999999,604325817.51999998,425415579,384047967,384047967,489439854,512117593,521738317,{"$error":"#REF!"},{"$error":"#REF!"},{"$error":"#REF!"},{"$error":"#REF!"},{"$error":"#REF!"},{"$error":"#REF!"},{"$error":"#REF!"},{"$error":"#REF!"},{"$error":"#REF!"},{"$error":"#REF!"},{"$error":"#REF!"},{"$error":"#REF!"}]
[{"$f":"head27a","v":"References"}]
["1. Insert 'Vote'; e.g. Department, if different to Functional structure"]
["2. Must reconcile to Financial Performance ('Revenue and Expenditure by Functional Classification' and 'Revenue and Expenditure')"]
["3. Assign share in 'associate' to relevant Vote"]
[]
["check revenue",null,{"$f":"C34-'A4-FinPerf RE'!C59","v":0},{"$f":"D34-'A4-FinPerf RE'!D59","v":0},{"$f":"E34-'A4-FinPerf RE'!E59","v":0},{"$f":"F34-'A4-FinPerf RE'!F59","v":0},{"$f":"G34-'A4-FinPerf RE'!G59","v":0},{"$f":"H34-'A4-FinPerf RE'!H59","v":0},{"$f":"I34-'A4-FinPerf RE'!J59","v":0},{"$f":"J34-'A4-FinPerf RE'!K59","v":0},{"$f":"K34-'A4-FinPerf RE'!L59","v":0}]
["check expenditure",null,{"$f":"C66-'A4-FinPerf RE'!C35","v":226037949.27999997},{"$f":"D66-'A4-FinPerf RE'!D35","v":119880713.55999994},{"$f":"E66-'A4-FinPerf RE'!E35","v":194692421.32000017},{"$f":"F66-'A4-FinPerf RE'!F35","v":0},{"$f":"G66-'A4-FinPerf RE'!G35","v":5486901},{"$f":"H66-'A4-FinPerf RE'!H35","v":5486901},{"$f":"I66-'A4-FinPerf RE'!J35","v":-1},{"$f":"J66-'A4-FinPerf RE'!K35","v":11},{"$f":"K66-'A4-FinPerf RE'!L35","v":10}]

{"sheet":"A4-FinPerf RE","index":11,"n_rows":59,"n_cols":24,"rows_kept":59,"cut":false,"hidden":false,"merged":[[1,12,1,23],[1,9,1,11],[1,5,1,8]]}
[{"$f":"muni&\" - \"&Approve4","v":"DC47 Sekhukhune - Table A4 Budgeted Financial Performance (revenue and expenditure)"}]
[{"$f":"desc","v":"Description"},{"$f":"head27","v":"Ref"},{"$f":"head1b","v":"2018/19"},{"$f":"head1A","v":"2019/20"},{"$f":"Head1","v":"2020/21"},{"$f":"Head2","v":"Current Year 2021/22"},null,null,null,{"$f":"Head3","v":"2022/23 Medium Term Revenue & Expenditure Framework"},null,null,{"$f":"Head4","v":"LTFS"}]
["R thousand",1,{"$f":"Head5","v":"Audited Outcome"},{"$f":"Head5","v":"Audited Outcome"},{"$f":"Head5","v":"Audited Outcome"},{"$f":"Head6","v":"Original Budget"},{"$f":"Head7","v":"Adjusted Budget"},{"$f":"Head8","v":"Full Year Forecast"},{"$f":"Head5b","v":"Pre-audit outcome"},{"$f":"Head9","v":"Budget Year 2022/23"},{"$f":"Head10","v":"Budget Year +1 2023/24"},{"$f":"Head11","v":"Budget Year +2 2024/25"},{"$f":"Head12","v":"Forecast 2025/26"},{"$f":"Head13","v":"Forecast 2026/27"},{"$f":"Head14","v":"Forecast 2027/28"},{"$f":"Head15","v":"Forecast 2028/29"},{"$f":"Head16","v":"Forecast 2029/30"},{"$f":"Head17","v":"Forecast 2030/31"},{"$f":"Head18","v":"Forecast 2031/32"},{"$f":"Head19","v":"Forecast 2032/33"},{"$f":"Head20","v":"Forecast 2033/34"},{"$f":"Head21","v":"Forecast 2034/35"},{"$f":"Head22","v":"Forecast 2035/36"},{"$f":"Head23","v":"Forecast 2036/37"}]
["Revenue By Source"]
["Property rates",2,{"$f":"'SA1'!C9","v":0},{"$f":"'SA1'!D9","v":0},{"$f":"'SA1'!E9","v":0},{"$f":"'SA1'!F9","v":0},{"$f":"'SA1'!G9","v":0},{"$f":"'SA1'!H9","v":0},{"$f":"'SA1'!I9","v":0},{"$f":"'SA1'!J9","v":0},{"$f":"'SA1'!K9","v":0},{"$f":"'SA1'!L9","v":0}]
["Service charges - electricity revenue",2,{"$f":"'SA1'!C15","v":0},{"$f":"'SA1'!D15","v":0},{"$f":"'SA1'!E15","v":0},{"$f":"'SA1'!F15","v":0},{"$f":"'SA1'!G15","v":0},{"$f":"'SA1'!H15","v":0},{"$f":"'SA1'!I15","v":0},{"$f":"'SA1'!J15","v":0},{"$f":"'SA1'!K15","v":0},{"$f":"'SA1'!L15","v":0}]
["Service charges - water revenue",2,{"$f":"'SA1'!C21","v":73837262.319999993},{"$f":"'SA1'!D21","v":81947083.019999996},{"$f":"'SA1'!E21","v":72887805.489999995},{"$f":"'SA1'!F21","v":82323447},{"$f":"'SA1'!G21","v":84603447},{"$f":"'SA1'!H21","v":84603447},{"$f":"'SA1'!I21","v":71564570.719999999},{"$f":"'SA1'!J21","v":88833619},{"$f":"'SA1'!K21","v":93275300},{"$f":"'SA1'!L21","v":97939066}]
["Service charges - sanitation revenue",2,{"$f":"'SA1'!C27","v":12257476.57},{"$f":"'SA1'!D27","v":12893848.73},{"$f":"'SA1'!E27","v":12452564.609999999},{"$f":"'SA1'!F27","v":13534662},{"$f":"'SA1'!G27","v":14034662},{"$f":"'SA1'!H27","v":14034662},{"$f":"'SA1'!I27","v":12757346.449999999},{"$f":"'SA1'!J27","v":14736395},{"$f":"'SA1'!K27","v":15473215},{"$f":"'SA1'!L27","v":16246876}]
["Service charges - refuse revenue",2,{"$f":"'SA1'!C34","v":0},{"$f":"'SA1'!D34","v":0},{"$f":"'SA1'!E34","v":0},{"$f":"'SA1'!F34","v":0},{"$f":"'SA1'!G34","v":0},{"$f":"'SA1'!H34","v":0},{"$f":"'SA1'!I34","v":0},{"$f":"'SA1'!J34","v":0},{"$f":"'SA1'!K34","v":0},{"$f":"'SA1'!L34","v":0}]
[]
["Rental of facilities and equipment"]
["Interest earned - external investments",null,2264470.08,9889632.3599999994,15003055.27,17485844,21485844,21485844,19684813.399999999,21659404,22612419,23629977]
["Interest earned - outstanding debtors",null,21580133.199999999,16995779.920000002,12936558.85,13996387,14496387,14496387,14499919.140000001,15221206,15982267,16781380]
["Dividends received",null,0,0,0,0,0,0,0,0,0,0]
["Fines, penalties and forfeits",null,-55688.5,63336.31,3833.85,107745,47745,47745,4217.24,50132,52639,55271]
["Licences and permits"]
["Agency services"]
["Transfers and subsidies",null,1194612913.0899999,859188517.01999998,1074694102.6900001,982113000,1024213000,1024213000,893473483.84000003,1087843560,1149230990,1253412000]
["Other revenue",2,{"$f":"'SA1'!C49","v":14713556.369999999},{"$f":"'SA1'!D49","v":1596137.13},{"$f":"'SA1'!E49","v":82986496.200000003},{"$f":"'SA1'!F49","v":3076248},{"$f":"'SA1'!G49","v":2071248},{"$f":"'SA1'!H49","v":2071248},{"$f":"'SA1'!I49","v":-1425271.86},{"$f":"'SA1'!J49","v":2174812},{"$f":"'SA1'!K49","v":2283550},{"$f":"'SA1'!L49","v":2397729}]
["Gains",null,516060.73,0,0,409544,409544,409544,2548.5500000000002,430021,451522,474098]
["Total Revenue (excluding capital transfers and contributions)",null,{"$f":"SUM(C5:C9)+SUM(C11:C20)","v":1319726183.8599997},{"$f":"SUM(D5:D9)+SUM(D11:D20)","v":982574334.49000001},1270964416.96,1113046877,1161361877,1161361877,1010561627.4799999,1230949149,1299361902,1410936397,{"$f":"SUM(M5:M20)","v":0},0,0,0,0,0,0,0,0,0,0,0]
[]
["Expenditure By Type"]
["Employee related costs",2,{"$f":"'SA1'!C67","v":373154682.80000001},{"$f":"'SA1'!D67","v":395222658.88999993},{"$f":"'SA1'!E67","v":413179304.49000001},{"$f":"'SA1'!F67","v":433126807},{"$f":"'SA1'!G67","v":419505838},{"$f":"'SA1'!H67","v":419505838},{"$f":"'SA1'!I67","v":369587724.38999999},{"$f":"'SA1'!J67","v":459428896},{"$f":"'SA1'!K67","v":458356373},{"$f":"'SA1'!L67","v":483772787}]
["Remuneration of councillors",null,16597723.23,15466714.199999999,15042795.470000001,18330456,18330456,18330456,14029089.23,18422108,19232682,20098150]
["Debt impairment",3,0,2630289.44,66912.69,10615000,10615000,10615000,0,11039600,11525342,12043983]
["Depreciation & asset impairment",2,{"$f":"'SA1'!C83","v":101039967.96000001},{"$f":"'SA1'!D83","v":122229924.3},{"$f":"'SA1'!E83","v":94331435.570000008},{"$f":"'SA1'!F83","v":102514292},{"$f":"'SA1'!G83","v":102554292},{"$f":"'SA1'!H83","v":102554292},{"$f":"'SA1'!I83","v":0},{"$f":"'SA1'!J83","v":106884864},{"$f":"'SA1'!K83","v":111671318},{"$f":"'SA1'!L83","v":127396528}]
["Finance charges",null,346933.09,0,0,489818,489818,489818,0,509411,531825,555757]
["Bulk purchases - electricity",2,{"$f":"'SA1'!C88","v":0},{"$f":"'SA1'!D88","v":0},{"$f":"'SA1'!E88","v":0},{"$f":"'SA1'!F88","v":0},{"$f":"'SA1'!G88","v":0},{"$f":"'SA1'!H88","v":0},{"$f":"'SA1'!I88","v":0},{"$f":"'SA1'!J88","v":0},{"$f":"'SA1'!K88","v":0},{"$f":"'SA1'!L88","v":0}]
["Inventory consumed",8,{"$f":"'SA1'!C169","v":12465554.890000001},{"$f":"'SA1'!D169","v":25650772.940000001},{"$f":"'SA1'!E169","v":24307533.879999999},{"$f":"'SA1'!F169","v":177905447},{"$f":"'SA1'!G169","v":168470546},{"$f":"'SA1'!H169","v":168470546},{"$f":"'SA1'!I169","v":19642284.579999998},{"$f":"'SA1'!J169","v":191075226},{"$f":"'SA1'!K169","v":187994806},{"$f":"'SA1'!L169","v":207271499}]
["Contracted services",null,{"$f":"'SA1'!C127","v":225862566.53999999},{"$f":"'SA1'!D127","v":180216947.06},{"$f":"'SA1'!E127","v":167200868.93000001},{"$f":"'SA1'!F127","v":203430360},{"$f":"'SA1'!G127","v":258270079},{"$f":"'SA1'!H127","v":258270079},{"$f":"'SA1'!I127","v":134134634.47999999},{"$f":"'SA1'!J127","v":239331123},{"$f":"'SA1'!K127","v":297911933},{"$f":"'SA1'!L127","v":334392874}]
["Transfers and subsidies",null,{"$f":"'SA1'!C93","v":7415578.3499999996},{"$f":"'SA1'!D93","v":3497209.2},{"$f":"'SA1'!E93","v":2556298.0299999998},{"$f":"'SA1'!F93","v":758211},{"$f":"'SA1'!G93","v":796171},{"$f":"'SA1'!H93","v":796171},{"$f":"'SA1'!I93","v":734369.14},{"$f":"'SA1'!J93","v":0},{"$f":"'SA1'!K93","v":0},{"$f":"'SA1'!L93","v":0}]
["Other expenditure","4, 5",{"$f":"'SA1'!C157","v":146800560.85999998},{"$f":"'SA1'!D157","v":148236541.79999998},{"$f":"'SA1'!E157","v":164542939.25999999},{"$f":"'SA1'!F157","v":156361907},{"$f":"'SA1'!G157","v":166408906},{"$f":"'SA1'!H157","v":166408906},{"$f":"'SA1'!I157","v":141280515.47999999},{"$f":"'SA1'!J157","v":183894508},{"$f":"'SA1'!K157","v":201702029},{"$f":"'SA1'!L157","v":215752492}]
["Losses",null,4043948.3,45083277.950000003,40652800.020000003,0,5486903,5486903,0,0,0,0]
["Total Expenditure",null,{"$f":"SUM(C24:C34)","v":887727516.01999998},{"$f":"SUM(D24:D34)","v":938234335.77999997},921880888.33999991,1103532298,1150928009,1150928009,679408617.29999995,1210585736,1288926308,1401284070,{"$f":"SUM(M24:M34)","v":0},0,0,0,0,0,0,0,0,0,0,0]
[]
["Surplus/(Deficit)",null,{"$f":"C21-C35","v":431998667.83999968},44339998.710000038,349083528.62000012,9514579,10433868,10433868,331153010.17999995,20363413,10435594,9652327,{"$f":"M21+M35","v":0},0,0,0,0,0,0,0,0,0,0,0]
["Transfers and subsidies - capital (monetary allocations) (National / Provincial and District)",null,125779291.93000001,443917155.89999998,448726686.91000003,415901000,379101000,379101000,270293604.44,469076440,501682010,512086000]
["Transfers and subsidies - capital (monetary allocations) (National / Provincial Departmental Agencies, Households, Non-profit Institutions, Private Enterprises, Public Corporatons, Higher Educational Institutions)",6,0,0,6500,0,0,0,0,0,0,0]
["Transfers and subsidies - capital (in-kind - all) ",null,696797.27,708098.46,1201523.31,0,0,0,1298415.56,0,0,0]
["Surplus/(Deficit) after capital transfers & contributions",null,{"$f":"SUM(C37:C40)","v":558474757.03999972},488965253.06999999,799018238.84000015,425415579,389534868,389534868,602745030.17999983,489439853,512117604,521738327]
["Taxation"]
["Surplus/(Deficit) after taxation",null,{"$f":"C41-C42","v":558474757.03999972},488965253.06999999,799018238.84000015,425415579,389534868,389534868,602745030.17999983,489439853,512117604,521738327]
["Attributable to minorities"]
["Surplus/(Deficit) attributable to municipality",null,{"$f":"SUM(C43:C44)","v":558474757.03999972},488965253.06999999,799018238.84000015,425415579,389534868,389534868,602745030.17999983,489439853,512117604,521738327]
["Share of surplus/ (deficit) of associate",7]
[{"$f":"result","v":"Surplus/(Deficit) for the year"},null,{"$f":"SUM(C45:C46)","v":558474757.03999972},488965253.06999999,799018238.84000015,425415579,389534868,389534868,602745030.17999983,489439853,512117604,521738327,{"$f":"M25+M46","v":0},0,0,0,0,0,0,0,0,0,0,0]
[{"$f":"head27a","v":"References"}]
["1. Classifications are revenue sources and expenditure type"]
["2. Detail to be provided in Table SA1"]
["3. Previously described as 'bad or doubtful debts' - amounts shown should reflect the change in the provision for debt impairment"]
["4. Expenditure type components previously shown under repairs and maintenance should be allocated back to the originating expenditure group/item; e.g. employee costs"]
["5. Repairs & maintenance detailed in Table A9 and Table SA34c"]
["6. Contributions are funds provided by external organisations to assist with infrastructure development; e.g. developer contributions (detail to be provided in Table SA1)"]
["7. Equity method ( Includes Joint Ventures)"]
["8. All materials not part of 'bulk' e.g  road making materials, pipe, cable etc."]
["check balance",null,{"$f":"C45-'A3-FinPerf V'!C39","v":226037949.27999949},{"$f":"D45-'A3-FinPerf V'!D39","v":119880713.56},{"$f":"E45-'A3-FinPerf V'!E39","v":194692421.32000017},{"$f":"F45-'A3-FinPerf V'!F39","v":0},{"$f":"G45-'A3-FinPerf V'!G39","v":5486901},{"$f":"H45-'A3-FinPerf V'!H39","v":5486901},null,{"$f":"J45-'A3-FinPerf V'!I39","v":-1},{"$f":"K45-'A3-FinPerf V'!J39","v":11},{"$f":"L45-'A3-FinPerf V'!K39","v":10}]
[]
["Total revenue",null,{"$f":"C21+SUM(C38:C40)","v":1446202273.0599997},1427199588.8499999,1720899127.1800001,1528947877,1540462877,1540462877,1282153647.48,1700025589,1801043912,1923022397]

{"sheet":"A5-Capex","index":12,"n_rows":85,"n_cols":12,"rows_kept":85,"cut":false,"hidden":false,"merged":[[1,9,1,11],[1,5,1,8],[82,0,82,11],[77,0,77,11],[76,0,76,11],[78,0,78,11]]}
[" "]
[{"$f":"Vdesc","v":"Vote Description"},{"$f":"head27","v":"Ref"},{"$f":"head1b","v":"2018/19"},{"$f":"head1A","v":"2019/20"},{"$f":"Head1","v":"2020/21"},{"$f":"Head2","v":"Current Year 2021/22"},null,null,null,{"$f":"Head3","v":"2022/23 Medium Term Revenue & Expenditure Framework"}]
["R thousand",1,{"$f":"Head5","v":"Audited Outcome"},{"$f":"Head5","v":"Audited Outcome"},{"$f":"Head5","v":"Audited Outcome"},{"$f":"Head6","v":"Original Budget"},{"$f":"Head7","v":"Adjusted Budget"},{"$f":"Head8","v":"Full Year Forecast"},{"$f":"Head5b","v":"Pre-audit outcome"},{"$f":"Head9","v":"Budget Year 2022/23"},{"$f":"Head10","v":"Budget Year +1 2023/24"},{"$f":"Head11","v":"Budget Year +2 2024/25"}]
["Capital expenditure - Vote"]
["Multi-year expenditure  to be appropriated",2]
[{"$f":"A5A!A6","v":"Vote 01 - Speakers Office"},null,{"$f":"A5A!C6","v":0},{"$f":"A5A!D6","v":0},{"$f":"A5A!E6","v":0},{"$f":"A5A!F6","v":0},{"$f":"A5A!G6","v":0},{"$f":"A5A!H6","v":0},{"$f":"A5A!I6","v":0},{"$f":"A5A!J6","v":0},{"$f":"A5A!K6","v":0},{"$f":"A5A!L6","v":0}]
[{"$f":"A5A!A9","v":"Vote 02 - Executive Mayor's Office"},null,{"$f":"A5A!C9","v":0},{"$f":"A5A!D9","v":0},{"$f":"A5A!E9","v":0},{"$f":"A5A!F9","v":0},{"$f":"A5A!G9","v":0},{"$f":"A5A!H9","v":0},{"$f":"A5A!I9","v":0},{"$f":"A5A!J9","v":0},{"$f":"A5A!K9","v":0},{"$f":"A5A!L9","v":0}]
[{"$f":"A5A!A11","v":"Vote 03 - Municipal Manager  Office"},null,{"$f":"A5A!C11","v":0},{"$f":"A5A!D11","v":0},{"$f":"A5A!E11","v":0},{"$f":"A5A!F11","v":0},{"$f":"A5A!G11","v":0},{"$f":"A5A!H11","v":0},{"$f":"A5A!I11","v":0},{"$f":"A5A!J11","v":0},{"$f":"A5A!K11","v":0},{"$f":"A5A!L11","v":0}]
[{"$f":"A5A!A13","v":"Vote 04 - Budget And Treasury"},null,{"$f":"A5A!C13","v":0},{"$f":"A5A!D13","v":0},{"$f":"A5A!E13","v":0},{"$f":"A5A!F13","v":0},{"$f":"A5A!G13","v":0},{"$f":"A5A!H13","v":0},{"$f":"A5A!I13","v":0},{"$f":"A5A!J13","v":0},{"$f":"A5A!K13","v":0},{"$f":"A5A!L13","v":0}]
[{"$f":"A5A!A16","v":"Vote 05 - Infrustracture And Water Services"},null,{"$f":"A5A!C16","v":0},{"$f":"A5A!D16","v":0},{"$f":"A5A!E16","v":0},{"$f":"A5A!F16","v":0},{"$f":"A5A!G16","v":0},{"$f":"A5A!H16","v":0},{"$f":"A5A!I16","v":0},{"$f":"A5A!J16","v":0},{"$f":"A5A!K16","v":0},{"$f":"A5A!L16","v":0}]
[{"$f":"A5A!A20","v":"Vote 06 - Planning And Economic Development"},null,{"$f":"A5A!C20","v":0},{"$f":"A5A!D20","v":0},{"$f":"A5A!E20","v":0},{"$f":"A5A!F20","v":0},{"$f":"A5A!G20","v":0},{"$f":"A5A!H20","v":0},{"$f":"A5A!I20","v":0},{"$f":"A5A!J20","v":0},{"$f":"A5A!K20","v":0},{"$f":"A5A!L20","v":0}]
[{"$f":"A5A!A22","v":"Vote 07 - Community Services"},null,{"$f":"A5A!C22","v":0},{"$f":"A5A!D22","v":0},{"$f":"A5A!E22","v":0},{"$f":"A5A!F22","v":0},{"$f":"A5A!G22","v":0},{"$f":"A5A!H22","v":0},{"$f":"A5A!I22","v":0},{"$f":"A5A!J22","v":0},{"$f":"A5A!K22","v":0},{"$f":"A5A!L22","v":0}]
[{"$f":"A5A!A24","v":"Vote 08 - Sekhukhune Development Angancy"},null,{"$f":"A5A!C24","v":0},{"$f":"A5A!D24","v":0},{"$f":"A5A!E24","v":0},{"$f":"A5A!F24","v":0},{"$f":"A5A!G24","v":0},{"$f":"A5A!H24","v":0},{"$f":"A5A!I24","v":0},{"$f":"A5A!J24","v":0},{"$f":"A5A!K24","v":0},{"$f":"A5A!L24","v":0}]
[{"$f":"A5A!A26","v":"Vote 09 - Corporate Services"},null,{"$f":"A5A!C26","v":0},{"$f":"A5A!D26","v":0},{"$f":"A5A!E26","v":0},{"$f":"A5A!F26","v":0},{"$f":"A5A!G26","v":0},{"$f":"A5A!H26","v":0},{"$f":"A5A!I26","v":0},{"$f":"A5A!J26","v":0},{"$f":"A5A!K26","v":0},{"$f":"A5A!L26","v":0}]
[{"$f":"'Org structure'!A11","v":"Vote 10 - "},null,{"$f":"A5A!C28","v":0},{"$f":"A5A!D28","v":0},{"$f":"A5A!E28","v":0},{"$f":"A5A!F28","v":0},{"$f":"A5A!G28","v":0},{"$f":"A5A!H28","v":0},{"$f":"A5A!I28","v":0},{"$f":"A5A!J28","v":0},{"$f":"A5A!K28","v":0},{"$f":"A5A!L28","v":0}]
[{"$f":"'Org structure'!A12","v":"Vote 11 - "},null,{"$f":"A5A!C29","v":0},{"$f":"A5A!D29","v":0},{"$f":"A5A!E29","v":0},{"$f":"A5A!F29","v":0},{"$f":"A5A!G29","v":0},{"$f":"A5A!H29","v":0},{"$f":"A5A!I29","v":0},{"$f":"A5A!J29","v":0},{"$f":"A5A!K29","v":0},{"$f":"A5A!L29","v":0}]
[{"$f":"'Org structure'!A13","v":"Vote 12 - "},null,{"$f":"A5A!C30","v":0},{"$f":"A5A!D30","v":0},{"$f":"A5A!E30","v":0},{"$f":"A5A!F30","v":0},{"$f":"A5A!G30","v":0},{"$f":"A5A!H30","v":0},{"$f":"A5A!I30","v":0},{"$f":"A5A!J30","v":0},{"$f":"A5A!K30","v":0},{"$f":"A5A!L30","v":0}]
[{"$f":"'Org structure'!A14","v":"Vote 13 - "},null,{"$f":"A5A!C31","v":0},{"$f":"A5A!D31","v":0},{"$f":"A5A!E31","v":0},{"$f":"A5A!F31","v":0},{"$f":"A5A!G31","v":0},{"$f":"A5A!H31","v":0},{"$f":"A5A!I31","v":0},{"$f":"A5A!J31","v":0},{"$f":"A5A!K31","v":0},{"$f":"A5A!L31","v":0}]
[{"$f":"'Org structure'!A15","v":"Vote 14 - "},null,{"$f":"A5A!C32","v":0},{"$f":"A5A!D32","v":0},{"$f":"A5A!E32","v":0},{"$f":"A5A!F32","v":0},{"$f":"A5A!G32","v":0},{"$f":"A5A!H32","v":0},{"$f":"A5A!I32","v":0},{"$f":"A5A!J32","v":0},{"$f":"A5A!K32","v":0},{"$f":"A5A!L32","v":0}]
[{"$f":"A5A!A33","v":"Vote 15 - Other"},null,{"$f":"A5A!C33","v":0},{"$f":"A5A!D33","v":0},{"$f":"A5A!E33","v":0},{"$f":"A5A!F33","v":0},{"$f":"A5A!G33","v":0},{"$f":"A5A!H33","v":0},{"$f":"A5A!I33","v":0},{"$f":"A5A!J33","v":0},{"$f":"A5A!K33","v":0},{"$f":"A5A!L33","v":0}]
["Capital multi-year expenditure sub-total",7,{"$f":"SUM(C6:C20)","v":0},{"$f":"SUM(D6:D20)","v":0},0,0,0,{"$f":"SUM(H6:H20)","v":0},0,0,0,0]
[]
["Single-year expenditure to be appropriated",2]
[{"$f":"A5A!A39","v":"Vote 01 - Speakers Office"},null,{"$f":"A5A!C39","v":0},{"$f":"A5A!D39","v":0},{"$f":"A5A!E39","v":0},{"$f":"A5A!F39","v":0},{"$f":"A5A!G39","v":530000},{"$f":"A5A!H39","v":530000},{"$f":"A5A!I39","v":0},{"$f":"A5A!J39","v":0},{"$f":"A5A!K39","v":0},{"$f":"A5A!L39","v":0}]
[{"$f":"A5A!A42","v":"Vote 02 - Executive Mayor's Office"},null,{"$f":"A5A!C42","v":0},{"$f":"A5A!D42","v":0},{"$f":"A5A!E42","v":0},{"$f":"A5A!F42","v":0},{"$f":"A5A!G42","v":0},{"$f":"A5A!H42","v":0},{"$f":"A5A!I42","v":0},{"$f":"A5A!J42","v":0},{"$f":"A5A!K42","v":0},{"$f":"A5A!L42","v":0}]
[{"$f":"A5A!A44","v":"Vote 03 - Municipal Manager  Office"},null,{"$f":"A5A!C44","v":0},{"$f":"A5A!D44","v":0},{"$f":"A5A!E44","v":0},{"$f":"A5A!F44","v":0},{"$f":"A5A!G44","v":0},{"$f":"A5A!H44","v":0},{"$f":"A5A!I44","v":0},{"$f":"A5A!J44","v":0},{"$f":"A5A!K44","v":0},{"$f":"A5A!L44","v":0}]
[{"$f":"A5A!A46","v":"Vote 04 - Budget And Treasury"},null,{"$f":"A5A!C46","v":0},{"$f":"A5A!D46","v":0},{"$f":"A5A!E46","v":0},{"$f":"A5A!F46","v":0},{"$f":"A5A!G46","v":1000000},{"$f":"A5A!H46","v":1000000},{"$f":"A5A!I46","v":0},{"$f":"A5A!J46","v":0},{"$f":"A5A!K46","v":0},{"$f":"A5A!L46","v":0}]
[{"$f":"A5A!A49","v":"Vote 05 - Infrustracture And Water Services"},null,{"$f":"A5A!C49","v":457492910.36999995},{"$f":"A5A!D49","v":390198097.97000003},{"$f":"A5A!E49","v":429537047.58999997},{"$f":"A5A!F49","v":424001000},{"$f":"A5A!G49","v":395667708},{"$f":"A5A!H49","v":395667708},{"$f":"A5A!I49","v":253043211.15000001},{"$f":"A5A!J49","v":488656441},{"$f":"A5A!K49","v":511713530},{"$f":"A5A!L49","v":520355239}]
[{"$f":"A5A!A53","v":"Vote 06 - Planning And Economic Development"},null,{"$f":"A5A!C53","v":0},{"$f":"A5A!D53","v":0},{"$f":"A5A!E53","v":0},{"$f":"A5A!F53","v":0},{"$f":"A5A!G53","v":0},{"$f":"A5A!H53","v":0},{"$f":"A5A!I53","v":0},{"$f":"A5A!J53","v":0},{"$f":"A5A!K53","v":0},{"$f":"A5A!L53","v":0}]
[{"$f":"A5A!A55","v":"Vote 07 - Community Services"},null,{"$f":"A5A!C55","v":0},{"$f":"A5A!D55","v":0},{"$f":"A5A!E55","v":0},{"$f":"A5A!F55","v":0},{"$f":"A5A!G55","v":0},{"$f":"A5A!H55","v":0},{"$f":"A5A!I55","v":0},{"$f":"A5A!J55","v":0},{"$f":"A5A!K55","v":0},{"$f":"A5A!L55","v":0}]
[{"$f":"A5A!A57","v":"Vote 08 - Sekhukhune Development Angancy"},null,{"$f":"A5A!C57","v":0},{"$f":"A5A!D57","v":0},{"$f":"A5A!E57","v":0},{"$f":"A5A!F57","v":0},{"$f":"A5A!G57","v":0},{"$f":"A5A!H57","v":0},{"$f":"A5A!I57","v":0},{"$f":"A5A!J57","v":550000},{"$f":"A5A!K57","v":0},{"$f":"A5A!L57","v":0}]
[{"$f":"A5A!A59","v":"Vote 09 - Corporate Services"},null,{"$f":"A5A!C59","v":0},{"$f":"A5A!D59","v":0},{"$f":"A5A!E59","v":0},{"$f":"A5A!F59","v":0},{"$f":"A5A!G59","v":200000},{"$f":"A5A!H59","v":200000},{"$f":"A5A!I59","v":0},{"$f":"A5A!J59","v":0},{"$f":"A5A!K59","v":0},{"$f":"A5A!L59","v":0}]
[{"$f":"'Org structure'!A11","v":"Vote 10 - "},null,{"$f":"A5A!C61","v":0},{"$f":"A5A!D61","v":0},{"$f":"A5A!E61","v":0},{"$f":"A5A!F61","v":0},{"$f":"A5A!G61","v":0},{"$f":"A5A!H61","v":0},{"$f":"A5A!I61","v":0},{"$f":"A5A!J61","v":0},{"$f":"A5A!K61","v":0},{"$f":"A5A!L61","v":0}]
[{"$f":"'Org structure'!A12","v":"Vote 11 - "},null,{"$f":"A5A!C62","v":0},{"$f":"A5A!D62","v":0},{"$f":"A5A!E62","v":0},{"$f":"A5A!F62","v":0},{"$f":"A5A!G62","v":0},{"$f":"A5A!H62","v":0},{"$f":"A5A!I62","v":0},{"$f":"A5A!J62","v":0},{"$f":"A5A!K62","v":0},{"$f":"A5A!L62","v":0}]
[{"$f":"'Org structure'!A13","v":"Vote 12 - "},null,{"$f":"A5A!C63","v":0},{"$f":"A5A!D63","v":0},{"$f":"A5A!E63","v":0},{"$f":"A5A!F63","v":0},{"$f":"A5A!G63","v":0},{"$f":"A5A!H63","v":0},{"$f":"A5A!I63","v":0},{"$f":"A5A!J63","v":0},{"$f":"A5A!K63","v":0},{"$f":"A5A!L63","v":0}]
[{"$f":"'Org structure'!A14","v":"Vote 13 - "},null,{"$f":"A5A!C64","v":0},{"$f":"A5A!D64","v":0},{"$f":"A5A!E64","v":0},{"$f":"A5A!F64","v":0},{"$f":"A5A!G64","v":0},{"$f":"A5A!H64","v":0},{"$f":"A5A!I64","v":0},{"$f":"A5A!J64","v":0},{"$f":"A5A!K64","v":0},{"$f":"A5A!L64","v":0}]
[{"$f":"'Org structure'!A15","v":"Vote 14 - "},null,{"$f":"A5A!C65","v":0},{"$f":"A5A!D65","v":0},{"$f":"A5A!E65","v":0},{"$f":"A5A!F65","v":0},{"$f":"A5A!G65","v":0},{"$f":"A5A!H65","v":0},{"$f":"A5A!I65","v":0},{"$f":"A5A!J65","v":0},{"$f":"A5A!K65","v":0},{"$f":"A5A!L65","v":0}]
[{"$f":"A5A!A66","v":"Vote 15 - Other"},null,{"$f":"A5A!C66","v":0},{"$f":"A5A!D66","v":0},{"$f":"A5A!E66","v":0},{"$f":"A5A!F66","v":0},{"$f":"A5A!G66","v":0},{"$f":"A5A!H66","v":0},{"$f":"A5A!I66","v":0},{"$f":"A5A!J66","v":0},{"$f":"A5A!K66","v":0},{"$f":"A5A!L66","v":0}]
["Capital single-year expenditure sub-total",null,{"$f":"SUM(C24:C38)","v":457492910.36999995},{"$f":"SUM(D24:D38)","v":390198097.97000003},429537047.58999997,424001000,397397708,397397708,253043211.15000001,489206441,511713530,520355239]
["Total Capital Expenditure - Vote",null,{"$f":"C39+C21","v":457492910.36999995},{"$f":"D39+D21","v":390198097.97000003},429537047.58999997,424001000,397397708,397397708,253043211.15000001,489206441,511713530,520355239]
[]
["Capital Expenditure - Functional"]
["Governance and administration",null,{"$f":"SUM(C44:C46)","v":0},{"$f":"SUM(D44:D46)","v":0},0,0,1730000,1730000,0,0,0,0]
["Executive and council",null,0,0,0,0,530000,530000,0,0,0,0]
["Finance and administration",null,0,0,0,0,1200000,1200000,0,0,0,0]
["Internal audit"]
["Community and public safety",null,{"$f":"SUM(C48:C52)","v":0},{"$f":"SUM(D48:D52)","v":0},0,0,0,0,0,0,0,0]
["Community and social services"]
["Sport and recreation"]
["Public safety"]
["Housing"]
["Health"]
["Economic and environmental services",null,{"$f":"SUM(C54:C56)","v":0},{"$f":"SUM(D54:D56)","v":0},0,0,0,0,0,550000,0,0]
["Planning and development",null,0,0,0,0,0,0,0,550000,0,0]
["Road transport"]
["Environmental protection"]
["Trading services",null,{"$f":"SUM(C58:C61)","v":457492910.36999995},{"$f":"SUM(D58:D61)","v":390198097.97000003},429537047.58999997,424001000,395667708,395667708,253043211.15000001,488656441,511713530,520355239]
["Energy sources"]
["Water management",null,446548116.33999997,390198097.97000003,429537047.58999997,424001000,395667708,395667708,253043211.15000001,488656441,511713530,520355239]
["Waste water management",null,10944794.029999999,0,0,0,0,0,0,0,0,0]
["Waste management"]
["Other"]
["Total Capital Expenditure - Functional",3,{"$f":"C43+C47+C53+C57+C62","v":457492910.36999995},{"$f":"D43+D47+D53+D57+D62","v":390198097.97000003},429537047.58999997,424001000,397397708,397397708,253043211.15000001,489206441,511713530,{"$f":"L43+L47+L53+L57+L62","v":520355239}]
[]
["Funded by:"]
["National Government",null,449103607.43000001,386878394.88,400327020.75999999,415901000,379617708,379617708,244894146.47,469076441,501682010,512086000]
["Provincial Government"]
["District Municipality"]
[{"$f":"'A4-FinPerf RE'!A39","v":"Transfers and subsidies - capital (monetary allocations) (National / Provincial Departmental Agencies, Households, Non-profit Institutions, Private Enterprises, Public Corporatons, Higher Educational Institutions)"}]
["Transfers recognised - capital",4,{"$f":"SUM(C66:C69)","v":449103607.43000001},386878394.88,400327020.75999999,415901000,379617708,379617708,244894146.47,469076441,501682010,512086000]
[]
["Borrowing",6]
["Internally generated funds",null,8740883.9000000004,3319703.09,29210026.829999998,8100000,17780000,17780000,8149064.6799999997,20130000,10031520,8269239]
["Total Capital Funding",7,{"$f":"+C70+C72+C73","v":457844491.32999998},{"$f":"+D70+D72+D73","v":390198097.96999997},429537047.58999997,424001000,397397708,397397708,253043211.15000001,489206441,511713530,520355239]
[{"$f":"head27a","v":"References"}]
["1. Municipalities may choose to appropriate for capital expenditure for three years or for one year (if one year appropriation projected expenditure required for yr2 and yr3)."]
["2. Include capital component of PPP unitary payment. Note that capital transfers are only appropriated to municipalities for the budget year"]
["3. Capital expenditure by functional classification must reconcile to the appropriations by vote"]
["4. Must reconcile to supporting table SA20 and to Budgeted Financial Performance (revenue and expenditure)"]
[]
["6. Include finance leases and PPP capital funding component of unitary payment - total borrowing/repayments to reconcile to changes in Table SA17"]
["7. Total Capital Funding must balance with Total Capital Expenditure"]
["8. Include any capitalised interest (MFMA section 46) as part of relevant capital budget"]
[]
["check balance",null,{"$f":"IF((C63-C74)=0,0,\"Unbalanced\")","v":"Unbalanced"},{"$f":"IF((D63-D74)=0,0,\"Unbalanced\")","v":"Unbalanced"},0,0,0,0,0,0,0,0]

{"sheet":"A5A","index":13,"n_rows":69,"n_cols":24,"rows_kept":69,"cut":false,"hidden":false,"merged":[[1,5,1,8],[1,9,1,11],[1,13,1,16],[1,17,1,20],[1,21,1,23]]}
[{"$f":"muni&\" - \"&Approve5","v":"DC47 Sekhukhune - Table A5 Budgeted Capital Expenditure by vote, functional classification and funding"}]
[{"$f":"Vdesc","v":"Vote Description"},{"$f":"head27","v":"Ref"},{"$f":"head1b","v":"2018/19"},{"$f":"head1A","v":"2019/20"},{"$f":"Head1","v":"2020/21"},{"$f":"Head2","v":"Current Year 2021/22"},null,null,null,{"$f":"Head3","v":"2022/23 Medium Term Revenue & Expenditure Framework"},null,null,null,{"$f":"\"Multi-year appropriation for \"&Head9&\n\"\n in the \"&Head2A&\" Annual Budget\"","v":"Multi-year appropriation for Budget Year 2022/23\n in the 2021/22 Annual Budget"},null,null,null,{"$f":"\"Multi-year appropriation for \"&RIGHT(Head10,7)&\n\"\n in the \"&Head2A&\" Annual Budget\"","v":"Multi-year appropriation for 2023/24\n in the 2021/22 Annual Budget"},null,null,null,"New multi-year appropriations \n(funds for new and existing projects) "]
["R thousand",1,{"$f":"Head5","v":"Audited Outcome"},{"$f":"Head5","v":"Audited Outcome"},{"$f":"Head5","v":"Audited Outcome"},{"$f":"Head6","v":"Original Budget"},{"$f":"Head7","v":"Adjusted Budget"},{"$f":"Head8","v":"Full Year Forecast"},{"$f":"Head5b","v":"Pre-audit outcome"},{"$f":"Head9","v":"Budget Year 2022/23"},{"$f":"Head10","v":"Budget Year +1 2023/24"},{"$f":"Head11","v":"Budget Year +2 2024/25"},null,{"$f":"\"Appropriation for \"&RIGHT(Head9,7)","v":"Appropriation for 2022/23"},{"$f":"\"Adjustments in \"&Head2A","v":"Adjustments in 2021/22"},{"$f":"\"Downward adjustments for \"&RIGHT(Head9,7)","v":"Downward adjustments for 2022/23"},"Appropriation carried forward",{"$f":"\"Appropriation for \"&RIGHT(Head9,7)","v":"Appropriation for 2022/23"},{"$f":"\"Adjustments in \"&Head2A","v":"Adjustments in 2021/22"},{"$f":"\"Downward adjustments for \"&RIGHT(Head9,7)","v":"Downward adjustments for 2022/23"},"Appropriation carried forward",{"$f":"Head9","v":"Budget Year 2022/23"},{"$f":"Head10","v":"Budget Year +1 2023/24"},{"$f":"Head11","v":"Budget Year +2 2024/25"}]
["Capital expenditure - Municipal Vote"]
["Multi-year expenditure appropriation",2]
[{"$f":"'Org structure'!A2","v":"Vote 01 - Speakers Office"},null,{"$f":"SUM(C7:C8)","v":0},0,0,0,0,0,0,0,0,0,null,{"$f":"SUM(N7:N8)","v":0},0,0,0,0,0,0,0,0,0,0]
[{"$f":"'Org structure'!E3","v":"01.1 - Office Of The Speaker"},null,0,0,0,0,0,0,0,{"$f":"Q7+V7","v":0},{"$f":"U7+W7","v":0},{"$f":"X7","v":0},null,0,0,0,{"$f":"SUM(N7:P7)","v":0},0,0,0,{"$f":"SUM(R7:T7)","v":0},0,0,0]
[{"$f":"'Org structure'!E4","v":"01.2 - Office Of The Chief Whip"},null,0,0,0,0,0,0,0,{"$f":"Q8+V8","v":0},{"$f":"U8+W8","v":0},{"$f":"X8","v":0},null,0,0,0,{"$f":"SUM(N8:P8)","v":0},0,0,0,{"$f":"SUM(R8:T8)","v":0},0,0,0]
[{"$f":"'Org structure'!A3","v":"Vote 02 - Executive Mayor's Office"},null,{"$f":"SUM(C10:C10)","v":0},0,0,0,0,0,0,0,0,0,null,{"$f":"SUM(N10:N10)","v":0},0,0,0,0,0,0,0,0,0,0]
[{"$f":"'Org structure'!E6","v":"02.1 - Executive Mayor's Office"},null,0,0,0,0,0,0,0,{"$f":"Q10+V10","v":0},{"$f":"U10+W10","v":0},{"$f":"X10","v":0},null,0,0,0,{"$f":"SUM(N10:P10)","v":0},0,0,0,{"$f":"SUM(R10:T10)","v":0},0,0,0]
[{"$f":"'Org structure'!A4","v":"Vote 03 - Municipal Manager  Office"},null,{"$f":"SUM(C12:C12)","v":0},0,0,0,0,0,0,0,0,0,null,{"$f":"SUM(N12:N12)","v":0},0,0,0,0,0,0,0,0,0,0]
[{"$f":"'Org structure'!E8","v":"03.1 - Municipal Manager Admin"},null,0,0,0,0,0,0,0,{"$f":"Q12+V12","v":0},{"$f":"U12+W12","v":0},{"$f":"X12","v":0},null,0,0,0,{"$f":"SUM(N12:P12)","v":0},0,0,0,{"$f":"SUM(R12:T12)","v":0},0,0,0]
[{"$f":"'Org structure'!A5","v":"Vote 04 - Budget And Treasury"},null,{"$f":"SUM(C14:C15)","v":0},0,0,0,0,0,0,0,0,0,null,{"$f":"SUM(N14:N15)","v":0},0,0,0,0,0,0,0,0,0,0]
[{"$f":"'Org structure'!E10","v":"04.1 - Budget & Treasury Admin"},null,0,0,0,0,0,0,0,{"$f":"Q14+V14","v":0},{"$f":"U14+W14","v":0},{"$f":"X14","v":0},null,0,0,0,{"$f":"SUM(N14:P14)","v":0},0,0,0,{"$f":"SUM(R14:T14)","v":0},0,0,0]
[{"$f":"'Org structure'!E11","v":"04.2 - Budget & Treasury Admin"},null,0,0,0,0,0,0,0,{"$f":"Q15+V15","v":0},{"$f":"U15+W15","v":0},{"$f":"X15","v":0},null,0,0,0,{"$f":"SUM(N15:P15)","v":0},0,0,0,{"$f":"SUM(R15:T15)","v":0},0,0,0]
[{"$f":"'Org structure'!A6","v":"Vote 05 - Infrustracture And Water Services"},null,{"$f":"SUM(C17:C19)","v":0},0,0,0,0,0,0,0,0,0,null,{"$f":"SUM(N17:N19)","v":0},0,0,0,0,0,0,0,0,0,0]
[{"$f":"'Org structure'!E13","v":"05.1 - Technical Services Admin"},null,0,0,0,0,0,0,0,{"$f":"Q17+V17","v":0},{"$f":"U17+W17","v":0},{"$f":"X17","v":0},null,0,0,0,{"$f":"SUM(N17:P17)","v":0},0,0,0,{"$f":"SUM(R17:T17)","v":0},0,0,0]
[{"$f":"'Org structure'!E14","v":"05.2 - Water Services"},null,0,0,0,0,0,0,0,{"$f":"Q18+V18","v":0},{"$f":"U18+W18","v":0},{"$f":"X18","v":0},null,0,0,0,{"$f":"SUM(N18:P18)","v":0},0,0,0,{"$f":"SUM(R18:T18)","v":0},0,0,0]
[{"$f":"'Org structure'!E15","v":"05.3 - Sanitation Services"},null,0,0,0,0,0,0,0,{"$f":"Q19+V19","v":0},{"$f":"U19+W19","v":0},{"$f":"X19","v":0},null,0,0,0,{"$f":"SUM(N19:P19)","v":0},0,0,0,{"$f":"SUM(R19:T19)","v":0},0,0,0]
[{"$f":"'Org structure'!A7","v":"Vote 06 - Planning And Economic Development"},null,{"$f":"SUM(C21:C21)","v":0},0,0,0,0,0,0,0,0,0,null,{"$f":"SUM(N21:N21)","v":0},0,0,0,0,0,0,0,0,0,0]
[{"$f":"'Org structure'!E17","v":"06.1 - Planning & Economic Dev Admin"},null,0,0,0,0,0,0,0,{"$f":"Q21+V21","v":0},{"$f":"U21+W21","v":0},{"$f":"X21","v":0},null,0,0,0,{"$f":"SUM(N21:P21)","v":0},0,0,0,{"$f":"SUM(R21:T21)","v":0},0,0,0]
[{"$f":"'Org structure'!A8","v":"Vote 07 - Community Services"},null,{"$f":"SUM(C23:C23)","v":0},0,0,0,0,0,0,0,0,0,null,{"$f":"SUM(N23:N23)","v":0},0,0,0,0,0,0,0,0,0,0]
[{"$f":"'Org structure'!E19","v":"07.1 - Community Services Admin"},null,0,0,0,0,0,0,0,{"$f":"Q23+V23","v":0},{"$f":"U23+W23","v":0},{"$f":"X23","v":0},null,0,0,0,{"$f":"SUM(N23:P23)","v":0},0,0,0,{"$f":"SUM(R23:T23)","v":0},0,0,0]
[{"$f":"'Org structure'!A9","v":"Vote 08 - Sekhukhune Development Angancy"},null,{"$f":"SUM(C25:C25)","v":0},0,0,0,0,0,0,0,0,0,null,{"$f":"SUM(N25:N25)","v":0},0,0,0,0,0,0,0,0,0,0]
[{"$f":"'Org structure'!E21","v":"08.1 - Sekhukhune Development Agency"},null,0,0,0,0,0,0,0,{"$f":"Q25+V25","v":0},{"$f":"U25+W25","v":0},{"$f":"X25","v":0},null,0,0,0,{"$f":"SUM(N25:P25)","v":0},0,0,0,{"$f":"SUM(R25:T25)","v":0},0,0,0]
[{"$f":"'Org structure'!A10","v":"Vote 09 - Corporate Services"},null,{"$f":"SUM(C27:C27)","v":0},0,0,0,0,0,0,0,0,0,null,{"$f":"SUM(N27:N27)","v":0},0,0,0,0,0,0,0,0,0,0]
[{"$f":"'Org structure'!E23","v":"09.1 - Corporate Services Admin"},null,0,0,0,0,0,0,0,{"$f":"Q27+V27","v":0},{"$f":"U27+W27","v":0},{"$f":"X27","v":0},null,0,0,0,{"$f":"SUM(N27:P27)","v":0},0,0,0,{"$f":"SUM(R27:T27)","v":0},0,0,0]
[{"$f":"'Org structure'!A11","v":"Vote 10 - "},null,0,0,0,0,0,0,0,0,0,0,null,0,0,0,0,0,0,0,0,0,0,{"$error":"#N/A"}]
[{"$f":"'Org structure'!A12","v":"Vote 11 - "},null,0,0,0,0,0,0,0,0,0,0,null,0,0,0,0,0,0,0,0,0,0,{"$error":"#N/A"}]
[{"$f":"'Org structure'!A13","v":"Vote 12 - "},null,0,0,0,0,0,0,0,0,0,0,null,0,0,0,0,0,0,0,0,0,0,{"$error":"#N/A"}]
[{"$f":"'Org structure'!A14","v":"Vote 13 - "},null,0,0,0,0,0,0,0,0,0,0,null,0,0,0,0,0,0,0,0,0,0,{"$error":"#N/A"}]
[{"$f":"'Org structure'!A15","v":"Vote 14 - "},null,0,0,0,0,0,0,0,0,0,0,null,0,0,0,0,0,0,0,0,0,0,{"$error":"#N/A"}]
[{"$f":"'Org structure'!A16","v":"Vote 15 - Other"},null,{"$f":"SUM(C34:C34)","v":0},0,0,0,0,0,0,0,0,0,null,{"$f":"SUM(N34:N34)","v":0},0,0,0,0,0,0,0,0,0,0]
[{"$f":"'Org structure'!E30","v":"15.1 - Electricity Reporting Function"},null,0,0,0,0,0,0,0,{"$f":"Q34+V34","v":0},{"$f":"U34+W34","v":0},{"$f":"X34","v":0},null,0,0,0,{"$f":"SUM(N34:P34)","v":0},0,0,0,{"$f":"SUM(R34:T34)","v":0},0,0,0]
["Capital multi-year expenditure sub-total",null,{"$f":"C6+C9+C11+C13+C16+C20+C22+C24+C26+C28+C29+C30+C31+C32+C33","v":0},0,0,0,0,0,0,0,0,0,null,{"$f":"N6+N9+N11+N13+N16+N20+N22+N24+N26+N28+N29+N30+N31+N32+N33","v":0},0,0,0,0,0,0,0,0,0,{"$error":"#N/A"}]
[]
["Capital expenditure - Municipal Vote"]
["Single-year expenditure appropriation",2]
[{"$f":"'Org structure'!A2","v":"Vote 01 - Speakers Office"},null,{"$f":"SUM(C40:C41)","v":0},0,0,0,530000,530000,0,0,0,0]
[{"$f":"'Org structure'!E3","v":"01.1 - Office Of The Speaker"},null,0,0,0,0,530000,530000,0,0,0,0]
[{"$f":"'Org structure'!E4","v":"01.2 - Office Of The Chief Whip"},null,0,0,0,0,0,0,0,0,0,0]
[{"$f":"'Org structure'!A3","v":"Vote 02 - Executive Mayor's Office"},null,{"$f":"SUM(C43:C43)","v":0},0,0,0,0,0,0,0,0,0]
[{"$f":"'Org structure'!E6","v":"02.1 - Executive Mayor's Office"},null,0,0,0,0,0,0,0,0,0,0]
[{"$f":"'Org structure'!A4","v":"Vote 03 - Municipal Manager  Office"},null,{"$f":"SUM(C45:C45)","v":0},0,0,0,0,0,0,0,0,0]
[{"$f":"'Org structure'!E8","v":"03.1 - Municipal Manager Admin"},null,0,0,0,0,0,0,0,0,0,0]
[{"$f":"'Org structure'!A5","v":"Vote 04 - Budget And Treasury"},null,{"$f":"SUM(C47:C48)","v":0},0,0,0,1000000,1000000,0,0,0,0]
[{"$f":"'Org structure'!E10","v":"04.1 - Budget & Treasury Admin"},null,0,0,0,0,0,0,0,0,0,0]
[{"$f":"'Org structure'!E11","v":"04.2 - Budget & Treasury Admin"},null,0,0,0,0,1000000,1000000,0,0,0,0]
[{"$f":"'Org structure'!A6","v":"Vote 05 - Infrustracture And Water Services"},null,{"$f":"SUM(C50:C52)","v":457492910.36999995},390198097.97000003,429537047.58999997,424001000,395667708,395667708,253043211.15000001,488656441,511713530,520355239]
[{"$f":"'Org structure'!E13","v":"05.1 - Technical Services Admin"},null,0,0,0,0,0,0,0,0,0,0]
[{"$f":"'Org structure'!E14","v":"05.2 - Water Services"},null,446548116.33999997,390198097.97000003,429537047.58999997,424001000,395667708,395667708,253043211.15000001,488656441,511713530,520355239]
[{"$f":"'Org structure'!E15","v":"05.3 - Sanitation Services"},null,10944794.029999999,0,0,0,0,0,0,0,0,0]
[{"$f":"'Org structure'!A7","v":"Vote 06 - Planning And Economic Development"},null,{"$f":"SUM(C54:C54)","v":0},0,0,0,0,0,0,0,0,0]
[{"$f":"'Org structure'!E17","v":"06.1 - Planning & Economic Dev Admin"},null,0,0,0,0,0,0,0,0,0,0]
[{"$f":"'Org structure'!A8","v":"Vote 07 - Community Services"},null,{"$f":"SUM(C56:C56)","v":0},0,0,0,0,0,0,0,0,0]
[{"$f":"'Org structure'!E19","v":"07.1 - Community Services Admin"},null,0,0,0,0,0,0,0,0,0,0]
[{"$f":"'Org structure'!A9","v":"Vote 08 - Sekhukhune Development Angancy"},null,{"$f":"SUM(C58:C58)","v":0},0,0,0,0,0,0,550000,0,0]
[{"$f":"'Org structure'!E21","v":"08.1 - Sekhukhune Development Agency"},null,0,0,0,0,0,0,0,550000,0,0]
[{"$f":"'Org structure'!A10","v":"Vote 09 - Corporate Services"},null,{"$f":"SUM(C60:C60)","v":0},0,0,0,200000,200000,0,0,0,0]
[{"$f":"'Org structure'!E23","v":"09.1 - Corporate Services Admin"},null,0,0,0,0,200000,200000,0,0,0,0]
[{"$f":"'Org structure'!A11","v":"Vote 10 - "},null,0,0,0,0,0,0,0,0,0,0]
[{"$f":"'Org structure'!A12","v":"Vote 11 - "},null,0,0,0,0,0,0,0,0,0,0]
[{"$f":"'Org structure'!A13","v":"Vote 12 - "},null,0,0,0,0,0,0,0,0,0,0]
[{"$f":"'Org structure'!A14","v":"Vote 13 - "},null,0,0,0,0,0,0,0,0,0,0]
[{"$f":"'Org structure'!A15","v":"Vote 14 - "},null,0,0,0,0,0,0,0,0,0,0]
[{"$f":"'Org structure'!A16","v":"Vote 15 - Other"},null,{"$f":"SUM(C67:C67)","v":0},0,0,0,0,0,0,0,0,0]
[{"$f":"'Org structure'!E30","v":"15.1 - Electricity Reporting Function"},null,0,0,0,0,0,0,0,0,0,0]
["Capital single-year expenditure sub-total",null,{"$f":"C39+C42+C44+C46+C49+C53+C55+C57+C59+C61+C62+C63+C64+C65+C66","v":457492910.36999995},390198097.97000003,429537047.58999997,424001000,397397708,397397708,253043211.15000001,489206441,511713530,520355239]
["Total Capital Expenditure",null,{"$f":"C35+C68","v":457492910.36999995},390198097.97000003,429537047.58999997,424001000,397397708,397397708,253043211.15000001,489206441,511713530,520355239]

{"sheet":"A6-FinPos","index":15,"n_rows":55,"n_cols":12,"rows_kept":55,"cut":false,"hidden":false,"merged":[[49,0,49,11],[1,9,1,11],[1,5,1,8]]}
[{"$f":"muni&\" - \"&Approve6","v":"DC47 Sekhukhune - Table A6 Budgeted Financial Position"}]
[{"$f":"desc","v":"Description"},{"$f":"head27","v":"Ref"},{"$f":"head1b","v":"2018/19"},{"$f":"head1A","v":"2019/20"},{"$f":"Head1","v":"2020/21"},{"$f":"Head2","v":"Current Year 2021/22"},null,null,null,{"$f":"Head3","v":"2022/23 Medium Term Revenue & Expenditure Framework"}]
["R thousand",null,{"$f":"Head5","v":"Audited Outcome"},{"$f":"Head5","v":"Audited Outcome"},{"$f":"Head5","v":"Audited Outcome"},{"$f":"Head6","v":"Original Budget"},{"$f":"Head7","v":"Adjusted Budget"},{"$f":"Head8","v":"Full Year Forecast"},{"$f":"Head5b","v":"Pre-audit outcome"},{"$f":"Head9","v":"Budget Year 2022/23"},{"$f":"Head10","v":"Budget Year +1 2023/24"},{"$f":"Head11","v":"Budget Year +2 2024/25"}]
["ASSETS"]
["Current assets"]
["Cash",null,12159793.68,30716411.77,-195634778.15000001,236446215,310562840,310562840,-99405950.799999997,171870583,234311689,312993514]
["Call investment deposits",1,1000,149981333,149981333,1000,1000,1000,149981333,100001000,110001000,120001000]
["Consumer debtors",1,{"$f":"'SA3'!C14","v":119368458.68999998},{"$f":"'SA3'!D14","v":124776034.10999998},{"$f":"'SA3'!E14","v":171682891.29000002},{"$f":"'SA3'!F14","v":120558740},{"$f":"'SA3'!G14","v":101738067},{"$f":"'SA3'!H14","v":101738067},{"$f":"'SA3'!I14","v":228644461.44},{"$f":"'SA3'!J14","v":94223040},{"$f":"'SA3'!K14","v":91582263},{"$f":"'SA3'!L14","v":78527028}]
["Other debtors",null,88872615.689999998,109534831.23999999,153275481.52000001,92568313,92568313,92568313,181766748.53,92568313,92568313,92568313]
["Current portion of long-term receivables"]
["Inventory",2,{"$f":"'SA3'!C115","v":22284008.969999999},{"$f":"'SA3'!D115","v":31911340.999999996},{"$f":"'SA3'!E115","v":31592448.479999997},{"$f":"'SA3'!F115","v":31772947.479999989},{"$f":"'SA3'!G115","v":204224955.47999999},{"$f":"'SA3'!H115","v":204224955.47999999},{"$f":"'SA3'!I115","v":38321123.060000002},{"$f":"'SA3'!J115","v":265245375.48000002},{"$f":"'SA3'!K115","v":416966316.48000002},{"$f":"'SA3'!L115","v":562021951.48000002}]
["Total current assets",null,{"$f":"SUM(C6:C11)","v":242685877.02999997},446919951.12,310897376.14000005,481347215.48000002,709095175.48000002,709095175.48000002,499307715.22999996,723908311.48000002,945429581.48000002,1166111806.48]
[]
["Non current assets"]
["Long-term receivables"]
["Investments",null,58868291.990000002,-118292482.77,-128643590.95999999,0,0,0,490948084.26999998,0,0,0]
["Investment property"]
["Investment in Associate"]
["Property, plant and equipment",3,{"$f":"'SA3'!C121","v":3359050058.7200003},{"$f":"'SA3'!D121","v":3671056251.9399996},{"$f":"'SA3'!E121","v":4010823539.29},{"$f":"'SA3'!F121","v":3713221145},{"$f":"'SA3'!G121","v":3677517853},{"$f":"'SA3'!H121","v":3677517853},{"$f":"'SA3'!I121","v":4263866750.4400005},{"$f":"'SA3'!J121","v":3772526586},{"$f":"'SA3'!K121","v":3795033675},{"$f":"'SA3'!L121","v":3819015492}]
[]
["Biological"]
["Intangible",null,0,0,0,0,0,0,0,0,0,0]
["Other non-current assets",null,0,0,0,0,0,0,0,0,0,0]
["Total non current assets",null,{"$f":"SUM(C15:C19)+SUM(C21:C23)","v":3417918350.71},{"$f":"SUM(D15:D19)+SUM(D21:D23)","v":3552763769.1699996},3882179948.3299999,3713221145,3677517853,3677517853,4754814834.710001,3772526586,3795033675,3819015492]
["TOTAL ASSETS",null,{"$f":"C12+C24","v":3660604227.7399998},{"$f":"D12+D24","v":3999683720.2899995},{"$f":"E12+E24","v":4193077324.4699998},{"$f":"F12+F24","v":4194568360.48},4386613028.4799995,4386613028.4799995,5254122549.9400005,4496434897.4799995,4740463256.4799995,4985127298.4799995]
[]
["LIABILITIES"]
["Current liabilities"]
["Bank overdraft",1]
["Borrowing",4,{"$f":"'SA3'!C127","v":0},{"$f":"'SA3'!D127","v":0},{"$f":"'SA3'!E127","v":0},{"$f":"'SA3'!F127","v":0},{"$f":"'SA3'!G127","v":0},{"$f":"'SA3'!H127","v":0},{"$f":"'SA3'!I127","v":0},{"$f":"'SA3'!J127","v":0},{"$f":"'SA3'!K127","v":0},{"$f":"'SA3'!L127","v":0}]
["Consumer deposits",null,4209179.54,4371415.42,4624378.95,4314762,4314762,4314762,4858764.04,4314762,4314762,4314762]
["Trade and other payables",4,{"$f":"'SA3'!C134","v":485233909.01000005},{"$f":"'SA3'!D134","v":513636524.26999998},{"$f":"'SA3'!E134","v":717585621.34000003},{"$f":"'SA3'!F134","v":220000000},{"$f":"'SA3'!G134","v":277003045},{"$f":"'SA3'!H134","v":277003045},{"$f":"'SA3'!I134","v":704157674.29000008},{"$f":"'SA3'!J134","v":274289515},{"$f":"'SA3'!K134","v":294747365},{"$f":"'SA3'!L134","v":437056395}]
["Provisions",null,0,0,0,0,0,0,0,0,0,0]
["Total current liabilities",null,{"$f":"SUM(C29:C33)","v":489443088.55000007},518007939.69,722210000.29000008,224314762,281317807,281317807,709016438.33000004,278604277,299062127,441371157]
[]
["Non current liabilities"]
["Borrowing",null,{"$f":"'SA3'!C139","v":1227561.1599999999},{"$f":"'SA3'!D139","v":3322476.83},{"$f":"'SA3'!E139","v":3822340.19},{"$f":"'SA3'!F139","v":0},{"$f":"'SA3'!G139","v":0},{"$f":"'SA3'!H139","v":0},{"$f":"'SA3'!I139","v":3822340.19},{"$f":"'SA3'!J139","v":0},{"$f":"'SA3'!K139","v":0},{"$f":"'SA3'!L139","v":0}]
["Provisions",null,{"$f":"'SA3'!C146","v":51802525.920000002},{"$f":"'SA3'!D146","v":50185766.670000002},{"$f":"'SA3'!E146","v":58971647.670000002},{"$f":"'SA3'!F146","v":51802526},{"$f":"'SA3'!G146","v":51802526},{"$f":"'SA3'!H146","v":51802526},{"$f":"'SA3'!I146","v":58971647.670000002},{"$f":"'SA3'!J146","v":51802526},{"$f":"'SA3'!K146","v":51802526},{"$f":"'SA3'!L146","v":51802526}]
["Total non current liabilities",null,{"$f":"SUM(C37:C38)","v":53030087.079999998},{"$f":"SUM(D37:D38)","v":53508243.5},{"$f":"SUM(E37:E38)","v":62793987.859999999},{"$f":"SUM(F37:F38)","v":51802526},51802526,51802526,62793987.859999999,51802526,{"$f":"SUM(K37:K38)","v":51802526},51802526]
["TOTAL LIABILITIES",null,{"$f":"C34+C39","v":542473175.63000011},{"$f":"D34+D39","v":571516183.19000006},{"$f":"E34+E39","v":785003988.1500001},{"$f":"F34+F39","v":276117288},333120333,333120333,771810426.19000006,330406803,{"$f":"K34+K39","v":350864653},493173683]
[]
["NET ASSETS",5,{"$f":"C25-C40","v":3118131052.1099997},3428167537.0999994,3408073336.3199997,3918451072.48,4053492695.4799995,4053492695.4799995,4482312123.75,4166028094.4799995,4389598603.4799995,4491953615.4799995]
[]
["COMMUNITY WEALTH/EQUITY"]
["Accumulated Surplus/(Deficit)",null,{"$f":"'SA3'!C158","v":3344127597.8799996},{"$f":"'SA3'!D158","v":3565196820.5200005},{"$f":"'SA3'!E158","v":4147224907.8000002},{"$f":"'SA3'!F158","v":4010275759},{"$f":"'SA3'!G158","v":4020961505},{"$f":"'SA3'!H158","v":4020961505},{"$f":"'SA3'!I158","v":4551981402.0299997},{"$f":"'SA3'!J158","v":4085220273},{"$f":"'SA3'!K158","v":4247770374},{"$f":"'SA3'!L158","v":4198404444}]
["Reserves",4,{"$f":"'SA3'!C165","v":0},{"$f":"'SA3'!D165","v":0},{"$f":"'SA3'!E165","v":0},{"$f":"'SA3'!F165","v":0},{"$f":"'SA3'!G165","v":0},{"$f":"'SA3'!H165","v":0},{"$f":"'SA3'!I165","v":0},{"$f":"'SA3'!J165","v":0},{"$f":"'SA3'!K165","v":0},{"$f":"'SA3'!L165","v":0}]
[]
["TOTAL COMMUNITY WEALTH/EQUITY",5,{"$f":"SUM(C45:C46)","v":3344127597.8799996},{"$f":"SUM(D45:D46)","v":3565196820.5200005},4147224907.8000002,4010275759,4020961505,4020961505,4551981402.0299997,4085220273,4247770374,4198404444]
[{"$f":"head27a","v":"References"}]
["1. Detail to be provided in Table SA3"]
["2. Include completed low cost housing to be transferred to beneficiaries within 12 months"]
["3. Include 'Construction-work-in-progress' (disclosed separately in annual financial statements)"]
["4. Detail to be provided in Table SA3. Includes reserves to be funded by statute."]
["5. Net assets must balance with Total Community Wealth/Equity"]
["check balance",null,{"$f":"IF((C42-C48)=0,0,\"Unbalanced\")","v":"Unbalanced"},{"$f":"IF((D42-D48)=0,0,\"Unbalanced\")","v":"Unbalanced"},"Unbalanced","Unbalanced","Unbalanced","Unbalanced","Unbalanced","Unbalanced","Unbalanced","Unbalanced"]

{"sheet":"A7-CFlow","index":16,"n_rows":51,"n_cols":12,"rows_kept":51,"cut":false,"hidden":false,"merged":[[1,9,1,11],[1,5,1,8]]}
[{"$f":"muni&\" - \"&Approve7","v":"DC47 Sekhukhune - Table A7 Budgeted Cash Flows"}]
[{"$f":"desc","v":"Description"},{"$f":"head27","v":"Ref"},{"$f":"head1b","v":"2018/19"},{"$f":"head1A","v":"2019/20"},{"$f":"Head1","v":"2020/21"},{"$f":"Head2","v":"Current Year 2021/22"},null,null,null,{"$f":"Head3","v":"2022/23 Medium Term Revenue & Expenditure Framework"}]
["R thousand",null,{"$f":"Head5","v":"Audited Outcome"},{"$f":"Head5","v":"Audited Outcome"},{"$f":"Head5","v":"Audited Outcome"},{"$f":"Head6","v":"Original Budget"},{"$f":"Head7","v":"Adjusted Budget"},{"$f":"Head8","v":"Full Year Forecast"},{"$f":"Head5b","v":"Pre-audit outcome"},{"$f":"Head9","v":"Budget Year 2022/23"},{"$f":"Head10","v":"Budget Year +1 2023/24"},{"$f":"Head11","v":"Budget Year +2 2024/25"}]
["CASH FLOW FROM OPERATING ACTIVITIES"]
["Receipts"]
["Property rates",null,0,0,0,0,0,0,0,{"$f":"'SA30'!N5","v":0},{"$f":"'SA30'!O5","v":0},{"$f":"'SA30'!P5","v":0}]
["Service charges",null,0,0,63553577.229999997,36182192,54182865,54182865,49950764.82,{"$f":"'SA30'!N6+'SA30'!N7+'SA30'!N8+'SA30'!N9","v":62142009},{"$f":"'SA30'!O6+'SA30'!O7+'SA30'!O8+'SA30'!O9","v":65249109},{"$f":"'SA30'!P6+'SA30'!P7+'SA30'!P8+'SA30'!P9","v":78793983}]
["Other revenue",null,0,0,111253484.11,17485843,25024924,25024924,-374564358.97000003,{"$f":"'SA30'!N11+'SA30'!N15+'SA30'!N16+'SA30'!N17+'SA30'!N19","v":2215193},{"$f":"'SA30'!O11+'SA30'!O15+'SA30'!O16+'SA30'!O17+'SA30'!O19","v":2324901},{"$f":"'SA30'!P11+'SA30'!P15+'SA30'!P16+'SA30'!P17+'SA30'!P19","v":2441147}]
["Transfers and Subsidies - Operational",1,0,0,4720000,982113000,1024213000,1024213000,10450520,{"$f":"'SA30'!N18","v":1087843560},{"$f":"'SA30'!O18","v":1149230990},{"$f":"'SA30'!P18","v":1253455418}]
["Transfers and Subsidies - Capital",1,0,0,365494000,415997002,379101000,379101000,262623000,{"$f":"'SA30'!N23+'SA30'!N24","v":469076440},{"$f":"'SA30'!O23+'SA30'!O24","v":501682010},{"$f":"'SA30'!P23+'SA30'!P24","v":512086000}]
["Interest",null,0,0,0,19056438,21485844,21485844,191594.66,{"$f":"'SA30'!N12+'SA30'!N13","v":21659404},{"$f":"'SA30'!O12+'SA30'!O13","v":22612418},{"$f":"'SA30'!P12+'SA30'!P13","v":23629977}]
["Dividends",null,null,null,null,null,null,null,null,{"$f":"'SA30'!N14","v":0},{"$f":"'SA30'!O14","v":0},{"$f":"'SA30'!P14","v":0}]
["Payments"]
["Suppliers and employees",null,0,0,-1231811761.9400001,-397052774,143042753,143042753,-1496206438.95,{"$f":"-('SA30'!N35+'SA30'!N36+'SA30'!N38+'SA30'!N39+'SA30'!N40+'SA30'!N41+'SA30'!N44+'SA30'!N50)","v":-1092661272},{"$f":"-('SA30'!O35+'SA30'!O36+'SA30'!O38+'SA30'!O39+'SA30'!O40+'SA30'!O41+'SA30'!O44+'SA30'!O50)","v":-1157396314},{"$f":"-('SA30'!P35+'SA30'!P36+'SA30'!P38+'SA30'!P39+'SA30'!P40+'SA30'!P41+'SA30'!P44+'SA30'!P50)","v":-1253510225}]
["Finance charges",null,null,null,null,null,null,null,null,{"$f":"-('SA30'!N37)","v":0},{"$f":"-('SA30'!O37)","v":0},{"$f":"-('SA30'!P37)","v":0}]
["Transfers and Grants",1,null,null,null,null,null,null,null,{"$f":"-('SA30'!N42+'SA30'!N43)","v":0},{"$f":"-('SA30'!O42+'SA30'!O43)","v":0},{"$f":"-('SA30'!P42+'SA30'!P43)","v":0}]
["NET CASH FROM/(USED) OPERATING ACTIVITIES",null,{"$f":"SUM(C6:C12)+SUM(C14:C16)","v":0},0,-686790700.60000002,1073781701,1647050386,1647050386,-1547554918.4400001,550275334,583703114,616896300]
[]
["CASH FLOWS FROM INVESTING ACTIVITIES"]
["Receipts"]
["Proceeds on disposal of PPE",null,0,0,0,409544,409544,409544,0,{"$f":"'SA30'!N25","v":430021},{"$f":"'SA30'!O25","v":451522},{"$f":"'SA30'!P25","v":474098}]
[]
["Decrease (increase) in non-current receivables",null,null,null,null,null,null,null,null,{"$f":"'SA30'!N30","v":0},{"$f":"'SA30'!O30","v":0},{"$f":"'SA30'!P30","v":0}]
["Decrease (increase) in non-current investments",null,58868291.990000002,-177160774.75999999,-10351108.189999998,128643590.95999999,0,0,619591675.23000002,{"$f":"'SA30'!N31","v":0},{"$f":"'SA30'!O31","v":0},{"$f":"'SA30'!P31","v":0}]
["Payments"]
["Capital assets",null,0,0,-355876881.69,-424001000,-397397708,-397397708,-227846888.38,{"$f":"-('SA30'!N48)","v":-489206441},{"$f":"-('SA30'!O48)","v":-511713530},{"$f":"-('SA30'!P48)","v":-520355239}]
["NET CASH FROM/(USED) INVESTING ACTIVITIES",null,{"$f":"+C21+C23+C24+C26","v":58868291.990000002},{"$f":"+D21+D23+D24+D26","v":-177160774.75999999},-366227989.88,-294947865.04000002,-396988164,-396988164,391744786.85000002,-488776420,-511262008,-519881141]
[]
["CASH FLOWS FROM FINANCING ACTIVITIES"]
["Receipts"]
["Short term loans",null,null,null,null,null,null,null,null,{"$f":"'SA30'!N26","v":0},{"$f":"'SA30'!O26","v":0},{"$f":"'SA30'!P26","v":0}]
["Borrowing long term/refinancing",null,null,null,null,null,null,null,null,{"$f":"'SA30'!N27","v":0},{"$f":"'SA30'!O27","v":0},{"$f":"'SA30'!P27","v":0}]
["Increase (decrease) in consumer deposits",null,-4209179.54,-162235.87999999989,-252963.53000000026,309616.95000000019,0,0,-234385.09,{"$f":"'SA30'!N28","v":0},{"$f":"'SA30'!O28","v":0},{"$f":"'SA30'!P28","v":0}]
["Payments"]
["Repayment of borrowing",null,null,null,null,null,null,null,null,{"$f":"-('SA30'!N49)","v":0},{"$f":"-('SA30'!O49)","v":0},{"$f":"-('SA30'!P49)","v":0}]
["NET CASH FROM/(USED) FINANCING ACTIVITIES",null,{"$f":"SUM(C31:C33)+C35","v":-4209179.54},{"$f":"SUM(D31:D33)+D35","v":-162235.87999999989},-252963.53000000026,309616.95000000019,0,0,-234385.09,0,0,0]
[]
["NET INCREASE/ (DECREASE) IN CASH HELD",null,{"$f":"C17+C27+C36","v":54659112.450000003},{"$f":"D17+D27+D36","v":-177323010.63999999},-1053271654.01,779143452.91000009,1250062222,1250062222,-1156044516.6800001,61498914,72441106,97015159]
["Cash/cash equivalents at the year begin:",2,18249104.93,12160793.68,180697744.77000001,181177799,237402088,237402088,0,{"$f":"'SA30'!N54","v":218705003},{"$f":"J40","v":280203917},{"$f":"K40","v":352645023}]
["Cash/cash equivalents at the year end:",2,{"$f":"C38+C39","v":72908217.379999995},{"$f":"D38+D39","v":-165162216.95999998},{"$f":"E38+E39","v":-872573909.24000001},{"$f":"F38+F39","v":960321251.91000009},1487464310,1487464310,-1156044516.6800001,280203917,352645023,449660182]
[{"$f":"head27a","v":"References"}]
["1. Local/District municipalities to include transfers from/to District/Local Municipalities"]
["2. Cash equivalents includes investments with maturities of 3 months or less"]
["3. The MTREF is populated directly from SA30."]
["Total receipts",null,{"$f":"SUM(C6:C12)+SUM(C21:C23)","v":0},0,545021061.34000003,1471244019,1504417177,1504417177,-51348479.490000039,1643366627,1741550950,1870880623]
["Total payments",null,{"$f":"SUM(C14:C16)+C26","v":0},{"$f":"SUM(D14:D16)+D26","v":0},-1587688643.6300001,-821053774,-254354955,-254354955,-1724053327.3299999,-1581867713,-1669109844,-1773865464]
[null,null,{"$f":"C45+C46","v":0},{"$f":"D45+D46","v":0},-1042667582.2900001,650190245,1250062222,1250062222,-1775401806.8199999,61498914,72441106,97015159]
["Borrowings & investments & c.deposits",null,{"$f":"C24+C32+C33","v":54659112.450000003},{"$f":"D24+D32+D33","v":-177323010.63999999},-10604071.719999999,128953207.91,0,0,619357290.13999999,0,0,0]
[{"$f":"A35","v":"Repayment of borrowing"},null,{"$f":"C35","v":0},{"$f":"D35","v":0},0,0,0,0,{"$f":"I35","v":0},0,0,0]
[null,null,{"$f":"C47+C48+C49","v":54659112.450000003},{"$f":"D47+D48+D49","v":-177323010.63999999},-1053271654.0100001,779143452.90999997,1250062222,1250062222,-1156044516.6799998,61498914,72441106,97015159]
[null,null,{"$f":"C38-C50","v":0},0,0,0,0,0,0,0,0,0]

{"sheet":"A8-ResRecon","index":17,"n_rows":49,"n_cols":12,"rows_kept":49,"cut":false,"hidden":false,"merged":[[1,9,1,11],[1,5,1,8]]}
[{"$f":"muni&\" - \"&Approve8","v":"DC47 Sekhukhune - Table A8 Cash backed reserves/accumulated surplus reconciliation"}]
[{"$f":"desc","v":"Description"},{"$f":"head27","v":"Ref"},{"$f":"head1b","v":"2018/19"},{"$f":"head1A","v":"2019/20"},{"$f":"Head1","v":"2020/21"},{"$f":"Head2","v":"Current Year 2021/22"},null,null,null,{"$f":"Head3","v":"2022/23 Medium Term Revenue & Expenditure Framework"}]
["R thousand",null,{"$f":"Head5","v":"Audited Outcome"},{"$f":"Head5","v":"Audited Outcome"},{"$f":"Head5","v":"Audited Outcome"},{"$f":"Head6","v":"Original Budget"},{"$f":"Head7","v":"Adjusted Budget"},{"$f":"Head8","v":"Full Year Forecast"},{"$f":"Head5b","v":"Pre-audit outcome"},{"$f":"Head9","v":"Budget Year 2022/23"},{"$f":"Head10","v":"Budget Year +1 2023/24"},{"$f":"Head11","v":"Budget Year +2 2024/25"}]
["Cash and investments available"]
[{"$f":"LEFT('A7-CFlow'!A40,37)","v":"Cash/cash equivalents at the year end"},1,{"$f":"'A7-CFlow'!C40","v":72908217.379999995},{"$f":"'A7-CFlow'!D40","v":-165162216.95999998},{"$f":"'A7-CFlow'!E40","v":-872573909.24000001},{"$f":"'A7-CFlow'!F40","v":960321251.91000009},{"$f":"'A7-CFlow'!G40","v":1487464310},{"$f":"'A7-CFlow'!H40","v":1487464310},{"$f":"'A7-CFlow'!I40","v":-1156044516.6800001},{"$f":"'A7-CFlow'!J40","v":280203917},{"$f":"'A7-CFlow'!K40","v":352645023},{"$f":"'A7-CFlow'!L40","v":449660182}]
["Other current investments  > 90 days",null,{"$f":"'A6-FinPos'!C6+'A6-FinPos'!C7-'A6-FinPos'!C29-'A8-ResRecon'!C5","v":-60747423.699999996},{"$f":"'A6-FinPos'!D6+'A6-FinPos'!D7-'A6-FinPos'!D29-'A8-ResRecon'!D5","v":345859961.73000002},{"$f":"'A6-FinPos'!E6+'A6-FinPos'!E7-'A6-FinPos'!E29-'A8-ResRecon'!E5","v":826920464.09000003},{"$f":"'A6-FinPos'!F6+'A6-FinPos'!F7-'A6-FinPos'!F29-'A8-ResRecon'!F5","v":-723874036.91000009},{"$f":"'A6-FinPos'!G6+'A6-FinPos'!G7-'A6-FinPos'!G29-'A8-ResRecon'!G5","v":-1176900470},{"$f":"'A6-FinPos'!H6+'A6-FinPos'!H7-'A6-FinPos'!H29-'A8-ResRecon'!H5","v":-1176900470},{"$f":"'A6-FinPos'!I6+'A6-FinPos'!I7-'A6-FinPos'!I29-'A8-ResRecon'!I5","v":1206619898.8800001},{"$f":"'A6-FinPos'!J6+'A6-FinPos'!J7-'A6-FinPos'!J29-'A8-ResRecon'!J5","v":-8332334},{"$f":"'A6-FinPos'!K6+'A6-FinPos'!K7-'A6-FinPos'!K29-'A8-ResRecon'!K5","v":-8332334},{"$f":"'A6-FinPos'!L6+'A6-FinPos'!L7-'A6-FinPos'!L29-'A8-ResRecon'!L5","v":-16665668}]
[{"$f":"'A6-FinPos'!A14&\" - \"&'A6-FinPos'!A16","v":"Non current assets - Investments"},1,{"$f":"'A6-FinPos'!C16","v":58868291.990000002},{"$f":"'A6-FinPos'!D16","v":-118292482.77},{"$f":"'A6-FinPos'!E16","v":-128643590.95999999},{"$f":"'A6-FinPos'!F16","v":0},{"$f":"'A6-FinPos'!G16","v":0},{"$f":"'A6-FinPos'!H16","v":0},{"$f":"'A6-FinPos'!I16","v":490948084.26999998},{"$f":"'A6-FinPos'!J16","v":0},{"$f":"'A6-FinPos'!K16","v":0},{"$f":"'A6-FinPos'!L16","v":0}]
["Cash and investments available:",null,{"$f":"SUM(C5:C7)","v":71029085.670000002},{"$f":"SUM(D5:D7)","v":62405262.000000045},-174297036.10999995,236447215,310563840,310563840,541523466.47000003,271871583,344312689,432994514]
[]
["Application of cash and investments"]
[{"$f":"'SA3'!A132","v":"Unspent conditional transfers"},null,{"$f":"'SA3'!C132","v":61052577.719999999},{"$f":"'SA3'!D132","v":68934375.200000003},{"$f":"'SA3'!E132","v":30315359.199999999},{"$f":"'SA3'!F132","v":20000000},{"$f":"'SA3'!G132","v":20000000},{"$f":"'SA3'!H132","v":20000000},{"$f":"'SA3'!I132","v":230324112.91999999},{"$f":"'SA3'!J132","v":20000000},{"$f":"'SA3'!K132","v":32309000},{"$f":"'SA3'!L132","v":42352418}]
["Unspent borrowing",null,{"$f":"'SA17'!C67","v":0},{"$f":"'SA17'!D67","v":0},{"$f":"'SA17'!E67","v":0},{"$f":"'SA17'!F67","v":0},{"$f":"'SA17'!G67","v":0},{"$f":"'SA17'!H67","v":0},null,{"$f":"'SA17'!I67","v":0},{"$f":"'SA17'!J67","v":0},{"$f":"'SA17'!K67","v":0}]
["Statutory requirements",2]
["Other working capital requirements",3,{"$f":"-C32","v":385808128.73000002},{"$f":"-D32","v":391847332.73000002},307892807.01999998,{"$f":"-F32","v":98812000},123466045,123466045,1751702872.9200001,154952515,164507365,290529977]
["Other provisions"]
["Long term investments committed",4,{"$f":"C42","v":0},{"$f":"D42","v":0},0,0,0,0,0,0,0,0]
["Reserves to be backed by cash/investments",5,{"$f":"SUM(C44:C48)","v":0},0,0,0,0,0,0,0,0,0]
[{"$f":"\"Total \"&A10&\":\"","v":"Total Application of cash and investments:"},null,{"$f":"SUM(C11:C17)","v":446860706.45000005},{"$f":"SUM(D11:D17)","v":460781707.93000001},338208166.21999997,118812000,143466045,143466045,1982026985.8400002,174952515,196816365,332882395]
["Surplus(shortfall)",null,{"$f":"C8-C18","v":-375831620.78000003},{"$f":"D8-D18","v":-398376445.92999995},-512505202.32999992,117635215,167097795,167097795,-1440503519.3700001,96919068,147496324,100112119]
[{"$f":"head27a","v":"References"}]
["1. Must reconcile with Budgeted Cash Flows"]
["2. For example: VAT, taxation"]
["3. Council approval for policy required - include sufficient working capital (e.g. allowing for a % of current debtors > 90 days as uncollectable)"]
["4. For example: sinking fund requirements for borrowing"]
["5. Council approval required for each reserve created and basis of cash backing of reserves"]
[]
[]
["Other working capital requirements"]
["Debtors",null,{"$f":"IF(ISERROR(ROUND(C35*C36,-3)),0,(ROUND(C35*C36,-3)))","v":0},{"$f":"IF(ISERROR(ROUND(D35*D36,-3)),0,(ROUND(D35*D36,-3)))","v":0},313377000,101188000,133537000,133537000,-1367803000,99337000,97931000,104174000]
[]
["Creditors due",null,{"$f":"'SA3'!C130+'SA3'!C131","v":385808128.73000002},{"$f":"'SA3'!D130+'SA3'!D131","v":391847332.73000002},{"$f":"'SA3'!E130+'SA3'!E131","v":621269807.01999998},{"$f":"'SA3'!F130+'SA3'!F131","v":200000000},{"$f":"'SA3'!G130+'SA3'!G131","v":257003045},{"$f":"'SA3'!H130+'SA3'!H131","v":257003045},{"$f":"'SA3'!I130+'SA3'!I131","v":383899872.92000002},{"$f":"'SA3'!J130+'SA3'!J131","v":254289515},{"$f":"'SA3'!K130+'SA3'!K131","v":262438365},{"$f":"'SA3'!L130+'SA3'!L131","v":394703977}]
["Total",null,{"$f":"C29-C31","v":-385808128.73000002},{"$f":"D29-D31","v":-391847332.73000002},-307892807.01999998,-98812000,-123466045,-123466045,-1751702872.9200001,-154952515,-164507365,-290529977]
[]
["Debtors collection assumptions"]
["Balance outstanding - debtors",null,{"$f":"'A6-FinPos'!C8+'A6-FinPos'!C9+'A6-FinPos'!C15","v":208241074.38},{"$f":"'A6-FinPos'!D8+'A6-FinPos'!D9+'A6-FinPos'!D15","v":234310865.34999996},{"$f":"'A6-FinPos'!E8+'A6-FinPos'!E9+'A6-FinPos'!E15","v":324958372.81000006},{"$f":"'A6-FinPos'!F8+'A6-FinPos'!F9+'A6-FinPos'!F15","v":213127053},{"$f":"'A6-FinPos'!G8+'A6-FinPos'!G9+'A6-FinPos'!G15","v":194306380},{"$f":"'A6-FinPos'!H8+'A6-FinPos'!H9+'A6-FinPos'!H15","v":194306380},{"$f":"'A6-FinPos'!I8+'A6-FinPos'!I9+'A6-FinPos'!I15","v":410411209.97000003},{"$f":"'A6-FinPos'!J8+'A6-FinPos'!J9+'A6-FinPos'!J15","v":186791353},{"$f":"'A6-FinPos'!K8+'A6-FinPos'!K9+'A6-FinPos'!K15","v":184150576},{"$f":"'A6-FinPos'!L8+'A6-FinPos'!L9+'A6-FinPos'!L15","v":171095341}]
["Estimate of debtors collection rate",null,{"$f":"IF(ISERROR('SA10'!D10),0,('SA10'!D10))","v":0},{"$f":"IF(ISERROR('SA10'!E10),0,('SA10'!E10))","v":0},{"$f":"IF(ISERROR('SA10'!F10),0,('SA10'!F10))","v":0.96436092377829796},{"$f":"IF(ISERROR('SA10'!G10),0,('SA10'!G10))","v":0.47477664886337961},{"$f":"IF(ISERROR('SA10'!H10),0,('SA10'!H10))","v":0.68724851357862149},{"$f":"IF(ISERROR('SA10'!I10),0,('SA10'!I10))","v":0.68724851357862149},{"$f":"IF(ISERROR('SA10'!J10),0,('SA10'!J10))","v":-3.3327616936705513},{"$f":"IF(ISERROR('SA10'!K10),0,('SA10'!K10))","v":0.53180666014169808},{"$f":"IF(ISERROR('SA10'!L10),0,('SA10'!L10))","v":0.53179838527826406},{"$f":"IF(ISERROR('SA10'!M10),0,('SA10'!M10))","v":0.60886624153103153}]
[]
[]
[null,null,null,null,null,null,null,null,null,null,"`"]
[{"$f":"A16","v":"Long term investments committed"}]
["Balance (Insert description; eg sinking fund)"]
[null,null,{"$f":"SUM(C41:C41)","v":0},0,0,0,0,0,0,0,0,0]
[{"$f":"A17","v":"Reserves to be backed by cash/investments"}]
[{"$f":"'SA3'!A160","v":"Housing Development Fund"},null,{"$f":"'SA3'!C160","v":0},{"$f":"'SA3'!D160","v":0},{"$f":"'SA3'!E160","v":0},{"$f":"'SA3'!F160","v":0},{"$f":"'SA3'!G160","v":0},{"$f":"'SA3'!H160","v":0},{"$f":"'SA3'!I160","v":0},{"$f":"'SA3'!J160","v":0},{"$f":"'SA3'!K160","v":0},{"$f":"'SA3'!L160","v":0}]
[{"$f":"'SA3'!A161","v":"Capital replacement"},null,{"$f":"'SA3'!C161","v":0},{"$f":"'SA3'!D161","v":0},{"$f":"'SA3'!E161","v":0},{"$f":"'SA3'!F161","v":0},{"$f":"'SA3'!G161","v":0},{"$f":"'SA3'!H161","v":0},{"$f":"'SA3'!I161","v":0},{"$f":"'SA3'!J161","v":0},{"$f":"'SA3'!K161","v":0},{"$f":"'SA3'!L161","v":0}]
[{"$f":"'SA3'!A162","v":"Self-insurance"},null,{"$f":"'SA3'!C162","v":0},{"$f":"'SA3'!D162","v":0},{"$f":"'SA3'!E162","v":0},{"$f":"'SA3'!F162","v":0},{"$f":"'SA3'!G162","v":0},{"$f":"'SA3'!H162","v":0},{"$f":"'SA3'!I162","v":0},{"$f":"'SA3'!J162","v":0},{"$f":"'SA3'!K162","v":0},{"$f":"'SA3'!L162","v":0}]
[{"$f":"'SA3'!A163","v":"Other reserves"},null,{"$f":"'SA3'!C163","v":0},{"$f":"'SA3'!D163","v":0},{"$f":"'SA3'!E163","v":0},{"$f":"'SA3'!F163","v":0},{"$f":"'SA3'!G163","v":0},{"$f":"'SA3'!H163","v":0},{"$f":"'SA3'!I163","v":0},{"$f":"'SA3'!J163","v":0},{"$f":"'SA3'!K163","v":0},{"$f":"'SA3'!L163","v":0}]
[{"$f":"'SA3'!A164","v":"Revaluation"},null,{"$f":"'SA3'!C164","v":0},{"$f":"'SA3'!D164","v":0},{"$f":"'SA3'!E164","v":0},{"$f":"'SA3'!F164","v":0},{"$f":"'SA3'!G164","v":0},{"$f":"'SA3'!H164","v":0},{"$f":"'SA3'!I164","v":0},{"$f":"'SA3'!J164","v":0},{"$f":"'SA3'!K164","v":0},{"$f":"'SA3'!L164","v":0}]
[null,null,{"$f":"SUM(C44:C48)","v":0},0,0,0,0,0,0,0,0,0]

{"sheet":"A9-Asset","index":18,"n_rows":217,"n_cols":11,"rows_kept":217,"cut":false,"hidden":false,"merged":[[1,5,1,7],[1,8,1,10]]}
[{"$f":"muni&\" - \"&Approve9","v":"DC47 Sekhukhune - Table A9 Asset Management"}]
[{"$f":"desc","v":"Description"},{"$f":"head27","v":"Ref"},{"$f":"head1b","v":"2018/19"},{"$f":"head1A","v":"2019/20"},{"$f":"Head1","v":"2020/21"},{"$f":"Head2","v":"Current Year 2021/22"},null,null,{"$f":"Head3","v":"2022/23 Medium Term Revenue & Expenditure Framework"}]
["R thousand",null,{"$f":"Head5","v":"Audited Outcome"},{"$f":"Head5","v":"Audited Outcome"},{"$f":"Head5","v":"Audited Outcome"},{"$f":"Head6","v":"Original Budget"},{"$f":"Head7","v":"Adjusted Budget"},{"$f":"Head8","v":"Full Year Forecast"},{"$f":"Head9","v":"Budget Year 2022/23"},{"$f":"Head10","v":"Budget Year +1 2023/24"},{"$f":"Head11","v":"Budget Year +2 2024/25"}]
["CAPITAL EXPENDITURE"]
["Total New Assets",1,{"$f":"C15+C18+C19+C22+C25+C26+SUM(C29:C35)","v":452406655.33999997},{"$f":"D15+D18+D19+D22+D25+D26+SUM(D29:D35)","v":284514547.57999998},287860495.71999997,389073171,370734843,370734843,482712838,502393530,511806239]
["Roads Infrastructure",null,{"$f":"SA34a!C7","v":0},{"$f":"SA34a!D7","v":0},{"$f":"SA34a!E7","v":0},{"$f":"SA34a!F7","v":0},{"$f":"SA34a!G7","v":0},{"$f":"SA34a!H7","v":0},{"$f":"SA34a!I7","v":0},{"$f":"SA34a!J7","v":0},{"$f":"SA34a!K7","v":0}]
["Storm water Infrastructure",null,{"$f":"SA34a!C12","v":0},{"$f":"SA34a!D12","v":0},{"$f":"SA34a!E12","v":0},{"$f":"SA34a!F12","v":0},{"$f":"SA34a!G12","v":0},{"$f":"SA34a!H12","v":0},{"$f":"SA34a!I12","v":0},{"$f":"SA34a!J12","v":0},{"$f":"SA34a!K12","v":0}]
["Electrical Infrastructure",null,{"$f":"SA34a!C16","v":0},{"$f":"SA34a!D16","v":0},{"$f":"SA34a!E16","v":0},{"$f":"SA34a!F16","v":0},{"$f":"SA34a!G16","v":0},{"$f":"SA34a!H16","v":0},{"$f":"SA34a!I16","v":0},{"$f":"SA34a!J16","v":0},{"$f":"SA34a!K16","v":0}]
["Water Supply Infrastructure",null,{"$f":"SA34a!C26","v":57389831.020000003},{"$f":"SA34a!D26","v":283703000.06999999},{"$f":"SA34a!E26","v":287789628.31999999},{"$f":"SA34a!F26","v":387073171},{"$f":"SA34a!G26","v":366268135},{"$f":"SA34a!H26","v":366268135},{"$f":"SA34a!I26","v":479082838},{"$f":"SA34a!J26","v":500222010},{"$f":"SA34a!K26","v":509537000}]
["Sanitation Infrastructure",null,{"$f":"SA34a!C37","v":394877796.99000001},{"$f":"SA34a!D37","v":648182.5},{"$f":"SA34a!E37","v":62267.06},{"$f":"SA34a!F37","v":0},{"$f":"SA34a!G37","v":500000},{"$f":"SA34a!H37","v":500000},{"$f":"SA34a!I37","v":0},{"$f":"SA34a!J37","v":0},{"$f":"SA34a!K37","v":0}]
["Solid Waste Infrastructure",null,{"$f":"SA34a!C44","v":0},{"$f":"SA34a!D44","v":0},{"$f":"SA34a!E44","v":0},{"$f":"SA34a!F44","v":0},{"$f":"SA34a!G44","v":0},{"$f":"SA34a!H44","v":0},{"$f":"SA34a!I44","v":0},{"$f":"SA34a!J44","v":0},{"$f":"SA34a!K44","v":0}]
["Rail Infrastructure",null,{"$f":"SA34a!C52","v":0},{"$f":"SA34a!D52","v":0},{"$f":"SA34a!E52","v":0},{"$f":"SA34a!F52","v":0},{"$f":"SA34a!G52","v":0},{"$f":"SA34a!H52","v":0},{"$f":"SA34a!I52","v":0},{"$f":"SA34a!J52","v":0},{"$f":"SA34a!K52","v":0}]
["Coastal Infrastructure",null,{"$f":"SA34a!C62","v":0},{"$f":"SA34a!D62","v":0},{"$f":"SA34a!E62","v":0},{"$f":"SA34a!F62","v":0},{"$f":"SA34a!G62","v":0},{"$f":"SA34a!H62","v":0},{"$f":"SA34a!I62","v":0},{"$f":"SA34a!J62","v":0},{"$f":"SA34a!K62","v":0}]
["Information and Communication Infrastructure",null,{"$f":"SA34a!C68","v":0},{"$f":"SA34a!D68","v":0},{"$f":"SA34a!E68","v":0},{"$f":"SA34a!F68","v":0},{"$f":"SA34a!G68","v":0},{"$f":"SA34a!H68","v":0},{"$f":"SA34a!I68","v":0},{"$f":"SA34a!J68","v":0},{"$f":"SA34a!K68","v":0}]
["Infrastructure",null,{"$f":"SUM(C6:C14)","v":452267628.00999999},{"$f":"SUM(D6:D14)","v":284351182.56999999},287851895.38,387073171,366768135,366768135,479082838,500222010,509537000]
["Community Facilities",null,{"$f":"SA34a!C75","v":0},{"$f":"SA34a!D75","v":0},{"$f":"SA34a!E75","v":0},{"$f":"SA34a!F75","v":0},{"$f":"SA34a!G75","v":0},{"$f":"SA34a!H75","v":0},{"$f":"SA34a!I75","v":0},{"$f":"SA34a!J75","v":0},{"$f":"SA34a!K75","v":0}]
["Sport and Recreation Facilities",null,{"$f":"SA34a!C98","v":0},{"$f":"SA34a!D98","v":0},{"$f":"SA34a!E98","v":0},{"$f":"SA34a!F98","v":0},{"$f":"SA34a!G98","v":0},{"$f":"SA34a!H98","v":0},{"$f":"SA34a!I98","v":0},{"$f":"SA34a!J98","v":0},{"$f":"SA34a!K98","v":0}]
["Community Assets",null,{"$f":"SUM(C16:C17)","v":0},{"$f":"SUM(D16:D17)","v":0},0,0,0,0,0,0,0]
["Heritage Assets",null,{"$f":"SA34a!C103","v":0},{"$f":"SA34a!D103","v":0},{"$f":"SA34a!E103","v":0},{"$f":"SA34a!F103","v":0},{"$f":"SA34a!G103","v":0},{"$f":"SA34a!H103","v":0},{"$f":"SA34a!I103","v":0},{"$f":"SA34a!J103","v":0},{"$f":"SA34a!K103","v":0}]
["Revenue Generating",null,{"$f":"SA34a!C111","v":0},{"$f":"SA34a!D111","v":0},{"$f":"SA34a!E111","v":0},{"$f":"SA34a!F111","v":0},{"$f":"SA34a!G111","v":0},{"$f":"SA34a!H111","v":0},{"$f":"SA34a!I111","v":0},{"$f":"SA34a!J111","v":0},{"$f":"SA34a!K111","v":0}]
["Non-revenue Generating",null,{"$f":"SA34a!C114","v":0},{"$f":"SA34a!D114","v":0},{"$f":"SA34a!E114","v":0},{"$f":"SA34a!F114","v":0},{"$f":"SA34a!G114","v":0},{"$f":"SA34a!H114","v":0},{"$f":"SA34a!I114","v":0},{"$f":"SA34a!J114","v":0},{"$f":"SA34a!K114","v":0}]
["Investment properties",null,{"$f":"SUM(C20:C21)","v":0},{"$f":"SUM(D20:D21)","v":0},0,0,0,0,0,0,0]
["Operational Buildings",null,{"$f":"SA34a!C119","v":0},{"$f":"SA34a!D119","v":0},{"$f":"SA34a!E119","v":0},{"$f":"SA34a!F119","v":0},{"$f":"SA34a!G119","v":0},{"$f":"SA34a!H119","v":0},{"$f":"SA34a!I119","v":0},{"$f":"SA34a!J119","v":0},{"$f":"SA34a!K119","v":0}]
["Housing",null,{"$f":"SA34a!C131","v":0},{"$f":"SA34a!D131","v":0},{"$f":"SA34a!E131","v":0},{"$f":"SA34a!F131","v":0},{"$f":"SA34a!G131","v":0},{"$f":"SA34a!H131","v":0},{"$f":"SA34a!I131","v":0},{"$f":"SA34a!J131","v":0},{"$f":"SA34a!K131","v":0}]
["Other Assets",null,{"$f":"SUM(C23:C24)","v":0},{"$f":"SUM(D23:D24)","v":0},0,0,0,0,0,0,0]
["Biological or Cultivated Assets",null,{"$f":"SA34a!C136","v":0},{"$f":"SA34a!D136","v":0},{"$f":"SA34a!E136","v":0},{"$f":"SA34a!F136","v":0},{"$f":"SA34a!G136","v":0},{"$f":"SA34a!H136","v":0},{"$f":"SA34a!I136","v":0},{"$f":"SA34a!J136","v":0},{"$f":"SA34a!K136","v":0}]
["Servitudes",null,{"$f":"SA34a!C140","v":0},{"$f":"SA34a!D140","v":0},{"$f":"SA34a!E140","v":0},{"$f":"SA34a!F140","v":0},{"$f":"SA34a!G140","v":0},{"$f":"SA34a!H140","v":0},{"$f":"SA34a!I140","v":0},{"$f":"SA34a!J140","v":0},{"$f":"SA34a!K140","v":0}]
["Licences and Rights",null,{"$f":"SA34a!C141","v":0},{"$f":"SA34a!D141","v":0},{"$f":"SA34a!E141","v":0},{"$f":"SA34a!F141","v":0},{"$f":"SA34a!G141","v":0},{"$f":"SA34a!H141","v":0},{"$f":"SA34a!I141","v":0},{"$f":"SA34a!J141","v":0},{"$f":"SA34a!K141","v":0}]
["Intangible Assets",null,{"$f":"SUM(C27:C28)","v":0},{"$f":"SUM(D27:D28)","v":0},0,0,0,0,0,0,0]
["Computer Equipment",null,{"$f":"SA34a!C149","v":0},{"$f":"SA34a!D149","v":163365.01},{"$f":"SA34a!E149","v":8600.34},{"$f":"SA34a!F149","v":2000000},{"$f":"SA34a!G149","v":3046708},{"$f":"SA34a!H149","v":3046708},{"$f":"SA34a!I149","v":2880000},{"$f":"SA34a!J149","v":2171520},{"$f":"SA34a!K149","v":2269239}]
["Furniture and Office Equipment",null,{"$f":"SA34a!C152","v":139027.32999999999},{"$f":"SA34a!D152","v":0},{"$f":"SA34a!E152","v":0},{"$f":"SA34a!F152","v":0},{"$f":"SA34a!G152","v":920000},{"$f":"SA34a!H152","v":920000},{"$f":"SA34a!I152","v":750000},{"$f":"SA34a!J152","v":0},{"$f":"SA34a!K152","v":0}]
["Machinery and Equipment",null,{"$f":"SA34a!C155","v":0},{"$f":"SA34a!D155","v":0},{"$f":"SA34a!E155","v":0},{"$f":"SA34a!F155","v":0},{"$f":"SA34a!G155","v":0},{"$f":"SA34a!H155","v":0},{"$f":"SA34a!I155","v":0},{"$f":"SA34a!J155","v":0},{"$f":"SA34a!K155","v":0}]
["Transport Assets",null,{"$f":"SA34a!C158","v":0},{"$f":"SA34a!D158","v":0},{"$f":"SA34a!E158","v":0},{"$f":"SA34a!F158","v":0},{"$f":"SA34a!G158","v":0},{"$f":"SA34a!H158","v":0},{"$f":"SA34a!I158","v":0},{"$f":"SA34a!J158","v":0},{"$f":"SA34a!K158","v":0}]
["Land",null,{"$f":"SA34a!C161","v":0},{"$f":"SA34a!D161","v":0},{"$f":"SA34a!E161","v":0},{"$f":"SA34a!F161","v":0},{"$f":"SA34a!G161","v":0},{"$f":"SA34a!H161","v":0},{"$f":"SA34a!I161","v":0},{"$f":"SA34a!J161","v":0},{"$f":"SA34a!K161","v":0}]
["Zoo's, Marine and Non-biological Animals",null,{"$f":"SA34a!C164","v":0},{"$f":"SA34a!D164","v":0},{"$f":"SA34a!E164","v":0},{"$f":"SA34a!F164","v":0},{"$f":"SA34a!G164","v":0},{"$f":"SA34a!H164","v":0},{"$f":"SA34a!I164","v":0},{"$f":"SA34a!J164","v":0},{"$f":"SA34a!K164","v":0}]
[]
["Total Renewal of Existing Assets",2,{"$f":"C47+C50+C51+C54+C57+C58+SUM(C61:C67)","v":5086255.0299999993},{"$f":"D47+D50+D51+D54+D57+D58+SUM(D61:D67)","v":93985584.469999999},136758176.68000001,32586829,24121865,24121865,4042603,6860000,6000000]
["Roads Infrastructure",null,{"$f":"SA34b!C7","v":0},{"$f":"SA34b!D7","v":0},{"$f":"SA34b!E7","v":0},{"$f":"SA34b!F7","v":0},{"$f":"SA34b!G7","v":0},{"$f":"SA34b!H7","v":0},{"$f":"SA34b!I7","v":0},{"$f":"SA34b!J7","v":0},{"$f":"SA34b!K7","v":0}]
["Storm water Infrastructure",null,{"$f":"SA34b!C12","v":0},{"$f":"SA34b!D12","v":0},{"$f":"SA34b!E12","v":0},{"$f":"SA34b!F12","v":0},{"$f":"SA34b!G12","v":0},{"$f":"SA34b!H12","v":0},{"$f":"SA34b!I12","v":0},{"$f":"SA34b!J12","v":0},{"$f":"SA34b!K12","v":0}]
["Electrical Infrastructure",null,{"$f":"SA34b!C16","v":0},{"$f":"SA34b!D16","v":0},{"$f":"SA34b!E16","v":0},{"$f":"SA34b!F16","v":0},{"$f":"SA34b!G16","v":0},{"$f":"SA34b!H16","v":0},{"$f":"SA34b!I16","v":0},{"$f":"SA34b!J16","v":0},{"$f":"SA34b!K16","v":0}]
["Water Supply Infrastructure",null,{"$f":"SA34b!C26","v":432405.72},{"$f":"SA34b!D26","v":93985584.469999999},{"$f":"SA34b!E26","v":115457573.32000001},{"$f":"SA34b!F26","v":28686829},{"$f":"SA34b!G26","v":20221865},{"$f":"SA34b!H26","v":20221865},{"$f":"SA34b!I26","v":4042603},{"$f":"SA34b!J26","v":0},{"$f":"SA34b!K26","v":0}]
["Sanitation Infrastructure",null,{"$f":"SA34b!C37","v":4653849.3099999996},{"$f":"SA34b!D37","v":0},{"$f":"SA34b!E37","v":0},{"$f":"SA34b!F37","v":0},{"$f":"SA34b!G37","v":0},{"$f":"SA34b!H37","v":0},{"$f":"SA34b!I37","v":0},{"$f":"SA34b!J37","v":0},{"$f":"SA34b!K37","v":0}]
["Solid Waste Infrastructure",null,{"$f":"SA34b!C44","v":0},{"$f":"SA34b!D44","v":0},{"$f":"SA34b!E44","v":0},{"$f":"SA34b!F44","v":0},{"$f":"SA34b!G44","v":0},{"$f":"SA34b!H44","v":0},{"$f":"SA34b!I44","v":0},{"$f":"SA34b!J44","v":0},{"$f":"SA34b!K44","v":0}]
["Rail Infrastructure",null,{"$f":"SA34b!C52","v":0},{"$f":"SA34b!D52","v":0},{"$f":"SA34b!E52","v":0},{"$f":"SA34b!F52","v":0},{"$f":"SA34b!G52","v":0},{"$f":"SA34b!H52","v":0},{"$f":"SA34b!I52","v":0},{"$f":"SA34b!J52","v":0},{"$f":"SA34b!K52","v":0}]
["Coastal Infrastructure",null,{"$f":"SA34b!C62","v":0},{"$f":"SA34b!D62","v":0},{"$f":"SA34b!E62","v":0},{"$f":"SA34b!F62","v":0},{"$f":"SA34b!G62","v":0},{"$f":"SA34b!H62","v":0},{"$f":"SA34b!I62","v":0},{"$f":"SA34b!J62","v":0},{"$f":"SA34b!K62","v":0}]
["Information and Communication Infrastructure",null,{"$f":"SA34b!C68","v":0},{"$f":"SA34b!D68","v":0},{"$f":"SA34b!E68","v":0},{"$f":"SA34b!F68","v":0},{"$f":"SA34b!G68","v":0},{"$f":"SA34b!H68","v":0},{"$f":"SA34b!I68","v":0},{"$f":"SA34b!J68","v":0},{"$f":"SA34b!K68","v":0}]
["Infrastructure",null,{"$f":"SUM(C38:C46)","v":5086255.0299999993},{"$f":"SUM(D38:D46)","v":93985584.469999999},115457573.32000001,28686829,20221865,20221865,4042603,0,0]
["Community Facilities",null,{"$f":"SA34b!C75","v":0},{"$f":"SA34b!D75","v":0},{"$f":"SA34b!E75","v":0},{"$f":"SA34b!F75","v":0},{"$f":"SA34b!G75","v":0},{"$f":"SA34b!H75","v":0},{"$f":"SA34b!I75","v":0},{"$f":"SA34b!J75","v":0},{"$f":"SA34b!K75","v":0}]
["Sport and Recreation Facilities",null,{"$f":"SA34b!C98","v":0},{"$f":"SA34b!D98","v":0},{"$f":"SA34b!E98","v":0},{"$f":"SA34b!F98","v":0},{"$f":"SA34b!G98","v":0},{"$f":"SA34b!H98","v":0},{"$f":"SA34b!I98","v":0},{"$f":"SA34b!J98","v":0},{"$f":"SA34b!K98","v":0}]
["Community Assets",null,{"$f":"SUM(C48:C49)","v":0},{"$f":"SUM(D48:D49)","v":0},0,0,0,0,0,0,0]
["Heritage Assets",null,{"$f":"SA34b!C103","v":0},{"$f":"SA34b!D103","v":0},{"$f":"SA34b!E103","v":0},{"$f":"SA34b!F103","v":0},{"$f":"SA34b!G103","v":0},{"$f":"SA34b!H103","v":0},{"$f":"SA34b!I103","v":0},{"$f":"SA34b!J103","v":0},{"$f":"SA34b!K103","v":0}]
["Revenue Generating",null,{"$f":"SA34b!C111","v":0},{"$f":"SA34b!D111","v":0},{"$f":"SA34b!E111","v":0},{"$f":"SA34b!F111","v":0},{"$f":"SA34b!G111","v":0},{"$f":"SA34b!H111","v":0},{"$f":"SA34b!I111","v":0},{"$f":"SA34b!J111","v":0},{"$f":"SA34b!K111","v":0}]
["Non-revenue Generating",null,{"$f":"SA34b!C114","v":0},{"$f":"SA34b!D114","v":0},{"$f":"SA34b!E114","v":0},{"$f":"SA34b!F114","v":0},{"$f":"SA34b!G114","v":0},{"$f":"SA34b!H114","v":0},{"$f":"SA34b!I114","v":0},{"$f":"SA34b!J114","v":0},{"$f":"SA34b!K114","v":0}]
["Investment properties",null,{"$f":"SUM(C52:C53)","v":0},{"$f":"SUM(D52:D53)","v":0},0,0,0,0,0,0,0]
["Operational Buildings",null,{"$f":"SA34b!C119","v":0},{"$f":"SA34b!D119","v":0},{"$f":"SA34b!E119","v":0},{"$f":"SA34b!F119","v":0},{"$f":"SA34b!G119","v":0},{"$f":"SA34b!H119","v":0},{"$f":"SA34b!I119","v":0},{"$f":"SA34b!J119","v":0},{"$f":"SA34b!K119","v":0}]
["Housing",null,{"$f":"SA34b!C131","v":0},{"$f":"SA34b!D131","v":0},{"$f":"SA34b!E131","v":0},{"$f":"SA34b!F131","v":0},{"$f":"SA34b!G131","v":0},{"$f":"SA34b!H131","v":0},{"$f":"SA34b!I131","v":0},{"$f":"SA34b!J131","v":0},{"$f":"SA34b!K131","v":0}]
["Other Assets",null,{"$f":"SUM(C55:C56)","v":0},{"$f":"SUM(D55:D56)","v":0},0,0,0,0,0,0,0]
["Biological or Cultivated Assets",null,{"$f":"SA34b!C136","v":0},{"$f":"SA34b!D136","v":0},{"$f":"SA34b!E136","v":0},{"$f":"SA34b!F136","v":0},{"$f":"SA34b!G136","v":0},{"$f":"SA34b!H136","v":0},{"$f":"SA34b!I136","v":0},{"$f":"SA34b!J136","v":0},{"$f":"SA34b!K136","v":0}]
["Servitudes",null,{"$f":"SA34b!C140","v":0},{"$f":"SA34b!D140","v":0},{"$f":"SA34b!E140","v":0},{"$f":"SA34b!F140","v":0},{"$f":"SA34b!G140","v":0},{"$f":"SA34b!H140","v":0},{"$f":"SA34b!I140","v":0},{"$f":"SA34b!J140","v":0},{"$f":"SA34b!K140","v":0}]
["Licences and Rights",null,{"$f":"SA34b!C141","v":0},{"$f":"SA34b!D141","v":0},{"$f":"SA34b!E141","v":0},{"$f":"SA34b!F141","v":0},{"$f":"SA34b!G141","v":0},{"$f":"SA34b!H141","v":0},{"$f":"SA34b!I141","v":0},{"$f":"SA34b!J141","v":0},{"$f":"SA34b!K141","v":0}]
["Intangible Assets",null,{"$f":"SUM(C59:C60)","v":0},{"$f":"SUM(D59:D60)","v":0},0,0,0,0,0,0,0]
["Computer Equipment",null,{"$f":"SA34b!C149","v":0},{"$f":"SA34b!D149","v":0},{"$f":"SA34b!E149","v":0},{"$f":"SA34b!F149","v":0},{"$f":"SA34b!G149","v":0},{"$f":"SA34b!H149","v":0},{"$f":"SA34b!I149","v":0},{"$f":"SA34b!J149","v":0},{"$f":"SA34b!K149","v":0}]
["Furniture and Office Equipment",null,{"$f":"SA34b!C152","v":0},{"$f":"SA34b!D152","v":0},{"$f":"SA34b!E152","v":-615840.55000000005},{"$f":"SA34b!F152","v":0},{"$f":"SA34b!G152","v":0},{"$f":"SA34b!H152","v":0},{"$f":"SA34b!I152","v":0},{"$f":"SA34b!J152","v":0},{"$f":"SA34b!K152","v":0}]
["Machinery and Equipment",null,{"$f":"SA34b!C155","v":0},{"$f":"SA34b!D155","v":0},{"$f":"SA34b!E155","v":0},{"$f":"SA34b!F155","v":0},{"$f":"SA34b!G155","v":0},{"$f":"SA34b!H155","v":0},{"$f":"SA34b!I155","v":0},{"$f":"SA34b!J155","v":0},{"$f":"SA34b!K155","v":0}]
["Transport Assets",null,{"$f":"SA34b!C158","v":0},{"$f":"SA34b!D158","v":0},{"$f":"SA34b!E158","v":21916443.91},{"$f":"SA34b!F158","v":3900000},{"$f":"SA34b!G158","v":3900000},{"$f":"SA34b!H158","v":3900000},{"$f":"SA34b!I158","v":0},{"$f":"SA34b!J158","v":6860000},{"$f":"SA34b!K158","v":6000000}]
["Land",null,{"$f":"SA34b!C161","v":0},{"$f":"SA34b!D161","v":0},{"$f":"SA34b!E161","v":0},{"$f":"SA34b!F161","v":0},{"$f":"SA34b!G161","v":0},{"$f":"SA34b!H161","v":0},{"$f":"SA34b!I161","v":0},{"$f":"SA34b!J161","v":0},{"$f":"SA34b!K161","v":0}]
["Zoo's, Marine and Non-biological Animals",null,{"$f":"SA34b!C164","v":0},{"$f":"SA34b!D164","v":0},{"$f":"SA34b!E164","v":0},{"$f":"SA34b!F164","v":0},{"$f":"SA34b!G164","v":0},{"$f":"SA34b!H164","v":0},{"$f":"SA34b!I164","v":0},{"$f":"SA34b!J164","v":0},{"$f":"SA34b!K164","v":0}]
[]
["Total Upgrading of Existing Assets",6,{"$f":"C79+C82+C83+C86+C89+C90+SUM(C93:C99)","v":0},{"$f":"D79+D82+D83+D86+D89+D90+SUM(D93:D99)","v":11697965.92},4918375.1900000004,2341000,2541000,2541000,2451000,2460000,2549000]
["Roads Infrastructure",null,{"$f":"SA34e!C7","v":0},{"$f":"SA34e!D7","v":2091486.09},{"$f":"SA34e!E7","v":2008114.78},{"$f":"SA34e!F7","v":2341000},{"$f":"SA34e!G7","v":2341000},{"$f":"SA34e!H7","v":2341000},{"$f":"SA34e!I7","v":2451000},{"$f":"SA34e!J7","v":2460000},{"$f":"SA34e!K7","v":2549000}]
["Storm water Infrastructure",null,{"$f":"SA34e!C12","v":0},{"$f":"SA34e!D12","v":0},{"$f":"SA34e!E12","v":0},{"$f":"SA34e!F12","v":0},{"$f":"SA34e!G12","v":0},{"$f":"SA34e!H12","v":0},{"$f":"SA34e!I12","v":0},{"$f":"SA34e!J12","v":0},{"$f":"SA34e!K12","v":0}]
["Electrical Infrastructure",null,{"$f":"SA34e!C16","v":0},{"$f":"SA34e!D16","v":0},{"$f":"SA34e!E16","v":0},{"$f":"SA34e!F16","v":0},{"$f":"SA34e!G16","v":0},{"$f":"SA34e!H16","v":0},{"$f":"SA34e!I16","v":0},{"$f":"SA34e!J16","v":0},{"$f":"SA34e!K16","v":0}]
["Water Supply Infrastructure",null,{"$f":"SA34e!C26","v":0},{"$f":"SA34e!D26","v":9606479.8300000001},{"$f":"SA34e!E26","v":2910260.41},{"$f":"SA34e!F26","v":0},{"$f":"SA34e!G26","v":0},{"$f":"SA34e!H26","v":0},{"$f":"SA34e!I26","v":0},{"$f":"SA34e!J26","v":0},{"$f":"SA34e!K26","v":0}]
["Sanitation Infrastructure",null,{"$f":"SA34e!C37","v":0},{"$f":"SA34e!D37","v":0},{"$f":"SA34e!E37","v":0},{"$f":"SA34e!F37","v":0},{"$f":"SA34e!G37","v":0},{"$f":"SA34e!H37","v":0},{"$f":"SA34e!I37","v":0},{"$f":"SA34e!J37","v":0},{"$f":"SA34e!K37","v":0}]
["Solid Waste Infrastructure",null,{"$f":"SA34e!C44","v":0},{"$f":"SA34e!D44","v":0},{"$f":"SA34e!E44","v":0},{"$f":"SA34e!F44","v":0},{"$f":"SA34e!G44","v":0},{"$f":"SA34e!H44","v":0},{"$f":"SA34e!I44","v":0},{"$f":"SA34e!J44","v":0},{"$f":"SA34e!K44","v":0}]
["Rail Infrastructure",null,{"$f":"SA34e!C52","v":0},{"$f":"SA34e!D52","v":0},{"$f":"SA34e!E52","v":0},{"$f":"SA34e!F52","v":0},{"$f":"SA34e!G52","v":0},{"$f":"SA34e!H52","v":0},{"$f":"SA34e!I52","v":0},{"$f":"SA34e!J52","v":0},{"$f":"SA34e!K52","v":0}]
["Coastal Infrastructure",null,{"$f":"SA34e!C62","v":0},{"$f":"SA34e!D62","v":0},{"$f":"SA34e!E62","v":0},{"$f":"SA34e!F62","v":0},{"$f":"SA34e!G62","v":0},{"$f":"SA34e!H62","v":0},{"$f":"SA34e!I62","v":0},{"$f":"SA34e!J62","v":0},{"$f":"SA34e!K62","v":0}]
["Information and Communication Infrastructure",null,{"$f":"SA34e!C68","v":0},{"$f":"SA34e!D68","v":0},{"$f":"SA34e!E68","v":0},{"$f":"SA34e!F68","v":0},{"$f":"SA34e!G68","v":0},{"$f":"SA34e!H68","v":0},{"$f":"SA34e!I68","v":0},{"$f":"SA34e!J68","v":0},{"$f":"SA34e!K68","v":0}]
["Infrastructure",null,{"$f":"SUM(C70:C78)","v":0},11697965.92,4918375.1900000004,2341000,2341000,2341000,2451000,2460000,2549000]
["Community Facilities",null,{"$f":"SA34e!C75","v":0},{"$f":"SA34e!D75","v":0},{"$f":"SA34e!E75","v":0},{"$f":"SA34e!F75","v":0},{"$f":"SA34e!G75","v":0},{"$f":"SA34e!H75","v":0},{"$f":"SA34e!I75","v":0},{"$f":"SA34e!J75","v":0},{"$f":"SA34e!K75","v":0}]
["Sport and Recreation Facilities",null,{"$f":"SA34e!C98","v":0},{"$f":"SA34e!D98","v":0},{"$f":"SA34e!E98","v":0},{"$f":"SA34e!F98","v":0},{"$f":"SA34e!G98","v":0},{"$f":"SA34e!H98","v":0},{"$f":"SA34e!I98","v":0},{"$f":"SA34e!J98","v":0},{"$f":"SA34e!K98","v":0}]
["Community Assets",null,{"$f":"SUM(C80:C81)","v":0},0,0,0,0,0,0,0,0]
["Heritage Assets",null,{"$f":"SA34e!C103","v":0},{"$f":"SA34e!D103","v":0},{"$f":"SA34e!E103","v":0},{"$f":"SA34e!F103","v":0},{"$f":"SA34e!G103","v":0},{"$f":"SA34e!H103","v":0},{"$f":"SA34e!I103","v":0},{"$f":"SA34e!J103","v":0},{"$f":"SA34e!K103","v":0}]
["Revenue Generating",null,{"$f":"SA34e!C111","v":0},{"$f":"SA34e!D111","v":0},{"$f":"SA34e!E111","v":0},{"$f":"SA34e!F111","v":0},{"$f":"SA34e!G111","v":0},{"$f":"SA34e!H111","v":0},{"$f":"SA34e!I111","v":0},{"$f":"SA34e!J111","v":0},{"$f":"SA34e!K111","v":0}]
["Non-revenue Generating",null,{"$f":"SA34e!C114","v":0},{"$f":"SA34e!D114","v":0},{"$f":"SA34e!E114","v":0},{"$f":"SA34e!F114","v":0},{"$f":"SA34e!G114","v":0},{"$f":"SA34e!H114","v":0},{"$f":"SA34e!I114","v":0},{"$f":"SA34e!J114","v":0},{"$f":"SA34e!K114","v":0}]
["Investment properties",null,{"$f":"SUM(C84:C85)","v":0},0,0,0,0,0,0,0,0]
["Operational Buildings",null,{"$f":"SA34e!C119","v":0},{"$f":"SA34e!D119","v":0},{"$f":"SA34e!E119","v":0},{"$f":"SA34e!F119","v":0},{"$f":"SA34e!G119","v":200000},{"$f":"SA34e!H119","v":200000},{"$f":"SA34e!I119","v":0},{"$f":"SA34e!J119","v":0},{"$f":"SA34e!K119","v":0}]
["Housing",null,{"$f":"SA34e!C131","v":0},{"$f":"SA34e!D131","v":0},{"$f":"SA34e!E131","v":0},{"$f":"SA34e!F131","v":0},{"$f":"SA34e!G131","v":0},{"$f":"SA34e!H131","v":0},{"$f":"SA34e!I131","v":0},{"$f":"SA34e!J131","v":0},{"$f":"SA34e!K131","v":0}]
["Other Assets",null,{"$f":"SUM(C87:C88)","v":0},0,0,0,200000,200000,0,0,0]
["Biological or Cultivated Assets",null,{"$f":"SA34e!C136","v":0},{"$f":"SA34e!D136","v":0},{"$f":"SA34e!E136","v":0},{"$f":"SA34e!F136","v":0},{"$f":"SA34e!G136","v":0},{"$f":"SA34e!H136","v":0},{"$f":"SA34e!I136","v":0},{"$f":"SA34e!J136","v":0},{"$f":"SA34e!K136","v":0}]
["Servitudes",null,{"$f":"SA34e!C140","v":0},{"$f":"SA34e!D140","v":0},{"$f":"SA34e!E140","v":0},{"$f":"SA34e!F140","v":0},{"$f":"SA34e!G140","v":0},{"$f":"SA34e!H140","v":0},{"$f":"SA34e!I140","v":0},{"$f":"SA34e!J140","v":0},{"$f":"SA34e!K140","v":0}]
["Licences and Rights",null,{"$f":"SA34e!C141","v":0},{"$f":"SA34e!D141","v":0},{"$f":"SA34e!E141","v":0},{"$f":"SA34e!F141","v":0},{"$f":"SA34e!G141","v":0},{"$f":"SA34e!H141","v":0},{"$f":"SA34e!I141","v":0},{"$f":"SA34e!J141","v":0},{"$f":"SA34e!K141","v":0}]
["Intangible Assets",null,{"$f":"SUM(C91:C92)","v":0},0,0,0,0,0,0,0,0]
["Computer Equipment",null,{"$f":"SA34e!C149","v":0},{"$f":"SA34e!D149","v":0},{"$f":"SA34e!E149","v":0},{"$f":"SA34e!F149","v":0},{"$f":"SA34e!G149","v":0},{"$f":"SA34e!H149","v":0},{"$f":"SA34e!I149","v":0},{"$f":"SA34e!J149","v":0},{"$f":"SA34e!K149","v":0}]
["Furniture and Office Equipment",null,{"$f":"SA34e!C152","v":0},{"$f":"SA34e!D152","v":0},{"$f":"SA34e!E152","v":0},{"$f":"SA34e!F152","v":0},{"$f":"SA34e!G152","v":0},{"$f":"SA34e!H152","v":0},{"$f":"SA34e!I152","v":0},{"$f":"SA34e!J152","v":0},{"$f":"SA34e!K152","v":0}]
["Machinery and Equipment",null,{"$f":"SA34e!C155","v":0},{"$f":"SA34e!D155","v":0},{"$f":"SA34e!E155","v":0},{"$f":"SA34e!F155","v":0},{"$f":"SA34e!G155","v":0},{"$f":"SA34e!H155","v":0},{"$f":"SA34e!I155","v":0},{"$f":"SA34e!J155","v":0},{"$f":"SA34e!K155","v":0}]
["Transport Assets",null,{"$f":"SA34e!C158","v":0},{"$f":"SA34e!D158","v":0},{"$f":"SA34e!E158","v":0},{"$f":"SA34e!F158","v":0},{"$f":"SA34e!G158","v":0},{"$f":"SA34e!H158","v":0},{"$f":"SA34e!I158","v":0},{"$f":"SA34e!J158","v":0},{"$f":"SA34e!K158","v":0}]
["Land",null,{"$f":"SA34e!C161","v":0},{"$f":"SA34e!D161","v":0},{"$f":"SA34e!E161","v":0},{"$f":"SA34e!F161","v":0},{"$f":"SA34e!G161","v":0},{"$f":"SA34e!H161","v":0},{"$f":"SA34e!I161","v":0},{"$f":"SA34e!J161","v":0},{"$f":"SA34e!K161","v":0}]
["Zoo's, Marine and Non-biological Animals",null,{"$f":"SA34e!C164","v":0},{"$f":"SA34e!D164","v":0},{"$f":"SA34e!E164","v":0},{"$f":"SA34e!F164","v":0},{"$f":"SA34e!G164","v":0},{"$f":"SA34e!H164","v":0},{"$f":"SA34e!I164","v":0},{"$f":"SA34e!J164","v":0},{"$f":"SA34e!K164","v":0}]
[]
["Total Capital Expenditure",4,{"$f":"+C5+C37+C69","v":457492910.36999995},{"$f":"+D5+D37+D69","v":390198097.96999997},429537047.58999997,424001000,397397708,397397708,489206441,511713530,520355239]
["Roads Infrastructure",null,{"$f":"+C6+C38+C70","v":0},{"$f":"+D6+D38+D70","v":2091486.09},2008114.78,2341000,2341000,2341000,2451000,2460000,2549000]
["Storm water Infrastructure",null,{"$f":"+C7+C39+C71","v":0},0,0,0,0,0,0,0,0]
["Electrical Infrastructure",null,0,0,0,0,0,0,0,0,0]
["Water Supply Infrastructure",null,57822236.740000002,387295064.36999995,406157462.05000001,415760000,386490000,386490000,483125441,500222010,509537000]
["Sanitation Infrastructure",null,399531646.30000001,648182.5,62267.06,0,500000,500000,0,0,0]
["Solid Waste Infrastructure",null,0,0,0,0,0,0,0,0,0]
["Rail Infrastructure",null,0,0,0,0,0,0,0,0,0]
["Coastal Infrastructure",null,0,0,0,0,0,0,0,0,0]
["Information and Communication Infrastructure",null,0,0,0,0,0,0,0,0,0]
["Infrastructure",null,{"$f":"SUM(C102:C110)","v":457353883.04000002},{"$f":"SUM(D102:D110)","v":390034732.95999992},408227843.88999999,418101000,389331000,389331000,485576441,502682010,512086000]
["Community Facilities",null,{"$f":"+C16+C48+C80","v":0},{"$f":"+D16+D48+D80","v":0},0,0,0,0,0,0,0]
["Sport and Recreation Facilities",null,{"$f":"+C17+C49+C81","v":0},{"$f":"+D17+D49+D81","v":0},0,0,0,0,0,0,0]
["Community Assets",null,{"$f":"SUM(C112:C113)","v":0},{"$f":"SUM(D112:D113)","v":0},0,0,0,0,0,0,0]
["Heritage Assets",null,{"$f":"+C19+C51+C83","v":0},{"$f":"+D19+D51+D83","v":0},0,0,0,0,0,0,0]
["Revenue Generating",null,{"$f":"+C20+C52+C84","v":0},{"$f":"+D20+D52+D84","v":0},0,0,0,0,0,0,0]
["Non-revenue Generating",null,{"$f":"+C21+C53+C85","v":0},{"$f":"+D21+D53+D85","v":0},0,0,0,0,0,0,0]
["Investment properties",null,{"$f":"SUM(C116:C117)","v":0},{"$f":"SUM(D116:D117)","v":0},0,0,0,0,0,0,0]
["Operational Buildings",null,{"$f":"+C23+C55+C87","v":0},{"$f":"+D23+D55+D87","v":0},0,0,200000,200000,0,0,0]
["Housing",null,{"$f":"+C24+C56+C88","v":0},{"$f":"+D24+D56+D88","v":0},0,0,0,0,0,0,0]
["Other Assets",null,{"$f":"SUM(C119:C120)","v":0},0,0,0,200000,200000,0,0,0]
["Biological or Cultivated Assets",null,{"$f":"+C26+C58+C90","v":0},{"$f":"+D26+D58+D90","v":0},0,0,0,0,0,0,0]
["Servitudes",null,{"$f":"+C27+C59+C91","v":0},{"$f":"+D27+D59+D91","v":0},0,0,0,0,0,0,0]
["Licences and Rights",null,{"$f":"+C28+C60+C92","v":0},{"$f":"+D28+D60+D92","v":0},0,0,0,0,0,0,0]
["Intangible Assets",null,{"$f":"SUM(C123:C124)","v":0},{"$f":"SUM(D123:D124)","v":0},0,0,0,0,0,0,0]
["Computer Equipment",null,{"$f":"+C30+C62+C94","v":0},{"$f":"+D30+D62+D94","v":163365.01},8600.34,2000000,3046708,3046708,2880000,2171520,2269239]
["Furniture and Office Equipment",null,{"$f":"+C31+C63+C95","v":139027.32999999999},0,-615840.55000000005,0,920000,920000,750000,0,0]
["Machinery and Equipment",null,0,0,0,0,0,0,0,0,0]
["Transport Assets",null,0,0,21916443.91,3900000,3900000,3900000,0,6860000,6000000]
["Land",null,0,0,0,0,0,0,0,0,0]
["Zoo's, Marine and Non-biological Animals",null,0,0,0,0,0,0,0,0,0]
["TOTAL CAPITAL EXPENDITURE - Asset class",null,{"$f":"+C5+C37+C69","v":457492910.36999995},{"$f":"+D5+D37+D69","v":390198097.96999997},429537047.58999997,424001000,397397708,397397708,489206441,511713530,520355239]
[]
["ASSET REGISTER SUMMARY - PPE (WDV)",5,{"$f":"C144+C147+C148+C151+C154+C155+C158+C159+C160+C161+C162+C163+C164","v":2233021658.3699999},{"$f":"D144+D147+D148+D151+D154+D155+D158+D159+D160+D161+D162+D163+D164","v":2388135370.8500004},2672393451.4400001,2587192745,2551489453,2551489453,2646498186,2669005275,2692987092]
["Roads Infrastructure",null,30856445.489999998,29039481.579999998,29551218.579999998,31247761,28047761,28047761,31357761,31366761,31455761]
["Storm water Infrastructure",null,0,0,0,0,0,0,0,0,0]
["Electrical Infrastructure"]
["Water Supply Infrastructure",null,2111789504.8499999,2276876335.8299999,2531006304.5500002,2489400739,2460130739,2460130739,2556766180,2573862749,2583177739]
["Sanitation Infrastructure",null,49748218.609999999,37192785.049999997,37192676.909999996,48398333,48898333,48898333,48398333,48398333,48398333]
["Solid Waste Infrastructure",null,0,-22.19,-28.38,0,0,0,0,0,0]
["Rail Infrastructure"]
["Coastal Infrastructure"]
["Information and Communication Infrastructure"]
["Infrastructure",null,{"$f":"SUM(C135:C143)","v":2192394168.9499998},{"$f":"SUM(D135:D143)","v":2343108580.27},2597750171.6599998,2569046833,2537076833,2537076833,2636522274,2653627843,2663031833]
[]
[]
["Community Assets",null,35603535.700000003,34891580.170000002,33681182.460000001,35182078,35182078,35182078,35182078,35182078,35182078]
["Heritage Assets",null,0,0,0,0,0,0,0,0,0]
[]
[]
["Investment properties"]
[]
[]
["Other Assets",null,-15408025.65,-15563882.52,-15715544.35,-15408026,-15208026,-15208026,-15408026,-15408026,-15408026]
["Biological or Cultivated Assets"]
[]
[]
["Intangible Assets",null,0,0,0,0,0,0,0,0,0]
["Computer Equipment",null,5483413.5099999998,7840273.5499999998,10667028.57,-20476705,-19429997,-19429997,-19596705,-20305185,-4867358]
["Furniture and Office Equipment",null,4595334.0599999996,4349855.53,3007386.17,4595334,5515334,5515334,5345334,4595334,4595334]
["Machinery and Equipment",null,3790842.03,3996692.79,13682414.470000001,3790842,3790842,3790842,3790842,3790842,3790842]
["Transport Assets",null,6562389.7699999996,9512271.0600000005,29320812.460000001,10462389,4562389,4562389,662389,7522389,6662389]
["Land",null,0,0,0,0,0,0,0,0,0]
["Zoo's, Marine and Non-biological Animals"]
["TOTAL ASSET REGISTER SUMMARY - PPE (WDV)",5,{"$f":"C144+C147+C148+C151+C154+C155+C158+C159+C160+C161+C162+C163+C164","v":2233021658.3699999},{"$f":"D144+D147+D148+D151+D154+D155+D158+D159+D160+D161+D162+D163+D164","v":2388135370.8500004},2672393451.4400001,2587192745,2551489453,2551489453,2646498186,2669005275,2692987092]
[]
["EXPENDITURE OTHER ITEMS",null,{"$f":"SUM(C168:C169)","v":220325426.91999999},{"$f":"SUM(D168:D169)","v":221535858.13999999},190900918.67000002,232688086,275674827,275674827,229937210,231242565,250969804]
["Depreciation",7,{"$f":"SA34d!C167","v":101039967.95999999},{"$f":"SA34d!D167","v":122229924.3},{"$f":"SA34d!E167","v":94331435.569999978},{"$f":"SA34d!F167","v":102514292},{"$f":"SA34d!G167","v":102554292},{"$f":"SA34d!H167","v":102554292},{"$f":"SA34d!I167","v":106884864},{"$f":"SA34d!J167","v":111671318},{"$f":"SA34d!K167","v":127396528}]
["Repairs and Maintenance by Asset Class",3,{"$f":"C179+C182+C183+C186+C189+C190+SUM(C193:C199)","v":119285458.95999999},{"$f":"D179+D182+D183+D186+D189+D190+SUM(D193:D199)","v":99305933.840000004},96569483.100000024,130173794,173120535,173120535,123052346,119571247,123573276]
["Roads Infrastructure",null,{"$f":"SA34c!C7","v":0},{"$f":"SA34c!D7","v":0},{"$f":"SA34c!E7","v":0},{"$f":"SA34c!F7","v":0},{"$f":"SA34c!G7","v":0},{"$f":"SA34c!H7","v":0},{"$f":"SA34c!I7","v":0},{"$f":"SA34c!J7","v":0},{"$f":"SA34c!K7","v":0}]
["Storm water Infrastructure",null,{"$f":"SA34c!C12","v":0},{"$f":"SA34c!D12","v":0},{"$f":"SA34c!E12","v":0},{"$f":"SA34c!F12","v":0},{"$f":"SA34c!G12","v":0},{"$f":"SA34c!H12","v":0},{"$f":"SA34c!I12","v":0},{"$f":"SA34c!J12","v":0},{"$f":"SA34c!K12","v":0}]
["Electrical Infrastructure",null,{"$f":"SA34c!C16","v":0},{"$f":"SA34c!D16","v":0},{"$f":"SA34c!E16","v":0},{"$f":"SA34c!F16","v":0},{"$f":"SA34c!G16","v":0},{"$f":"SA34c!H16","v":0},{"$f":"SA34c!I16","v":0},{"$f":"SA34c!J16","v":0},{"$f":"SA34c!K16","v":0}]
["Water Supply Infrastructure",null,{"$f":"SA34c!C26","v":36099243.729999997},{"$f":"SA34c!D26","v":19283635.640000001},{"$f":"SA34c!E26","v":18150853.420000002},{"$f":"SA34c!F26","v":45747429},{"$f":"SA34c!G26","v":42747429},{"$f":"SA34c!H26","v":42747429},{"$f":"SA34c!I26","v":43957326},{"$f":"SA34c!J26","v":46869447},{"$f":"SA34c!K26","v":48865706}]
["Sanitation Infrastructure",null,{"$f":"SA34c!C37","v":81180068.349999994},{"$f":"SA34c!D37","v":76368908.299999997},{"$f":"SA34c!E37","v":77530341.220000014},{"$f":"SA34c!F37","v":81562924},{"$f":"SA34c!G37","v":126662924},{"$f":"SA34c!H37","v":126662924},{"$f":"SA34c!I37","v":64145441},{"$f":"SA34c!J37","v":65811840},{"$f":"SA34c!K37","v":66507562}]
["Solid Waste Infrastructure",null,{"$f":"SA34c!C44","v":0},{"$f":"SA34c!D44","v":0},{"$f":"SA34c!E44","v":0},{"$f":"SA34c!F44","v":0},{"$f":"SA34c!G44","v":0},{"$f":"SA34c!H44","v":0},{"$f":"SA34c!I44","v":0},{"$f":"SA34c!J44","v":0},{"$f":"SA34c!K44","v":0}]
["Rail Infrastructure",null,{"$f":"SA34c!C52","v":0},{"$f":"SA34c!D52","v":0},{"$f":"SA34c!E52","v":0},{"$f":"SA34c!F52","v":0},{"$f":"SA34c!G52","v":0},{"$f":"SA34c!H52","v":0},{"$f":"SA34c!I52","v":0},{"$f":"SA34c!J52","v":0},{"$f":"SA34c!K52","v":0}]
["Coastal Infrastructure",null,{"$f":"SA34c!C62","v":0},{"$f":"SA34c!D62","v":0},{"$f":"SA34c!E62","v":0},{"$f":"SA34c!F62","v":0},{"$f":"SA34c!G62","v":0},{"$f":"SA34c!H62","v":0},{"$f":"SA34c!I62","v":0},{"$f":"SA34c!J62","v":0},{"$f":"SA34c!K62","v":0}]
["Information and Communication Infrastructure",null,{"$f":"SA34c!C68","v":0},{"$f":"SA34c!D68","v":0},{"$f":"SA34c!E68","v":0},{"$f":"SA34c!F68","v":0},{"$f":"SA34c!G68","v":0},{"$f":"SA34c!H68","v":0},{"$f":"SA34c!I68","v":0},{"$f":"SA34c!J68","v":0},{"$f":"SA34c!K68","v":0}]
["Infrastructure",null,{"$f":"SUM(C170:C178)","v":117279312.07999998},{"$f":"SUM(D170:D178)","v":95652543.939999998},95681194.640000015,127310353,169410353,169410353,108102767,112681287,115373268]
["Community Facilities",null,{"$f":"SA34c!C75","v":0},{"$f":"SA34c!D75","v":0},{"$f":"SA34c!E75","v":0},{"$f":"SA34c!F75","v":0},{"$f":"SA34c!G75","v":0},{"$f":"SA34c!H75","v":0},{"$f":"SA34c!I75","v":0},{"$f":"SA34c!J75","v":0},{"$f":"SA34c!K75","v":0}]
["Sport and Recreation Facilities",null,{"$f":"SA34c!C98","v":0},{"$f":"SA34c!D98","v":0},{"$f":"SA34c!E98","v":0},{"$f":"SA34c!F98","v":0},{"$f":"SA34c!G98","v":0},{"$f":"SA34c!H98","v":0},{"$f":"SA34c!I98","v":0},{"$f":"SA34c!J98","v":0},{"$f":"SA34c!K98","v":0}]
["Community Assets",null,{"$f":"SUM(C180:C181)","v":0},0,0,0,0,0,0,0,0]
["Heritage Assets",null,{"$f":"SA34c!C103","v":0},{"$f":"SA34c!D103","v":0},{"$f":"SA34c!E103","v":0},{"$f":"SA34c!F103","v":0},{"$f":"SA34c!G103","v":0},{"$f":"SA34c!H103","v":0},{"$f":"SA34c!I103","v":400000},{"$f":"SA34c!J103","v":522000},{"$f":"SA34c!K103","v":545490}]
["Revenue Generating",null,{"$f":"SA34c!C111","v":0},{"$f":"SA34c!D111","v":0},{"$f":"SA34c!E111","v":0},{"$f":"SA34c!F111","v":0},{"$f":"SA34c!G111","v":0},{"$f":"SA34c!H111","v":0},{"$f":"SA34c!I111","v":0},{"$f":"SA34c!J111","v":0},{"$f":"SA34c!K111","v":0}]
["Non-revenue Generating",null,{"$f":"SA34c!C114","v":0},{"$f":"SA34c!D114","v":0},{"$f":"SA34c!E114","v":0},{"$f":"SA34c!F114","v":0},{"$f":"SA34c!G114","v":0},{"$f":"SA34c!H114","v":0},{"$f":"SA34c!I114","v":0},{"$f":"SA34c!J114","v":0},{"$f":"SA34c!K114","v":0}]
["Investment properties",null,{"$f":"SUM(C184:C185)","v":0},0,0,0,0,0,0,0,0]
["Operational Buildings",null,{"$f":"SA34c!C119","v":1438091.43},{"$f":"SA34c!D119","v":280058.62},{"$f":"SA34c!E119","v":194835.04},{"$f":"SA34c!F119","v":800000},{"$f":"SA34c!G119","v":600000},{"$f":"SA34c!H119","v":600000},{"$f":"SA34c!I119","v":2080000},{"$f":"SA34c!J119","v":2484720},{"$f":"SA34c!K119","v":2596532}]
["Housing",null,{"$f":"SA34c!C131","v":0},{"$f":"SA34c!D131","v":0},{"$f":"SA34c!E131","v":0},{"$f":"SA34c!F131","v":0},{"$f":"SA34c!G131","v":0},{"$f":"SA34c!H131","v":0},{"$f":"SA34c!I131","v":0},{"$f":"SA34c!J131","v":0},{"$f":"SA34c!K131","v":0}]
["Other Assets",null,{"$f":"SUM(C187:C188)","v":1438091.43},280058.62,194835.04,800000,600000,600000,2080000,2484720,2596532]
["Biological or Cultivated Assets",null,{"$f":"SA34c!C136","v":0},{"$f":"SA34c!D136","v":0},{"$f":"SA34c!E136","v":0},{"$f":"SA34c!F136","v":0},{"$f":"SA34c!G136","v":0},{"$f":"SA34c!H136","v":0},{"$f":"SA34c!I136","v":0},{"$f":"SA34c!J136","v":0},{"$f":"SA34c!K136","v":0}]
["Servitudes",null,{"$f":"SA34c!C140","v":0},{"$f":"SA34c!D140","v":0},{"$f":"SA34c!E140","v":0},{"$f":"SA34c!F140","v":0},{"$f":"SA34c!G140","v":0},{"$f":"SA34c!H140","v":0},{"$f":"SA34c!I140","v":0},{"$f":"SA34c!J140","v":0},{"$f":"SA34c!K140","v":0}]
["Licences and Rights",null,{"$f":"SA34c!C141","v":0},{"$f":"SA34c!D141","v":0},{"$f":"SA34c!E141","v":0},{"$f":"SA34c!F141","v":0},{"$f":"SA34c!G141","v":0},{"$f":"SA34c!H141","v":0},{"$f":"SA34c!I141","v":0},{"$f":"SA34c!J141","v":0},{"$f":"SA34c!K141","v":0}]
["Intangible Assets",null,{"$f":"SUM(C191:C192)","v":0},0,0,0,0,0,0,0,0]
["Computer Equipment",null,{"$f":"SA34c!C149","v":0},{"$f":"SA34c!D149","v":0},{"$f":"SA34c!E149","v":0},{"$f":"SA34c!F149","v":0},{"$f":"SA34c!G149","v":100000},{"$f":"SA34c!H149","v":100000},{"$f":"SA34c!I149","v":104000},{"$f":"SA34c!J149","v":108576},{"$f":"SA34c!K149","v":113462}]
["Furniture and Office Equipment",null,{"$f":"SA34c!C152","v":0},{"$f":"SA34c!D152","v":0},{"$f":"SA34c!E152","v":0},{"$f":"SA34c!F152","v":0},{"$f":"SA34c!G152","v":0},{"$f":"SA34c!H152","v":0},{"$f":"SA34c!I152","v":0},{"$f":"SA34c!J152","v":0},{"$f":"SA34c!K152","v":0}]
["Machinery and Equipment",null,{"$f":"SA34c!C155","v":72751.14},{"$f":"SA34c!D155","v":608.24},{"$f":"SA34c!E155","v":-589284.43999999994},{"$f":"SA34c!F155","v":63441},{"$f":"SA34c!G155","v":303441},{"$f":"SA34c!H155","v":303441},{"$f":"SA34c!I155","v":9065579},{"$f":"SA34c!J155","v":329464},{"$f":"SA34c!K155","v":344290}]
["Transport Assets",null,{"$f":"SA34c!C158","v":495304.31},{"$f":"SA34c!D158","v":3372723.04},{"$f":"SA34c!E158","v":1282737.8600000001},{"$f":"SA34c!F158","v":2000000},{"$f":"SA34c!G158","v":2706741},{"$f":"SA34c!H158","v":2706741},{"$f":"SA34c!I158","v":3300000},{"$f":"SA34c!J158","v":3445200},{"$f":"SA34c!K158","v":4600234}]
["Land",null,{"$f":"SA34c!C161","v":0},{"$f":"SA34c!D161","v":0},{"$f":"SA34c!E161","v":0},{"$f":"SA34c!F161","v":0},{"$f":"SA34c!G161","v":0},{"$f":"SA34c!H161","v":0},{"$f":"SA34c!I161","v":0},{"$f":"SA34c!J161","v":0},{"$f":"SA34c!K161","v":0}]
["Zoo's, Marine and Non-biological Animals",null,{"$f":"SA34c!C164","v":0},{"$f":"SA34c!D164","v":0},{"$f":"SA34c!E164","v":0},{"$f":"SA34c!F164","v":0},{"$f":"SA34c!G164","v":0},{"$f":"SA34c!H164","v":0},{"$f":"SA34c!I164","v":0},{"$f":"SA34c!J164","v":0},{"$f":"SA34c!K164","v":0}]
[]
["TOTAL EXPENDITURE OTHER ITEMS",null,{"$f":"SUM(C168:C169)","v":220325426.91999999},221535858.13999999,190900918.67000002,232688086,275674827,275674827,229937210,231242565,250969804]
[]
["Renewal and upgrading of Existing Assets as % of total capex",null,{"$f":"IF(ISERROR((C37+C69)/C132),0,((C37+C69)/C132))","v":1.1117669617844925E-2},{"$f":"IF(ISERROR((D37+D69)/D132),0,((D37+D69)/D132))","v":0.27084588812661353},0.32983546510109774,8.2376760903865795E-2,6.7093655708754113E-2,6.7093655708754113E-2,1.3273747963592328E-2,1.8213315563495067E-2,1.6429161002451249E-2]
["Renewal and upgrading of Existing Assets as % of deprecn",null,{"$f":"IF(ISERROR((C37+C69)/C168),0,((C37+C69)/C168))","v":5.0339040408381379E-2},{"$f":"IF(ISERROR((D37+D69)/D168),0,((D37+D69)/D168))","v":0.86462910776751589},1.5019017893019015,0.34071180045802785,0.25998780236325947,0.25998780236325947,6.0753251274193509E-2,8.3459210179645235E-2,6.7105439482620752E-2]
["R&M as a % of PPE",null,{"$f":"IF(ISERROR(ROUND(C169/'A6-FinPos'!C19,3)),0,(ROUND(C169/'A6-FinPos'!C19,3)))","v":3.5999999999999997E-2},{"$f":"IF(ISERROR(ROUND(D169/'A6-FinPos'!D19,3)),0,(ROUND(D169/'A6-FinPos'!D19,3)))","v":2.7E-2},{"$f":"IF(ISERROR(ROUND(E169/'A6-FinPos'!E19,3)),0,(ROUND(E169/'A6-FinPos'!E19,3)))","v":2.4E-2},{"$f":"IF(ISERROR(ROUND(F169/'A6-FinPos'!F19,3)),0,(ROUND(F169/'A6-FinPos'!F19,3)))","v":3.5000000000000003E-2},{"$f":"IF(ISERROR(ROUND(G169/'A6-FinPos'!G19,3)),0,(ROUND(G169/'A6-FinPos'!G19,3)))","v":4.7E-2},{"$f":"IF(ISERROR(ROUND(H169/'A6-FinPos'!H19,3)),0,(ROUND(H169/'A6-FinPos'!H19,3)))","v":4.7E-2},{"$f":"IF(ISERROR(ROUND(I169/'A6-FinPos'!J19,3)),0,(ROUND(I169/'A6-FinPos'!J19,3)))","v":3.3000000000000002E-2},{"$f":"IF(ISERROR(ROUND(J169/'A6-FinPos'!K19,3)),0,(ROUND(J169/'A6-FinPos'!K19,3)))","v":3.2000000000000001E-2},{"$f":"IF(ISERROR(ROUND(K169/'A6-FinPos'!L19,3)),0,(ROUND(K169/'A6-FinPos'!L19,3)))","v":3.2000000000000001E-2}]
["Renewal and upgrading and R&M as a % of PPE",null,{"$f":"IF(ISERROR(ROUND((C37+C69+C169)/C165,2)),0,(ROUND((C37+C69+C169)/C165,2)))","v":0.06},{"$f":"IF(ISERROR(ROUND((D37+D69+D169)/D165,2)),0,(ROUND((D37+D69+D169)/D165,2)))","v":0.09},0.09,0.06,0.08,0.08,0.05,0.05,0.05]
[]
[{"$f":"head27a","v":"References"}]
["1. Detail of new assets provided in Table SA34a"]
["2. Detail of renewal of existing assets provided in Table SA34b"]
["3. Detail of Repairs and Maintenance by Asset Class provided in Table SA34c"]
["4. Must reconcile to total capital expenditure on Budgeted Capital Expenditure"]
["5. Must reconcile to 'Budgeted Financial Position' (written down value)"]
["6. Detail of upgrading of existing assets provided in Table SA34e"]
["7. Detail of depreciation provided in Table SA34d"]
[]
["Check balance to A6",null,{"$f":"C165-'A6-FinPos'!D17-'A6-FinPos'!D19-'A6-FinPos'!D20-'A6-FinPos'!D21-'A6-FinPos'!D22-C148","v":-1438034593.5699997},{"$f":"D165-'A6-FinPos'!E17-'A6-FinPos'!E19-'A6-FinPos'!E20-'A6-FinPos'!E21-'A6-FinPos'!E22-D148","v":-1622688168.4399996},{"$f":"E165-'A6-FinPos'!F17-'A6-FinPos'!F19-'A6-FinPos'!F20-'A6-FinPos'!F21-'A6-FinPos'!F22-E148","v":-1040827693.5599999},{"$f":"F165-'A6-FinPos'!G17-'A6-FinPos'!G19-'A6-FinPos'!G20-'A6-FinPos'!G21-'A6-FinPos'!G22-F148","v":-1090325108},{"$f":"G165-'A6-FinPos'!H17-'A6-FinPos'!H19-'A6-FinPos'!H20-'A6-FinPos'!H21-'A6-FinPos'!H22-G148","v":-1126028400},{"$f":"H165-'A6-FinPos'!I17-'A6-FinPos'!I19-'A6-FinPos'!I20-'A6-FinPos'!I21-'A6-FinPos'!I22-H148","v":-1712377297.4400005},{"$f":"I165-'A6-FinPos'!J17-'A6-FinPos'!J19-'A6-FinPos'!J20-'A6-FinPos'!J21-'A6-FinPos'!J22-I148","v":-1126028400},{"$f":"J165-'A6-FinPos'!K17-'A6-FinPos'!K19-'A6-FinPos'!K20-'A6-FinPos'!K21-'A6-FinPos'!K22-J148","v":-1126028400},{"$f":"K165-'A6-FinPos'!L17-'A6-FinPos'!L19-'A6-FinPos'!L20-'A6-FinPos'!L21-'A6-FinPos'!L22-K148","v":-1126028400}]

{"sheet":"A10-SerDel","index":19,"n_rows":89,"n_cols":11,"rows_kept":89,"cut":false,"hidden":false,"merged":[[1,5,1,7],[1,8,1,10],[1,0,2,0],[1,1,2,1]]}
[{"$f":"muni&\" - \"&Approve10","v":"DC47 Sekhukhune - Table A10 Basic service delivery measurement"}]
[{"$f":"desc","v":"Description"},{"$f":"head27","v":"Ref"},{"$f":"head1b","v":"2018/19"},{"$f":"head1A","v":"2019/20"},{"$f":"Head1","v":"2020/21"},{"$f":"Head2","v":"Current Year 2021/22"},null,null,{"$f":"Head3","v":"2022/23 Medium Term Revenue & Expenditure Framework"}]
[null,null,{"$f":"Head5A","v":"Outcome"},{"$f":"Head5A","v":"Outcome"},{"$f":"Head5A","v":"Outcome"},{"$f":"Head6","v":"Original Budget"},{"$f":"Head7","v":"Adjusted Budget"},{"$f":"Head8","v":"Full Year Forecast"},{"$f":"Head9","v":"Budget Year 2022/23"},{"$f":"Head10","v":"Budget Year +1 2023/24"},{"$f":"Head11","v":"Budget Year +2 2024/25"}]
["Household service targets",1]
["Water:"]
["Piped water inside dwelling",null,{"$f":"'SA9'!E67","v":0},{"$f":"'SA9'!F67","v":0},{"$f":"'SA9'!G67","v":0},{"$f":"'SA9'!H67","v":0},{"$f":"'SA9'!I67","v":0},{"$f":"'SA9'!J67","v":0},{"$f":"'SA9'!K67","v":15000},{"$f":"'SA9'!L67","v":20000},{"$f":"'SA9'!M67","v":0}]
["Piped water inside yard (but not in dwelling)",null,{"$f":"'SA9'!E68","v":0},{"$f":"'SA9'!F68","v":0},{"$f":"'SA9'!G68","v":0},{"$f":"'SA9'!H68","v":0},{"$f":"'SA9'!I68","v":0},{"$f":"'SA9'!J68","v":0},{"$f":"'SA9'!K68","v":10000},{"$f":"'SA9'!L68","v":15000},{"$f":"'SA9'!M68","v":0}]
["Using public tap (at least min.service level)",2,{"$f":"'SA9'!E69","v":0},{"$f":"'SA9'!F69","v":0},{"$f":"'SA9'!G69","v":0},{"$f":"'SA9'!H69","v":0},{"$f":"'SA9'!I69","v":457276},{"$f":"'SA9'!J69","v":457276},{"$f":"'SA9'!K69","v":457276},{"$f":"'SA9'!L69","v":469235},{"$f":"'SA9'!M69","v":500880}]
["Other water supply (at least min.service level)",4,{"$f":"'SA9'!E70","v":0},{"$f":"'SA9'!F70","v":0},{"$f":"'SA9'!G70","v":0},{"$f":"'SA9'!H70","v":0},{"$f":"'SA9'!I70","v":98722},{"$f":"'SA9'!J70","v":98722},{"$f":"'SA9'!K70","v":98722},{"$f":"'SA9'!L70","v":119597},{"$f":"'SA9'!M70","v":146028}]
["Minimum Service Level and Above sub-total",null,{"$f":"SUM(C6:C9)","v":0},{"$f":"SUM(D6:D9)","v":0},0,0,555998,555998,580998,623832,646908]
["Using public tap (< min.service level)",3,{"$f":"'SA9'!E72","v":0},{"$f":"'SA9'!F72","v":0},{"$f":"'SA9'!G72","v":0},{"$f":"'SA9'!H72","v":0},{"$f":"'SA9'!I72","v":0},{"$f":"'SA9'!J72","v":0},{"$f":"'SA9'!K72","v":0},{"$f":"'SA9'!L72","v":0},{"$f":"'SA9'!M72","v":0}]
["Other water supply (< min.service level)",{"$f":"B9","v":4},{"$f":"'SA9'!E73","v":0},{"$f":"'SA9'!F73","v":0},{"$f":"'SA9'!G73","v":0},{"$f":"'SA9'!H73","v":0},{"$f":"'SA9'!I73","v":0},{"$f":"'SA9'!J73","v":0},{"$f":"'SA9'!K73","v":25000},{"$f":"'SA9'!L73","v":10000},{"$f":"'SA9'!M73","v":0}]
["No water supply",null,{"$f":"'SA9'!E74","v":0},{"$f":"'SA9'!F74","v":0},{"$f":"'SA9'!G74","v":0},{"$f":"'SA9'!H74","v":0},{"$f":"'SA9'!I74","v":0},{"$f":"'SA9'!J74","v":0},{"$f":"'SA9'!K74","v":25000},{"$f":"'SA9'!L74","v":5000},{"$f":"'SA9'!M74","v":0}]
["Below Minimum Service Level sub-total",null,{"$f":"SUM(C11:C13)","v":0},{"$f":"SUM(D11:D13)","v":0},0,0,0,0,50000,15000,0]
["Total number of households",5,{"$f":"C10+C14","v":0},{"$f":"D10+D14","v":0},0,0,555998,555998,630998,638832,646908]
["Sanitation/sewerage:"]
["Flush toilet (connected to sewerage)",null,{"$f":"'SA9'!E78","v":0},{"$f":"'SA9'!F78","v":0},{"$f":"'SA9'!G78","v":0},{"$f":"'SA9'!H78","v":0},{"$f":"'SA9'!I78","v":0},{"$f":"'SA9'!J78","v":0},{"$f":"'SA9'!K78","v":0},{"$f":"'SA9'!L78","v":0},{"$f":"'SA9'!M78","v":0}]
["Flush toilet (with septic tank)",null,{"$f":"'SA9'!E79","v":0},{"$f":"'SA9'!F79","v":0},{"$f":"'SA9'!G79","v":0},{"$f":"'SA9'!H79","v":0},{"$f":"'SA9'!I79","v":0},{"$f":"'SA9'!J79","v":0},{"$f":"'SA9'!K79","v":10000},{"$f":"'SA9'!L79","v":15000},{"$f":"'SA9'!M79","v":20000}]
["Chemical toilet",null,{"$f":"'SA9'!E80","v":0},{"$f":"'SA9'!F80","v":0},{"$f":"'SA9'!G80","v":0},{"$f":"'SA9'!H80","v":0},{"$f":"'SA9'!I80","v":0},{"$f":"'SA9'!J80","v":0},{"$f":"'SA9'!K80","v":0},{"$f":"'SA9'!L80","v":0},{"$f":"'SA9'!M80","v":0}]
["Pit toilet (ventilated)",null,{"$f":"'SA9'!E81","v":0},{"$f":"'SA9'!F81","v":0},{"$f":"'SA9'!G81","v":0},{"$f":"'SA9'!H81","v":0},{"$f":"'SA9'!I81","v":48000},{"$f":"'SA9'!J81","v":48000},{"$f":"'SA9'!K81","v":48000},{"$f":"'SA9'!L81","v":48000},{"$f":"'SA9'!M81","v":0}]
["Other toilet provisions (> min.service level)",null,{"$f":"'SA9'!E82","v":0},{"$f":"'SA9'!F82","v":0},{"$f":"'SA9'!G82","v":0},{"$f":"'SA9'!H82","v":0},{"$f":"'SA9'!I82","v":0},{"$f":"'SA9'!J82","v":0},{"$f":"'SA9'!K82","v":0},{"$f":"'SA9'!L82","v":0},{"$f":"'SA9'!M82","v":0}]
[{"$f":"$A$10","v":"Minimum Service Level and Above sub-total"},null,{"$f":"SUM(C17:C21)","v":0},{"$f":"SUM(D17:D21)","v":0},0,0,48000,48000,58000,63000,20000]
["Bucket toilet",null,{"$f":"'SA9'!E84","v":0},{"$f":"'SA9'!F84","v":0},{"$f":"'SA9'!G84","v":0},{"$f":"'SA9'!H84","v":0},{"$f":"'SA9'!I84","v":0},{"$f":"'SA9'!J84","v":0},{"$f":"'SA9'!K84","v":0},{"$f":"'SA9'!L84","v":0},{"$f":"'SA9'!M84","v":0}]
["Other toilet provisions (< min.service level)",null,{"$f":"'SA9'!E85","v":0},{"$f":"'SA9'!F85","v":0},{"$f":"'SA9'!G85","v":0},{"$f":"'SA9'!H85","v":0},{"$f":"'SA9'!I85","v":0},{"$f":"'SA9'!J85","v":0},{"$f":"'SA9'!K85","v":5000},{"$f":"'SA9'!L85","v":10000},{"$f":"'SA9'!M85","v":15000}]
["No toilet provisions",null,{"$f":"'SA9'!E86","v":0},{"$f":"'SA9'!F86","v":0},{"$f":"'SA9'!G86","v":0},{"$f":"'SA9'!H86","v":0},{"$f":"'SA9'!I86","v":0},{"$f":"'SA9'!J86","v":0},{"$f":"'SA9'!K86","v":0},{"$f":"'SA9'!L86","v":0},{"$f":"'SA9'!M86","v":0}]
[{"$f":"$A$14","v":"Below Minimum Service Level sub-total"},null,{"$f":"SUM(C23:C25)","v":0},{"$f":"SUM(D23:D25)","v":0},0,0,0,0,5000,10000,15000]
[{"$f":"$A$15","v":"Total number of households"},{"$f":"$B$15","v":5},{"$f":"C22+C26","v":0},{"$f":"D22+D26","v":0},0,0,48000,48000,63000,73000,35000]
["Energy:"]
["Electricity (at least min.service level)",null,{"$f":"'SA9'!E90","v":0},{"$f":"'SA9'!F90","v":0},{"$f":"'SA9'!G90","v":0},{"$f":"'SA9'!H90","v":0},{"$f":"'SA9'!I90","v":0},{"$f":"'SA9'!J90","v":0},{"$f":"'SA9'!K90","v":0},{"$f":"'SA9'!L90","v":0},{"$f":"'SA9'!M90","v":0}]
["Electricity - prepaid (min.service level)",null,{"$f":"'SA9'!E91","v":0},{"$f":"'SA9'!F91","v":0},{"$f":"'SA9'!G91","v":0},{"$f":"'SA9'!H91","v":0},{"$f":"'SA9'!I91","v":0},{"$f":"'SA9'!J91","v":0},{"$f":"'SA9'!K91","v":0},{"$f":"'SA9'!L91","v":0},{"$f":"'SA9'!M91","v":0}]
[{"$f":"$A$10","v":"Minimum Service Level and Above sub-total"},null,{"$f":"SUM(C29:C30)","v":0},{"$f":"SUM(D29:D30)","v":0},0,0,0,0,0,0,0]
["Electricity (< min.service level)",null,{"$f":"'SA9'!E93","v":0},{"$f":"'SA9'!F93","v":0},{"$f":"'SA9'!G93","v":0},{"$f":"'SA9'!H93","v":0},{"$f":"'SA9'!I93","v":0},{"$f":"'SA9'!J93","v":0},{"$f":"'SA9'!K93","v":0},{"$f":"'SA9'!L93","v":0},{"$f":"'SA9'!M93","v":0}]
["Electricity - prepaid (< min. service level)",null,{"$f":"'SA9'!E94","v":0},{"$f":"'SA9'!F94","v":0},{"$f":"'SA9'!G94","v":0},{"$f":"'SA9'!H94","v":0},{"$f":"'SA9'!I94","v":0},{"$f":"'SA9'!J94","v":0},{"$f":"'SA9'!K94","v":0},{"$f":"'SA9'!L94","v":0},{"$f":"'SA9'!M94","v":0}]
["Other energy sources",null,{"$f":"'SA9'!E95","v":0},{"$f":"'SA9'!F95","v":0},{"$f":"'SA9'!G95","v":0},{"$f":"'SA9'!H95","v":0},{"$f":"'SA9'!I95","v":0},{"$f":"'SA9'!J95","v":0},{"$f":"'SA9'!K95","v":0},{"$f":"'SA9'!L95","v":0},{"$f":"'SA9'!M95","v":0}]
[{"$f":"$A$14","v":"Below Minimum Service Level sub-total"},null,{"$f":"SUM(C32:C34)","v":0},{"$f":"SUM(D32:D34)","v":0},0,0,0,0,0,0,0]
[{"$f":"$A$15","v":"Total number of households"},{"$f":"$B$15","v":5},{"$f":"C31+C35","v":0},{"$f":"D31+D35","v":0},0,0,0,0,0,0,0]
["Refuse:"]
["Removed at least once a week",null,{"$f":"'SA9'!E99","v":0},{"$f":"'SA9'!F99","v":0},{"$f":"'SA9'!G99","v":0},{"$f":"'SA9'!H99","v":0},{"$f":"'SA9'!I99","v":0},{"$f":"'SA9'!J99","v":0},{"$f":"'SA9'!K99","v":0},{"$f":"'SA9'!L99","v":0},{"$f":"'SA9'!M99","v":0}]
[{"$f":"$A$10","v":"Minimum Service Level and Above sub-total"},null,{"$f":"SUM(C38)","v":0},{"$f":"SUM(D38)","v":0},0,0,0,0,0,0,0]
["Removed less frequently than once a week",null,{"$f":"'SA9'!E101","v":0},{"$f":"'SA9'!F101","v":0},{"$f":"'SA9'!G101","v":0},{"$f":"'SA9'!H101","v":0},{"$f":"'SA9'!I101","v":0},{"$f":"'SA9'!J101","v":0},{"$f":"'SA9'!K101","v":0},{"$f":"'SA9'!L101","v":0},{"$f":"'SA9'!M101","v":0}]
["Using communal refuse dump",null,{"$f":"'SA9'!E102","v":0},{"$f":"'SA9'!F102","v":0},{"$f":"'SA9'!G102","v":0},{"$f":"'SA9'!H102","v":0},{"$f":"'SA9'!I102","v":0},{"$f":"'SA9'!J102","v":0},{"$f":"'SA9'!K102","v":0},{"$f":"'SA9'!L102","v":0},{"$f":"'SA9'!M102","v":0}]
["Using own refuse dump",null,{"$f":"'SA9'!E103","v":0},{"$f":"'SA9'!F103","v":0},{"$f":"'SA9'!G103","v":0},{"$f":"'SA9'!H103","v":0},{"$f":"'SA9'!I103","v":0},{"$f":"'SA9'!J103","v":0},{"$f":"'SA9'!K103","v":0},{"$f":"'SA9'!L103","v":0},{"$f":"'SA9'!M103","v":0}]
["Other rubbish disposal",null,{"$f":"'SA9'!E104","v":0},{"$f":"'SA9'!F104","v":0},{"$f":"'SA9'!G104","v":0},{"$f":"'SA9'!H104","v":0},{"$f":"'SA9'!I104","v":0},{"$f":"'SA9'!J104","v":0},{"$f":"'SA9'!K104","v":0},{"$f":"'SA9'!L104","v":0},{"$f":"'SA9'!M104","v":0}]
["No rubbish disposal",null,{"$f":"'SA9'!E105","v":0},{"$f":"'SA9'!F105","v":0},{"$f":"'SA9'!G105","v":0},{"$f":"'SA9'!H105","v":0},{"$f":"'SA9'!I105","v":0},{"$f":"'SA9'!J105","v":0},{"$f":"'SA9'!K105","v":0},{"$f":"'SA9'!L105","v":0},{"$f":"'SA9'!M105","v":0}]
[{"$f":"$A$14","v":"Below Minimum Service Level sub-total"},null,{"$f":"SUM(C40:C44)","v":0},0,0,0,0,0,0,0,0]
[{"$f":"$A$15","v":"Total number of households"},{"$f":"$B$15","v":5},{"$f":"C39+C45","v":0},{"$f":"D39+D45","v":0},0,0,0,0,0,0,0]
[]
["Households receiving Free Basic Service",7]
["Water (6 kilolitres per household per month)",null,{"$f":"'SA9'!E263","v":0},{"$f":"'SA9'!F263","v":0},{"$f":"'SA9'!G263","v":43124},{"$f":"'SA9'!H263","v":0},{"$f":"'SA9'!I263","v":0},{"$f":"'SA9'!J263","v":0},{"$f":"'SA9'!K263","v":47436},{"$f":"'SA9'!L263","v":52180},{"$f":"'SA9'!M263","v":57398}]
["Sanitation (free minimum level service)",null,{"$f":"'SA9'!E275","v":0},{"$f":"'SA9'!F275","v":0},{"$f":"'SA9'!G275","v":34601},{"$f":"'SA9'!H275","v":0},{"$f":"'SA9'!I275","v":0},{"$f":"'SA9'!J275","v":0},{"$f":"'SA9'!K275","v":41867},{"$f":"'SA9'!L275","v":46054},{"$f":"'SA9'!M275","v":50660}]
["Electricity/other energy (50kwh per household per month)",null,{"$f":"'SA9'!E251","v":0},{"$f":"'SA9'!F251","v":0},{"$f":"'SA9'!G251","v":0},{"$f":"'SA9'!H251","v":0},{"$f":"'SA9'!I251","v":0},{"$f":"'SA9'!J251","v":0},{"$f":"'SA9'!K251","v":0},{"$f":"'SA9'!L251","v":0},{"$f":"'SA9'!M251","v":0}]
["Refuse (removed at least once a week)",null,{"$f":"'SA9'!E287","v":0},{"$f":"'SA9'!F287","v":0},{"$f":"'SA9'!G287","v":0},{"$f":"'SA9'!H287","v":0},{"$f":"'SA9'!I287","v":0},{"$f":"'SA9'!J287","v":0},{"$f":"'SA9'!K287","v":0},{"$f":"'SA9'!L287","v":0},{"$f":"'SA9'!M287","v":0}]
[]
["Cost of Free Basic Services provided - Formal Settlements (R'000)",8]
["Water (6 kilolitres per indigent household per month)",null,{"$f":"'SA1'!C20","v":0},{"$f":"'SA1'!D20","v":0},{"$f":"'SA1'!E20","v":0},{"$f":"'SA1'!F20","v":0},{"$f":"'SA1'!G20","v":0},{"$f":"'SA1'!H20","v":0},{"$f":"'SA1'!J20","v":0},{"$f":"'SA1'!K20","v":0},{"$f":"'SA1'!L20","v":0}]
["Sanitation (free sanitation service to indigent households)",null,{"$f":"'SA1'!C26","v":0},{"$f":"'SA1'!D26","v":0},{"$f":"'SA1'!E26","v":0},{"$f":"'SA1'!F26","v":0},{"$f":"'SA1'!G26","v":0},{"$f":"'SA1'!H26","v":0},{"$f":"'SA1'!J26","v":0},{"$f":"'SA1'!K26","v":0},{"$f":"'SA1'!L26","v":0}]
["Electricity/other energy (50kwh per indigent household per month)",null,{"$f":"'SA1'!C14","v":0},{"$f":"'SA1'!D14","v":0},{"$f":"'SA1'!E14","v":0},{"$f":"'SA1'!F14","v":0},{"$f":"'SA1'!G14","v":0},{"$f":"'SA1'!H14","v":0},{"$f":"'SA1'!J14","v":0},{"$f":"'SA1'!K14","v":0},{"$f":"'SA1'!L14","v":0}]
["Refuse (removed once a week for indigent households)",null,{"$f":"'SA1'!C33","v":0},{"$f":"'SA1'!D33","v":0},{"$f":"'SA1'!E33","v":0},{"$f":"'SA1'!F33","v":0},{"$f":"'SA1'!G33","v":0},{"$f":"'SA1'!H33","v":0},{"$f":"'SA1'!J33","v":0},{"$f":"'SA1'!K33","v":0},{"$f":"'SA1'!L33","v":0}]
["Cost of Free Basic Services provided - Informal Formal Settlements (R'000)",null,{"$f":"'SA9'!E260+'SA9'!E272+'SA9'!E284+'SA9'!E296","v":0},{"$f":"'SA9'!F260+'SA9'!F272+'SA9'!F284+'SA9'!F296","v":0},{"$f":"'SA9'!G260+'SA9'!G272+'SA9'!G284+'SA9'!G296","v":0},{"$f":"'SA9'!H260+'SA9'!H272+'SA9'!H284+'SA9'!H296","v":0},{"$f":"'SA9'!I260+'SA9'!I272+'SA9'!I284+'SA9'!I296","v":0},{"$f":"'SA9'!J260+'SA9'!J272+'SA9'!J284+'SA9'!J296","v":0},{"$f":"'SA9'!K260+'SA9'!K272+'SA9'!K284+'SA9'!K296","v":0},{"$f":"'SA9'!L260+'SA9'!L272+'SA9'!L284+'SA9'!L296","v":0},{"$f":"'SA9'!M260+'SA9'!M272+'SA9'!M284+'SA9'!M296","v":0}]
["Total cost of FBS provided  ",null,{"$f":"SUM(C55:C59)","v":0},0,0,0,0,0,0,0,0]
[]
["Highest level of free service provided per household"]
["Property rates (R value threshold)"]
["Water (kilolitres per household per month)",null,0,0,0,0,0,0,15000,28000,35000]
["Sanitation (kilolitres per household per month)",null,0,0,0,0,0,0,10000,15000,20000]
["Sanitation (Rand per household per month)",null,0,0,0,0,0,0,5000,10000,15000]
["Electricity (kwh per household per month)"]
["Refuse (average litres per week)"]
["Revenue  cost of subsidised services provided (R'000)",9]
["Property rates (tariff adjustment) ( impermissable values per section 17 of MPRA)"]
["Property rates  exemptions, reductions and rebates and impermissable values in excess of section 17 of MPRA)",null,{"$f":"'SA1'!C8","v":0},{"$f":"'SA1'!D8","v":0},{"$f":"'SA1'!E8","v":0},{"$f":"'SA1'!F8","v":0},{"$f":"'SA1'!G8","v":0},{"$f":"'SA1'!H8","v":0},{"$f":"'SA1'!J8","v":0},{"$f":"'SA1'!K8","v":0},{"$f":"'SA1'!L8","v":0}]
["Water (in excess of 6 kilolitres per indigent household per month)",null,{"$f":"'SA1'!C19","v":0},{"$f":"'SA1'!D19","v":0},{"$f":"'SA1'!E19","v":0},{"$f":"'SA1'!F19","v":0},{"$f":"'SA1'!G19","v":0},{"$f":"'SA1'!H19","v":0},{"$f":"'SA1'!J19","v":0},{"$f":"'SA1'!K19","v":0},{"$f":"'SA1'!L19","v":0}]
["Sanitation (in excess of free sanitation service to indigent households)",null,{"$f":"'SA1'!C25","v":0},{"$f":"'SA1'!D25","v":0},{"$f":"'SA1'!E25","v":0},{"$f":"'SA1'!F25","v":0},{"$f":"'SA1'!G25","v":0},{"$f":"'SA1'!H25","v":0},{"$f":"'SA1'!J25","v":0},{"$f":"'SA1'!K25","v":0},{"$f":"'SA1'!L25","v":0}]
["Electricity/other energy (in excess of 50 kwh per indigent household per month)",null,{"$f":"'SA1'!C13","v":0},{"$f":"'SA1'!D13","v":0},{"$f":"'SA1'!E13","v":0},{"$f":"'SA1'!F13","v":0},{"$f":"'SA1'!G13","v":0},{"$f":"'SA1'!H13","v":0},{"$f":"'SA1'!J13","v":0},{"$f":"'SA1'!K13","v":0},{"$f":"'SA1'!L13","v":0}]
["Refuse (in excess of one removal a week for indigent households)",null,{"$f":"'SA1'!C32","v":0},{"$f":"'SA1'!D32","v":0},{"$f":"'SA1'!E32","v":0},{"$f":"'SA1'!F32","v":0},{"$f":"'SA1'!G32","v":0},{"$f":"'SA1'!H32","v":0},{"$f":"'SA1'!J32","v":0},{"$f":"'SA1'!K32","v":0},{"$f":"'SA1'!L32","v":0}]
["Municipal Housing - rental rebates"]
["Housing - top structure subsidies",6]
["Other"]
["Total revenue cost of subsidised services provided ",null,{"$f":"SUM(C70:C78)","v":0},{"$f":"SUM(D70:D78)","v":0},0,0,0,0,0,{"$f":"SUM(J70:J78)","v":0},{"$f":"SUM(K70:K78)","v":0}]
[{"$f":"head27a","v":"References"}]
["1. Include services provided by another entity; e.g. Eskom"]
["2. Stand distance <= 200m from dwelling"]
["3. Stand distance > 200m from dwelling"]
["4. Borehole, spring, rain-water tank etc."]
["5. Must agree to total number of households in municipal area (informal settlements receiving services must be included)"]
["6. Include value of subsidy provided by municipality above provincial subsidy level"]
["7. Show number of households receiving at least these levels of services completely free (informal settlements must be included)"]
["8. Must reflect the cost to the municipality of providing the Free Basic Service"]
["9. Reflect the cost to the municipality in terms of 'revenue foregone' of providing free services (note this will not equal 'Revenue Foregone' on SA1)"]

{"sheet":"SA1","index":20,"n_rows":182,"n_cols":12,"rows_kept":182,"cut":false,"hidden":false,"merged":[[1,9,1,11],[1,5,1,8],[1,0,2,0],[1,1,2,1]]}
[{"$f":"muni&\" - \"&TableA1","v":"DC47 Sekhukhune - Supporting Table SA1 Supportinging detail to 'Budgeted Financial Performance'"}]
[{"$f":"desc","v":"Description"},{"$f":"head27","v":"Ref"},{"$f":"head1b","v":"2018/19"},{"$f":"head1A","v":"2019/20"},{"$f":"Head1","v":"2020/21"},{"$f":"Head2","v":"Current Year 2021/22"},null,null,null,{"$f":"Head3","v":"2022/23 Medium Term Revenue & Expenditure Framework"}]
[null,null,{"$f":"Head5","v":"Audited Outcome"},{"$f":"Head5","v":"Audited Outcome"},{"$f":"Head5","v":"Audited Outcome"},{"$f":"Head6","v":"Original Budget"},{"$f":"Head7","v":"Adjusted Budget"},{"$f":"Head8","v":"Full Year Forecast"},{"$f":"Head5b","v":"Pre-audit outcome"},{"$f":"Head9","v":"Budget Year 2022/23"},{"$f":"Head10","v":"Budget Year +1 2023/24"},{"$f":"Head11","v":"Budget Year +2 2024/25"}]
["R thousand"]
["REVENUE ITEMS:"]
[{"$f":"'A4-FinPerf RE'!A5","v":"Property rates"},6]
["Total Property Rates"]
["Less Revenue Foregone (exemptions, reductions and rebates and impermissable values in excess of section 17 of MPRA)"]
["Net Property Rates",null,{"$f":"C7-C8","v":0},{"$f":"D7-D8","v":0},0,0,0,0,0,0,0,0]
[]
[{"$f":"'A4-FinPerf RE'!A6","v":"Service charges - electricity revenue"},6]
[{"$f":"\"Total \"&A11","v":"Total Service charges - electricity revenue"},null,0,0,0,0,0,0,0,0,0,0]
["Less Revenue Foregone (in excess of 50 kwh per indigent household per month)"]
["Less Cost of Free Basis Services (50 kwh per indigent household per month)",null,{"$f":"'SA9'!E250","v":0},{"$f":"'SA9'!F250","v":0},{"$f":"'SA9'!G250","v":0},{"$f":"'SA9'!H250","v":0},{"$f":"'SA9'!I250","v":0},{"$f":"'SA9'!J250","v":0},null,{"$f":"'SA9'!K250","v":0},{"$f":"'SA9'!L250","v":0},{"$f":"'SA9'!M250","v":0}]
[{"$f":"\"Net \"& A11","v":"Net Service charges - electricity revenue"},null,{"$f":"C12-C13-C14","v":0},{"$f":"D12-D13-D14","v":0},0,0,0,0,0,0,0,0]
[]
[{"$f":"'A4-FinPerf RE'!A7","v":"Service charges - water revenue"},6]
[{"$f":"\"Total \"&A17","v":"Total Service charges - water revenue"},null,73837262.319999993,81947083.019999996,72887805.489999995,82323447,84603447,84603447,71564570.719999999,88833619,93275300,97939066]
["Less Revenue Foregone (in excess of 6 kilolitres per indigent household per month)"]
["Less Cost of Free Basis Services (6 kilolitres per indigent household per month)",null,{"$f":"'SA9'!E262","v":0},{"$f":"'SA9'!F262","v":0},{"$f":"'SA9'!G262","v":0},{"$f":"'SA9'!H262","v":0},{"$f":"'SA9'!I262","v":0},{"$f":"'SA9'!J262","v":0},null,{"$f":"'SA9'!K262","v":0},{"$f":"'SA9'!L262","v":0},{"$f":"'SA9'!M262","v":0}]
[{"$f":"\"Net \"& A17","v":"Net Service charges - water revenue"},null,{"$f":"C18-C19-C20","v":73837262.319999993},{"$f":"D18-D19-D20","v":81947083.019999996},72887805.489999995,82323447,84603447,84603447,71564570.719999999,88833619,93275300,97939066]
[]
[{"$f":"'A4-FinPerf RE'!A8","v":"Service charges - sanitation revenue"}]
[{"$f":"\"Total \"&A23","v":"Total Service charges - sanitation revenue"},null,12257476.57,12893848.73,12452564.609999999,13534662,14034662,14034662,12757346.449999999,14736395,15473215,16246876]
["Less Revenue Foregone (in excess of free sanitation service to indigent households)"]
["Less Cost of Free Basis Services (free sanitation service to indigent households)",null,{"$f":"'SA9'!E274","v":0},{"$f":"'SA9'!F274","v":0},{"$f":"'SA9'!G274","v":0},{"$f":"'SA9'!H274","v":0},{"$f":"'SA9'!I274","v":0},{"$f":"'SA9'!J274","v":0},null,{"$f":"'SA9'!K274","v":0},{"$f":"'SA9'!L274","v":0},{"$f":"'SA9'!M274","v":0}]
[{"$f":"\"Net \"& A23","v":"Net Service charges - sanitation revenue"},null,{"$f":"C24-C25-C26","v":12257476.57},{"$f":"D24-D25-D26","v":12893848.73},12452564.609999999,13534662,14034662,14034662,12757346.449999999,14736395,15473215,16246876]
[]
[{"$f":"'A4-FinPerf RE'!A9","v":"Service charges - refuse revenue"},6]
["Total refuse removal revenue"]
["Total landfill revenue"]
["Less Revenue Foregone (in excess of one removal a week to indigent households)"]
["Less Cost of Free Basis Services  (removed once a week to indigent households)",null,{"$f":"'SA9'!E286","v":0},{"$f":"'SA9'!F286","v":0},{"$f":"'SA9'!G286","v":0},{"$f":"'SA9'!H286","v":0},{"$f":"'SA9'!I286","v":0},{"$f":"'SA9'!J286","v":0},null,{"$f":"'SA9'!K286","v":0},{"$f":"'SA9'!L286","v":0},{"$f":"'SA9'!M286","v":0}]
[{"$f":"\"Net \"& A29","v":"Net Service charges - refuse revenue"},null,{"$f":"SUM(C30:C31)-C32-C33","v":0},{"$f":"SUM(D30:D31)-D32-D33","v":0},0,0,0,0,0,0,0,0]
[]
["Other Revenue by source"]
["Fuel Levy"]
["Other Revenue",null,14713556.369999999,1596137.13,82986496.200000003,3076248,2071248,2071248,-1425271.86,2174812,2283550,2397729]
[]
[]
[]
[]
[]
[]
[]
[]
[]
[]
["Total 'Other' Revenue",1,{"$f":"SUM(C37:C38)","v":14713556.369999999},{"$f":"SUM(D37:D38)","v":1596137.13},{"$f":"SUM(E37:E38)","v":82986496.200000003},3076248,2071248,2071248,-1425271.86,2174812,2283550,2397729]
[]
["EXPENDITURE ITEMS:"]
[{"$f":"'A4-FinPerf RE'!A24","v":"Employee related costs"}]
["Basic Salaries and Wages",2,238184904.08000001,249469295.63999999,259985534.03,294290689,293551000,293551000,253638365.94999999,334443136,321204336,339484873]
["Pension and UIF Contributions",null,37637716.109999999,39624472.369999997,41093358.969999999,44462206,43821595,43821595,37423314.590000004,43835995,46132203,48532157]
["Medical Aid Contributions",null,12129874.279999999,13334088.16,14030392.720000001,14373917,14705917,14705917,12772838.52,14427956,15222170,16014148]
["Overtime",null,0,0,0,0,0,0,0,0,0,0]
["Performance Bonus",null,0,0,0,0,500000,500000,607582.71999999997,0,0,0]
["Motor Vehicle Allowance",null,28854029.82,27626484.870000001,23944222.210000001,31836527,22842527,22842527,22272430.379999999,26364980,27563677,28997965]
["Cellphone Allowance",null,1710344.2,1688462,1632364,2707103,1930119,1930119,1483543,2017961,2122428,2232979]
["Housing Allowances",null,2308554.75,2369844.31,2273271.38,3557045,3269315,3269315,2266444.44,3437086,3612190,3799136]
["Other benefits and allowances",null,42045001.189999998,50945148.649999999,48580765.289999999,29591592,32479789,32479789,34984416.280000001,28299862,35554593,37403699]
["Payments in lieu of leave",null,3929728.35,3851637.03,3097653.07,4813652,4888140,4888140,2328284.02,5131809,5397842,5679707]
["Long service awards",null,1700200.73,4159787.28,2840400.56,537381,1323351,1323351,1810504.49,1267848,1334355,1404490]
["Post-retirement benefit obligations",4,2919139.47,-394293.66,9023755.5600000005,285055,194085,194085,0,202263,212579,223633]
["sub-total",5,{"$f":"SUM(C53:C64)","v":371419492.98000002},{"$f":"SUM(D53:D64)","v":392674926.64999992},406501717.79000002,426455167,419505838,419505838,369587724.38999999,459428896,458356373,483772787]
["Less: Employees costs capitalised to PPE",null,-1735189.82,-2547732.2400000002,-6677586.7000000002,-6671640,0,0,0,0,0,0]
[{"$f":"\"Total \"&A52","v":"Total Employee related costs"},1,{"$f":"C65-C66","v":373154682.80000001},{"$f":"D65-D66","v":395222658.88999993},413179304.49000001,433126807,419505838,419505838,369587724.38999999,459428896,458356373,483772787]
[]
[]
[]
[]
[]
[]
[]
[]
[]
[]
[{"$f":"'A4-FinPerf RE'!A27","v":"Depreciation & asset impairment"}]
["Depreciation of Property, Plant & Equipment",null,85938850.840000004,100599183.06,94331435.810000002,102514292,102554292,102554292,0,106884864,111671318,127396528]
["Lease amortisation",null,0,0,0,0,0,0,0,0,0,0]
["Capital asset impairment",null,15101117.119999999,21630741.239999998,-0.24,0,0,0,0,0,0,0]
[]
[{"$f":"\"Total \"&LEFT(A78,35)","v":"Total Depreciation & asset impairment"},1,{"$f":"SUM(C79:C81)","v":101039967.96000001},{"$f":"SUM(D79:D81)","v":122229924.3},94331435.570000008,102514292,102554292,102554292,0,106884864,111671318,127396528]
[]
["Bulk purchases - electricity"]
["Electricity bulk purchases",null,0,0,0,0,0,0,0,0,0,0]
[]
["Total bulk purchases",1,{"$f":"SUM(C86:C87)","v":0},{"$f":"SUM(D86:D87)","v":0},0,0,0,0,0,0,0,0]
[]
["Transfers and grants"]
["Cash transfers and grants",null,{"$f":"'SA21'!C32","v":0},{"$f":"'SA21'!D32","v":0},{"$f":"'SA21'!E32","v":0},{"$f":"'SA21'!F32","v":0},{"$f":"'SA21'!G32","v":0},{"$f":"'SA21'!H32","v":0},{"$f":"'SA21'!I32","v":0},{"$f":"'SA21'!J32","v":0},{"$f":"'SA21'!K32","v":0},{"$f":"'SA21'!L32","v":0}]
["Non-cash transfers and grants",null,{"$f":"'SA21'!C64","v":7415578.3499999996},{"$f":"'SA21'!D64","v":3497209.2},{"$f":"'SA21'!E64","v":2556298.0299999998},{"$f":"'SA21'!F64","v":758211},{"$f":"'SA21'!G64","v":796171},{"$f":"'SA21'!H64","v":796171},{"$f":"'SA21'!I64","v":734369.14},{"$f":"'SA21'!J64","v":0},{"$f":"'SA21'!K64","v":0},{"$f":"'SA21'!L64","v":0}]
["Total transfers and grants",1,{"$f":"SUM(C91:C92)","v":7415578.3499999996},{"$f":"SUM(D91:D92)","v":3497209.2},2556298.0299999998,758211,796171,796171,734369.14,0,0,0]
[]
[{"$f":"'A4-FinPerf RE'!A31","v":"Contracted services"}]
["Outsourced Services",null,109897352.36,76270928.640000001,81948382.409999996,94674179,136399157,136399157,52609742.579999998,94765995,102019082,105245286]
["Consultants and Professional Services",null,61252029.329999998,37226934.240000002,37474601.329999998,49942942,51552942,51552942,27248045.719999999,51293542,74525889,89857223]
["Contractors",null,54713184.850000001,66719084.18,47777885.189999998,58813239,70317980,70317980,54276846.18,93271586,121366962,139290365]
[]
[]
[]
[]
[]
[]
[]
[]
[]
[]
[]
[]
[]
[]
[]
[]
[]
[]
[]
[]
[]
[]
[]
[]
[]
[]
[]
[]
["Total contracted services",null,{"$f":"SUM(C96:C98)","v":225862566.53999999},{"$f":"SUM(D96:D98)","v":180216947.06},167200868.93000001,203430360,258270079,258270079,134134634.47999999,239331123,297911933,334392874]
[]
["Other Expenditure By Type"]
["Collection costs",null,0,0,0,0,0,0,0,600000,700000,800000]
["Contributions to 'other' provisions"]
[]
["Audit fees",null,6286326.04,5215783.5999999996,5461472.5999999996,7173687,7853687,7853687,6741913.3499999996,7854634,8200238,8569249]
[]
[]
["Other Expenditure",null,140514234.81999999,143020758.19999999,159081466.66,149188220,158555219,158555219,134538602.13,175439874,192801791,206383243]
[]
[]
[]
[]
[]
[]
[]
[]
[]
[]
[]
[]
[]
[]
[]
[]
[]
[]
[]
[]
["Total 'Other' Expenditure",1,{"$f":"+C130+C131+C133+C136","v":146800560.85999998},{"$f":"+D130+D131+D133+D136","v":148236541.79999998},164542939.25999999,156361907,166408906,166408906,141280515.47999999,183894508,201702029,215752492]
[]
["Repairs and Maintenance \nby Expenditure Item",8]
["Employee related costs"]
["Inventory Consumed (Project Maintenance)",null,39287106.030000001,22856396.23,17332253.260000002,36286596,33286596,33286596,29776175.600000001,34618060,36141253,37731471]
["Contracted Services",null,79998352.930000007,76449537.609999999,79237229.840000004,93887198,139833939,139833939,59565222.520000003,86934286,81929994,84341805]
["Other Expenditure",null,0,0,0,0,0,0,0,1500000,1500000,1500000]
["Total Repairs and Maintenance Expenditure",9,{"$f":"SUM(C160:C163)","v":119285458.96000001},{"$f":"SUM(D160:D163)","v":99305933.840000004},96569483.100000009,130173794,173120535,173120535,89341398.120000005,123052346,119571247,123573276]
[]
[" Inventory Consumed"]
["Inventory Consumed - Water",null,{"$f":"-'SA3'!C29","v":0},{"$f":"-'SA3'!D29","v":0},{"$f":"-'SA3'!E29","v":0},{"$f":"-'SA3'!F29","v":0},{"$f":"-'SA3'!G29","v":-68872747},{"$f":"-'SA3'!H29","v":-68872747},{"$f":"-'SA3'!I29","v":0},{"$f":"-'SA3'!J29","v":-140743200},{"$f":"-'SA3'!K29","v":-146935900},{"$f":"-'SA3'!L29","v":-158401080}]
["Inventory Consumed - Other",null,{"$f":"-'SA3'!C58-'SA3'!C67-'SA3'!C74-'SA3'!C82-'SA3'!C90","v":12465554.890000001},{"$f":"-'SA3'!D58-'SA3'!D67-'SA3'!D74-'SA3'!D82-'SA3'!D90","v":25650772.940000001},{"$f":"-'SA3'!E58-'SA3'!E67-'SA3'!E74-'SA3'!E82-'SA3'!E90","v":24307533.879999999},{"$f":"-'SA3'!F58-'SA3'!F67-'SA3'!F74-'SA3'!F82-'SA3'!F90","v":177905447},{"$f":"-'SA3'!G58-'SA3'!G67-'SA3'!G74-'SA3'!G82-'SA3'!G90","v":237343293},{"$f":"-'SA3'!H58-'SA3'!H67-'SA3'!H74-'SA3'!H82-'SA3'!H90","v":237343293},{"$f":"-'SA3'!I58-'SA3'!I67-'SA3'!I74-'SA3'!I82-'SA3'!I90","v":19642284.579999998},{"$f":"-'SA3'!J58-'SA3'!J67-'SA3'!J74-'SA3'!J82-'SA3'!J90","v":331818426},{"$f":"-'SA3'!K58-'SA3'!K67-'SA3'!K74-'SA3'!K82-'SA3'!K90","v":334930706},{"$f":"-'SA3'!L58-'SA3'!L67-'SA3'!L74-'SA3'!L82-'SA3'!L90","v":365672579}]
["Total Inventory Consumed & Other Material",null,{"$f":"SUM(C167:C168)","v":12465554.890000001},25650772.940000001,24307533.879999999,177905447,168470546,168470546,19642284.579999998,191075226,187994806,207271499]
[]
["check",null,{"$f":"C164-SA34c!C167","v":0},{"$f":"D164-SA34c!D167","v":0},{"$f":"E164-SA34c!E167","v":0},{"$f":"F164-SA34c!F167","v":0},{"$f":"G164-SA34c!G167","v":0},{"$f":"H164-SA34c!H167","v":0},null,{"$f":"J164-SA34c!I167","v":0},{"$f":"K164-SA34c!J167","v":0},{"$f":"L164-SA34c!K167","v":0}]
[{"$f":"head27a","v":"References"}]
["1. Must reconcile with 'Budgeted Financial Performance (Revenue and Expenditure)"]
["2. Must reconcile to supporting documentation on staff salaries"]
[]
["4. Expenditure to meet any 'unfunded obligations'"]
["5 This sub-total must agree with the total on SA22, but excluding councillor and board member items"]
["6. Include a note for each revenue item that is affected by 'revenue foregone'"]
["7. Special consideration may have to be given to including 'goodwill arising' or 'joint venture' budgets where circumstances require this (include separately under relevant notes)"]
["8. Repairs and Maintenance is not a GRAP item. However to facilitate transparency, municipalities must provide a breakdown of the amounts included in the relevant GRAP items that will be spent on Repairs and Maintenance."]
["9. Must reconcile with Repairs and Maintenance by Asset Class (Total Repairs and Maintenance) on Table SA34c."]
["10. Only applicable to municipalities that have adopted the 'revaluation method' in GRAP 17. The aim is to prevent overstating 'depreciation and asset impairment'"]

{"sheet":"SA2","index":21,"n_rows":44,"n_cols":18,"rows_kept":44,"cut":false,"hidden":false,"merged":[[1,16,2,16],[1,17,2,17],[1,8,2,8],[1,9,2,9],[1,10,2,10],[1,11,2,11],[1,12,2,12],[1,13,2,13],[1,14,2,14],[1,15,2,15],[1,6,2,6],[1,7,2,7],[1,2,2,2],[1,3,2,3],[1,4,2,4],[1,5,2,5]]}
[{"$f":"muni&\" - \"&TableA2","v":"DC47 Sekhukhune - Supporting Table SA2 Matrix Financial Performance Budget (revenue source/expenditure type and dept.)"}]
[{"$f":"desc","v":"Description"},{"$f":"head27","v":"Ref"},{"$f":"'A3-FinPerf V'!A5","v":"Vote 01 - Speakers Office"},{"$f":"'A3-FinPerf V'!A6","v":"Vote 02 - Executive Mayor's Office"},{"$f":"'A3-FinPerf V'!A7","v":"Vote 03 - Municipal Manager  Office"},{"$f":"'A3-FinPerf V'!A8","v":"Vote 04 - Budget And Treasury"},{"$f":"'A3-FinPerf V'!A9","v":"Vote 05 - Infrustracture And Water Services"},{"$f":"'A3-FinPerf V'!A10","v":"Vote 06 - Planning And Economic Development"},{"$f":"'A3-FinPerf V'!A11","v":"Vote 07 - Community Services"},{"$f":"'A3-FinPerf V'!A12","v":"Vote 08 - Sekhukhune Development Angancy"},{"$f":"'A3-FinPerf V'!A13","v":"Vote 09 - Corporate Services"},{"$f":"'A3-FinPerf V'!A14","v":"Vote 10 - "},{"$f":"'A3-FinPerf V'!A15","v":"Vote 11 - "},{"$f":"'A3-FinPerf V'!A16","v":"Vote 12 - "},{"$f":"'A3-FinPerf V'!A17","v":"Vote 13 - "},{"$f":"'A3-FinPerf V'!A18","v":"Vote 14 - "},{"$f":"'A3-FinPerf V'!A19","v":"Vote 15 - Other"},"Total"]
["R thousand",1,null,null,null,null,null,null,null,null,null,null,null,null,null,null,null,"R'000"]
[{"$f":"'A4-FinPerf RE'!A4","v":"Revenue By Source"}]
[{"$f":"'A4-FinPerf RE'!A5","v":"Property rates"},null,0,0,0,0,0,0,0,0,0,0,0,0,0,0,0,{"$f":"SUM(C5:Q5)","v":0}]
[{"$f":"'A4-FinPerf RE'!A6","v":"Service charges - electricity revenue"},null,0,0,0,0,0,0,0,0,0,0,0,0,0,0,0,{"$f":"SUM(C6:Q6)","v":0}]
[{"$f":"'A4-FinPerf RE'!A7","v":"Service charges - water revenue"},null,0,0,0,88833619,0,0,0,0,0,0,0,0,0,0,0,88833619]
[{"$f":"'A4-FinPerf RE'!A8","v":"Service charges - sanitation revenue"},null,0,0,0,14736395,0,0,0,0,0,0,0,0,0,0,0,14736395]
[{"$f":"'A4-FinPerf RE'!A9","v":"Service charges - refuse revenue"},null,0,0,0,0,0,0,0,0,0,0,0,0,0,0,0,0]
[null,null,0,0,0,0,0,0,0,0,0,0,0,0,0,0,0]
[{"$f":"'A4-FinPerf RE'!A11","v":"Rental of facilities and equipment"},null,0,0,0,0,0,0,0,0,0,0,0,0,0,0,0,0]
[{"$f":"'A4-FinPerf RE'!A12","v":"Interest earned - external investments"},null,0,0,0,21659404,0,0,0,0,0,0,0,0,0,0,0,21659404]
[{"$f":"'A4-FinPerf RE'!A13","v":"Interest earned - outstanding debtors"},null,0,0,0,15221206,0,0,0,0,0,0,0,0,0,0,0,15221206]
[{"$f":"'A4-FinPerf RE'!A14","v":"Dividends received"},null,0,0,0,0,0,0,0,0,0,0,0,0,0,0,0,0]
[{"$f":"'A4-FinPerf RE'!A15","v":"Fines, penalties and forfeits"},null,0,0,0,50132,0,0,0,0,0,0,0,0,0,0,0,50132]
[{"$f":"'A4-FinPerf RE'!A16","v":"Licences and permits"},null,0,0,0,0,0,0,0,0,0,0,0,0,0,0,0,0]
[{"$f":"'A4-FinPerf RE'!A17","v":"Agency services"},null,0,0,0,0,0,0,0,0,0,0,0,0,0,0,0,0]
[{"$f":"'A4-FinPerf RE'!A19","v":"Other revenue"},null,0,0,0,2174812,0,0,0,0,0,0,0,0,0,0,0,2174812]
[{"$f":"'A4-FinPerf RE'!A18","v":"Transfers and subsidies"},null,0,0,0,1087843560,0,0,0,0,0,0,0,0,0,0,0,1087843560]
[{"$f":"'A4-FinPerf RE'!A20","v":"Gains"},null,0,0,0,430021,0,0,0,0,0,0,0,0,0,0,0,430021]
[{"$f":"'A4-FinPerf RE'!A21","v":"Total Revenue (excluding capital transfers and contributions)"},null,{"$f":"SUM(C5:C9)+SUM(C11:C20)","v":0},{"$f":"SUM(D5:D9)+SUM(D11:D20)","v":0},0,1230949149,0,0,0,0,0,0,0,0,0,0,0,{"$f":"SUM(R5:R9)+SUM(R11:R20)","v":1230949149}]
[]
[{"$f":"'A4-FinPerf RE'!A23","v":"Expenditure By Type"}]
[{"$f":"'A4-FinPerf RE'!A24","v":"Employee related costs"},null,18813102,31863518,17312990,48670086,209532776,12072321,73455143,5018059,42690901,null,null,null,null,null,null,{"$f":"SUM(C24:Q24)","v":459428896}]
[{"$f":"'A4-FinPerf RE'!A25","v":"Remuneration of councillors"},null,18422108,0,0,0,0,0,0,0,0,0,0,0,0,0,0,{"$f":"SUM(C25:Q25)","v":18422108}]
[{"$f":"'A4-FinPerf RE'!A26","v":"Debt impairment"},null,0,0,0,11039600,0,0,0,0,0,0,0,0,0,0,0,11039600]
[{"$f":"'A4-FinPerf RE'!A27","v":"Depreciation & asset impairment"},null,0,0,0,106614864,0,0,0,270000,0,0,0,0,0,0,0,106884864]
[{"$f":"'A4-FinPerf RE'!A28","v":"Finance charges"},null,0,0,0,509411,0,0,0,0,0,0,0,0,0,0,0,509411]
[{"$f":"'A4-FinPerf RE'!A29","v":"Bulk purchases - electricity"},null,0,0,0,0,0,0,0,0,0,0,0,0,0,0,0,0]
[{"$f":"'A4-FinPerf RE'!A30","v":"Inventory consumed"},null,0,0,0,331818426,-140743200,0,0,0,0,0,0,0,0,0,0,191075226]
[{"$f":"'A4-FinPerf RE'!A31","v":"Contracted services"},null,2991817,4142000,48533160,34306532,121595533,6496000,2168661,1550000,17547420,0,0,0,0,0,0,239331123]
[{"$f":"'A4-FinPerf RE'!A32","v":"Transfers and subsidies"},null,0,0,0,0,0,0,0,0,0,0,0,0,0,0,0,0]
[{"$f":"'A4-FinPerf RE'!A33","v":"Other expenditure"},null,8122134,6816000,22816548,3693171,53528329,588799,660079,860000,86809448,0,0,0,0,0,0,183894508]
[{"$f":"'A4-FinPerf RE'!A34","v":"Losses"},null,0,0,0,0,0,0,0,0,0,0,0,0,0,0,0,0]
["Total Expenditure",null,{"$f":"SUM(C24:C34)","v":48349161},42821518,88662698,536652090,243913438,19157120,76283883,7698059,147047769,0,0,0,0,0,0,1210585736]
[]
[{"$f":"'A4-FinPerf RE'!A37","v":"Surplus/(Deficit)"},null,{"$f":"C21-C35","v":-48349161},-42821518,-88662698,694297059,-243913438,-19157120,{"$f":"I21-I35","v":-76283883},-7698059,-147047769,0,0,0,0,0,0,{"$f":"R21-R35","v":20363413}]
[{"$f":"'A4-FinPerf RE'!A38","v":"Transfers and subsidies - capital (monetary allocations) (National / Provincial and District)"},null,null,null,null,469076440,0,null,null,null,null,null,null,null,null,null,null,{"$f":"SUM(C38:Q38)","v":469076440}]
[{"$f":"'A4-FinPerf RE'!A39","v":"Transfers and subsidies - capital (monetary allocations) (National / Provincial Departmental Agencies, Households, Non-profit Institutions, Private Enterprises, Public Corporatons, Higher Educational Institutions)"},null,null,null,null,0,null,null,null,null,null,null,null,null,null,null,null,{"$f":"SUM(C39:Q39)","v":0}]
[{"$f":"'A4-FinPerf RE'!A40","v":"Transfers and subsidies - capital (in-kind - all) "},null,null,null,null,0,null,null,null,null,null,null,null,null,null,null,null,{"$f":"SUM(C40:Q40)","v":0}]
[{"$f":"'A4-FinPerf RE'!A41","v":"Surplus/(Deficit) after capital transfers & contributions"},null,{"$f":"SUM(C37:C40)","v":-48349161},-42821518,-88662698,1163373499,-243913438,-19157120,-76283883,-7698059,-147047769,0,0,0,0,0,{"$f":"SUM(Q37:Q40)","v":0},{"$f":"SUM(R37:R40)","v":489439853}]
[{"$f":"head27a","v":"References"}]
["1. Departmental columns to be based on municipal organisation structure"]
["check balance",null,null,null,null,null,null,null,null,null,null,null,null,null,null,null,null,{"$f":"'A4-FinPerf RE'!J41-'SA2'!R41","v":0}]

{"sheet":"SA3","index":22,"n_rows":184,"n_cols":12,"rows_kept":184,"cut":false,"hidden":false,"merged":[[1,0,2,0],[1,1,2,1],[1,9,1,11],[1,5,1,8]]}
[{"$f":"muni&\" - \"&TableA3","v":"DC47 Sekhukhune - Supporting Table SA3 Supportinging detail to 'Budgeted Financial Position'"}]
[{"$f":"desc","v":"Description"},{"$f":"head27","v":"Ref"},{"$f":"head1b","v":"2018/19"},{"$f":"head1A","v":"2019/20"},{"$f":"Head1","v":"2020/21"},{"$f":"Head2","v":"Current Year 2021/22"},null,null,null,{"$f":"Head3","v":"2022/23 Medium Term Revenue & Expenditure Framework"}]
[null,null,{"$f":"Head5","v":"Audited Outcome"},{"$f":"Head5","v":"Audited Outcome"},{"$f":"Head5","v":"Audited Outcome"},{"$f":"Head6","v":"Original Budget"},{"$f":"Head7","v":"Adjusted Budget"},{"$f":"Head8","v":"Full Year Forecast"},{"$f":"Head5b","v":"Pre-audit outcome"},{"$f":"Head9","v":"Budget Year 2022/23"},{"$f":"Head10","v":"Budget Year +1 2023/24"},{"$f":"Head11","v":"Budget Year +2 2024/25"}]
["R thousand"]
["ASSETS"]
[]
[]
[]
[]
[]
[{"$f":"'A6-FinPos'!A8","v":"Consumer debtors"}]
[{"$f":"A11","v":"Consumer debtors"},null,220384645.72999999,247422962.38999999,292791564.74000001,246655549,227834876,227834876,349753134.88999999,220319849,217679072,204623837]
["Less: Provision for debt impairment",null,{"$f":"C20","v":-101016187.04000001},-122646928.28,-121108673.45,-126096809,-126096809,-126096809,-121108673.45,-126096809,-126096809,-126096809]
[{"$f":"\"Total \"&A11","v":"Total Consumer debtors"},2,{"$f":"SUM(C12:C13)","v":119368458.68999998},{"$f":"SUM(D12:D13)","v":124776034.10999998},171682891.29000002,{"$f":"SUM(F12:F13)","v":120558740},101738067,101738067,228644461.44,94223040,91582263,78527028]
[]
["Debt impairment provision"]
["Balance at the beginning of the year",null,-101016187.04000001,-122646928.28,-121108673.45,-126096809,-126096809,-126096809,-121108673.45,-126096809,-126096809,-126096809]
["Contributions to the provision",null,0,0,0,0,0,0,0,0,0,0]
["Bad debts written off",null,0,0,0,0,0,0,0,0,0,0]
["Balance at end of year",null,{"$f":"SUM(C17:C19)","v":-101016187.04000001},{"$f":"SUM(D17:D19)","v":-122646928.28},-121108673.45,-126096809,-126096809,-126096809,-121108673.45,-126096809,-126096809,-126096809]
[]
["Inventory"]
["Water"]
["  Opening Balance",null,23850294.5,{"$f":"C53","v":23850294.5},{"$f":"D53","v":23850294.5},{"$f":"E53","v":23850294.5},{"$f":"E53","v":23850294.5},{"$f":"E53","v":23850294.5},{"$f":"E53","v":23850294.5},{"$f":"G53","v":255790146.5},{"$f":"J53","v":551350866.5},{"$f":"K53","v":859916567.5}]
["  System Input Volume",null,{"$f":"(SUM(C26:C28))","v":0},{"$f":"(SUM(D26:D28))","v":0},0,0,126930997,126930997,4012527.21,140743200,146935900,158401080]
["      Water Treatment Works",null,0,0,0,0,31019795,31019795,0,40743200,36935900,38401080]
["      Bulk Purchases",null,0,0,0,0,95911202,95911202,4012527.21,100000000,110000000,120000000]
["      Natural Sources",null,0,0,0,0,0,0,0,0,0,0]
["  Authorised Consumption",6,{"$f":"C30+C39","v":0},{"$f":"D30+D39","v":0},0,0,68872747,68872747,0,140743200,146935900,158401080]
["      Billed Authorised Consumption",null,{"$f":"C35+C31","v":0},{"$f":"D35+D31","v":0},0,0,58345762,58345762,0,110743200,116935900,128401080]
["         Billed Metered Consumption",null,{"$f":"SUM(C32:C34)","v":0},{"$f":"SUM(D32:D34)","v":0},0,0,58345762,58345762,0,110743200,116935900,128401080]
["          Free Basic Water",null,0,0,0,0,27818777,27818777,0,40000000,40000000,40000000]
["          Subsidised Water",null,0,0,0,0,0,0,0,0,0,0]
["          Revenue Water",null,0,0,0,0,30526985,30526985,0,70743200,76935900,88401080]
["         Billed Unmetered Consumption",null,{"$f":"SUM(C36:C38)","v":0},{"$f":"SUM(D36:D38)","v":0},0,0,0,0,0,0,0,0]
["          Free Basic Water",null,0,0,0,0,0,0,0,0,0,0]
["          Subsidised Water",null,0,0,0,0,0,0,0,0,0,0]
["          Revenue Water",null,0,0,0,0,0,0,0,0,0,0]
["     UnBilled Authorised Consumption",null,{"$f":"SUM(C40:C41)","v":0},{"$f":"SUM(D40:D41)","v":0},0,0,10526985,10526985,0,30000000,30000000,30000000]
["          Unbilled Metered Consumption",null,0,0,0,0,10526985,10526985,0,30000000,30000000,30000000]
["          Unbilled Unmetered Consumption",null,0,0,0,0,0,0,0,0,0,0]
["     Water Losses",null,{"$f":"C43+C46","v":0},{"$f":"D43+D46","v":0},0,0,36136108,36136108,0,14074320,14693901,15840108]
["         Apparent losses",null,{"$f":"SUM(C44:C45)","v":0},{"$f":"SUM(D44:D45)","v":0},0,0,0,0,0,0,0,0]
["           Unauthorised Consumption",null,0,0,0,0,0,0,0,0,0,0]
["           Customer Meter Inaccuracies",null,0,0,0,0,0,0,0,0,0,0]
["         Real losses",null,{"$f":"SUM(C47:C51)","v":0},{"$f":"SUM(D47:D51)","v":0},0,0,36136108,36136108,0,14074320,14693901,15840108]
["           Leakage on Transmission and Distribution Mains",null,0,0,0,0,36136108,36136108,0,14074320,14693901,15840108]
["           Leakage and Overflows at Storage Tanks/Reservoirs",null,0,0,0,0,0,0,0,0,0,0]
["           Leakage on Service Connections up to the point of Customer Meter",null,0,0,0,0,0,0,0,0,0,0]
["           Data Transfer and Management Errors",null,0,0,0,0,0,0,0,0,0,0]
["           Unavoidable Annual Real Losses",null,0,0,0,0,0,0,0,0,0,0]
["  Non-revenue Water",null,{"$f":"C39+C42","v":0},{"$f":"D39+D42","v":0},0,0,46663093,46663093,0,44074320,44693901,45840108]
["  Closing Balance Water",null,{"$f":"C24+C25+C29+C42","v":23850294.5},{"$f":"D24+D25+D29+D42","v":23850294.5},23850294.5,23850294.5,255790146.5,255790146.5,27862821.710000001,551350866.5,859916567.5,1192558835.5]
[]
["Agricultural"]
["  Opening Balance",null,null,{"$f":"C61","v":0},{"$f":"D61","v":0},{"$f":"E61","v":0},{"$f":"E61","v":0},{"$f":"E61","v":0},{"$f":"E61","v":0},{"$f":"G61","v":0},{"$f":"J61","v":0},{"$f":"K61","v":0}]
["      Acquisitions"]
["      Issues",7]
["      Adjustments",8]
["      Write-offs",9]
["  Closing balance - Agricultural",null,{"$f":"SUM(C56:C60)","v":0},0,0,0,0,0,0,0,0,0]
[]
["Consumables"]
["Standard Rated"]
["  Opening Balance",null,2475518.38,{"$f":"C70","v":-1566285.5300000012},{"$f":"D70","v":8061046.4999999963},{"$f":"E70","v":7742153.9799999967},{"$f":"E70","v":7742153.9799999967},{"$f":"E70","v":7742153.9799999967},{"$f":"E70","v":7742153.9799999967},{"$f":"G70","v":-51565191.020000011},{"$f":"J70","v":-286105491.01999998},{"$f":"K70","v":-442950251.01999998}]
["      Acquisitions",null,8423750.9800000004,35278104.899999999,23988641.379999999,178085946,178035948,178035948,22358431.899999999,97278126,178085946,178085946]
["      Issues",7,-12465554.890000001,-25650772.940000001,-24307533.879999999,-177905447,-237343293,-237343293,-19642284.579999998,-331818426,-334930706,-365672579]
["      Adjustments",8,0,7.0000000000000007E-2,-0.02,0,0,0,0.05,0,0,0]
["      Write-offs",9,0,0,0,0,0,0,0,0,0,0]
["  Closing balance - Consumables Standard Rated",null,{"$f":"SUM(C65:C69)","v":-1566285.5300000012},{"$f":"SUM(D65:D69)","v":8061046.4999999963},7742153.9799999967,7922652.9799999893,-51565191.020000011,-51565191.020000011,10458301.349999998,-286105491.01999998,-442950251.01999998,-630536884.01999998]
["Zero Rated"]
["  Opening Balance",null,0,{"$f":"C77","v":0},{"$f":"D77","v":0},{"$f":"E77","v":0},{"$f":"E77","v":0},{"$f":"E77","v":0},{"$f":"E77","v":0},{"$f":"G77","v":0},{"$f":"J77","v":0},{"$f":"K77","v":0}]
["      Acquisitions",null,0,0,0,0,0,0,0,0,0,0]
["      Issues",7,0,0,0,0,0,0,0,0,0,0]
["      Adjustments",8,0,0,0,0,0,0,0,0,0,0]
["      Write-offs",9,0,0,0,0,0,0,0,0,0,0]
["  Closing balance - Consumables Zero Rated",null,{"$f":"SUM(C72:C76)","v":0},{"$f":"SUM(D72:D76)","v":0},0,0,0,0,0,0,0,0]
[]
["Finished Goods"]
["  Opening Balance",null,null,{"$f":"C85","v":0},{"$f":"D85","v":0},{"$f":"E85","v":0},{"$f":"E85","v":0},{"$f":"E85","v":0},{"$f":"E85","v":0},{"$f":"G85","v":0},{"$f":"J85","v":0},{"$f":"K85","v":0}]
["      Acquisitions"]
["      Issues",7]
["      Adjustments",8]
["      Write-offs",9]
["  Closing balance - Finished Goods",null,{"$f":"SUM(C80:C84)","v":0},{"$f":"SUM(D80:D84)","v":0},0,0,0,0,0,0,0,0]
[]
["Materials and Supplies"]
["  Opening Balance",null,null,{"$f":"C93","v":0},{"$f":"D93","v":0},{"$f":"E93","v":0},{"$f":"E93","v":0},{"$f":"E93","v":0},{"$f":"E93","v":0},{"$f":"G93","v":0},{"$f":"J93","v":0},{"$f":"K93","v":0}]
["      Acquisitions"]
["      Issues",7]
["      Adjustments",8]
["      Write-offs",9]
["  Closing balance - Materials and Supplies",null,{"$f":"SUM(C88:C92)","v":0},{"$f":"SUM(D88:D92)","v":0},0,0,0,0,0,0,0,0]
[]
["Work-in-progress"]
["  Opening Balance",null,null,{"$f":"C99","v":0},{"$f":"D99","v":0},{"$f":"E99","v":0},{"$f":"E99","v":0},{"$f":"E99","v":0},{"$f":"E99","v":0},{"$f":"G99","v":0},{"$f":"J99","v":0},{"$f":"K99","v":0}]
["      Materials"]
["      Transfers"]
["  Closing balance - Work-in-progress",null,{"$f":"SUM(C96:C98)","v":0},{"$f":"SUM(D96:D98)","v":0},0,0,0,0,0,0,0,0]
[]
["Housing Stock"]
["  Opening Balance",null,null,{"$f":"C106","v":0},{"$f":"D106","v":0},{"$f":"E106","v":0},{"$f":"E106","v":0},{"$f":"E106","v":0},{"$f":"E106","v":0},{"$f":"G106","v":0},{"$f":"J106","v":0},{"$f":"K106","v":0}]
["      Acquisitions"]
["      Transfers"]
["      Sales"]
["  Closing Balance - Housing Stock",null,{"$f":"+SUM(C102:C105)","v":0},{"$f":"+SUM(D102:D105)","v":0},0,0,0,0,0,0,0,0]
[]
["Land"]
["  Opening Balance",null,null,{"$f":"C114","v":0},{"$f":"D114","v":0},{"$f":"E114","v":0},{"$f":"E114","v":0},{"$f":"E114","v":0},{"$f":"E114","v":0},{"$f":"G114","v":0},{"$f":"J114","v":0},{"$f":"K114","v":0}]
["      Acquisitions"]
["      Sales"]
["      Adjustments"]
["     Correction of  Prior period errors"]
["  Closing Balance - Land",null,{"$f":"SUM(C109:C113)","v":0},{"$f":"SUM(D109:D113)","v":0},0,0,0,0,0,0,0,0]
["Closing Balance - Inventory & Consumables",null,{"$f":"C53+C61+C70+C77+C85+C93+C99+C106+C114","v":22284008.969999999},{"$f":"D53+D61+D70+D77+D85+D93+D99+D106+D114","v":31911340.999999996},31592448.479999997,31772947.479999989,204224955.47999999,204224955.47999999,38321123.060000002,265245375.48000002,416966316.48000002,562021951.48000002]
[]
[{"$f":"'A6-FinPos'!A19&\" (PPE)\"","v":"Property, plant and equipment (PPE)"}]
["PPE at cost/valuation (excl. finance leases)",null,4033560965.2600002,4456493118.2399998,4902350430.4099998,4430205538,4403602246,4403602246,5155393641.5600004,4495410979,4517918068,4541899885]
["Leases recognised as PPE",3,0,0,0,0,0,0,0,0,0,0]
["Less: Accumulated depreciation",null,674510906.53999996,785436866.29999995,891526891.12,716984393,726084393,726084393,891526891.12,722884393,722884393,722884393]
[{"$f":"\"Total \"&A117","v":"Total Property, plant and equipment (PPE)"},2,{"$f":"SUM(C118:C119)-C120","v":3359050058.7200003},{"$f":"SUM(D118:D119)-D120","v":3671056251.9399996},4010823539.29,3713221145,3677517853,3677517853,4263866750.4400005,3772526586,3795033675,3819015492]
[]
["LIABILITIES"]
[{"$f":"'A6-FinPos'!A28&\" - \"&'A6-FinPos'!A30","v":"Current liabilities - Borrowing"}]
["Short term loans (other than bank overdraft)"]
["Current portion of long-term liabilities",null,0,0,0,0,0,0,0,0,0,0]
[{"$f":"\"Total \"&A124","v":"Total Current liabilities - Borrowing"},null,{"$f":"SUM(C125:C126)","v":0},{"$f":"SUM(D125:D126)","v":0},0,0,0,0,0,0,0,0]
[]
[{"$f":"'A6-FinPos'!A32","v":"Trade and other payables"}]
["Trade Payables",5,385808128.73000002,391847332.73000002,621269807.01999998,200000000,257003045,257003045,383899872.92000002,254289515,262438365,394703977]
[" Other creditors",null,0,0,0,0,0,0,0,0,0,0]
["Unspent conditional transfers",null,61052577.719999999,68934375.200000003,30315359.199999999,20000000,20000000,20000000,230324112.91999999,20000000,32309000,42352418]
["VAT",null,38373202.560000002,52854816.340000004,66000455.119999997,0,0,0,89933688.450000003,0,0,0]
[{"$f":"\"Total \"&A129","v":"Total Trade and other payables"},2,{"$f":"SUM(C130:C133)","v":485233909.01000005},513636524.26999998,717585621.34000003,220000000,277003045,277003045,704157674.29000008,274289515,294747365,{"$f":"SUM(L130:L133)","v":437056395}]
[]
[{"$f":"'A6-FinPos'!A36&\" - \"&'A6-FinPos'!A37","v":"Non current liabilities - Borrowing"}]
["Borrowing",4,0,0,0,0,0,0,0,0,0,0]
["Finance leases (including PPP asset element)",null,1227561.1599999999,3322476.83,3822340.19,0,0,0,3822340.19,0,0,0]
[{"$f":"\"Total \"&A136","v":"Total Non current liabilities - Borrowing"},null,{"$f":"SUM(C137:C138)","v":1227561.1599999999},{"$f":"SUM(D137:D138)","v":3322476.83},3822340.19,0,0,0,3822340.19,0,0,0]
[]
[{"$f":"'A6-FinPos'!A38&\" - non-current\"","v":"Provisions - non-current"}]
["Retirement benefits"]
[]
["Refuse landfill site rehabilitation",null,0,0,0,0,0,0,0,0,0,0]
["Other",null,51802525.920000002,50185766.670000002,58971647.670000002,51802526,51802526,51802526,58971647.670000002,51802526,51802526,51802526]
[{"$f":"\"Total \"&A141","v":"Total Provisions - non-current"},null,{"$f":"+C142+C144+C145","v":51802525.920000002},50185766.670000002,58971647.670000002,51802526,51802526,51802526,{"$f":"+I142+I144+I145","v":58971647.670000002},{"$f":"+J142+J144+J145","v":51802526},51802526,51802526]
[]
["CHANGES IN NET ASSETS"]
[{"$f":"'A6-FinPos'!A45","v":"Accumulated Surplus/(Deficit)"}]
[{"$f":"A149&\" - opening balance\"","v":"Accumulated Surplus/(Deficit) - opening balance"},null,2785158064.1100001,3109721650.9000001,3427958663.52,3584324658,3630891115,3630891115,3949256074.23,3595244898,3735117248,3676130595]
["GRAP adjustments",null,0,0,0,0,0,0,0,0,0,0]
["Restated balance",null,{"$f":"SUM(C150:C151)","v":2785158064.1100001},{"$f":"SUM(D150:D151)","v":3109721650.9000001},{"$f":"SUM(E150:E151)","v":3427958663.52},{"$f":"SUM(F150:F151)","v":3584324658},3630891115,3630891115,3949256074.23,3595244898,3735117248,3676130595]
[{"$f":"'A4-FinPerf RE'!A37","v":"Surplus/(Deficit)"},null,{"$f":"'A4-FinPerf RE'!C45","v":558474757.03999972},{"$f":"'A4-FinPerf RE'!D45","v":488965253.06999999},{"$f":"'A4-FinPerf RE'!E45","v":799018238.84000015},{"$f":"'A4-FinPerf RE'!F45","v":425415579},{"$f":"'A4-FinPerf RE'!G45","v":389534868},{"$f":"'A4-FinPerf RE'!H45","v":389534868},{"$f":"'A4-FinPerf RE'!I45","v":602745030.17999983},{"$f":"'A4-FinPerf RE'!J45","v":489439853},{"$f":"'A4-FinPerf RE'!K45","v":512117604},{"$f":"'A4-FinPerf RE'!L45","v":521738327}]
[]
["Transfers to/from Reserves",null,100000,100000,0,0,0,0,0,0,0,0]
["Depreciation offsets",null,0,0,0,0,0,0,0,0,0,0]
["Other adjustments",null,394776.73,-33590083.450000003,-79751994.560000002,535522,535522,535522,-19702.38,535522,535522,535522]
["Accumulated Surplus/(Deficit)",1,{"$f":"SUM(C152:C157)","v":3344127597.8799996},{"$f":"SUM(D152:D157)","v":3565196820.5200005},{"$f":"SUM(E152:E157)","v":4147224907.8000002},4010275759,4020961505,4020961505,4551981402.0299997,4085220273,4247770374,4198404444]
["Reserves"]
["Housing Development Fund"]
["Capital replacement"]
["Self-insurance"]
["Other reserves"]
["Revaluation",null,0,0,0,0,0,0,0,0,0,0]
["Total Reserves",2,{"$f":"SUM(C160:C164)","v":0},0,0,0,0,0,0,0,0,0]
[{"$f":"'A6-FinPos'!A48","v":"TOTAL COMMUNITY WEALTH/EQUITY"},2,{"$f":"C158+C165","v":3344127597.8799996},3565196820.5200005,4147224907.8000002,4010275759,4020961505,4020961505,4551981402.0299997,4085220273,4247770374,4198404444]
[]
[]
[]
[]
[]
[{"$f":"head27a","v":"References"}]
[{"$f":"\"1. Must reconcile with \"&'Template names'!F103","v":"1. Must reconcile with Table A4 Budgeted Financial Performance (revenue and expenditure)"}]
[{"$f":"\"2. Must reconcile with \"&'Template names'!F105","v":"2. Must reconcile with Table A6 Budgeted Financial Position"}]
["3. Leases treated as assets to be depreciated as the same as purchased/constructed assets.  Includes PPP asset element accounted for as finance leases"]
["4. Borrowing must reconcile to Table A17"]
["5. Trade Payable should only include Trade Payables from Exchance Transactions (\"True Creditors\")"]
["6. Inventory Consumed - Water - included under \"Inventory Consumed\" on Table A4 - Detail to be submitted on Table SA1"]
["7. Inventry Consumed Other - included under \"Inventory Consumed\" on Table A4 - Detail to be submitted on Table SA1"]
["8. Inventory Transfers/Adjustments (Include under gains/losses on Table A4)"]
["9. Inventory Write-offs (Include under losses on Table A4)"]
[]
["check",null,{"$f":"C166-'A6-FinPos'!C48","v":0},{"$f":"D166-'A6-FinPos'!D48","v":0},{"$f":"E166-'A6-FinPos'!E48","v":0},{"$f":"F166-'A6-FinPos'!F48","v":0},{"$f":"G166-'A6-FinPos'!G48","v":0},{"$f":"H166-'A6-FinPos'!H48","v":0},{"$f":"I166-'A6-FinPos'!I48","v":0},{"$f":"J166-'A6-FinPos'!J48","v":0},{"$f":"K166-'A6-FinPos'!K48","v":0},{"$f":"L166-'A6-FinPos'!L48","v":0}]
[null,null,{"$f":"TREND(D184:H184)","v":0},{"$f":"TREND(E184:H184)","v":0},{"$f":"E169","v":0},{"$f":"H169","v":0},{"$f":"J169","v":0},{"$f":"K169","v":0},{"$f":"L169","v":0}]

{"sheet":"SA4","index":23,"n_rows":14,"n_cols":13,"rows_kept":14,"cut":false,"hidden":false,"merged":[[1,7,1,9],[1,10,1,12],[1,3,2,3]]}
[{"$f":"muni&\" - \"&TableA4","v":"DC47 Sekhukhune - Supporting Table SA4 Reconciliation of IDP strategic objectives and budget (revenue)"}]
["Strategic Objective","Goal","Goal\nCode",{"$f":"head27","v":"Ref"},{"$f":"head1b","v":"2018/19"},{"$f":"head1A","v":"2019/20"},{"$f":"Head1","v":"2020/21"},{"$f":"Head2","v":"Current Year 2021/22"},null,null,{"$f":"Head3","v":"2022/23 Medium Term Revenue & Expenditure Framework"}]
["R thousand",null,null,null,{"$f":"Head5","v":"Audited Outcome"},{"$f":"Head5","v":"Audited Outcome"},{"$f":"Head5","v":"Audited Outcome"},{"$f":"Head6","v":"Original Budget"},{"$f":"Head7","v":"Adjusted Budget"},{"$f":"Head8","v":"Full Year Forecast"},{"$f":"Head9","v":"Budget Year 2022/23"},{"$f":"Head10","v":"Budget Year +1 2023/24"},{"$f":"Head11","v":"Budget Year +2 2024/25"}]
["GOOD GOVERNANCE AND PUBLIC PARTICIPATION",null,null,null,0,0,0,0,0,0,0,0,0]
["FIANCIAL VIABILITY",null,null,null,1319747258.6099999,982574334.49000001,1270964416.96,1113046877,1161361877,1161361877,1230949149,1299361902,1410936397]
["LOCAL ECONOMIC DEVELOPMENT",null,null,null,0,0,0,0,0,0,0,0,0]
["BASIC SERVICE DELIVERY, INFRASTRUCTURE DEVELOPMENT AND SOCIAL SERVICES",null,null,null,-19264.75,0,0,0,0,0,0,0,0]
["INSTITUTIONAL DEVELOPMENT AND ORGANISATIONAL TRANSFORMATION",null,null,null,-1810,0,0,0,0,0,0,0,0]
["Allocations to other priorities",null,null,2]
[{"$f":"'A4-FinPerf RE'!A21","v":"Total Revenue (excluding capital transfers and contributions)"},null,null,1,{"$f":"SUM(E4:E9)","v":1319726183.8599999},982574334.49000001,1270964416.96,1113046877,1161361877,1161361877,1230949149,1299361902,1410936397]
[{"$f":"head27a","v":"References"}]
[{"$f":"\"1. Total revenue must reconcile to \"&'Template names'!F103","v":"1. Total revenue must reconcile to Table A4 Budgeted Financial Performance (revenue and expenditure)"}]
["2. Balance of allocations not directly linked to an IDP strategic objective"]
["check op revenue balance",null,null,null,{"$f":"E10-'A4-FinPerf RE'!C59","v":-126476089.19999981},{"$f":"F10-'A4-FinPerf RE'!D59","v":-444625254.3599999},{"$f":"G10-'A4-FinPerf RE'!E59","v":-449934710.22000003},{"$f":"H10-'A4-FinPerf RE'!F59","v":-415901000},{"$f":"I10-'A4-FinPerf RE'!G59","v":-379101000},{"$f":"J10-'A4-FinPerf RE'!H59","v":-379101000},{"$f":"K10-'A4-FinPerf RE'!J59","v":-469076440},{"$f":"L10-'A4-FinPerf RE'!K59","v":-501682010},{"$f":"M10-'A4-FinPerf RE'!L59","v":-512086000}]

{"sheet":"SA5","index":24,"n_rows":27,"n_cols":13,"rows_kept":27,"cut":false,"hidden":false,"merged":[[1,7,1,9],[1,10,1,12],[1,3,2,3]]}
[{"$f":"muni&\" - \"&TableA5","v":"DC47 Sekhukhune - Supporting Table SA5 Reconciliation of IDP strategic objectives and budget (operating expenditure)"}]
["Strategic Objective","Goal","Goal\nCode",{"$f":"head27","v":"Ref"},{"$f":"head1b","v":"2018/19"},{"$f":"head1A","v":"2019/20"},{"$f":"Head1","v":"2020/21"},{"$f":"Head2","v":"Current Year 2021/22"},null,null,{"$f":"Head3","v":"2022/23 Medium Term Revenue & Expenditure Framework"}]
["R thousand",null,null,null,{"$f":"Head5","v":"Audited Outcome"},{"$f":"Head5","v":"Audited Outcome"},{"$f":"Head5","v":"Audited Outcome"},{"$f":"Head6","v":"Original Budget"},{"$f":"Head7","v":"Adjusted Budget"},{"$f":"Head8","v":"Full Year Forecast"},{"$f":"Head9","v":"Budget Year 2022/23"},{"$f":"Head10","v":"Budget Year +1 2023/24"},{"$f":"Head11","v":"Budget Year +2 2024/25"}]
["Allocations to Other Priorities",null,null,null,0,0,0,0,0,0,0,0,0]
["GOOD GOVERNANCE AND PUBLIC PARTICIPATION",null,null,null,68485195.689999998,66393754.359999999,68269937.930000007,81026062,83301497,83301497,91170679,92851922,97384293]
["FIANCIAL VIABILITY",null,null,null,179503638.44999999,113129186.09999999,74143384.400000006,200655145,194867707,194867707,206871304,232083437,253449573]
["LOCAL ECONOMIC DEVELOPMENT",null,null,null,14281721.09,11037768,12664245.74,21172858,21499194,21499194,26917179,34066257,38973305]
["BASIC SERVICE DELIVERY, INFRASTRUCTURE DEVELOPMENT AND SOCIAL SERVICES",null,null,null,648328277.46000004,644017777.86000001,744418523.13,601512397,639370500,639370500,648412999,658164837,696504775]
["INSTITUTIONAL DEVELOPMENT AND ORGANISATIONAL TRANSFORMATION",null,null,null,203166632.61000001,223536563.02000001,217077218.46000001,199165836,217376012,217376012,237213574,271759866,314972134]
[]
[]
[]
[]
[]
[]
[]
[]
[]
[]
[]
[]
["Allocations to other priorities"]
[{"$f":"'A4-FinPerf RE'!A35","v":"Total Expenditure"},null,null,1,{"$f":"SUM(E4:E22)","v":1113765465.3000002},1058115049.3399999,1116573309.6600001,1103532298,1156414910,1156414910,1210585735,1288926319,1401284080]
[{"$f":"head27a","v":"References"}]
[{"$f":"\"1. Total expenditure must reconcile to \"&'Template names'!F103","v":"1. Total expenditure must reconcile to Table A4 Budgeted Financial Performance (revenue and expenditure)"}]
["2. Balance of allocations not directly linked to an IDP strategic objective"]
["check op expenditure balance",null,null,null,{"$f":"E23-'A4-FinPerf RE'!C35","v":226037949.28000021},{"$f":"F23-'A4-FinPerf RE'!D35","v":119880713.55999994},{"$f":"G23-'A4-FinPerf RE'!E35","v":194692421.32000017},{"$f":"H23-'A4-FinPerf RE'!F35","v":0},{"$f":"I23-'A4-FinPerf RE'!G35","v":5486901},{"$f":"J23-'A4-FinPerf RE'!H35","v":5486901},{"$f":"K23-'A4-FinPerf RE'!J35","v":-1},{"$f":"L23-'A4-FinPerf RE'!K35","v":11},{"$f":"M23-'A4-FinPerf RE'!L35","v":10}]

{"sheet":"SA6","index":25,"n_rows":15,"n_cols":13,"rows_kept":15,"cut":false,"hidden":false,"merged":[[1,7,1,9],[1,10,1,12],[1,3,2,3]]}
[{"$f":"muni&\" - \"&TableA6","v":"DC47 Sekhukhune - Supporting Table SA6 Reconciliation of IDP strategic objectives and budget (capital expenditure)"}]
["Strategic Objective","Goal","Goal Code",{"$f":"head27","v":"Ref"},{"$f":"head1b","v":"2018/19"},{"$f":"head1A","v":"2019/20"},{"$f":"Head1","v":"2020/21"},{"$f":"Head2","v":"Current Year 2021/22"},null,null,{"$f":"Head3","v":"2022/23 Medium Term Revenue & Expenditure Framework"}]
["R thousand",null,null,null,{"$f":"Head5","v":"Audited Outcome"},{"$f":"Head5","v":"Audited Outcome"},{"$f":"Head5","v":"Audited Outcome"},{"$f":"Head6","v":"Original Budget"},{"$f":"Head7","v":"Adjusted Budget"},{"$f":"Head8","v":"Full Year Forecast"},{"$f":"Head9","v":"Budget Year 2022/23"},{"$f":"Head10","v":"Budget Year +1 2023/24"},{"$f":"Head11","v":"Budget Year +2 2024/25"}]
["GOOD GOVERNANCE AND PUBLIC PARTICIPATION",null,null,null,0,0,0,0,530000,530000,0,0,0]
["FIANCIAL VIABILITY",null,null,null,0,0,0,0,1000000,1000000,0,0,0]
["LOCAL ECONOMIC DEVELOPMENT",null,null,null,0,0,0,0,0,0,550000,0,0]
["BASIC SERVICE DELIVERY, INFRASTRUCTURE DEVELOPMENT AND SOCIAL SERVICES",null,null,null,457492910.37,390198097.97000003,429537047.58999997,424001000,395667708,395667708,488656441,511713530,520355239]
["INSTITUTIONAL DEVELOPMENT AND ORGANISATIONAL TRANSFORMATION",null,null,null,0,0,0,0,200000,200000,0,0,0]
["Allocations to other priorities",null,null,3]
["Total Capital Expenditure",null,null,1,{"$f":"SUM(E4:E9)","v":457492910.37},390198097.97000003,429537047.58999997,424001000,397397708,397397708,489206441,511713530,520355239]
[{"$f":"head27a","v":"References"}]
["1. Total capital expenditure must reconcile to Budgeted Capital Expenditure"]
["2. Goal code must be used on Table SA36"]
["3. Balance of allocations not directly linked to an IDP strategic objective"]
["check capital balance",null,null,null,{"$f":"E10-'A5-Capex'!C40","v":0},{"$f":"F10-'A5-Capex'!D40","v":0},{"$f":"G10-'A5-Capex'!E40","v":0},{"$f":"H10-'A5-Capex'!F40","v":0},{"$f":"I10-'A5-Capex'!G40","v":0},{"$f":"J10-'A5-Capex'!H40","v":0},{"$f":"K10-'A5-Capex'!J40","v":0},{"$f":"L10-'A5-Capex'!K40","v":0},{"$f":"M10-'A5-Capex'!L40","v":0}]

{"sheet":"SA7","index":26,"n_rows":24,"n_cols":11,"rows_kept":24,"cut":false,"hidden":false,"merged":[[1,1,2,1],[1,0,2,0],[1,5,1,7],[1,8,1,10],[22,0,22,10],[14,0,14,10],[19,0,20,0],[19,1,20,1],[19,5,19,7],[19,8,19,10]]}
[{"$f":"muni&\" - \"&TableA7","v":"DC47 Sekhukhune - Supporting Table SA7 Measureable performance objectives"}]
["Description","Unit of measurement",{"$f":"head1b","v":"2018/19"},{"$f":"head1A","v":"2019/20"},{"$f":"Head1","v":"2020/21"},{"$f":"Head2","v":"Current Year 2021/22"},null,null,{"$f":"Head3","v":"2022/23 Medium Term Revenue & Expenditure Framework"}]
[null,null,{"$f":"Head5","v":"Audited Outcome"},{"$f":"Head5","v":"Audited Outcome"},{"$f":"Head5","v":"Audited Outcome"},{"$f":"Head6","v":"Original Budget"},{"$f":"Head7","v":"Adjusted Budget"},{"$f":"Head8","v":"Full Year Forecast"},{"$f":"Head9","v":"Budget Year 2022/23"},{"$f":"Head10","v":"Budget Year +1 2023/24"},{"$f":"Head11","v":"Budget Year +2 2024/25"}]
["05 - Infrustracture And Water Services"]
["Water Management"]
["Water Distribution"]
["Formal Settlement Households Receiving Water","Households",0,0,43124,0,0,0,47436,52180,57398]
["No Water Supply","Households",0,0,0,0,0,0,25000,5000,0]
["Other Water Supply (< Min.Service Level)","Households",0,0,0,0,0,0,25000,10000,0]
["Other Water Supply (At Least Min.Service Level)","Households",0,0,0,0,98722,98722,98722,119597,146028]
["Piped Water Inside Dwelling","Households",0,0,0,0,0,0,15000,20000,0]
["Piped Water Inside Yard (But Not In Dwelling)","Households",0,0,0,0,0,0,10000,15000,0]
["Using Public Tap (At Least Min.Service Level)","Households",0,0,0,0,457276,457276,457276,469235,500880]
[]
["1. Include a measurable performance objective for each revenue source (within a relevant function) and each vote (MFMA s17(3)(b))"]
["2. Include all Basic Services performance targets from 'Basic Service Delivery' to ensure Table SA7 represents all strategic responsibilities"]
["3. Only include prior year comparative information for individual measures where relevant activity occurred in that year/s"]
[]
[{"$f":"muni&\" - \"&\"Entities measureable performance objectives\"","v":"DC47 Sekhukhune - Entities measureable performance objectives"}]
[{"$f":"A2","v":"Description"},"Unit of measurement",{"$f":"head1b","v":"2018/19"},{"$f":"head1A","v":"2019/20"},{"$f":"Head1","v":"2020/21"},{"$f":"Head2","v":"Current Year 2021/22"},null,null,{"$f":"Head3","v":"2022/23 Medium Term Revenue & Expenditure Framework"}]
[null,null,{"$f":"Head5","v":"Audited Outcome"},{"$f":"Head5","v":"Audited Outcome"},{"$f":"Head5","v":"Audited Outcome"},{"$f":"Head6","v":"Original Budget"},{"$f":"Head7","v":"Adjusted Budget"},{"$f":"Head8","v":"Full Year Forecast"},{"$f":"Head9","v":"Budget Year 2022/23"},{"$f":"Head10","v":"Budget Year +1 2023/24"},{"$f":"Head11","v":"Budget Year +2 2024/25"}]
[]
["1. Include a measurable performance objective as agreed with the parent municipality (MFMA s87(5)(d))"]
["2. Only include prior year comparative information for individual measures where relevant activity occurred in that year/s"]

{"sheet":"SA8","index":27,"n_rows":49,"n_cols":12,"rows_kept":49,"cut":false,"hidden":false,"merged":[[28,0,30,0],[1,0,2,0],[1,9,1,11],[1,1,2,1],[1,5,1,8],[25,0,27,0]]}
[{"$f":"muni&\" - \"&TableA8","v":"DC47 Sekhukhune - Supporting Table SA8 Performance indicators and benchmarks"}]
["Description of financial indicator","Basis of calculation",{"$f":"head1b","v":"2018/19"},{"$f":"head1A","v":"2019/20"},{"$f":"Head1","v":"2020/21"},{"$f":"Head2","v":"Current Year 2021/22"},null,null,null,{"$f":"Head3","v":"2022/23 Medium Term Revenue & Expenditure Framework"}]
[null,null,{"$f":"Head5","v":"Audited Outcome"},{"$f":"Head5","v":"Audited Outcome"},{"$f":"Head5","v":"Audited Outcome"},{"$f":"Head6","v":"Original Budget"},{"$f":"Head7","v":"Adjusted Budget"},{"$f":"Head8","v":"Full Year Forecast"},{"$f":"Head5b","v":"Pre-audit outcome"},{"$f":"Head9","v":"Budget Year 2022/23"},{"$f":"Head10","v":"Budget Year +1 2023/24"},{"$f":"Head11","v":"Budget Year +2 2024/25"}]
["Borrowing Management"]
[]
["Credit Rating"]
["Capital Charges to Operating Expenditure","Interest & Principal Paid /Operating Expenditure",{"$f":"IF(ISERROR(('A4-FinPerf RE'!C28-'A7-CFlow'!C35)/'A4-FinPerf RE'!C35),0,(('A4-FinPerf RE'!C28-'A7-CFlow'!C35)/'A4-FinPerf RE'!C35))","v":3.908103373379989E-4},{"$f":"IF(ISERROR(('A4-FinPerf RE'!D28-'A7-CFlow'!D35)/'A4-FinPerf RE'!D35),0,(('A4-FinPerf RE'!D28-'A7-CFlow'!D35)/'A4-FinPerf RE'!D35))","v":0},{"$f":"IF(ISERROR(('A4-FinPerf RE'!E28-'A7-CFlow'!E35)/'A4-FinPerf RE'!E35),0,(('A4-FinPerf RE'!E28-'A7-CFlow'!E35)/'A4-FinPerf RE'!E35))","v":0},{"$f":"IF(ISERROR(('A4-FinPerf RE'!F28-'A7-CFlow'!F35)/'A4-FinPerf RE'!F35),0,(('A4-FinPerf RE'!F28-'A7-CFlow'!F35)/'A4-FinPerf RE'!F35))","v":4.4386376446591328E-4},{"$f":"IF(ISERROR(('A4-FinPerf RE'!G28-'A7-CFlow'!G35)/'A4-FinPerf RE'!G35),0,(('A4-FinPerf RE'!G28-'A7-CFlow'!G35)/'A4-FinPerf RE'!G35))","v":4.2558526351755508E-4},{"$f":"IF(ISERROR(('A4-FinPerf RE'!H28-'A7-CFlow'!H35)/'A4-FinPerf RE'!H35),0,(('A4-FinPerf RE'!H28-'A7-CFlow'!H35)/'A4-FinPerf RE'!H35))","v":4.2558526351755508E-4},{"$f":"IF(ISERROR(('A4-FinPerf RE'!I28-'A7-CFlow'!I35)/'A4-FinPerf RE'!I35),0,(('A4-FinPerf RE'!I28-'A7-CFlow'!I35)/'A4-FinPerf RE'!I35))","v":0},{"$f":"IF(ISERROR(('A4-FinPerf RE'!J28-'A7-CFlow'!J35)/'A4-FinPerf RE'!J35),0,(('A4-FinPerf RE'!J28-'A7-CFlow'!J35)/'A4-FinPerf RE'!J35))","v":4.2079712725113426E-4},{"$f":"IF(ISERROR(('A4-FinPerf RE'!K28-'A7-CFlow'!K35)/'A4-FinPerf RE'!K35),0,(('A4-FinPerf RE'!K28-'A7-CFlow'!K35)/'A4-FinPerf RE'!K35))","v":4.1261086588047203E-4},{"$f":"IF(ISERROR(('A4-FinPerf RE'!L28-'A7-CFlow'!L35)/'A4-FinPerf RE'!L35),0,(('A4-FinPerf RE'!L28-'A7-CFlow'!L35)/'A4-FinPerf RE'!L35))","v":3.9660552196243835E-4}]
["Capital Charges to Own Revenue","Finance charges & Repayment of borrowing /Own Revenue",{"$f":"IF(ISERROR(('A4-FinPerf RE'!C28-'A7-CFlow'!C35)/('A4-FinPerf RE'!C21-'A4-FinPerf RE'!C18)),0,(('A4-FinPerf RE'!C28-'A7-CFlow'!C35)/('A4-FinPerf RE'!C21-'A4-FinPerf RE'!C18)))","v":2.7729519647662292E-3},{"$f":"IF(ISERROR(('A4-FinPerf RE'!D28-'A7-CFlow'!D35)/('A4-FinPerf RE'!D21-'A4-FinPerf RE'!D18)),0,(('A4-FinPerf RE'!D28-'A7-CFlow'!D35)/('A4-FinPerf RE'!D21-'A4-FinPerf RE'!D18)))","v":0},{"$f":"IF(ISERROR(('A4-FinPerf RE'!E28-'A7-CFlow'!E35)/('A4-FinPerf RE'!E21-'A4-FinPerf RE'!E18)),0,(('A4-FinPerf RE'!E28-'A7-CFlow'!E35)/('A4-FinPerf RE'!E21-'A4-FinPerf RE'!E18)))","v":0},{"$f":"IF(ISERROR(('A4-FinPerf RE'!F28-'A7-CFlow'!F35)/('A4-FinPerf RE'!F21-'A4-FinPerf RE'!F18)),0,(('A4-FinPerf RE'!F28-'A7-CFlow'!F35)/('A4-FinPerf RE'!F21-'A4-FinPerf RE'!F18)))","v":3.7409569717392543E-3},{"$f":"IF(ISERROR(('A4-FinPerf RE'!G28-'A7-CFlow'!G35)/('A4-FinPerf RE'!G21-'A4-FinPerf RE'!G18)),0,(('A4-FinPerf RE'!G28-'A7-CFlow'!G35)/('A4-FinPerf RE'!G21-'A4-FinPerf RE'!G18)))","v":3.5714328160339221E-3},{"$f":"IF(ISERROR(('A4-FinPerf RE'!H28-'A7-CFlow'!H35)/('A4-FinPerf RE'!H21-'A4-FinPerf RE'!H18)),0,(('A4-FinPerf RE'!H28-'A7-CFlow'!H35)/('A4-FinPerf RE'!H21-'A4-FinPerf RE'!H18)))","v":3.5714328160339221E-3},{"$f":"IF(ISERROR(('A4-FinPerf RE'!I28-'A7-CFlow'!I35)/('A4-FinPerf RE'!I21-'A4-FinPerf RE'!I18)),0,(('A4-FinPerf RE'!I28-'A7-CFlow'!I35)/('A4-FinPerf RE'!I21-'A4-FinPerf RE'!I18)))","v":0},{"$f":"IF(ISERROR(('A4-FinPerf RE'!J28-'A7-CFlow'!J35)/('A4-FinPerf RE'!J21-'A4-FinPerf RE'!J18)),0,(('A4-FinPerf RE'!J28-'A7-CFlow'!J35)/('A4-FinPerf RE'!J21-'A4-FinPerf RE'!J18)))","v":3.559686267738991E-3},{"$f":"IF(ISERROR(('A4-FinPerf RE'!K28-'A7-CFlow'!K35)/('A4-FinPerf RE'!K21-'A4-FinPerf RE'!K18)),0,(('A4-FinPerf RE'!K28-'A7-CFlow'!K35)/('A4-FinPerf RE'!K21-'A4-FinPerf RE'!K18)))","v":3.542408374898835E-3},{"$f":"IF(ISERROR(('A4-FinPerf RE'!L28-'A7-CFlow'!L35)/('A4-FinPerf RE'!L21-'A4-FinPerf RE'!L18)),0,(('A4-FinPerf RE'!L28-'A7-CFlow'!L35)/('A4-FinPerf RE'!L21-'A4-FinPerf RE'!L18)))","v":3.5280693694704321E-3}]
["Borrowed funding of 'own' capital expenditure","Borrowing/Capital expenditure excl. transfers and grants and contributions",{"$f":"IF(ISERROR(C49/C48),0,(C49/C48))","v":0},{"$f":"IF(ISERROR(D49/D48),0,(D49/D48))","v":0},{"$f":"IF(ISERROR(E49/E48),0,(E49/E48))","v":0},0,0,0,0,0,0,0]
["Safety of Capital"]
["Gearing","Long Term Borrowing/ Funds & Reserves",{"$f":"IF(ISERROR(('A6-FinPos'!C37/'A6-FinPos'!C46)),0,(('A6-FinPos'!C37/'A6-FinPos'!C46)))","v":0},{"$f":"IF(ISERROR(('A6-FinPos'!D37/'A6-FinPos'!D46)),0,(('A6-FinPos'!D37/'A6-FinPos'!D46)))","v":0},{"$f":"IF(ISERROR(('A6-FinPos'!E37/'A6-FinPos'!E46)),0,(('A6-FinPos'!E37/'A6-FinPos'!E46)))","v":0},{"$f":"IF(ISERROR(('A6-FinPos'!F37/'A6-FinPos'!F46)),0,(('A6-FinPos'!F37/'A6-FinPos'!F46)))","v":0},{"$f":"IF(ISERROR(('A6-FinPos'!G37/'A6-FinPos'!G46)),0,(('A6-FinPos'!G37/'A6-FinPos'!G46)))","v":0},{"$f":"IF(ISERROR(('A6-FinPos'!H37/'A6-FinPos'!H46)),0,(('A6-FinPos'!H37/'A6-FinPos'!H46)))","v":0},{"$f":"IF(ISERROR(('A6-FinPos'!I37/'A6-FinPos'!I46)),0,(('A6-FinPos'!I37/'A6-FinPos'!I46)))","v":0},{"$f":"IF(ISERROR(('A6-FinPos'!J37/'A6-FinPos'!J46)),0,(('A6-FinPos'!J37/'A6-FinPos'!J46)))","v":0},{"$f":"IF(ISERROR(('A6-FinPos'!K37/'A6-FinPos'!K46)),0,(('A6-FinPos'!K37/'A6-FinPos'!K46)))","v":0},{"$f":"IF(ISERROR(('A6-FinPos'!L37/'A6-FinPos'!L46)),0,(('A6-FinPos'!L37/'A6-FinPos'!L46)))","v":0}]
["Liquidity"]
["Current Ratio","Current assets/current liabilities",{"$f":"IF(ISERROR('A6-FinPos'!C12/'A6-FinPos'!C34),0,('A6-FinPos'!C12/'A6-FinPos'!C34))","v":0.49584084995248207},{"$f":"IF(ISERROR('A6-FinPos'!D12/'A6-FinPos'!D34),0,('A6-FinPos'!D12/'A6-FinPos'!D34))","v":0.86276660428691043},{"$f":"IF(ISERROR('A6-FinPos'!E12/'A6-FinPos'!E34),0,('A6-FinPos'!E12/'A6-FinPos'!E34))","v":0.43048057492302882},{"$f":"IF(ISERROR('A6-FinPos'!F12/'A6-FinPos'!F34),0,('A6-FinPos'!F12/'A6-FinPos'!F34))","v":2.1458561674153218},{"$f":"IF(ISERROR('A6-FinPos'!G12/'A6-FinPos'!G34),0,('A6-FinPos'!G12/'A6-FinPos'!G34))","v":2.5206195904975188},{"$f":"IF(ISERROR('A6-FinPos'!H12/'A6-FinPos'!H34),0,('A6-FinPos'!H12/'A6-FinPos'!H34))","v":2.5206195904975188},{"$f":"IF(ISERROR('A6-FinPos'!I12/'A6-FinPos'!I34),0,('A6-FinPos'!I12/'A6-FinPos'!I34))","v":0.70422586591371161},{"$f":"IF(ISERROR('A6-FinPos'!J12/'A6-FinPos'!J34),0,('A6-FinPos'!J12/'A6-FinPos'!J34))","v":2.5983388312448628},{"$f":"IF(ISERROR('A6-FinPos'!K12/'A6-FinPos'!K34),0,('A6-FinPos'!K12/'A6-FinPos'!K34))","v":3.161314978141649},{"$f":"IF(ISERROR('A6-FinPos'!L12/'A6-FinPos'!L34),0,('A6-FinPos'!L12/'A6-FinPos'!L34))","v":2.6420208660802906}]
["Current Ratio adjusted for aged debtors","Current assets less debtors > 90 days/current liabilities",{"$f":"IF(ISERROR(('A6-FinPos'!C12-'SA8'!C45)/'A6-FinPos'!C34),0,(('A6-FinPos'!C12-'SA8'!C45)/'A6-FinPos'!C34))","v":0.49584084995248207},{"$f":"IF(ISERROR(('A6-FinPos'!D12-'SA8'!D45)/'A6-FinPos'!D34),0,(('A6-FinPos'!D12-'SA8'!D45)/'A6-FinPos'!D34))","v":0.86276660428691043},{"$f":"IF(ISERROR(('A6-FinPos'!E12-'SA8'!E45)/'A6-FinPos'!E34),0,(('A6-FinPos'!E12-'SA8'!E45)/'A6-FinPos'!E34))","v":0.43048057492302882},{"$f":"IF(ISERROR(('A6-FinPos'!F12-'SA8'!F45)/'A6-FinPos'!F34),0,(('A6-FinPos'!F12-'SA8'!F45)/'A6-FinPos'!F34))","v":2.1458561674153218},{"$f":"IF(ISERROR(('A6-FinPos'!G12-'SA8'!G45)/'A6-FinPos'!G34),0,(('A6-FinPos'!G12-'SA8'!G45)/'A6-FinPos'!G34))","v":2.5206195904975188},{"$f":"IF(ISERROR(('A6-FinPos'!H12-'SA8'!H45)/'A6-FinPos'!H34),0,(('A6-FinPos'!H12-'SA8'!H45)/'A6-FinPos'!H34))","v":2.5206195904975188},{"$f":"IF(ISERROR(('A6-FinPos'!I12-'SA8'!I45)/'A6-FinPos'!I34),0,(('A6-FinPos'!I12-'SA8'!I45)/'A6-FinPos'!I34))","v":0.70422586591371161},{"$f":"IF(ISERROR(('A6-FinPos'!J12-'SA8'!J45)/'A6-FinPos'!J34),0,(('A6-FinPos'!J12-'SA8'!J45)/'A6-FinPos'!J34))","v":2.5983388312448628},{"$f":"IF(ISERROR(('A6-FinPos'!K12-'SA8'!K45)/'A6-FinPos'!K34),0,(('A6-FinPos'!K12-'SA8'!K45)/'A6-FinPos'!K34))","v":3.161314978141649},{"$f":"IF(ISERROR(('A6-FinPos'!L12-'SA8'!L45)/'A6-FinPos'!L34),0,(('A6-FinPos'!L12-'SA8'!L45)/'A6-FinPos'!L34))","v":2.6420208660802906}]
["Liquidity Ratio","Monetary Assets/Current Liabilities",{"$f":"IF(ISERROR(('A6-FinPos'!C6+'A6-FinPos'!C7)/'A6-FinPos'!C34),0,(('A6-FinPos'!C6+'A6-FinPos'!C7)/'A6-FinPos'!C34))","v":2.484618531651344E-2},{"$f":"IF(ISERROR(('A6-FinPos'!D6+'A6-FinPos'!D7)/'A6-FinPos'!D34),0,(('A6-FinPos'!D6+'A6-FinPos'!D7)/'A6-FinPos'!D34))","v":0.34883199836307127},{"$f":"IF(ISERROR(('A6-FinPos'!E6+'A6-FinPos'!E7)/'A6-FinPos'!E34),0,(('A6-FinPos'!E6+'A6-FinPos'!E7)/'A6-FinPos'!E34))","v":-6.3213532257470922E-2},{"$f":"IF(ISERROR(('A6-FinPos'!F6+'A6-FinPos'!F7)/'A6-FinPos'!F34),0,(('A6-FinPos'!F6+'A6-FinPos'!F7)/'A6-FinPos'!F34))","v":1.0540867346037619},{"$f":"IF(ISERROR(('A6-FinPos'!G6+'A6-FinPos'!G7)/'A6-FinPos'!G34),0,(('A6-FinPos'!G6+'A6-FinPos'!G7)/'A6-FinPos'!G34))","v":1.1039608310326405},{"$f":"IF(ISERROR(('A6-FinPos'!H6+'A6-FinPos'!H7)/'A6-FinPos'!H34),0,(('A6-FinPos'!H6+'A6-FinPos'!H7)/'A6-FinPos'!H34))","v":1.1039608310326405},{"$f":"IF(ISERROR(('A6-FinPos'!I6+'A6-FinPos'!I7)/'A6-FinPos'!I34),0,(('A6-FinPos'!I6+'A6-FinPos'!I7)/'A6-FinPos'!I34))","v":7.1331748413512128E-2},{"$f":"IF(ISERROR(('A6-FinPos'!J6+'A6-FinPos'!J7)/'A6-FinPos'!J34),0,(('A6-FinPos'!J6+'A6-FinPos'!J7)/'A6-FinPos'!J34))","v":0.97583420444044366},{"$f":"IF(ISERROR(('A6-FinPos'!K6+'A6-FinPos'!K7)/'A6-FinPos'!K34),0,(('A6-FinPos'!K6+'A6-FinPos'!K7)/'A6-FinPos'!K34))","v":1.1513082330214284},{"$f":"IF(ISERROR(('A6-FinPos'!L6+'A6-FinPos'!L7)/'A6-FinPos'!L34),0,(('A6-FinPos'!L6+'A6-FinPos'!L7)/'A6-FinPos'!L34))","v":0.9810213176208975}]
["Revenue Management"]
["Annual Debtors Collection Rate (Payment Level %)","Last 12 Mths Receipts/Last 12 Mths Billing",null,{"$f":"IF(ISERROR(('A7-CFlow'!C6+'A7-CFlow'!C7+'A7-CFlow'!C22+'A7-CFlow'!C23)/SUM('A4-FinPerf RE'!C5:C10)),0,('A7-CFlow'!C6+'A7-CFlow'!C7+'A7-CFlow'!C22+'A7-CFlow'!C23)/(SUM('A4-FinPerf RE'!C5:C10)))","v":0},{"$f":"IF(ISERROR(('A7-CFlow'!D6+'A7-CFlow'!D7+'A7-CFlow'!D22+'A7-CFlow'!D23)/SUM('A4-FinPerf RE'!D5:D10)),0,('A7-CFlow'!D6+'A7-CFlow'!D7+'A7-CFlow'!D22+'A7-CFlow'!D23)/(SUM('A4-FinPerf RE'!D5:D10)))","v":0},{"$f":"IF(ISERROR(('A7-CFlow'!E6+'A7-CFlow'!E7+'A7-CFlow'!E22+'A7-CFlow'!E23)/SUM('A4-FinPerf RE'!E5:E10)),0,('A7-CFlow'!E6+'A7-CFlow'!E7+'A7-CFlow'!E22+'A7-CFlow'!E23)/(SUM('A4-FinPerf RE'!E5:E10)))","v":0.74470707304795247},{"$f":"IF(ISERROR(('A7-CFlow'!F6+'A7-CFlow'!F7+'A7-CFlow'!F22+'A7-CFlow'!F23)/SUM('A4-FinPerf RE'!F5:F10)),0,('A7-CFlow'!F6+'A7-CFlow'!F7+'A7-CFlow'!F22+'A7-CFlow'!F23)/(SUM('A4-FinPerf RE'!F5:F10)))","v":0.37745572468991645},{"$f":"IF(ISERROR(('A7-CFlow'!G6+'A7-CFlow'!G7+'A7-CFlow'!G22+'A7-CFlow'!G23)/SUM('A4-FinPerf RE'!G5:G10)),0,('A7-CFlow'!G6+'A7-CFlow'!G7+'A7-CFlow'!G22+'A7-CFlow'!G23)/(SUM('A4-FinPerf RE'!G5:G10)))","v":0.54930964866733201},{"$f":"IF(ISERROR(('A7-CFlow'!H6+'A7-CFlow'!H7+'A7-CFlow'!H22+'A7-CFlow'!H23)/SUM('A4-FinPerf RE'!H5:H10)),0,('A7-CFlow'!H6+'A7-CFlow'!H7+'A7-CFlow'!H22+'A7-CFlow'!H23)/(SUM('A4-FinPerf RE'!H5:H10)))","v":0.54930964866733201},{"$f":"IF(ISERROR(('A7-CFlow'!I6+'A7-CFlow'!I7+'A7-CFlow'!I22+'A7-CFlow'!I23)/SUM('A4-FinPerf RE'!I5:I10)),0,('A7-CFlow'!I6+'A7-CFlow'!I7+'A7-CFlow'!I22+'A7-CFlow'!I23)/(SUM('A4-FinPerf RE'!I5:I10)))","v":0.59238174956690204},{"$f":"IF(ISERROR(('A7-CFlow'!J6+'A7-CFlow'!J7+'A7-CFlow'!J22+'A7-CFlow'!J23)/SUM('A4-FinPerf RE'!J5:J10)),0,('A7-CFlow'!J6+'A7-CFlow'!J7+'A7-CFlow'!J22+'A7-CFlow'!J23)/(SUM('A4-FinPerf RE'!J5:J10)))","v":0.60000000579318258},{"$f":"IF(ISERROR(('A7-CFlow'!K6+'A7-CFlow'!K7+'A7-CFlow'!K22+'A7-CFlow'!K23)/SUM('A4-FinPerf RE'!K5:K10)),0,('A7-CFlow'!K6+'A7-CFlow'!K7+'A7-CFlow'!K22+'A7-CFlow'!K23)/(SUM('A4-FinPerf RE'!K5:K10)))","v":0.6}]
["Current Debtors Collection Rate (Cash receipts % of Ratepayer & Other revenue)",null,{"$f":"IF(ISERROR(('A7-CFlow'!C6+'A7-CFlow'!C7)/SUM('A4-FinPerf RE'!C5:C10)),0,(('A7-CFlow'!C6+'A7-CFlow'!C7)/SUM('A4-FinPerf RE'!C5:C10)))","v":0},{"$f":"IF(ISERROR(('A7-CFlow'!D6+'A7-CFlow'!D7)/SUM('A4-FinPerf RE'!D5:D10)),0,(('A7-CFlow'!D6+'A7-CFlow'!D7)/SUM('A4-FinPerf RE'!D5:D10)))","v":0},{"$f":"IF(ISERROR(('A7-CFlow'!E6+'A7-CFlow'!E7)/SUM('A4-FinPerf RE'!E5:E10)),0,(('A7-CFlow'!E6+'A7-CFlow'!E7)/SUM('A4-FinPerf RE'!E5:E10)))","v":0.74470707304795247},{"$f":"IF(ISERROR(('A7-CFlow'!F6+'A7-CFlow'!F7)/SUM('A4-FinPerf RE'!F5:F10)),0,(('A7-CFlow'!F6+'A7-CFlow'!F7)/SUM('A4-FinPerf RE'!F5:F10)))","v":0.37745572468991645},{"$f":"IF(ISERROR(('A7-CFlow'!G6+'A7-CFlow'!G7)/SUM('A4-FinPerf RE'!G5:G10)),0,(('A7-CFlow'!G6+'A7-CFlow'!G7)/SUM('A4-FinPerf RE'!G5:G10)))","v":0.54930964866733201},{"$f":"IF(ISERROR(('A7-CFlow'!H6+'A7-CFlow'!H7)/SUM('A4-FinPerf RE'!H5:H10)),0,(('A7-CFlow'!H6+'A7-CFlow'!H7)/SUM('A4-FinPerf RE'!H5:H10)))","v":0.54930964866733201},{"$f":"IF(ISERROR(('A7-CFlow'!I6+'A7-CFlow'!I7)/SUM('A4-FinPerf RE'!I5:I10)),0,(('A7-CFlow'!I6+'A7-CFlow'!I7)/SUM('A4-FinPerf RE'!I5:I10)))","v":0.59238174956690204},{"$f":"IF(ISERROR(('A7-CFlow'!J6+'A7-CFlow'!J7)/SUM('A4-FinPerf RE'!J5:J10)),0,(('A7-CFlow'!J6+'A7-CFlow'!J7)/SUM('A4-FinPerf RE'!J5:J10)))","v":0.60000000579318258},{"$f":"IF(ISERROR(('A7-CFlow'!K6+'A7-CFlow'!K7)/SUM('A4-FinPerf RE'!K5:K10)),0,(('A7-CFlow'!K6+'A7-CFlow'!K7)/SUM('A4-FinPerf RE'!K5:K10)))","v":0.6},{"$f":"IF(ISERROR(('A7-CFlow'!L6+'A7-CFlow'!L7)/SUM('A4-FinPerf RE'!L5:L10)),0,(('A7-CFlow'!L6+'A7-CFlow'!L7)/SUM('A4-FinPerf RE'!L5:L10)))","v":0.69004976987447364}]
["Outstanding Debtors to Revenue","Total Outstanding Debtors to Annual Revenue",{"$f":"IF(ISERROR(('A6-FinPos'!C8+'A6-FinPos'!C9+'A6-FinPos'!C10+'A6-FinPos'!C15)/'A4-FinPerf RE'!C21),0,(('A6-FinPos'!C8+'A6-FinPos'!C9+'A6-FinPos'!C10+'A6-FinPos'!C15)/'A4-FinPerf RE'!C21))","v":0.15779112131497333},{"$f":"IF(ISERROR(('A6-FinPos'!D8+'A6-FinPos'!D9+'A6-FinPos'!D10+'A6-FinPos'!D15)/'A4-FinPerf RE'!D21),0,(('A6-FinPos'!D8+'A6-FinPos'!D9+'A6-FinPos'!D10+'A6-FinPos'!D15)/'A4-FinPerf RE'!D21))","v":0.23846629931731098},{"$f":"IF(ISERROR(('A6-FinPos'!E8+'A6-FinPos'!E9+'A6-FinPos'!E10+'A6-FinPos'!E15)/'A4-FinPerf RE'!E21),0,(('A6-FinPos'!E8+'A6-FinPos'!E9+'A6-FinPos'!E10+'A6-FinPos'!E15)/'A4-FinPerf RE'!E21))","v":0.25567857642093783},{"$f":"IF(ISERROR(('A6-FinPos'!F8+'A6-FinPos'!F9+'A6-FinPos'!F10+'A6-FinPos'!F15)/'A4-FinPerf RE'!F21),0,(('A6-FinPos'!F8+'A6-FinPos'!F9+'A6-FinPos'!F10+'A6-FinPos'!F15)/'A4-FinPerf RE'!F21))","v":0.19148075198273973},{"$f":"IF(ISERROR(('A6-FinPos'!G8+'A6-FinPos'!G9+'A6-FinPos'!G10+'A6-FinPos'!G15)/'A4-FinPerf RE'!G21),0,(('A6-FinPos'!G8+'A6-FinPos'!G9+'A6-FinPos'!G10+'A6-FinPos'!G15)/'A4-FinPerf RE'!G21))","v":0.16730907381076363},{"$f":"IF(ISERROR(('A6-FinPos'!H8+'A6-FinPos'!H9+'A6-FinPos'!H10+'A6-FinPos'!H15)/'A4-FinPerf RE'!H21),0,(('A6-FinPos'!H8+'A6-FinPos'!H9+'A6-FinPos'!H10+'A6-FinPos'!H15)/'A4-FinPerf RE'!H21))","v":0.16730907381076363},{"$f":"IF(ISERROR(('A6-FinPos'!I8+'A6-FinPos'!I9+'A6-FinPos'!I10+'A6-FinPos'!I15)/'A4-FinPerf RE'!I21),0,(('A6-FinPos'!I8+'A6-FinPos'!I9+'A6-FinPos'!I10+'A6-FinPos'!I15)/'A4-FinPerf RE'!I21))","v":0.40612190173243295},{"$f":"IF(ISERROR(('A6-FinPos'!J8+'A6-FinPos'!J9+'A6-FinPos'!J10+'A6-FinPos'!J15)/'A4-FinPerf RE'!J21),0,(('A6-FinPos'!J8+'A6-FinPos'!J9+'A6-FinPos'!J10+'A6-FinPos'!J15)/'A4-FinPerf RE'!J21))","v":0.15174579157209361},{"$f":"IF(ISERROR(('A6-FinPos'!K8+'A6-FinPos'!K9+'A6-FinPos'!K10+'A6-FinPos'!K15)/'A4-FinPerf RE'!K21),0,(('A6-FinPos'!K8+'A6-FinPos'!K9+'A6-FinPos'!K10+'A6-FinPos'!K15)/'A4-FinPerf RE'!K21))","v":0.14172385362119075},{"$f":"IF(ISERROR(('A6-FinPos'!L8+'A6-FinPos'!L9+'A6-FinPos'!L10+'A6-FinPos'!L15)/'A4-FinPerf RE'!L21),0,(('A6-FinPos'!L8+'A6-FinPos'!L9+'A6-FinPos'!L10+'A6-FinPos'!L15)/'A4-FinPerf RE'!L21))","v":0.12126368088865738}]
["Longstanding Debtors Recovered","Debtors > 12 Mths Recovered/Total Debtors > 12 Months Old"]
["Creditors Management"]
["Creditors System Efficiency","% of Creditors Paid Within Terms (within`MFMA' s 65(e))"]
["Creditors to Cash and Investments",null,{"$f":"IF(ISERROR('SA3'!C130/'A7-CFlow'!C40),0,('SA3'!C130/'A7-CFlow'!C40))","v":5.2916960885102364},{"$f":"IF(ISERROR('SA3'!D130/'A7-CFlow'!D40),0,('SA3'!D130/'A7-CFlow'!D40))","v":-2.3724998364783398},{"$f":"IF(ISERROR('SA3'!E130/'A7-CFlow'!E40),0,('SA3'!E130/'A7-CFlow'!E40))","v":-0.71199677235492576},{"$f":"IF(ISERROR('SA3'!F130/'A7-CFlow'!F40),0,('SA3'!F130/'A7-CFlow'!F40))","v":0.20826364052885055},{"$f":"IF(ISERROR('SA3'!G130/'A7-CFlow'!G40),0,('SA3'!G130/'A7-CFlow'!G40))","v":0.17277930184422374},{"$f":"IF(ISERROR('SA3'!H130/'A7-CFlow'!H40),0,('SA3'!H130/'A7-CFlow'!H40))","v":0.17277930184422374},{"$f":"IF(ISERROR('SA3'!I130/'A7-CFlow'!I40),0,('SA3'!I130/'A7-CFlow'!I40))","v":-0.33208052750642109},{"$f":"IF(ISERROR('SA3'!J130/'A7-CFlow'!J40),0,('SA3'!J130/'A7-CFlow'!J40))","v":0.90751591813043786},{"$f":"IF(ISERROR('SA3'!K130/'A7-CFlow'!K40),0,('SA3'!K130/'A7-CFlow'!K40))","v":0.74419982669087603},{"$f":"IF(ISERROR('SA3'!L130/'A7-CFlow'!L40),0,('SA3'!L130/'A7-CFlow'!L40))","v":0.87778280755132554}]
[]
["Other Indicators"]
["Electricity Distribution Losses (2)","Total Volume Losses (kW)",0,0,0,0,0,0,0,0,0,0]
[null,"Total Cost of Losses (Rand '000)",0,0,0,0,0,0,0,0,0,0]
[null,"% Volume (units purchased and generated less units sold)/units purchased and generated",0,0,0,0,0,0,0,0,0,0]
["Water Distribution Losses (2)","Total Volume Losses (kℓ)",0,0,0,0,0,0,0,0,0,0]
[null,"Total Cost of Losses (Rand '000)",0,0,0,0,0,0,0,0,0,0]
[null,"% Volume (units purchased and generated less units sold)/units purchased and generated",0,0,0,0,0,0,0,0,0,0]
["Employee costs","Employee costs/(Total Revenue - capital revenue)",{"$f":"IF(ISERROR('A4-FinPerf RE'!C24/'A4-FinPerf RE'!C21),0,('A4-FinPerf RE'!C24/'A4-FinPerf RE'!C21))","v":0.28275159450771747},{"$f":"IF(ISERROR('A4-FinPerf RE'!D24/'A4-FinPerf RE'!D21),0,('A4-FinPerf RE'!D24/'A4-FinPerf RE'!D21))","v":0.40223181597261864},{"$f":"IF(ISERROR('A4-FinPerf RE'!E24/'A4-FinPerf RE'!E21),0,('A4-FinPerf RE'!E24/'A4-FinPerf RE'!E21))","v":0.32509116618565698},{"$f":"IF(ISERROR('A4-FinPerf RE'!F24/'A4-FinPerf RE'!F21),0,('A4-FinPerf RE'!F24/'A4-FinPerf RE'!F21))","v":0.38913617741546386},{"$f":"IF(ISERROR('A4-FinPerf RE'!G24/'A4-FinPerf RE'!G21),0,('A4-FinPerf RE'!G24/'A4-FinPerf RE'!G21))","v":0.36121888130481489},{"$f":"IF(ISERROR('A4-FinPerf RE'!H24/'A4-FinPerf RE'!H21),0,('A4-FinPerf RE'!H24/'A4-FinPerf RE'!H21))","v":0.36121888130481489},{"$f":"IF(ISERROR('A4-FinPerf RE'!I24/'A4-FinPerf RE'!I21),0,('A4-FinPerf RE'!I24/'A4-FinPerf RE'!I21))","v":0.3657250724150562},{"$f":"IF(ISERROR('A4-FinPerf RE'!J24/'A4-FinPerf RE'!J21),0,('A4-FinPerf RE'!J24/'A4-FinPerf RE'!J21))","v":0.37323141770172341},{"$f":"IF(ISERROR('A4-FinPerf RE'!K24/'A4-FinPerf RE'!K21),0,('A4-FinPerf RE'!K24/'A4-FinPerf RE'!K21))","v":0.35275497326379207},{"$f":"IF(ISERROR('A4-FinPerf RE'!L24/'A4-FinPerf RE'!L21),0,('A4-FinPerf RE'!L24/'A4-FinPerf RE'!L21))","v":0.34287356115316092}]
["Remuneration","Total remuneration/(Total Revenue - capital revenue)",{"$f":"IF(ISERROR('SA22'!C102/'A4-FinPerf RE'!C21),0,('SA22'!C102/'A4-FinPerf RE'!C21))","v":0.2940134256297835},{"$f":"IF(ISERROR('SA22'!D102/'A4-FinPerf RE'!D21),0,('SA22'!D102/'A4-FinPerf RE'!D21))","v":0.4153799122606267},{"$f":"IF(ISERROR('SA22'!E102/'A4-FinPerf RE'!E21),0,('SA22'!E102/'A4-FinPerf RE'!E21))","v":0.33167294664966768},{"$f":"IF(ISERROR('SA22'!F102/'A4-FinPerf RE'!F21),0,('SA22'!F102/'A4-FinPerf RE'!F21))","v":0.39961086293043885},{"$f":"IF(ISERROR('SA22'!G102/'A4-FinPerf RE'!G21),0,('SA22'!G102/'A4-FinPerf RE'!G21))","v":0.37683219732551976},{"$f":"IF(ISERROR('SA22'!H102/'A4-FinPerf RE'!H21),0,('SA22'!H102/'A4-FinPerf RE'!H21))","v":0.37683219732551976},null,{"$f":"IF(ISERROR('SA22'!I102/'A4-FinPerf RE'!J21),0,('SA22'!I102/'A4-FinPerf RE'!J21))","v":0.38819719270141839},{"$f":"IF(ISERROR('SA22'!J102/'A4-FinPerf RE'!K21),0,('SA22'!J102/'A4-FinPerf RE'!K21))","v":0.36755660933638795},{"$f":"IF(ISERROR('SA22'!K102/'A4-FinPerf RE'!L21),0,('SA22'!K102/'A4-FinPerf RE'!L21))","v":0.35711810827997231}]
["Repairs & Maintenance","R&M/(Total Revenue excluding capital revenue)",{"$f":"IF(ISERROR('A9-Asset'!C169/'A4-FinPerf RE'!C21),0,('A9-Asset'!C169/'A4-FinPerf RE'!C21))","v":9.0386521400301428E-2},{"$f":"IF(ISERROR('A9-Asset'!D169/'A4-FinPerf RE'!D21),0,('A9-Asset'!D169/'A4-FinPerf RE'!D21))","v":0.10106709523564364},{"$f":"IF(ISERROR('A9-Asset'!E169/'A4-FinPerf RE'!E21),0,('A9-Asset'!E169/'A4-FinPerf RE'!E21))","v":7.598126415764106E-2},{"$f":"IF(ISERROR('A9-Asset'!F169/'A4-FinPerf RE'!F21),0,('A9-Asset'!F169/'A4-FinPerf RE'!F21))","v":0.11695266092552901},{"$f":"IF(ISERROR('A9-Asset'!G169/'A4-FinPerf RE'!G21),0,('A9-Asset'!G169/'A4-FinPerf RE'!G21))","v":0.14906683130257425},{"$f":"IF(ISERROR('A9-Asset'!H169/'A4-FinPerf RE'!H21),0,('A9-Asset'!H169/'A4-FinPerf RE'!H21))","v":0.14906683130257425},null,{"$f":"IF(ISERROR('A9-Asset'!I169/'A4-FinPerf RE'!J21),0,('A9-Asset'!I169/'A4-FinPerf RE'!J21))","v":9.9965417824095668E-2},{"$f":"IF(ISERROR('A9-Asset'!J169/'A4-FinPerf RE'!K21),0,('A9-Asset'!J169/'A4-FinPerf RE'!K21))","v":9.2023051326927396E-2},{"$f":"IF(ISERROR('A9-Asset'!K169/'A4-FinPerf RE'!L21),0,('A9-Asset'!K169/'A4-FinPerf RE'!L21))","v":8.758245677320918E-2}]
["Finance charges & Depreciation","FC&D/(Total Revenue - capital revenue)",{"$f":"IF(ISERROR(('A4-FinPerf RE'!C28+'A4-FinPerf RE'!C27)/'A4-FinPerf RE'!C21),0,(('A4-FinPerf RE'!C28+'A4-FinPerf RE'!C27)/'A4-FinPerf RE'!C21))","v":7.68241945109088E-2},{"$f":"IF(ISERROR(('A4-FinPerf RE'!D28+'A4-FinPerf RE'!D27)/'A4-FinPerf RE'!D21),0,(('A4-FinPerf RE'!D28+'A4-FinPerf RE'!D27)/'A4-FinPerf RE'!D21))","v":0.12439763589331161},{"$f":"IF(ISERROR(('A4-FinPerf RE'!E28+'A4-FinPerf RE'!E27)/'A4-FinPerf RE'!E21),0,(('A4-FinPerf RE'!E28+'A4-FinPerf RE'!E27)/'A4-FinPerf RE'!E21))","v":7.4220359210079148E-2},{"$f":"IF(ISERROR(('A4-FinPerf RE'!F28+'A4-FinPerf RE'!F27)/'A4-FinPerf RE'!F21),0,(('A4-FinPerf RE'!F28+'A4-FinPerf RE'!F27)/'A4-FinPerf RE'!F21))","v":9.2542472494624314E-2},{"$f":"IF(ISERROR(('A4-FinPerf RE'!G28+'A4-FinPerf RE'!G27)/'A4-FinPerf RE'!G21),0,(('A4-FinPerf RE'!G28+'A4-FinPerf RE'!G27)/'A4-FinPerf RE'!G21))","v":8.8726961028013834E-2},{"$f":"IF(ISERROR(('A4-FinPerf RE'!H28+'A4-FinPerf RE'!H27)/'A4-FinPerf RE'!H21),0,(('A4-FinPerf RE'!H28+'A4-FinPerf RE'!H27)/'A4-FinPerf RE'!H21))","v":8.8726961028013834E-2},{"$f":"IF(ISERROR(('A4-FinPerf RE'!I28+'A4-FinPerf RE'!I27)/'A4-FinPerf RE'!I21),0,(('A4-FinPerf RE'!I28+'A4-FinPerf RE'!I27)/'A4-FinPerf RE'!I21))","v":0},{"$f":"IF(ISERROR(('A4-FinPerf RE'!J28+'A4-FinPerf RE'!J27)/'A4-FinPerf RE'!J21),0,(('A4-FinPerf RE'!J28+'A4-FinPerf RE'!J27)/'A4-FinPerf RE'!J21))","v":8.7245094638755058E-2},{"$f":"IF(ISERROR(('A4-FinPerf RE'!K28+'A4-FinPerf RE'!K27)/'A4-FinPerf RE'!K21),0,(('A4-FinPerf RE'!K28+'A4-FinPerf RE'!K27)/'A4-FinPerf RE'!K21))","v":8.6352495657518513E-2},{"$f":"IF(ISERROR(('A4-FinPerf RE'!L28+'A4-FinPerf RE'!L27)/'A4-FinPerf RE'!L21),0,(('A4-FinPerf RE'!L28+'A4-FinPerf RE'!L27)/'A4-FinPerf RE'!L21))","v":9.0686075766461358E-2}]
["IDP regulation financial viability indicators"]
["i. Debt coverage","(Total Operating Revenue - Operating Grants)/Debt service payments due within financial year)",{"$f":"IF(ISERROR(('A4-FinPerf RE'!C21-'A4-FinPerf RE'!C18)/('A7-CFlow'!D11-'A7-CFlow'!D35)),0,(('A4-FinPerf RE'!C21-'A4-FinPerf RE'!C18)/('A7-CFlow'!D11-'A7-CFlow'!D35)))","v":0},{"$f":"IF(ISERROR(('A4-FinPerf RE'!D21-'A4-FinPerf RE'!D18)/('A7-CFlow'!E11-'A7-CFlow'!E35)),0,(('A4-FinPerf RE'!D21-'A4-FinPerf RE'!D18)/('A7-CFlow'!E11-'A7-CFlow'!E35)))","v":0},{"$f":"IF(ISERROR(('A4-FinPerf RE'!E21-'A4-FinPerf RE'!E18)/('A7-CFlow'!F11-'A7-CFlow'!F35)),0,(('A4-FinPerf RE'!E21-'A4-FinPerf RE'!E18)/('A7-CFlow'!F11-'A7-CFlow'!F35)))","v":10.299422917861143},{"$f":"IF(ISERROR(('A4-FinPerf RE'!F21-'A4-FinPerf RE'!F18)/('A7-CFlow'!G11-'A7-CFlow'!G35)),0,(('A4-FinPerf RE'!F21-'A4-FinPerf RE'!F18)/('A7-CFlow'!G11-'A7-CFlow'!G35)))","v":6.0939601441767888},{"$f":"F37","v":6.0939601441767888},{"$f":"G37","v":6.0939601441767888},{"$f":"IF(ISERROR(('A4-FinPerf RE'!I21-'A4-FinPerf RE'!I18)/('A7-CFlow'!J11-'A7-CFlow'!J35)),0,(('A4-FinPerf RE'!I21-'A4-FinPerf RE'!I18)/('A7-CFlow'!J11-'A7-CFlow'!J35)))","v":5.4058802190494193},{"$f":"IF(ISERROR(('A4-FinPerf RE'!J21-'A4-FinPerf RE'!J18)/('A7-CFlow'!K11-'A7-CFlow'!K35)),0,(('A4-FinPerf RE'!J21-'A4-FinPerf RE'!J18)/('A7-CFlow'!K11-'A7-CFlow'!K35)))","v":6.3286283227207276},{"$f":"IF(ISERROR(('A4-FinPerf RE'!K21-'A4-FinPerf RE'!K18)/('A7-CFlow'!L11-'A7-CFlow'!L35)),0,(('A4-FinPerf RE'!K21-'A4-FinPerf RE'!K18)/('A7-CFlow'!L11-'A7-CFlow'!L35)))","v":6.353409146356765},{"$f":"IF(ISERROR(('A4-FinPerf RE'!L21-'A4-FinPerf RE'!L18)/('A7-CFlow'!L11-'A7-CFlow'!L35)),0,(('A4-FinPerf RE'!L21-'A4-FinPerf RE'!L18)/('A7-CFlow'!L11-'A7-CFlow'!L35)))","v":6.6662949777733598}]
["ii.O/S Service Debtors to Revenue","Total outstanding service debtors/annual revenue received for services",{"$f":"IF(ISERROR(('A6-FinPos'!C8+'A6-FinPos'!C9+'A6-FinPos'!C10)/SUM('A4-FinPerf RE'!C5:C11)),0,(('A6-FinPos'!C8+'A6-FinPos'!C9+'A6-FinPos'!C10)/SUM('A4-FinPerf RE'!C5:C11)))","v":2.4187433177079702},{"$f":"IF(ISERROR(('A6-FinPos'!D8+'A6-FinPos'!D9+'A6-FinPos'!D10)/SUM('A4-FinPerf RE'!D5:D11)),0,(('A6-FinPos'!D8+'A6-FinPos'!D9+'A6-FinPos'!D10)/SUM('A4-FinPerf RE'!D5:D11)))","v":2.4705668852731399},{"$f":"IF(ISERROR(('A6-FinPos'!E8+'A6-FinPos'!E9+'A6-FinPos'!E10)/SUM('A4-FinPerf RE'!E5:E11)),0,(('A6-FinPos'!E8+'A6-FinPos'!E9+'A6-FinPos'!E10)/SUM('A4-FinPerf RE'!E5:E11)))","v":3.8077919328123477},{"$f":"IF(ISERROR(('A6-FinPos'!F8+'A6-FinPos'!F9+'A6-FinPos'!F10)/SUM('A4-FinPerf RE'!F5:F11)),0,(('A6-FinPos'!F8+'A6-FinPos'!F9+'A6-FinPos'!F10)/SUM('A4-FinPerf RE'!F5:F11)))","v":2.2233596638131052},{"$f":"IF(ISERROR(('A6-FinPos'!G8+'A6-FinPos'!G9+'A6-FinPos'!G10)/SUM('A4-FinPerf RE'!G5:G11)),0,(('A6-FinPos'!G8+'A6-FinPos'!G9+'A6-FinPos'!G10)/SUM('A4-FinPerf RE'!G5:G11)))","v":1.9698915760844522},{"$f":"IF(ISERROR(('A6-FinPos'!H8+'A6-FinPos'!H9+'A6-FinPos'!H10)/SUM('A4-FinPerf RE'!H5:H11)),0,(('A6-FinPos'!H8+'A6-FinPos'!H9+'A6-FinPos'!H10)/SUM('A4-FinPerf RE'!H5:H11)))","v":1.9698915760844522},{"$f":"IF(ISERROR(('A6-FinPos'!I8+'A6-FinPos'!I9+'A6-FinPos'!I10)/SUM('A4-FinPerf RE'!I5:I11)),0,(('A6-FinPos'!I8+'A6-FinPos'!I9+'A6-FinPos'!I10)/SUM('A4-FinPerf RE'!I5:I11)))","v":4.8671949564734973},{"$f":"IF(ISERROR(('A6-FinPos'!J8+'A6-FinPos'!J9+'A6-FinPos'!J10)/SUM('A4-FinPerf RE'!J5:J11)),0,(('A6-FinPos'!J8+'A6-FinPos'!J9+'A6-FinPos'!J10)/SUM('A4-FinPerf RE'!J5:J11)))","v":1.8035273510728693},{"$f":"IF(ISERROR(('A6-FinPos'!K8+'A6-FinPos'!K9+'A6-FinPos'!K10)/SUM('A4-FinPerf RE'!K5:K11)),0,(('A6-FinPos'!K8+'A6-FinPos'!K9+'A6-FinPos'!K10)/SUM('A4-FinPerf RE'!K5:K11)))","v":1.693361753031754},{"$f":"IF(ISERROR(('A6-FinPos'!L8+'A6-FinPos'!L9+'A6-FinPos'!L10)/SUM('A4-FinPerf RE'!L5:L11)),0,(('A6-FinPos'!L8+'A6-FinPos'!L9+'A6-FinPos'!L10)/SUM('A4-FinPerf RE'!L5:L11)))","v":1.4983923415020739}]
["iii. Cost coverage","(Available cash + Investments)/monthly fixed operational expenditure",{"$f":"IF(ISERROR('A7-CFlow'!C40/'SA8'!C46),0,('A7-CFlow'!C40/'SA8'!C46))","v":1.2872434122274532},{"$f":"IF(ISERROR('A7-CFlow'!D40/'SA8'!D46),0,('A7-CFlow'!D40/'SA8'!D46))","v":-2.9889487309883553},{"$f":"IF(ISERROR('A7-CFlow'!E40/'SA8'!E46),0,('A7-CFlow'!E40/'SA8'!E46))","v":-15.604199224387795},{"$f":"IF(ISERROR('A7-CFlow'!F40/'SA8'!F46),0,('A7-CFlow'!F40/'SA8'!F46))","v":14.410233737399412},{"$f":"IF(ISERROR('A7-CFlow'!G40/'SA8'!G46),0,('A7-CFlow'!G40/'SA8'!G46))","v":21.220111106179342},{"$f":"IF(ISERROR('A7-CFlow'!H40/'SA8'!H46),0,('A7-CFlow'!H40/'SA8'!H46))","v":21.220111106179342},{"$f":"IF(ISERROR('A7-CFlow'!I40/'SA8'!I46),0,('A7-CFlow'!I40/'SA8'!I46))","v":-23.831032538271266},{"$f":"IF(ISERROR('A7-CFlow'!J40/'SA8'!J46),0,('A7-CFlow'!J40/'SA8'!J46))","v":3.826532581043053},{"$f":"IF(ISERROR('A7-CFlow'!K40/'SA8'!K46),0,('A7-CFlow'!K40/'SA8'!K46))","v":4.4854513591104661},{"$f":"IF(ISERROR('A7-CFlow'!L40/'SA8'!L46),0,('A7-CFlow'!L40/'SA8'!L46))","v":5.2897404443527662}]
[{"$f":"head27a","v":"References"}]
["1. Consumer debtors > 12 months old are excluded from current assets"]
["2. Only include if services provided by the municipality"]
[]
["Calculation data"]
["Debtors > 90 days"]
["Monthly fixed operational expenditure",null,{"$f":"(('A4-FinPerf RE'!C24+'A4-FinPerf RE'!C25+'A4-FinPerf RE'!C26+'A4-FinPerf RE'!C28+'A4-FinPerf RE'!C29+'A4-FinPerf RE'!C31+'SA1'!C91+'A7-CFlow'!C35)+(('A4-FinPerf RE'!C30+'A4-FinPerf RE'!C33)*'SA8'!C47))/12","v":56639029.329999991},{"$f":"(('A4-FinPerf RE'!D24+'A4-FinPerf RE'!D25+'A4-FinPerf RE'!D26+'A4-FinPerf RE'!D28+'A4-FinPerf RE'!D29+'A4-FinPerf RE'!D31+'SA1'!D91+'A7-CFlow'!D35)+(('A4-FinPerf RE'!D30+'A4-FinPerf RE'!D33)*'SA8'!D47))/12","v":55257627.957166664},{"$f":"(('A4-FinPerf RE'!E24+'A4-FinPerf RE'!E25+'A4-FinPerf RE'!E26+'A4-FinPerf RE'!E28+'A4-FinPerf RE'!E29+'A4-FinPerf RE'!E31+'SA1'!E91+'A7-CFlow'!E35)+(('A4-FinPerf RE'!E30+'A4-FinPerf RE'!E33)*'SA8'!E47))/12","v":55919172.569666676},{"$f":"(('A4-FinPerf RE'!F24+'A4-FinPerf RE'!F25+'A4-FinPerf RE'!F26+'A4-FinPerf RE'!F28+'A4-FinPerf RE'!F29+'A4-FinPerf RE'!F31+'SA1'!F91+'A7-CFlow'!F35)+(('A4-FinPerf RE'!F30+'A4-FinPerf RE'!F33)*'SA8'!F47))/12","v":66641615.216666669},{"$f":"(('A4-FinPerf RE'!G24+'A4-FinPerf RE'!G25+'A4-FinPerf RE'!G26+'A4-FinPerf RE'!G28+'A4-FinPerf RE'!G29+'A4-FinPerf RE'!G31+'SA1'!G91+'A7-CFlow'!G35)+(('A4-FinPerf RE'!G30+'A4-FinPerf RE'!G33)*'SA8'!G47))/12","v":70096914.316666663},{"$f":"(('A4-FinPerf RE'!H24+'A4-FinPerf RE'!H25+'A4-FinPerf RE'!H26+'A4-FinPerf RE'!H28+'A4-FinPerf RE'!H29+'A4-FinPerf RE'!H31+'SA1'!H91+'A7-CFlow'!H35)+(('A4-FinPerf RE'!H30+'A4-FinPerf RE'!H33)*'SA8'!H47))/12","v":70096914.316666663},{"$f":"(('A4-FinPerf RE'!I24+'A4-FinPerf RE'!I25+'A4-FinPerf RE'!I26+'A4-FinPerf RE'!I28+'A4-FinPerf RE'!I29+'A4-FinPerf RE'!I31+'SA1'!I91+'A7-CFlow'!I35)+(('A4-FinPerf RE'!I30+'A4-FinPerf RE'!I33)*'SA8'!I47))/12","v":48510047.343666673},{"$f":"(('A4-FinPerf RE'!J24+'A4-FinPerf RE'!J25+'A4-FinPerf RE'!J26+'A4-FinPerf RE'!J28+'A4-FinPerf RE'!J29+'A4-FinPerf RE'!J31+'SA1'!J91+'A7-CFlow'!J35)+(('A4-FinPerf RE'!J30+'A4-FinPerf RE'!J33)*'SA8'!J47))/12","v":73226585.966666669},{"$f":"(('A4-FinPerf RE'!K24+'A4-FinPerf RE'!K25+'A4-FinPerf RE'!K26+'A4-FinPerf RE'!K28+'A4-FinPerf RE'!K29+'A4-FinPerf RE'!K31+'SA1'!K91+'A7-CFlow'!K35)+(('A4-FinPerf RE'!K30+'A4-FinPerf RE'!K33)*'SA8'!K47))/12","v":78619740.75},{"$f":"(('A4-FinPerf RE'!L24+'A4-FinPerf RE'!L25+'A4-FinPerf RE'!L26+'A4-FinPerf RE'!L28+'A4-FinPerf RE'!L29+'A4-FinPerf RE'!L31+'SA1'!L91+'A7-CFlow'!L35)+(('A4-FinPerf RE'!L30+'A4-FinPerf RE'!L33)*'SA8'!L47))/12","v":85006095.61666666}]
["Fixed operational expenditure % assumption",null,0.4,{"$f":"$C$47","v":0.4},{"$f":"$C$47","v":0.4},0.4,0.4,0.4,0.4,0.4,0.4,0.4]
["Own capex",null,{"$f":"'A5-Capex'!C40-'A5-Capex'!C70-'A5-Capex'!C71","v":8389302.939999938},{"$f":"'A5-Capex'!D40-'A5-Capex'!D70-'A5-Capex'!D71","v":3319703.0900000334},{"$f":"'A5-Capex'!E40-'A5-Capex'!E70-'A5-Capex'!E71","v":29210026.829999983},{"$f":"'A5-Capex'!F40-'A5-Capex'!F70-'A5-Capex'!F71","v":8100000},{"$f":"'A5-Capex'!G40-'A5-Capex'!G70-'A5-Capex'!G71","v":17780000},{"$f":"'A5-Capex'!H40-'A5-Capex'!H70-'A5-Capex'!H71","v":17780000},{"$f":"'A5-Capex'!I40-'A5-Capex'!I70-'A5-Capex'!I71","v":8149064.6800000072},{"$f":"'A5-Capex'!J40-'A5-Capex'!J70-'A5-Capex'!J71","v":20130000},{"$f":"'A5-Capex'!K40-'A5-Capex'!K70-'A5-Capex'!K71","v":10031520},{"$f":"'A5-Capex'!L40-'A5-Capex'!L70-'A5-Capex'!L71","v":8269239}]
["Borrowing",null,{"$f":"'A7-CFlow'!C31+'A7-CFlow'!C32","v":0},{"$f":"'A7-CFlow'!D31+'A7-CFlow'!D32","v":0},{"$f":"'A7-CFlow'!E31+'A7-CFlow'!E32","v":0},{"$f":"'A7-CFlow'!F31+'A7-CFlow'!F32","v":0},{"$f":"'A7-CFlow'!G31+'A7-CFlow'!G32","v":0},{"$f":"'A7-CFlow'!H31+'A7-CFlow'!H32","v":0},{"$f":"'A7-CFlow'!I31+'A7-CFlow'!I32","v":0},{"$f":"'A7-CFlow'!J31+'A7-CFlow'!J32","v":0},{"$f":"'A7-CFlow'!K31+'A7-CFlow'!K32","v":0},{"$f":"'A7-CFlow'!L31+'A7-CFlow'!L32","v":0}]

{"sheet":"SA9","index":28,"n_rows":310,"n_cols":13,"rows_kept":310,"cut":false,"hidden":false,"merged":[[246,7,246,9],[246,10,246,12],[246,0,247,0],[154,0,155,0],[154,7,154,9],[200,7,200,9],[200,10,200,12],[154,10,154,12],[200,0,201,0],[108,10,108,12],[1,5,2,5],[62,7,62,9],[62,10,62,12],[108,0,109,0],[108,7,108,9],[1,0,2,0],[62,0,63,0],[1,3,2,3],[1,4,2,4],[1,10,1,12],[1,1,2,1],[1,2,2,2]]}
[{"$f":"muni&\" - \"&TableA9","v":"DC47 Sekhukhune - Supporting Table SA9 Social, economic and demographic statistics and assumptions"}]
["Description of economic indicator","Ref.","Basis of calculation",{"$f":"Head44","v":"2001 Census"},"2007 Survey",{"$f":"Head45","v":"2011 Census"},{"$f":"head1b","v":"2018/19"},{"$f":"head1A","v":"2019/20"},{"$f":"Head1","v":"2020/21"},{"$f":"Head2","v":"Current Year 2021/22"},{"$f":"Head3","v":"2022/23 Medium Term Revenue & Expenditure Framework"}]
[null,null,null,null,null,null,{"$f":"Head5A","v":"Outcome"},"Outcome","Outcome",{"$f":"Head6","v":"Original Budget"},"Outcome","Outcome","Outcome"]
["Demographics"]
["Population"]
["Females aged 5 - 14"]
["Males aged 5 - 14"]
["Females aged 15 - 34"]
["Males aged 15 - 34"]
["Unemployment"]
[]
["Monthly household income (no. of households)","1, 12"]
["No income"]
["R1 - R1 600"]
["R1 601 - R3 200"]
["R3 201 - R6 400"]
["R6 401 - R12 800"]
["R12 801 - R25 600"]
["R25 601 - R51 200"]
["R52 201 - R102 400"]
["R102 401 - R204 800"]
["R204 801 - R409 600"]
["R409 601 - R819 200"]
[" > R819 200"]
[]
[]
["Poverty profiles (no. of households)"]
["< R2 060 per household per month",13]
["Insert description",2]
[]
["Household/demographics (000)"]
["Number of people in municipal area"]
["Number of poor people in municipal area"]
["Number of households in municipal area"]
["Number of poor households in municipal area"]
["Definition of poor household (R per month)"]
[]
["Housing statistics",3]
["Formal"]
["Informal"]
["Total number of households",null,null,{"$f":"SUM(D39:D40)","v":0},{"$f":"SUM(E39:E40)","v":0},0,0,0,0,0,0,0,0]
["Dwellings provided by municipality",4]
["Dwellings provided by province/s"]
["Dwellings provided by private sector",5]
["Total new housing dwellings",null,null,{"$f":"SUM(D42:D44)","v":0},{"$f":"SUM(E42:E44)","v":0},0,0,0,0,0,0,0,0]
[]
["Economic",6]
["Inflation/inflation outlook (CPIX)"]
["Interest rate - borrowing"]
["Interest rate - investment"]
["Remuneration increases"]
["Consumption growth (electricity)"]
["Consumption growth (water)"]
[]
["Collection rates",7]
["Property tax/service charges"]
["Rental of facilities & equipment"]
["Interest - external investments"]
["Interest - debtors"]
["Revenue from agency services"]
[]
["Detail on the provision of municipal services for A10"]
["Total municipal services",null,null,null,{"$f":"head1b","v":"2018/19"},{"$f":"head1A","v":"2019/20"},{"$f":"Head1","v":"2020/21"},{"$f":"Head2","v":"Current Year 2021/22"},null,null,{"$f":"Head3","v":"2022/23 Medium Term Revenue & Expenditure Framework"}]
[null,"Ref.",null,null,{"$f":"Head5A","v":"Outcome"},{"$f":"Head5A","v":"Outcome"},{"$f":"Head5A","v":"Outcome"},{"$f":"Head6","v":"Original Budget"},{"$f":"Head7","v":"Adjusted Budget"},{"$f":"Head8","v":"Full Year Forecast"},{"$f":"Head9","v":"Budget Year 2022/23"},{"$f":"Head10","v":"Budget Year +1 2023/24"},{"$f":"Head11","v":"Budget Year +2 2024/25"}]
[null,null,"Household service targets (000)"]
[null,null,"Water:"]
[null,null,"Piped water inside dwelling",null,{"$f":"E113+E159+E205","v":0},{"$f":"F113+F159+F205","v":0},0,0,0,0,15000,20000,0]
[null,null,"Piped water inside yard (but not in dwelling)",null,{"$f":"E114+E160+E206","v":0},0,0,0,0,0,10000,15000,0]
[null,8,"Using public tap (at least min.service level)",null,0,0,0,0,457276,457276,457276,469235,500880]
[null,10,"Other water supply (at least min.service level)",null,0,0,0,0,98722,98722,98722,119597,146028]
[null,null,"Minimum Service Level and Above sub-total",null,{"$f":"SUM(E67:E70)","v":0},{"$f":"SUM(F67:F70)","v":0},0,0,555998,555998,580998,623832,646908]
[null,9,"Using public tap (< min.service level)",null,{"$f":"E118+E164+E210","v":0},0,0,0,0,0,0,0,0]
[null,10,"Other water supply (< min.service level)",null,0,0,0,0,0,0,25000,10000,0]
[null,null,"No water supply",null,0,0,0,0,0,0,25000,5000,0]
[null,null,"Below Minimum Service Level sub-total",null,{"$f":"SUM(E72:E74)","v":0},{"$f":"SUM(F72:F74)","v":0},0,0,0,0,50000,15000,0]
[null,null,"Total number of households",null,{"$f":"E71+E75","v":0},{"$f":"F71+F75","v":0},0,0,555998,555998,630998,638832,646908]
[null,null,"Sanitation/sewerage:"]
[null,null,"Flush toilet (connected to sewerage)",null,{"$f":"E124+E170+E216","v":0},0,0,0,0,0,0,0,0]
[null,null,"Flush toilet (with septic tank)",null,{"$f":"E125+E171+E217","v":0},0,0,0,0,0,10000,15000,20000]
[null,null,"Chemical toilet",null,{"$f":"E126+E172+E218","v":0},0,0,0,0,0,0,0,0]
[null,null,"Pit toilet (ventilated)",null,{"$f":"E127+E173+E219","v":0},0,0,0,48000,48000,48000,48000,0]
[null,null,"Other toilet provisions (> min.service level)",null,{"$f":"E128+E174+E220","v":0},0,0,0,0,0,0,0,0]
[null,null,"Minimum Service Level and Above sub-total",null,{"$f":"SUM(E78:E82)","v":0},{"$f":"SUM(F78:F82)","v":0},0,0,48000,48000,58000,63000,20000]
[null,null,"Bucket toilet",null,{"$f":"E130+E176+E222","v":0},0,0,0,0,0,0,0,0]
[null,null,"Other toilet provisions (< min.service level)",null,{"$f":"E131+E177+E223","v":0},0,0,0,0,0,5000,10000,15000]
[null,null,"No toilet provisions",null,{"$f":"E132+E178+E224","v":0},0,0,0,0,0,0,0,0]
[null,null,"Below Minimum Service Level sub-total",null,{"$f":"SUM(E84:E86)","v":0},{"$f":"SUM(F84:F86)","v":0},0,0,0,0,5000,10000,15000]
[null,null,"Total number of households",null,{"$f":"E83+E87","v":0},{"$f":"F83+F87","v":0},0,0,48000,48000,63000,73000,35000]
[null,null,"Energy:"]
[null,null,"Electricity (at least min.service level)",null,{"$f":"E136+E182+E228","v":0},0,0,0,0,0,0,0,0]
[null,null,"Electricity - prepaid (min.service level)",null,{"$f":"E137+E183+E229","v":0},0,0,0,0,0,0,0,0]
[null,null,"Minimum Service Level and Above sub-total",null,{"$f":"SUM(E90:E91)","v":0},{"$f":"SUM(F90:F91)","v":0},0,0,0,0,0,0,0]
[null,null,"Electricity (< min.service level)",null,{"$f":"E139+E185+E231","v":0},0,0,0,0,0,0,0,0]
[null,null,"Electricity - prepaid (< min. service level)",null,{"$f":"E140+E186+E232","v":0},0,0,0,0,0,0,0,0]
[null,null,"Other energy sources",null,{"$f":"E141+E187+E233","v":0},0,0,0,0,0,0,0,0]
[null,null,"Below Minimum Service Level sub-total",null,{"$f":"SUM(E93:E95)","v":0},{"$f":"SUM(F93:F95)","v":0},0,0,0,0,0,0,0]
[null,null,"Total number of households",null,{"$f":"E92+E96","v":0},{"$f":"F92+F96","v":0},0,0,0,0,0,0,0]
[null,null,"Refuse:"]
[null,null,"Removed at least once a week",null,{"$f":"E145+E191+E237","v":0},0,0,0,0,0,0,0,0]
[null,null,"Minimum Service Level and Above sub-total",null,{"$f":"SUM(E99)","v":0},{"$f":"SUM(F99)","v":0},0,0,0,0,0,0,0]
[null,null,"Removed less frequently than once a week",null,{"$f":"E147+E193+E239","v":0},0,0,0,0,0,0,0,0]
[null,null,"Using communal refuse dump",null,{"$f":"E148+E194+E240","v":0},0,0,0,0,0,0,0,0]
[null,null,"Using own refuse dump",null,{"$f":"E149+E195+E241","v":0},0,0,0,0,0,0,0,0]
[null,null,"Other rubbish disposal",null,{"$f":"E150+E196+E242","v":0},0,0,0,0,0,0,0,0]
[null,null,"No rubbish disposal",null,{"$f":"E151+E197+E243","v":0},0,0,0,0,0,0,0,0]
[null,null,"Below Minimum Service Level sub-total",null,{"$f":"SUM(E101:E105)","v":0},0,0,0,0,0,0,0,0]
[null,null,"Total number of households",null,{"$f":"E100+E106","v":0},{"$f":"F100+F106","v":0},0,0,0,0,0,0,0]
[]
["Municipal in-house services",null,null,null,{"$f":"head1b","v":"2018/19"},{"$f":"head1A","v":"2019/20"},{"$f":"Head1","v":"2020/21"},{"$f":"Head2","v":"Current Year 2021/22"},null,null,{"$f":"Head3","v":"2022/23 Medium Term Revenue & Expenditure Framework"}]
[null,"Ref.",null,null,{"$f":"Head5A","v":"Outcome"},{"$f":"Head5A","v":"Outcome"},{"$f":"Head5A","v":"Outcome"},{"$f":"Head6","v":"Original Budget"},{"$f":"Head7","v":"Adjusted Budget"},{"$f":"Head8","v":"Full Year Forecast"},{"$f":"Head9","v":"Budget Year 2022/23"},{"$f":"Head10","v":"Budget Year +1 2023/24"},{"$f":"Head11","v":"Budget Year +2 2024/25"}]
[null,null,"Household service targets (000)"]
[null,null,"Water:"]
[null,null,"Piped water inside dwelling",null,0,0,0,0,0,0,15000,20000,0]
[null,null,"Piped water inside yard (but not in dwelling)",null,0,0,0,0,0,0,10000,15000,0]
[null,8,"Using public tap (at least min.service level)",null,0,0,0,0,457276,457276,457276,469235,500880]
[null,10,"Other water supply (at least min.service level)",null,0,0,0,0,98722,98722,98722,119597,146028]
[null,null,"Minimum Service Level and Above sub-total",null,{"$f":"SUM(E113:E116)","v":0},{"$f":"SUM(F113:F116)","v":0},0,0,555998,555998,580998,623832,646908]
[null,9,"Using public tap (< min.service level)"]
[null,10,"Other water supply (< min.service level)",null,0,0,0,0,0,0,25000,10000,0]
[null,null,"No water supply",null,0,0,0,0,0,0,25000,5000,0]
[null,null,"Below Minimum Service Level sub-total",null,{"$f":"SUM(E118:E120)","v":0},{"$f":"SUM(F118:F120)","v":0},0,0,0,0,50000,15000,0]
[null,null,"Total number of households",null,{"$f":"E117+E121","v":0},{"$f":"F117+F121","v":0},0,0,555998,555998,630998,638832,646908]
[null,null,"Sanitation/sewerage:"]
[null,null,"Flush toilet (connected to sewerage)",null,0,0,0,0,0,0,0,0,0]
[null,null,"Flush toilet (with septic tank)",null,0,0,0,0,0,0,10000,15000,20000]
[null,null,"Chemical toilet"]
[null,null,"Pit toilet (ventilated)",null,0,0,0,0,48000,48000,48000,48000,0]
[null,null,"Other toilet provisions (> min.service level)"]
[null,null,"Minimum Service Level and Above sub-total",null,{"$f":"SUM(E124:E128)","v":0},{"$f":"SUM(F124:F128)","v":0},0,0,48000,48000,58000,63000,20000]
[null,null,"Bucket toilet"]
[null,null,"Other toilet provisions (< min.service level)",null,0,0,0,0,0,0,5000,10000,15000]
[null,null,"No toilet provisions"]
[null,null,"Below Minimum Service Level sub-total",null,{"$f":"SUM(E130:E132)","v":0},{"$f":"SUM(F130:F132)","v":0},0,0,0,0,5000,10000,15000]
[null,null,"Total number of households",null,{"$f":"E129+E133","v":0},{"$f":"F129+F133","v":0},0,0,48000,48000,63000,73000,35000]
[null,null,"Energy:"]
[null,null,"Electricity (at least min.service level)"]
[null,null,"Electricity - prepaid (min.service level)"]
[null,null,"Minimum Service Level and Above sub-total",null,{"$f":"SUM(E136:E137)","v":0},{"$f":"SUM(F136:F137)","v":0},0,0,0,0,0,0,0]
[null,null,"Electricity (< min.service level)"]
[null,null,"Electricity - prepaid (< min. service level)"]
[null,null,"Other energy sources"]
[null,null,"Below Minimum Service Level sub-total",null,{"$f":"SUM(E139:E141)","v":0},{"$f":"SUM(F139:F141)","v":0},0,0,0,0,0,0,0]
[null,null,"Total number of households",null,{"$f":"E138+E142","v":0},{"$f":"F138+F142","v":0},0,0,0,0,0,0,0]
[null,null,"Refuse:"]
[null,null,"Removed at least once a week"]
[null,null,"Minimum Service Level and Above sub-total",null,{"$f":"SUM(E145)","v":0},{"$f":"SUM(F145)","v":0},0,0,0,0,0,0,0]
[null,null,"Removed less frequently than once a week"]
[null,null,"Using communal refuse dump"]
[null,null,"Using own refuse dump"]
[null,null,"Other rubbish disposal"]
[null,null,"No rubbish disposal"]
[null,null,"Below Minimum Service Level sub-total",null,{"$f":"SUM(E147:E151)","v":0},0,0,0,0,0,0,0,0]
[null,null,"Total number of households",null,{"$f":"E146+E152","v":0},{"$f":"F146+F152","v":0},0,0,0,0,0,0,0]
[]
["Municipal entity services",null,null,null,{"$f":"head1b","v":"2018/19"},{"$f":"head1A","v":"2019/20"},{"$f":"Head1","v":"2020/21"},{"$f":"Head2","v":"Current Year 2021/22"},null,null,{"$f":"Head3","v":"2022/23 Medium Term Revenue & Expenditure Framework"}]
[null,"Ref.",null,null,{"$f":"Head5A","v":"Outcome"},{"$f":"Head5A","v":"Outcome"},{"$f":"Head5A","v":"Outcome"},{"$f":"Head6","v":"Original Budget"},{"$f":"Head7","v":"Adjusted Budget"},{"$f":"Head8","v":"Full Year Forecast"},{"$f":"Head9","v":"Budget Year 2022/23"},{"$f":"Head10","v":"Budget Year +1 2023/24"},{"$f":"Head11","v":"Budget Year +2 2024/25"}]
[null,null,"Household service targets (000)"]
["Name of municipal entity",null,"Water:"]
[null,null,"Piped water inside dwelling"]
[null,null,"Piped water inside yard (but not in dwelling)"]
[null,8,"Using public tap (at least min.service level)"]
[null,10,"Other water supply (at least min.service level)"]
[null,null,"Minimum Service Level and Above sub-total",null,{"$f":"SUM(E159:E162)","v":0},{"$f":"SUM(F159:F162)","v":0},0,0,0,0,0,0,0]
[null,9,"Using public tap (< min.service level)"]
[null,10,"Other water supply (< min.service level)"]
[null,null,"No water supply"]
[null,null,"Below Minimum Service Level sub-total",null,{"$f":"SUM(E164:E166)","v":0},{"$f":"SUM(F164:F166)","v":0},0,0,0,0,0,0,0]
[null,null,"Total number of households",null,{"$f":"E163+E167","v":0},{"$f":"F163+F167","v":0},0,0,0,0,0,0,0]
["Name of municipal entity",null,"Sanitation/sewerage:"]
[null,null,"Flush toilet (connected to sewerage)"]
[null,null,"Flush toilet (with septic tank)"]
[null,null,"Chemical toilet"]
[null,null,"Pit toilet (ventilated)"]
[null,null,"Other toilet provisions (> min.service level)"]
[null,null,"Minimum Service Level and Above sub-total",null,{"$f":"SUM(E170:E174)","v":0},{"$f":"SUM(F170:F174)","v":0},0,0,0,0,0,0,0]
[null,null,"Bucket toilet"]
[null,null,"Other toilet provisions (< min.service level)"]
[null,null,"No toilet provisions"]
[null,null,"Below Minimum Service Level sub-total",null,{"$f":"SUM(E176:E178)","v":0},{"$f":"SUM(F176:F178)","v":0},0,0,0,0,0,0,0]
[null,null,"Total number of households",null,{"$f":"E175+E179","v":0},{"$f":"F175+F179","v":0},0,0,0,0,0,0,0]
["Name of municipal entity",null,"Energy:"]
[null,null,"Electricity (at least min.service level)"]
[null,null,"Electricity - prepaid (min.service level)"]
[null,null,"Minimum Service Level and Above sub-total",null,{"$f":"SUM(E182:E183)","v":0},{"$f":"SUM(F182:F183)","v":0},0,0,0,0,0,0,0]
[null,null,"Electricity (< min.service level)"]
[null,null,"Electricity - prepaid (< min. service level)"]
[null,null,"Other energy sources"]
[null,null,"Below Minimum Service Level sub-total",null,{"$f":"SUM(E185:E187)","v":0},{"$f":"SUM(F185:F187)","v":0},0,0,0,0,0,0,0]
[null,null,"Total number of households",null,{"$f":"E184+E188","v":0},{"$f":"F184+F188","v":0},0,0,0,0,0,0,0]
["Name of municipal entity",null,"Refuse:"]
[null,null,"Removed at least once a week"]
[null,null,"Minimum Service Level and Above sub-total",null,{"$f":"SUM(E191)","v":0},{"$f":"SUM(F191)","v":0},0,0,0,0,0,0,0]
[null,null,"Removed less frequently than once a week"]
[null,null,"Using communal refuse dump"]
[null,null,"Using own refuse dump"]
[null,null,"Other rubbish disposal"]
[null,null,"No rubbish disposal"]
[null,null,"Below Minimum Service Level sub-total",null,{"$f":"SUM(E193:E197)","v":0},0,0,0,0,0,0,0,0]
[null,null,"Total number of households",null,{"$f":"E192+E198","v":0},{"$f":"F192+F198","v":0},0,0,0,0,0,0,0]
[]
["Services provided by 'external mechanisms'",null,null,null,{"$f":"head1b","v":"2018/19"},{"$f":"head1A","v":"2019/20"},{"$f":"Head1","v":"2020/21"},{"$f":"Head2","v":"Current Year 2021/22"},null,null,{"$f":"Head3","v":"2022/23 Medium Term Revenue & Expenditure Framework"}]
[null,"Ref.",null,null,{"$f":"Head5A","v":"Outcome"},{"$f":"Head5A","v":"Outcome"},{"$f":"Head5A","v":"Outcome"},{"$f":"Head6","v":"Original Budget"},{"$f":"Head7","v":"Adjusted Budget"},{"$f":"Head8","v":"Full Year Forecast"},{"$f":"Head9","v":"Budget Year 2022/23"},{"$f":"Head10","v":"Budget Year +1 2023/24"},{"$f":"Head11","v":"Budget Year +2 2024/25"}]
["Names of service providers",null,"Household service targets (000)"]
[null,null,"Water:"]
[null,null,"Piped water inside dwelling"]
[null,null,"Piped water inside yard (but not in dwelling)"]
[null,8,"Using public tap (at least min.service level)"]
[null,10,"Other water supply (at least min.service level)"]
[null,null,"Minimum Service Level and Above sub-total",null,{"$f":"SUM(E205:E208)","v":0},{"$f":"SUM(F205:F208)","v":0},0,0,0,0,0,0,0]
[null,9,"Using public tap (< min.service level)"]
[null,10,"Other water supply (< min.service level)"]
[null,null,"No water supply"]
[null,null,"Below Minimum Service Level sub-total",null,{"$f":"SUM(E210:E212)","v":0},{"$f":"SUM(F210:F212)","v":0},0,0,0,0,0,0,0]
[null,null,"Total number of households",null,{"$f":"E209+E213","v":0},{"$f":"F209+F213","v":0},0,0,0,0,0,0,0]
["Names of service providers",null,"Sanitation/sewerage:"]
[null,null,"Flush toilet (connected to sewerage)"]
[null,null,"Flush toilet (with septic tank)"]
[null,null,"Chemical toilet"]
[null,null,"Pit toilet (ventilated)"]
[null,null,"Other toilet provisions (> min.service level)"]
[null,null,"Minimum Service Level and Above sub-total",null,{"$f":"SUM(E216:E220)","v":0},{"$f":"SUM(F216:F220)","v":0},0,0,0,0,0,0,0]
[null,null,"Bucket toilet"]
[null,null,"Other toilet provisions (< min.service level)"]
[null,null,"No toilet provisions"]
[null,null,"Below Minimum Service Level sub-total",null,{"$f":"SUM(E222:E224)","v":0},{"$f":"SUM(F222:F224)","v":0},0,0,0,0,0,0,0]
[null,null,"Total number of households",null,{"$f":"E221+E225","v":0},{"$f":"F221+F225","v":0},0,0,0,0,0,0,0]
["Names of service providers",null,"Energy:"]
[null,null,"Electricity (at least min.service level)"]
[null,null,"Electricity - prepaid (min.service level)"]
[null,null,"Minimum Service Level and Above sub-total",null,{"$f":"SUM(E228:E229)","v":0},{"$f":"SUM(F228:F229)","v":0},0,0,0,0,0,0,0]
[null,null,"Electricity (< min.service level)"]
[null,null,"Electricity - prepaid (< min. service level)"]
[null,null,"Other energy sources"]
[null,null,"Below Minimum Service Level sub-total",null,{"$f":"SUM(E231:E233)","v":0},{"$f":"SUM(F231:F233)","v":0},0,0,0,0,0,0,0]
[null,null,"Total number of households",null,{"$f":"E230+E234","v":0},{"$f":"F230+F234","v":0},0,0,0,0,0,0,0]
["Names of service providers",null,"Refuse:"]
[null,null,"Removed at least once a week"]
[null,null,"Minimum Service Level and Above sub-total",null,{"$f":"SUM(E237)","v":0},{"$f":"SUM(F237)","v":0},0,0,0,0,0,0,0]
[null,null,"Removed less frequently than once a week"]
[null,null,"Using communal refuse dump"]
[null,null,"Using own refuse dump"]
[null,null,"Other rubbish disposal"]
[null,null,"No rubbish disposal"]
[null,null,"Below Minimum Service Level sub-total",null,{"$f":"SUM(E239:E243)","v":0},0,0,0,0,0,0,0,0]
[null,null,"Total number of households",null,{"$f":"E238+E244","v":0},{"$f":"F238+F244","v":0},0,0,0,0,0,0,0]
[]
["Detail of Free Basic Services (FBS) provided",null,null,null,{"$f":"head1b","v":"2018/19"},{"$f":"head1A","v":"2019/20"},{"$f":"Head1","v":"2020/21"},{"$f":"Head2","v":"Current Year 2021/22"},null,null,{"$f":"Head3","v":"2022/23 Medium Term Revenue & Expenditure Framework"}]
[null,null,null,null,{"$f":"Head5A","v":"Outcome"},{"$f":"Head5A","v":"Outcome"},{"$f":"Head5A","v":"Outcome"},{"$f":"Head6","v":"Original Budget"},{"$f":"Head7","v":"Adjusted Budget"},{"$f":"Head8","v":"Full Year Forecast"},{"$f":"Head9","v":"Budget Year 2022/23"},{"$f":"Head10","v":"Budget Year +1 2023/24"},{"$f":"Head11","v":"Budget Year +2 2024/25"}]
["Electricity","Ref.","Location of households for each type of FBS"]
["List type of FBS service",null,"Formal settlements -  (50 kwh per indigent household per month Rands)"]
[null,null,"Number of HH receiving this type of FBS"]
[null,null,"Informal settlements (Rands)"]
[null,null,"Number of HH receiving this type of FBS"]
[null,null,"Informal settlements targeted for upgrading (Rands)"]
[null,null,"Number of HH receiving this type of FBS"]
[null,null,"Living in informal backyard rental agreement (Rands)"]
[null,null,"Number of HH receiving this type of FBS"]
[null,null,"Other (Rands)"]
[null,null,"Number of HH receiving this type of FBS"]
[null,null,"Total cost of FBS - Electricity for informal settlements",null,{"$f":"E252+E254+E256+E258","v":0},{"$f":"F252+F254+F256+F258","v":0},0,0,0,0,0,0,0]
["Water","Ref.","Location of households for each type of FBS"]
["List type of FBS service",null,"Formal settlements -  (6 kilolitre per indigent household per month Rands)",null,0,0,0,0,0,0,0,0,0]
[null,null,"Number of HH receiving this type of FBS",null,0,0,43124,0,0,0,47436,52180,57398]
[null,null,"Informal settlements (Rands)"]
[null,null,"Number of HH receiving this type of FBS"]
[null,null,"Informal settlements targeted for upgrading (Rands)"]
[null,null,"Number of HH receiving this type of FBS"]
[null,null,"Living in informal backyard rental agreement (Rands)"]
[null,null,"Number of HH receiving this type of FBS"]
[null,null,"Other (Rands)"]
[null,null,"Number of HH receiving this type of FBS"]
[null,null,"Total cost of FBS - Water  for informal settlements",null,{"$f":"E264+E266+E268+E270","v":0},{"$f":"F264+F266+F268+F270","v":0},0,0,0,0,0,0,0]
["Sanitation","Ref.","Location of households for each type of FBS"]
["List type of FBS service",null,"Formal settlements -  (free sanitation service to indigent households)",null,0,0,0,0,0,0,0,0,0]
[null,null,"Number of HH receiving this type of FBS",null,0,0,34601,0,0,0,41867,46054,50660]
[null,null,"Informal settlements (Rands)"]
[null,null,"Number of HH receiving this type of FBS"]
[null,null,"Informal settlements targeted for upgrading (Rands)"]
[null,null,"Number of HH receiving this type of FBS"]
[null,null,"Living in informal backyard rental agreement (Rands)"]
[null,null,"Number of HH receiving this type of FBS"]
[null,null,"Other (Rands)"]
[null,null,"Number of HH receiving this type of FBS"]
[null,null,"Total cost of FBS - Sanitation for informal settlements",null,{"$f":"E276+E278+E280+E282","v":0},{"$f":"F276+F278+F280+F282","v":0},0,0,0,0,0,0,0]
["Refuse Removal","Ref.","Location of households for each type of FBS"]
["List type of FBS service",null,"Formal settlements -  (removed once a week to indigent households)"]
[null,null,"Number of HH receiving this type of FBS"]
[null,null,"Informal settlements (Rands)"]
[null,null,"Number of HH receiving this type of FBS"]
[null,null,"Informal settlements targeted for upgrading (Rands)"]
[null,null,"Number of HH receiving this type of FBS"]
[null,null,"Living in informal backyard rental agreement (Rands)"]
[null,null,"Number of HH receiving this type of FBS"]
[null,null,"Other (Rands)"]
[null,null,"Number of HH receiving this type of FBS"]
[null,null,"Total cost of FBS - Refuse Removal for informal settlements",null,{"$f":"E288+E290+E292+E294","v":0},{"$f":"F288+F290+F292+F294","v":0},0,0,0,0,0,0,0]
[{"$f":"head27a","v":"References"}]
["1. Monthly household income threshold. Should include all sources of income."]
["2. Show the poverty analysis the municipality uses to determine its indigents policy and the provision of services"]
["3. Include total of all housing units within the municipality"]
["4. Number of subsidised dwellings to be constructed by the municipality under agency agreement with province"]
["5. Provide estimate based on building approval information. Include any non-subsidised dwellings constructed by the municipality"]
["6. Insert actual or estimated % increases assumed as a basis for budget calculations"]
["7. Insert actual or estimated % collection rate assumed as a basis for budget calculations for each revenue group"]
["8. Stand distance <= 200m from dwelling"]
["9. Stand distance > 200m from dwelling"]
["10. Borehole, spring, rain-water tank etc."]
["11. Must agree to total number of households in municipal area"]
["12. Household income categories assume an average 4 person household. Stats SA - Census 2011 Questionnaire"]
["13. Based on National poverty line of R515 per capita per month (2008 prices), assuming an average household size of 4 persons"]

{"sheet":"SA10","index":29,"n_rows":132,"n_cols":13,"rows_kept":132,"cut":false,"hidden":false,"merged":[[1,0,2,0],[1,10,1,12],[1,1,2,1],[1,2,2,2],[1,6,1,9]]}
[{"$f":"muni &\" \" & TableA10","v":"DC47 Sekhukhune Supporting Table SA10 Funding measurement"}]
[{"$f":"desc","v":"Description"},"MFMA section",{"$f":"head27","v":"Ref"},{"$f":"head1b","v":"2018/19"},{"$f":"head1A","v":"2019/20"},{"$f":"Head1","v":"2020/21"},{"$f":"Head2","v":"Current Year 2021/22"},null,null,null,{"$f":"Head3","v":"2022/23 Medium Term Revenue & Expenditure Framework"}]
[null,null,null,{"$f":"Head5","v":"Audited Outcome"},{"$f":"Head5","v":"Audited Outcome"},{"$f":"Head5","v":"Audited Outcome"},{"$f":"Head6","v":"Original Budget"},{"$f":"Head7","v":"Adjusted Budget"},{"$f":"Head8","v":"Full Year Forecast"},{"$f":"Head5b","v":"Pre-audit outcome"},{"$f":"Head9","v":"Budget Year 2022/23"},{"$f":"Head10","v":"Budget Year +1 2023/24"},{"$f":"Head11","v":"Budget Year +2 2024/25"}]
["Funding measures"]
[{"$f":"LEFT('A7-CFlow'!A40,37)&\" - R'000\"","v":"Cash/cash equivalents at the year end - R'000"},"18(1)b",1,{"$f":"'A7-CFlow'!C40","v":72908217.379999995},{"$f":"'A7-CFlow'!D40","v":-165162216.95999998},{"$f":"'A7-CFlow'!E40","v":-872573909.24000001},{"$f":"'A7-CFlow'!F40","v":960321251.91000009},{"$f":"'A7-CFlow'!G40","v":1487464310},{"$f":"'A7-CFlow'!H40","v":1487464310},{"$f":"'A7-CFlow'!I40","v":-1156044516.6800001},{"$f":"'A7-CFlow'!J40","v":280203917},{"$f":"'A7-CFlow'!K40","v":352645023},{"$f":"'A7-CFlow'!L40","v":449660182}]
["Cash + investments at the yr end less applications - R'000","18(1)b",2,{"$f":"'A8-ResRecon'!C8-'A8-ResRecon'!C18","v":-375831620.78000003},{"$f":"'A8-ResRecon'!D8-'A8-ResRecon'!D18","v":-398376445.92999995},{"$f":"'A8-ResRecon'!E8-'A8-ResRecon'!E18","v":-512505202.32999992},{"$f":"'A8-ResRecon'!F8-'A8-ResRecon'!F18","v":117635215},{"$f":"'A8-ResRecon'!G8-'A8-ResRecon'!G18","v":167097795},{"$f":"'A8-ResRecon'!H8-'A8-ResRecon'!H18","v":167097795},{"$f":"'A8-ResRecon'!I8-'A8-ResRecon'!I18","v":-1440503519.3700001},{"$f":"'A8-ResRecon'!J8-'A8-ResRecon'!J18","v":96919068},{"$f":"'A8-ResRecon'!K8-'A8-ResRecon'!K18","v":147496324},{"$f":"'A8-ResRecon'!L8-'A8-ResRecon'!L18","v":100112119}]
["Cash year end/monthly employee/supplier payments","18(1)b",3,{"$f":"IF(ISERROR('SA8'!C39),0,('SA8'!C39))","v":1.2872434122274532},{"$f":"IF(ISERROR('SA8'!D39),0,('SA8'!D39))","v":-2.9889487309883553},{"$f":"IF(ISERROR('SA8'!E39),0,('SA8'!E39))","v":-15.604199224387795},{"$f":"IF(ISERROR('SA8'!F39),0,('SA8'!F39))","v":14.410233737399412},{"$f":"IF(ISERROR('SA8'!G39),0,('SA8'!G39))","v":21.220111106179342},{"$f":"IF(ISERROR('SA8'!H39),0,('SA8'!H39))","v":21.220111106179342},{"$f":"IF(ISERROR('SA8'!I39),0,('SA8'!I39))","v":-23.831032538271266},{"$f":"IF(ISERROR('SA8'!J39),0,('SA8'!J39))","v":3.826532581043053},{"$f":"IF(ISERROR('SA8'!K39),0,('SA8'!K39))","v":4.4854513591104661},{"$f":"IF(ISERROR('SA8'!L39),0,('SA8'!L39))","v":5.2897404443527662}]
["Surplus/(Deficit) excluding depreciation offsets: R'000","18(1)",4,{"$f":"'A4-FinPerf RE'!C41+'SA3'!C156","v":558474757.03999972},{"$f":"'A4-FinPerf RE'!D41+'SA3'!D156","v":488965253.06999999},{"$f":"'A4-FinPerf RE'!E41+'SA3'!E156","v":799018238.84000015},{"$f":"'A4-FinPerf RE'!F41+'SA3'!F156","v":425415579},{"$f":"'A4-FinPerf RE'!G41+'SA3'!G156","v":389534868},{"$f":"'A4-FinPerf RE'!H41+'SA3'!H156","v":389534868},{"$f":"'A4-FinPerf RE'!I41+'SA3'!I156","v":602745030.17999983},{"$f":"'A4-FinPerf RE'!J41+'SA3'!J156","v":489439853},{"$f":"'A4-FinPerf RE'!K41+'SA3'!K156","v":512117604},{"$f":"'A4-FinPerf RE'!L41+'SA3'!L156","v":521738327}]
["Service charge rev % change - macro CPIX target exclusive","18(1)a,(2)",5,"N.A.",{"$f":"IF(ISERROR(E36-E61),0,(E36-E61))","v":4.1588006105398645E-2},{"$f":"IF(ISERROR(F36-F61),0,(F36-F61))","v":-0.16017364311691301},6.3244589725537204E-2,-3.0998801989719993E-2,-0.06,-0.20513854711063045,{"$f":"IF(ISERROR(K36-K61),0,(K36-K61))","v":-1.0000004562131293E-2},-9.9999971034087642E-3,-9.999988505590085E-3]
["Cash receipts % of Ratepayer & Other revenue","18(1)a,(2)",6,{"$f":"IF(ISERROR(D53/D54),0,(D53/D54))","v":0},{"$f":"IF(ISERROR(E53/E54),0,(E53/E54))","v":0},0.96436092377829796,0.47477664886337961,0.68724851357862149,0.68724851357862149,-3.3327616936705513,0.53180666014169808,0.53179838527826406,0.60886624153103153]
["Debt impairment expense as a % of total billable revenue","18(1)a,(2)",7,{"$f":"IF(ISERROR('A4-FinPerf RE'!C26/'SA10'!D43),0,('A4-FinPerf RE'!C26/'SA10'!D43))","v":0},{"$f":"IF(ISERROR('A4-FinPerf RE'!D26/'SA10'!E43),0,('A4-FinPerf RE'!D26/'SA10'!E43))","v":2.7733694634437204E-2},{"$f":"IF(ISERROR('A4-FinPerf RE'!E26/'SA10'!F43),0,('A4-FinPerf RE'!E26/'SA10'!F43))","v":7.8406843000086788E-4},{"$f":"IF(ISERROR('A4-FinPerf RE'!F26/'SA10'!G43),0,('A4-FinPerf RE'!F26/'SA10'!G43))","v":0.1107365888054395},{"$f":"IF(ISERROR('A4-FinPerf RE'!G26/'SA10'!H43),0,('A4-FinPerf RE'!G26/'SA10'!H43))","v":0.10761560727000555},{"$f":"IF(ISERROR('A4-FinPerf RE'!H26/'SA10'!I43),0,('A4-FinPerf RE'!H26/'SA10'!I43))","v":0.10761560727000555},{"$f":"IF(ISERROR('A4-FinPerf RE'!I26/'SA10'!J43),0,('A4-FinPerf RE'!I26/'SA10'!J43))","v":0},{"$f":"IF(ISERROR('A4-FinPerf RE'!J26/'SA10'!K43),0,('A4-FinPerf RE'!J26/'SA10'!K43))","v":0.10659069718770145},{"$f":"IF(ISERROR('A4-FinPerf RE'!K26/'SA10'!L43),0,('A4-FinPerf RE'!K26/'SA10'!L43))","v":0.10598160351890783},{"$f":"IF(ISERROR('A4-FinPerf RE'!L26/'SA10'!M43),0,('A4-FinPerf RE'!L26/'SA10'!M43))","v":0.10547693340393864}]
["Capital payments % of capital expenditure","18(1)c;19",8,{"$f":"IF(ISERROR(-'A7-CFlow'!C26/'A5-Capex'!C40),0,(-'A7-CFlow'!C26/'A5-Capex'!C40))","v":0},{"$f":"IF(ISERROR(-'A7-CFlow'!D26/'A5-Capex'!D40),0,(-'A7-CFlow'!D26/'A5-Capex'!D40))","v":0},{"$f":"IF(ISERROR(-'A7-CFlow'!E26/'A5-Capex'!E40),0,(-'A7-CFlow'!E26/'A5-Capex'!E40))","v":0.82851265958714282},{"$f":"IF(ISERROR(-'A7-CFlow'!F26/'A5-Capex'!F40),0,(-'A7-CFlow'!F26/'A5-Capex'!F40))","v":1},{"$f":"IF(ISERROR(-'A7-CFlow'!G26/'A5-Capex'!G40),0,(-'A7-CFlow'!G26/'A5-Capex'!G40))","v":1},{"$f":"IF(ISERROR(-'A7-CFlow'!H26/'A5-Capex'!H40),0,(-'A7-CFlow'!H26/'A5-Capex'!H40))","v":1},{"$f":"IF(ISERROR(-'A7-CFlow'!I26/'A5-Capex'!I40),0,(-'A7-CFlow'!I26/'A5-Capex'!I40))","v":0.90042679803385817},{"$f":"IF(ISERROR(-'A7-CFlow'!J26/'A5-Capex'!J40),0,(-'A7-CFlow'!J26/'A5-Capex'!J40))","v":1},{"$f":"IF(ISERROR(-'A7-CFlow'!K26/'A5-Capex'!K40),0,(-'A7-CFlow'!K26/'A5-Capex'!K40))","v":1},{"$f":"IF(ISERROR(-'A7-CFlow'!L26/'A5-Capex'!L40),0,(-'A7-CFlow'!L26/'A5-Capex'!L40))","v":1}]
["Borrowing receipts % of capital expenditure (excl. transfers)","18(1)c",9,{"$f":"IF(ISERROR('A7-CFlow'!C32/'SA10'!D52),0,('A7-CFlow'!C32/'SA10'!D52))","v":0},{"$f":"IF(ISERROR('A7-CFlow'!D32/'SA10'!E52),0,('A7-CFlow'!D32/'SA10'!E52))","v":0},{"$f":"IF(ISERROR('A7-CFlow'!E32/'SA10'!F52),0,('A7-CFlow'!E32/'SA10'!F52))","v":0},{"$f":"IF(ISERROR('A7-CFlow'!F32/'SA10'!G52),0,('A7-CFlow'!F32/'SA10'!G52))","v":0},{"$f":"IF(ISERROR('A7-CFlow'!G32/'SA10'!H52),0,('A7-CFlow'!G32/'SA10'!H52))","v":0},{"$f":"IF(ISERROR('A7-CFlow'!H32/'SA10'!I52),0,('A7-CFlow'!H32/'SA10'!I52))","v":0},{"$f":"IF(ISERROR('A7-CFlow'!I32/'SA10'!J52),0,('A7-CFlow'!I32/'SA10'!J52))","v":0},{"$f":"IF(ISERROR('A7-CFlow'!J32/'SA10'!K52),0,('A7-CFlow'!J32/'SA10'!K52))","v":0},{"$f":"IF(ISERROR('A7-CFlow'!K32/'SA10'!L52),0,('A7-CFlow'!K32/'SA10'!L52))","v":0},{"$f":"IF(ISERROR('A7-CFlow'!L32/'SA10'!M52),0,('A7-CFlow'!L32/'SA10'!M52))","v":0}]
["Grants % of Govt. legislated/gazetted allocations","18(1)a",10,null,null,null,null,null,null,null,{"$f":"IF(ISERROR(K56/K68),0,(K56/K68))","v":0},{"$f":"IF(ISERROR(L56/L68),0,(L56/L68))","v":0},{"$f":"IF(ISERROR(M56/M68),0,(M56/M68))","v":0}]
["Current consumer debtors % change - incr(decr)","18(1)a",11,"N.A.",{"$f":"IF(ISERROR(ROUND((SUM('A6-FinPos'!D8:D10)-SUM('A6-FinPos'!C8:C10))/SUM('A6-FinPos'!C8:C10),3)),0,(ROUND((SUM('A6-FinPos'!D8:D10)-SUM('A6-FinPos'!C8:C10))/SUM('A6-FinPos'!C8:C10),3)))","v":0.125},{"$f":"IF(ISERROR(ROUND((SUM('A6-FinPos'!E8:E10)-SUM('A6-FinPos'!D8:D10))/SUM('A6-FinPos'!D8:D10),3)),0,(ROUND((SUM('A6-FinPos'!E8:E10)-SUM('A6-FinPos'!D8:D10))/SUM('A6-FinPos'!D8:D10),3)))","v":0.38700000000000001},{"$f":"IF(ISERROR(ROUND((SUM('A6-FinPos'!F8:F10)-SUM('A6-FinPos'!E8:E10))/SUM('A6-FinPos'!E8:E10),3)),0,(ROUND((SUM('A6-FinPos'!F8:F10)-SUM('A6-FinPos'!E8:E10))/SUM('A6-FinPos'!E8:E10),3)))","v":-0.34399999999999997},{"$f":"IF(ISERROR(ROUND((SUM('A6-FinPos'!G8:G10)-SUM('A6-FinPos'!F8:F10))/SUM('A6-FinPos'!F8:F10),3)),0,(ROUND((SUM('A6-FinPos'!G8:G10)-SUM('A6-FinPos'!F8:F10))/SUM('A6-FinPos'!F8:F10),3)))","v":-8.7999999999999995E-2},{"$f":"IF(ISERROR(ROUND((SUM('A6-FinPos'!H8:H10)-SUM('A6-FinPos'!G8:G10))/SUM('A6-FinPos'!G8:G10),3)),0,(ROUND((SUM('A6-FinPos'!H8:H10)-SUM('A6-FinPos'!G8:G10))/SUM('A6-FinPos'!G8:G10),3)))","v":0},{"$f":"IF(ISERROR(ROUND((SUM('A6-FinPos'!I8:I10)-SUM('A6-FinPos'!H8:H10))/SUM('A6-FinPos'!H8:H10),3)),0,(ROUND((SUM('A6-FinPos'!I8:I10)-SUM('A6-FinPos'!H8:H10))/SUM('A6-FinPos'!H8:H10),3)))","v":1.1120000000000001},{"$f":"IF(ISERROR(ROUND((SUM('A6-FinPos'!J8:J10)-SUM('A6-FinPos'!G8:G10))/SUM('A6-FinPos'!G8:G10),3)),0,(ROUND((SUM('A6-FinPos'!J8:J10)-SUM('A6-FinPos'!G8:G10))/SUM('A6-FinPos'!G8:G10),3)))","v":-3.9E-2},{"$f":"IF(ISERROR(ROUND((SUM('A6-FinPos'!K8:K10)-SUM('A6-FinPos'!J8:J10))/SUM('A6-FinPos'!J8:J10),3)),0,(ROUND((SUM('A6-FinPos'!K8:K10)-SUM('A6-FinPos'!J8:J10))/SUM('A6-FinPos'!J8:J10),3)))","v":-1.4E-2},{"$f":"IF(ISERROR(ROUND((SUM('A6-FinPos'!L8:L10)-SUM('A6-FinPos'!K8:K10))/SUM('A6-FinPos'!K8:K10),3)),0,(ROUND((SUM('A6-FinPos'!L8:L10)-SUM('A6-FinPos'!K8:K10))/SUM('A6-FinPos'!K8:K10),3)))","v":-7.0999999999999994E-2}]
["Long term receivables % change - incr(decr)","18(1)a",12,"N.A.",{"$f":"IF(ISERROR(ROUND(('A6-FinPos'!D15-'A6-FinPos'!C15)/'A6-FinPos'!C15,3)),0,(ROUND(('A6-FinPos'!D15-'A6-FinPos'!C15)/'A6-FinPos'!C15,3)))","v":0},{"$f":"IF(ISERROR(ROUND(('A6-FinPos'!E15-'A6-FinPos'!D15)/'A6-FinPos'!D15,3)),0,(ROUND(('A6-FinPos'!E15-'A6-FinPos'!D15)/'A6-FinPos'!D15,3)))","v":0},{"$f":"IF(ISERROR(ROUND(('A6-FinPos'!F15-'A6-FinPos'!E15)/'A6-FinPos'!E15,3)),0,(ROUND(('A6-FinPos'!F15-'A6-FinPos'!E15)/'A6-FinPos'!E15,3)))","v":0},{"$f":"IF(ISERROR(ROUND(('A6-FinPos'!G15-'A6-FinPos'!F15)/'A6-FinPos'!F15,3)),0,(ROUND(('A6-FinPos'!G15-'A6-FinPos'!F15)/'A6-FinPos'!F15,3)))","v":0},{"$f":"IF(ISERROR(ROUND(('A6-FinPos'!H15-'A6-FinPos'!G15)/'A6-FinPos'!G15,3)),0,(ROUND(('A6-FinPos'!H15-'A6-FinPos'!G15)/'A6-FinPos'!G15,3)))","v":0},{"$f":"IF(ISERROR(ROUND(('A6-FinPos'!I15-'A6-FinPos'!H15)/'A6-FinPos'!H15,3)),0,(ROUND(('A6-FinPos'!I15-'A6-FinPos'!H15)/'A6-FinPos'!H15,3)))","v":0},{"$f":"IF(ISERROR(ROUND(('A6-FinPos'!J15-'A6-FinPos'!G15)/'A6-FinPos'!G15,3)),0,(ROUND(('A6-FinPos'!J15-'A6-FinPos'!G15)/'A6-FinPos'!G15,3)))","v":0},{"$f":"IF(ISERROR(ROUND(('A6-FinPos'!K15-'A6-FinPos'!J15)/'A6-FinPos'!J15,3)),0,(ROUND(('A6-FinPos'!K15-'A6-FinPos'!J15)/'A6-FinPos'!J15,3)))","v":0},{"$f":"IF(ISERROR(ROUND(('A6-FinPos'!L15-'A6-FinPos'!K15)/'A6-FinPos'!K15,3)),0,(ROUND(('A6-FinPos'!L15-'A6-FinPos'!K15)/'A6-FinPos'!K15,3)))","v":0}]
["R&M % of Property Plant & Equipment","20(1)(vi)",13,{"$f":"IF(ISERROR('A9-Asset'!C169/'A6-FinPos'!C19),0,('A9-Asset'!C169/'A6-FinPos'!C19))","v":3.5511664570266901E-2},{"$f":"IF(ISERROR('A9-Asset'!D169/'A6-FinPos'!D19),0,('A9-Asset'!D169/'A6-FinPos'!D19))","v":2.7051052074595964E-2},{"$f":"IF(ISERROR('A9-Asset'!E169/'A6-FinPos'!E19),0,('A9-Asset'!E169/'A6-FinPos'!E19))","v":2.4077220589239598E-2},{"$f":"IF(ISERROR('A9-Asset'!F169/'A6-FinPos'!F19),0,('A9-Asset'!F169/'A6-FinPos'!F19))","v":3.5056838501333051E-2},{"$f":"IF(ISERROR('A9-Asset'!G169/'A6-FinPos'!G19),0,('A9-Asset'!G169/'A6-FinPos'!G19))","v":4.7075375815993352E-2},{"$f":"IF(ISERROR('A9-Asset'!H169/'A6-FinPos'!H19),0,('A9-Asset'!H169/'A6-FinPos'!H19))","v":4.7075375815993352E-2},{"$f":"IF(ISERROR('A9-Asset'!I169/'A6-FinPos'!I19),0,('A9-Asset'!I169/'A6-FinPos'!I19))","v":2.8859331963716241E-2},{"$f":"IF(ISERROR('A9-Asset'!I169/'A6-FinPos'!J19),0,('A9-Asset'!I169/'A6-FinPos'!J19))","v":3.2618019567218499E-2},{"$f":"IF(ISERROR('A9-Asset'!J169/'A6-FinPos'!K19),0,('A9-Asset'!J169/'A6-FinPos'!K19))","v":3.1507295386515907E-2},{"$f":"IF(ISERROR('A9-Asset'!K169/'A6-FinPos'!L19),0,('A9-Asset'!K169/'A6-FinPos'!L19))","v":3.235736441992941E-2}]
["Asset renewal % of capital budget",{"$f":"B17","v":"20(1)(vi)"},14,{"$f":"IF(ISERROR(D58/D57),0,(D58/D57))","v":1.1117669617844925E-2},0.24086633163759291,0.3183850553690491,7.6855547510501152E-2,6.0699557431770593E-2,6.0699557431770593E-2,0,8.2635931606632306E-3,1.3405938279568258E-2,{"$f":"IF(ISERROR(M58/M57),0,((M58/M57)))","v":1.1530584397556148E-2}]
[]
[{"$f":"head27a","v":"References"}]
["1. Positive cash balances indicative of minimum compliance - subject to 2"]
["2. Deduct cash and investment applications (defined) from cash balances"]
["3. Indicative of sufficient liquidity to meet average monthly operating payments"]
["4. Indicative of funded operational requirements"]
["5. Indicative of adherence to macro-economic targets (prior to 2003/04 revenue not available for high capacity municipalities and later for other capacity classifications)"]
["6. Realistic average cash collection forecasts as % of annual billed revenue"]
["7. Realistic average increase in debt impairment (doubtful debt) provision"]
["8. Indicative of planned capital expenditure level & cash payment timing"]
["9. Indicative of compliance with borrowing 'only' for the capital budget - should not exceed 100% unless refinancing"]
["10. Substantiation of National/Province allocations included in budget"]
["11. Indicative of realistic current arrear debtor collection targets (prior to 2003/04 revenue not available for high capacity municipalities and later for other capacity classifications)"]
["12. Indicative of realistic long term arrear debtor collection targets (prior to 2003/04 revenue not available for high capacity municipalities and later for other capacity classifications)"]
["13. Indicative of a credible allowance for repairs & maintenance of assets - functioning assets revenue protection"]
["14. Indicative of a credible allowance for asset renewal (requires analysis of asset renewal projects as % of total capital projects - detailed capital plan) - functioning assets revenue protection"]
["Supporting indicators"]
["% incr total service charges (incl prop rates)","18(1)a",null,null,{"$f":"IF(ISERROR((E44/D44)-1),0,((E44/D44)-1))","v":0.10158800610539864},{"$f":"IF(ISERROR((F44/E44)-1),0,((F44/E44)-1))","v":-0.10017364311691301},{"$f":"IF(ISERROR((G44/F44)-1),0,((G44/F44)-1))","v":0.1232445897255372},{"$f":"IF(ISERROR((H44/G44)-1),0,((H44/G44)-1))","v":2.9001198010280005E-2},{"$f":"IF(ISERROR((I44/H44)-1),0,((I44/H44)-1))","v":0},{"$f":"IF(ISERROR((J44/I44)-1),0,((J44/I44)-1))","v":-0.14513854711063046},{"$f":"IF(ISERROR((K44/H44)-1),0,((K44/H44)-1))","v":4.9999995437868705E-2},{"$f":"IF(ISERROR((L44/K44)-1),0,((L44/K44)-1))","v":5.0000002896591234E-2},{"$f":"IF(ISERROR((M44/L44)-1),0,((M44/L44)-1))","v":5.0000011494409913E-2}]
["% incr Property Tax","18(1)a",null,null,0,{"$f":"IF(ISERROR((F45/E45)-1),0,((F45/E45)-1))","v":0},0,0,0,0,{"$f":"IF(ISERROR((K45/H45)-1),0,((K45/H45)-1))","v":0},0,0]
[{"$f":"\"% incr \"&'A4-FinPerf RE'!A6","v":"% incr Service charges - electricity revenue"},"18(1)a",null,null,0,0,0,0,0,0,0,0,{"$f":"IF(ISERROR((M46/L46)-1),0,((M46/L46)-1))","v":0}]
[{"$f":"\"% incr \"&'A4-FinPerf RE'!A7","v":"% incr Service charges - water revenue"},"18(1)a",null,null,0.1098337132930689,-0.11055033560851701,0.12945432293601633,2.769563329873681E-2,0,-0.15411755362639068,4.9999995863052815E-2,5.0000000562850033E-2,5.0000010720951948E-2]
[{"$f":"\"% incr \"&'A4-FinPerf RE'!A8","v":"% incr Service charges - sanitation revenue"},"18(1)a",null,null,5.1917061098653239E-2,-3.4224390966621887E-2,8.6897552744358064E-2,3.6942185922337778E-2,0,-9.1011493543627919E-2,4.999999287478385E-2,5.0000016964800498E-2,5.0000016156952487E-2]
[{"$f":"\"% incr \"&'A4-FinPerf RE'!A9","v":"% incr Service charges - refuse revenue"},"18(1)a",null,null,0,0,0,0,0,0,0,0,0]
[{"$f":"\"% incr in \"&'A4-FinPerf RE'!A10","v":"% incr in "},"18(1)a",null,null,0,0,0,0,{"$f":"IF(ISERROR((I50/H50)-1),0,((I50/H50)-1))","v":0},0,0,{"$f":"IF(ISERROR((L50/K50)-1),0,((L50/K50)-1))","v":0},0]
["Total billable revenue","18(1)a",null,{"$f":"SUM(D45:D50)","v":86094738.889999986},{"$f":"SUM(E45:E50)","v":94840931.75},85340370.099999994,95858109,98638109,98638109,84321917.170000002,103570014,108748515,114185942]
["Service charges",null,null,{"$f":"SUM(D45:D50)","v":86094738.889999986},{"$f":"SUM(E45:E50)","v":94840931.75},85340370.099999994,95858109,98638109,98638109,{"$f":"SUM(J45:J50)","v":84321917.170000002},103570014,108748515,114185942]
["Property rates",null,null,{"$f":"'A4-FinPerf RE'!C5","v":0},{"$f":"'A4-FinPerf RE'!D5","v":0},{"$f":"'A4-FinPerf RE'!E5","v":0},{"$f":"'A4-FinPerf RE'!F5","v":0},{"$f":"'A4-FinPerf RE'!G5","v":0},{"$f":"'A4-FinPerf RE'!H5","v":0},{"$f":"'A4-FinPerf RE'!I5","v":0},{"$f":"'A4-FinPerf RE'!J5","v":0},{"$f":"'A4-FinPerf RE'!K5","v":0},{"$f":"'A4-FinPerf RE'!L5","v":0}]
["Service charges - electricity revenue",null,null,{"$f":"'A4-FinPerf RE'!C6","v":0},{"$f":"'A4-FinPerf RE'!D6","v":0},{"$f":"'A4-FinPerf RE'!E6","v":0},{"$f":"'A4-FinPerf RE'!F6","v":0},{"$f":"'A4-FinPerf RE'!G6","v":0},{"$f":"'A4-FinPerf RE'!H6","v":0},{"$f":"'A4-FinPerf RE'!I6","v":0},{"$f":"'A4-FinPerf RE'!J6","v":0},{"$f":"'A4-FinPerf RE'!K6","v":0},{"$f":"'A4-FinPerf RE'!L6","v":0}]
["Service charges - water revenue",null,null,{"$f":"'A4-FinPerf RE'!C7","v":73837262.319999993},{"$f":"'A4-FinPerf RE'!D7","v":81947083.019999996},{"$f":"'A4-FinPerf RE'!E7","v":72887805.489999995},{"$f":"'A4-FinPerf RE'!F7","v":82323447},{"$f":"'A4-FinPerf RE'!G7","v":84603447},{"$f":"'A4-FinPerf RE'!H7","v":84603447},{"$f":"'A4-FinPerf RE'!I7","v":71564570.719999999},{"$f":"'A4-FinPerf RE'!J7","v":88833619},{"$f":"'A4-FinPerf RE'!K7","v":93275300},{"$f":"'A4-FinPerf RE'!L7","v":97939066}]
["Service charges - sanitation revenue",null,null,{"$f":"'A4-FinPerf RE'!C8","v":12257476.57},{"$f":"'A4-FinPerf RE'!D8","v":12893848.73},{"$f":"'A4-FinPerf RE'!E8","v":12452564.609999999},{"$f":"'A4-FinPerf RE'!F8","v":13534662},{"$f":"'A4-FinPerf RE'!G8","v":14034662},{"$f":"'A4-FinPerf RE'!H8","v":14034662},{"$f":"'A4-FinPerf RE'!I8","v":12757346.449999999},{"$f":"'A4-FinPerf RE'!J8","v":14736395},{"$f":"'A4-FinPerf RE'!K8","v":15473215},{"$f":"'A4-FinPerf RE'!L8","v":16246876}]
["Service charges - refuse removal",null,null,{"$f":"'A4-FinPerf RE'!C9","v":0},{"$f":"'A4-FinPerf RE'!D9","v":0},{"$f":"'A4-FinPerf RE'!E9","v":0},{"$f":"'A4-FinPerf RE'!F9","v":0},{"$f":"'A4-FinPerf RE'!G9","v":0},{"$f":"'A4-FinPerf RE'!H9","v":0},{"$f":"'A4-FinPerf RE'!I9","v":0},{"$f":"'A4-FinPerf RE'!J9","v":0},{"$f":"'A4-FinPerf RE'!K9","v":0},{"$f":"'A4-FinPerf RE'!L9","v":0}]
["Service charges - other",null,null,{"$f":"'A4-FinPerf RE'!C10","v":0},{"$f":"'A4-FinPerf RE'!D10","v":0},{"$f":"'A4-FinPerf RE'!E10","v":0},{"$f":"'A4-FinPerf RE'!F10","v":0},{"$f":"'A4-FinPerf RE'!G10","v":0},{"$f":"'A4-FinPerf RE'!H10","v":0},{"$f":"'A4-FinPerf RE'!I10","v":0},{"$f":"'A4-FinPerf RE'!J10","v":0},{"$f":"'A4-FinPerf RE'!K10","v":0},{"$f":"'A4-FinPerf RE'!L10","v":0}]
[{"$f":"'A4-FinPerf RE'!A11","v":"Rental of facilities and equipment"},null,null,{"$f":"'A4-FinPerf RE'!C11","v":0},{"$f":"'A4-FinPerf RE'!D11","v":0},{"$f":"'A4-FinPerf RE'!E11","v":0},{"$f":"'A4-FinPerf RE'!F11","v":0},{"$f":"'A4-FinPerf RE'!G11","v":0},{"$f":"'A4-FinPerf RE'!H11","v":0},{"$f":"'A4-FinPerf RE'!I11","v":0},{"$f":"'A4-FinPerf RE'!J11","v":0},{"$f":"'A4-FinPerf RE'!K11","v":0},{"$f":"'A4-FinPerf RE'!L11","v":0}]
["Capital expenditure excluding capital grant funding",null,null,{"$f":"'A5-Capex'!C40-'A5-Capex'!C70","v":8389302.939999938},{"$f":"'A5-Capex'!D40-'A5-Capex'!D70","v":3319703.0900000334},{"$f":"'A5-Capex'!E40-'A5-Capex'!E70","v":29210026.829999983},{"$f":"'A5-Capex'!F40-'A5-Capex'!F70","v":8100000},{"$f":"'A5-Capex'!G40-'A5-Capex'!G70","v":17780000},{"$f":"'A5-Capex'!H40-'A5-Capex'!H70","v":17780000},{"$f":"'A5-Capex'!I40-'A5-Capex'!I70","v":8149064.6800000072},{"$f":"'A5-Capex'!J40-'A5-Capex'!J70","v":20130000},{"$f":"'A5-Capex'!K40-'A5-Capex'!K70","v":10031520},{"$f":"'A5-Capex'!L40-'A5-Capex'!L70","v":8269239}]
["Cash receipts from ratepayers","18(1)a",null,{"$f":"'A7-CFlow'!C6+'A7-CFlow'!C7+'A7-CFlow'!C8","v":0},{"$f":"'A7-CFlow'!D6+'A7-CFlow'!D7+'A7-CFlow'!D8","v":0},{"$f":"'A7-CFlow'!E6+'A7-CFlow'!E7+'A7-CFlow'!E8","v":174807061.34},{"$f":"'A7-CFlow'!F6+'A7-CFlow'!F7+'A7-CFlow'!F8","v":53668035},{"$f":"'A7-CFlow'!G6+'A7-CFlow'!G7+'A7-CFlow'!G8","v":79207789},{"$f":"'A7-CFlow'!H6+'A7-CFlow'!H7+'A7-CFlow'!H8","v":79207789},{"$f":"'A7-CFlow'!I6+'A7-CFlow'!I7+'A7-CFlow'!I8","v":-324613594.15000004},{"$f":"'A7-CFlow'!J6+'A7-CFlow'!J7+'A7-CFlow'!J8","v":64357202},{"$f":"'A7-CFlow'!K6+'A7-CFlow'!K7+'A7-CFlow'!K8","v":67574010},{"$f":"'A7-CFlow'!L6+'A7-CFlow'!L7+'A7-CFlow'!L8","v":81235130}]
["Ratepayer & Other revenue","18(1)a",null,{"$f":"SUM('A4-FinPerf RE'!C5:C11)+'A4-FinPerf RE'!C13+SUM('A4-FinPerf RE'!C15:C17)+'A4-FinPerf RE'!C19","v":122332739.95999999},{"$f":"SUM('A4-FinPerf RE'!D5:D11)+'A4-FinPerf RE'!D13+SUM('A4-FinPerf RE'!D15:D17)+'A4-FinPerf RE'!D19","v":113496185.11},{"$f":"SUM('A4-FinPerf RE'!E5:E11)+'A4-FinPerf RE'!E13+SUM('A4-FinPerf RE'!E15:E17)+'A4-FinPerf RE'!E19","v":181267259},{"$f":"SUM('A4-FinPerf RE'!F5:F11)+'A4-FinPerf RE'!F13+SUM('A4-FinPerf RE'!F15:F17)+'A4-FinPerf RE'!F19","v":113038489},{"$f":"SUM('A4-FinPerf RE'!G5:G11)+'A4-FinPerf RE'!G13+SUM('A4-FinPerf RE'!G15:G17)+'A4-FinPerf RE'!G19","v":115253489},{"$f":"SUM('A4-FinPerf RE'!H5:H11)+'A4-FinPerf RE'!H13+SUM('A4-FinPerf RE'!H15:H17)+'A4-FinPerf RE'!H19","v":115253489},{"$f":"SUM('A4-FinPerf RE'!I5:I11)+'A4-FinPerf RE'!I13+SUM('A4-FinPerf RE'!I15:I17)+'A4-FinPerf RE'!I19","v":97400781.689999998},{"$f":"SUM('A4-FinPerf RE'!J5:J11)+'A4-FinPerf RE'!J13+SUM('A4-FinPerf RE'!J15:J17)+'A4-FinPerf RE'!J19","v":121016164},{"$f":"SUM('A4-FinPerf RE'!K5:K11)+'A4-FinPerf RE'!K13+SUM('A4-FinPerf RE'!K15:K17)+'A4-FinPerf RE'!K19","v":127066971},{"$f":"SUM('A4-FinPerf RE'!L5:L11)+'A4-FinPerf RE'!L13+SUM('A4-FinPerf RE'!L15:L17)+'A4-FinPerf RE'!L19","v":133420322}]
["Change in consumer debtors (current and non-current)",null,null,{"$f":"D78","v":37698522.101666674},{"$f":"(SUM('A6-FinPos'!D8:D10)+'A6-FinPos'!D15)-(SUM('A6-FinPos'!C8:C10)+'A6-FinPos'!C15)","v":26069790.969999969},{"$f":"(SUM('A6-FinPos'!E8:E10)+'A6-FinPos'!E15)-(SUM('A6-FinPos'!D8:D10)+'A6-FinPos'!D15)","v":90647507.460000098},{"$f":"(SUM('A6-FinPos'!F8:F10)+'A6-FinPos'!F15)-(SUM('A6-FinPos'!E8:E10)+'A6-FinPos'!E15)","v":-111831319.81000006},{"$f":"(SUM('A6-FinPos'!G8:G10)+'A6-FinPos'!G15)-(SUM('A6-FinPos'!E8:E10)+'A6-FinPos'!E15)","v":-130651992.81000006},{"$f":"(SUM('A6-FinPos'!H8:H10)+'A6-FinPos'!H15)-(SUM('A6-FinPos'!E8:E10)+'A6-FinPos'!E15)","v":-130651992.81000006},{"$f":"(SUM('A6-FinPos'!I8:I10)+'A6-FinPos'!I15)-(SUM('A6-FinPos'!E8:E10)+'A6-FinPos'!E15)","v":85452837.159999967},{"$f":"(SUM('A6-FinPos'!J8:J10)+'A6-FinPos'!J15)-(SUM('A6-FinPos'!F8:F10)+'A6-FinPos'!F15)","v":-26335700},{"$f":"(SUM('A6-FinPos'!K8:K10)+'A6-FinPos'!K15)-(SUM('A6-FinPos'!J8:J10)+'A6-FinPos'!J15)","v":-2640777},{"$f":"(SUM('A6-FinPos'!L8:L10)+'A6-FinPos'!L15)-(SUM('A6-FinPos'!K8:K10)+'A6-FinPos'!K15)","v":-13055235}]
["Operating and Capital Grant Revenue","18(1)a",null,{"$f":"'A4-FinPerf RE'!C18+'A4-FinPerf RE'!C38","v":1320392205.02},{"$f":"'A4-FinPerf RE'!D18+'A4-FinPerf RE'!D38","v":1303105672.9200001},{"$f":"'A4-FinPerf RE'!E18+'A4-FinPerf RE'!E38","v":1523420789.6000001},{"$f":"'A4-FinPerf RE'!F18+'A4-FinPerf RE'!F38","v":1398014000},{"$f":"'A4-FinPerf RE'!G18+'A4-FinPerf RE'!G38","v":1403314000},{"$f":"'A4-FinPerf RE'!H18+'A4-FinPerf RE'!H38","v":1403314000},{"$f":"'A4-FinPerf RE'!I18+'A4-FinPerf RE'!I38","v":1163767088.28},{"$f":"'A4-FinPerf RE'!J18+'A4-FinPerf RE'!J38","v":1556920000},{"$f":"'A4-FinPerf RE'!K18+'A4-FinPerf RE'!K38","v":1650913000},{"$f":"'A4-FinPerf RE'!L18+'A4-FinPerf RE'!L38","v":1765498000}]
["Capital expenditure - total",{"$f":"B17","v":"20(1)(vi)"},null,{"$f":"'A5-Capex'!C40","v":457492910.36999995},{"$f":"'A5-Capex'!D40","v":390198097.97000003},{"$f":"'A5-Capex'!E40","v":429537047.58999997},{"$f":"'A5-Capex'!F40","v":424001000},{"$f":"'A5-Capex'!G40","v":397397708},{"$f":"'A5-Capex'!H40","v":397397708},{"$f":"'A5-Capex'!I40","v":253043211.15000001},{"$f":"'A5-Capex'!J40","v":489206441},{"$f":"'A5-Capex'!K40","v":511713530},{"$f":"'A5-Capex'!L40","v":520355239}]
["Capital expenditure - renewal",{"$f":"B18","v":"20(1)(vi)"},null,{"$f":"'A9-Asset'!C37","v":5086255.0299999993},{"$f":"'A9-Asset'!D37","v":93985584.469999999},{"$f":"'A9-Asset'!E37","v":136758176.68000001},{"$f":"'A9-Asset'!F37","v":32586829},{"$f":"'A9-Asset'!G37","v":24121865},{"$f":"'A9-Asset'!H37","v":24121865},null,{"$f":"'A9-Asset'!I37","v":4042603},{"$f":"'A9-Asset'!J37","v":6860000},{"$f":"'A9-Asset'!K37","v":6000000}]
[]
["Supporting benchmarks"]
["Growth guideline maximum",null,null,0.06,0.06,0.06,0.06,0.06,0.06,0.06,0.06,0.06,0.06]
["CPI guideline",null,null,4.2999999999999997E-2,3.9E-2,4.5999999999999999E-2,0.05,0.05,0.05,0.05,5.3999999999999999E-2,5.6000000000000001E-2,5.3999999999999999E-2]
["DoRA operating grants total MFY"]
["DoRA capital grants total MFY"]
["Provincial operating grants"]
["Provincial capital grants"]
["District Municipality grants"]
["Total gazetted/advised national, provincial and district grants",null,null,null,null,null,null,null,null,null,{"$f":"SUM(K63:K67)","v":0},{"$f":"SUM(L63:L67)","v":0},{"$f":"SUM(M63:M67)","v":0}]
["Average annual collection rate (arrears inclusive)"]
[]
["DoRA operating"]
[]
[null,null,null,null,null,null,null,null,null,null,{"$f":"SUM(K72:K72)","v":0},{"$f":"SUM(L72:L72)","v":0},{"$f":"SUM(M72:M72)","v":0}]
[]
[]
[null,null,null,null,null,null,null,null,null,null,{"$f":"SUM(K74:K75)","v":0},{"$f":"SUM(L74:L75)","v":0},{"$f":"SUM(M74:M75)","v":0}]
["Trend"]
[{"$f":"A55","v":"Change in consumer debtors (current and non-current)"},null,null,{"$f":"TREND(E78:G78)","v":37698522.101666674},{"$f":"E55","v":26069790.969999969},{"$f":"F55","v":90647507.460000098},{"$f":"J55","v":85452837.159999967},-26335700,-2640777,-13055235,0,0,0]
[]
["Total Operating Revenue",null,null,{"$f":"'A1-Sum'!B10","v":1319726183.8599999},{"$f":"'A1-Sum'!C10","v":982574334.49000001},{"$f":"'A1-Sum'!D10","v":1270964416.96},{"$f":"'A1-Sum'!E10","v":1113046877},{"$f":"'A1-Sum'!F10","v":1161361877},{"$f":"'A1-Sum'!G10","v":1161361877},{"$f":"'A1-Sum'!H10","v":1010561627.4800001},{"$f":"'A1-Sum'!I10","v":1230949149},{"$f":"'A1-Sum'!J10","v":1299361902},{"$f":"'A1-Sum'!K10","v":1410936397}]
["Total Operating Expenditure",null,null,{"$f":"'A1-Sum'!B18","v":887727516.01999998},{"$f":"'A1-Sum'!C18","v":938234335.77999997},{"$f":"'A1-Sum'!D18","v":921880888.34000003},{"$f":"'A1-Sum'!E18","v":1103532298},{"$f":"'A1-Sum'!F18","v":1150928009},{"$f":"'A1-Sum'!G18","v":1150928009},{"$f":"'A1-Sum'!H18","v":679408617.29999995},{"$f":"'A1-Sum'!I18","v":1210585736},{"$f":"'A1-Sum'!J18","v":1288926308},{"$f":"'A1-Sum'!K18","v":1401284070}]
["Operating Performance Surplus/(Deficit)",null,null,{"$f":"D80-D81","v":431998667.83999991},{"$f":"E80-E81","v":44339998.710000038},349083528.62,9514579,10433868,10433868,331153010.18000019,{"$f":"K80-K81","v":20363413},10435594,9652327]
["Cash and Cash Equivalents (30 June 2012)",null,null,null,null,null,null,null,null,null,{"$f":"'A7-CFlow'!J40","v":280203917}]
["Revenue"]
["% Increase in Total Operating Revenue",null,null,null,{"$f":"IF(ISERROR(('A1-Sum'!C10-'A1-Sum'!B10)/'A1-Sum'!B10),0,(('A1-Sum'!C10-'A1-Sum'!B10)/'A1-Sum'!B10))","v":-0.25547106171969824},{"$f":"IF(ISERROR(('A1-Sum'!D10-'A1-Sum'!C10)/'A1-Sum'!C10),0,(('A1-Sum'!D10-'A1-Sum'!C10)/'A1-Sum'!C10))","v":0.29350459537464652},{"$f":"IF(ISERROR(('A1-Sum'!E10-'A1-Sum'!D10)/'A1-Sum'!D10),0,(('A1-Sum'!E10-'A1-Sum'!D10)/'A1-Sum'!D10))","v":-0.12425016613582349},{"$f":"IF(ISERROR(('A1-Sum'!F10-'A1-Sum'!E10)/'A1-Sum'!E10),0,(('A1-Sum'!F10-'A1-Sum'!E10)/'A1-Sum'!E10))","v":4.3407875264179011E-2},{"$f":"IF(ISERROR(('A1-Sum'!G10-'A1-Sum'!F10)/'A1-Sum'!F10),0,(('A1-Sum'!G10-'A1-Sum'!F10)/'A1-Sum'!F10))","v":0},{"$f":"IF(ISERROR(('A1-Sum'!H10-'A1-Sum'!G10)/'A1-Sum'!G10),0,(('A1-Sum'!H10-'A1-Sum'!G10)/'A1-Sum'!G10))","v":-0.12984776968014755},{"$f":"IF(ISERROR(('A1-Sum'!I10-'A1-Sum'!F10)/'A1-Sum'!F10),0,(('A1-Sum'!I10-'A1-Sum'!F10)/'A1-Sum'!F10))","v":5.9918681143345295E-2},{"$f":"IF(ISERROR(('A1-Sum'!J10-'A1-Sum'!I10)/'A1-Sum'!I10),0,(('A1-Sum'!J10-'A1-Sum'!I10)/'A1-Sum'!I10))","v":5.5577237333952617E-2},{"$f":"IF(ISERROR(('A1-Sum'!K10-'A1-Sum'!J10)/'A1-Sum'!J10),0,(('A1-Sum'!K10-'A1-Sum'!J10)/'A1-Sum'!J10))","v":8.5868682795965184E-2}]
["% Increase in Property Rates Revenue",null,null,null,{"$f":"IF(ISERROR(('A4-FinPerf RE'!D5-'A4-FinPerf RE'!C5)/'A4-FinPerf RE'!C5),0,(('A4-FinPerf RE'!D5-'A4-FinPerf RE'!C5)/'A4-FinPerf RE'!C5))","v":0},{"$f":"IF(ISERROR(('A4-FinPerf RE'!E5-'A4-FinPerf RE'!D5)/'A4-FinPerf RE'!D5),0,(('A4-FinPerf RE'!E5-'A4-FinPerf RE'!D5)/'A4-FinPerf RE'!D5))","v":0},{"$f":"IF(ISERROR(('A4-FinPerf RE'!F5-'A4-FinPerf RE'!E5)/'A4-FinPerf RE'!E5),0,(('A4-FinPerf RE'!F5-'A4-FinPerf RE'!E5)/'A4-FinPerf RE'!E5))","v":0},{"$f":"IF(ISERROR(('A4-FinPerf RE'!G5-'A4-FinPerf RE'!F5)/'A4-FinPerf RE'!F5),0,(('A4-FinPerf RE'!G5-'A4-FinPerf RE'!F5)/'A4-FinPerf RE'!F5))","v":0},{"$f":"IF(ISERROR(('A4-FinPerf RE'!H5-'A4-FinPerf RE'!G5)/'A4-FinPerf RE'!G5),0,(('A4-FinPerf RE'!H5-'A4-FinPerf RE'!G5)/'A4-FinPerf RE'!G5))","v":0},{"$f":"IF(ISERROR(('A4-FinPerf RE'!I5-'A4-FinPerf RE'!H5)/'A4-FinPerf RE'!H5),0,(('A4-FinPerf RE'!I5-'A4-FinPerf RE'!H5)/'A4-FinPerf RE'!H5))","v":0},{"$f":"IF(ISERROR(('A4-FinPerf RE'!J5-'A4-FinPerf RE'!G5)/'A4-FinPerf RE'!G5),0,(('A4-FinPerf RE'!J5-'A4-FinPerf RE'!G5)/'A4-FinPerf RE'!G5))","v":0},{"$f":"IF(ISERROR(('A4-FinPerf RE'!K5-'A4-FinPerf RE'!J5)/'A4-FinPerf RE'!J5),0,(('A4-FinPerf RE'!K5-'A4-FinPerf RE'!J5)/'A4-FinPerf RE'!J5))","v":0},{"$f":"IF(ISERROR(('A4-FinPerf RE'!L5-'A4-FinPerf RE'!K5)/'A4-FinPerf RE'!K5),0,(('A4-FinPerf RE'!L5-'A4-FinPerf RE'!K5)/'A4-FinPerf RE'!K5))","v":0}]
["% Increase in Electricity Revenue",null,null,null,{"$f":"IF(ISERROR(('A4-FinPerf RE'!D6-'A4-FinPerf RE'!C6)/'A4-FinPerf RE'!C6),0,(('A4-FinPerf RE'!D6-'A4-FinPerf RE'!C6)/'A4-FinPerf RE'!C6))","v":0},{"$f":"IF(ISERROR(('A4-FinPerf RE'!E6-'A4-FinPerf RE'!D6)/'A4-FinPerf RE'!D6),0,(('A4-FinPerf RE'!E6-'A4-FinPerf RE'!D6)/'A4-FinPerf RE'!D6))","v":0},{"$f":"IF(ISERROR(('A4-FinPerf RE'!F6-'A4-FinPerf RE'!E6)/'A4-FinPerf RE'!E6),0,(('A4-FinPerf RE'!F6-'A4-FinPerf RE'!E6)/'A4-FinPerf RE'!E6))","v":0},{"$f":"IF(ISERROR(('A4-FinPerf RE'!G6-'A4-FinPerf RE'!F6)/'A4-FinPerf RE'!F6),0,(('A4-FinPerf RE'!G6-'A4-FinPerf RE'!F6)/'A4-FinPerf RE'!F6))","v":0},{"$f":"IF(ISERROR(('A4-FinPerf RE'!H6-'A4-FinPerf RE'!G6)/'A4-FinPerf RE'!G6),0,(('A4-FinPerf RE'!H6-'A4-FinPerf RE'!G6)/'A4-FinPerf RE'!G6))","v":0},{"$f":"IF(ISERROR(('A4-FinPerf RE'!I6-'A4-FinPerf RE'!H6)/'A4-FinPerf RE'!H6),0,(('A4-FinPerf RE'!I6-'A4-FinPerf RE'!H6)/'A4-FinPerf RE'!H6))","v":0},{"$f":"IF(ISERROR(('A4-FinPerf RE'!J6-'A4-FinPerf RE'!G6)/'A4-FinPerf RE'!G6),0,(('A4-FinPerf RE'!J6-'A4-FinPerf RE'!G6)/'A4-FinPerf RE'!G6))","v":0},{"$f":"IF(ISERROR(('A4-FinPerf RE'!K6-'A4-FinPerf RE'!J6)/'A4-FinPerf RE'!J6),0,(('A4-FinPerf RE'!K6-'A4-FinPerf RE'!J6)/'A4-FinPerf RE'!J6))","v":0},{"$f":"IF(ISERROR(('A4-FinPerf RE'!L6-'A4-FinPerf RE'!K6)/'A4-FinPerf RE'!K6),0,(('A4-FinPerf RE'!L6-'A4-FinPerf RE'!K6)/'A4-FinPerf RE'!K6))","v":0}]
["% Increase in Property Rates & Services Charges",null,null,null,{"$f":"IF(ISERROR((('A1-Sum'!C5+'A1-Sum'!C6)-('A1-Sum'!B5+'A1-Sum'!B6))/('A1-Sum'!B5+'A1-Sum'!B6)),0,((('A1-Sum'!C5+'A1-Sum'!C6)-('A1-Sum'!B5+'A1-Sum'!B6))/('A1-Sum'!B5+'A1-Sum'!B6)))","v":0.10158800610539857},{"$f":"IF(ISERROR((('A1-Sum'!D5+'A1-Sum'!D6)-('A1-Sum'!C5+'A1-Sum'!C6))/('A1-Sum'!C5+'A1-Sum'!C6)),0,((('A1-Sum'!D5+'A1-Sum'!D6)-('A1-Sum'!C5+'A1-Sum'!C6))/('A1-Sum'!C5+'A1-Sum'!C6)))","v":-0.10017364311691303},{"$f":"IF(ISERROR((('A1-Sum'!E5+'A1-Sum'!E6)-('A1-Sum'!D5+'A1-Sum'!D6))/('A1-Sum'!D5+'A1-Sum'!D6)),0,((('A1-Sum'!E5+'A1-Sum'!E6)-('A1-Sum'!D5+'A1-Sum'!D6))/('A1-Sum'!D5+'A1-Sum'!D6)))","v":0.12324458972553726},{"$f":"IF(ISERROR((('A1-Sum'!F5+'A1-Sum'!F6)-('A1-Sum'!E5+'A1-Sum'!E6))/('A1-Sum'!E5+'A1-Sum'!E6)),0,((('A1-Sum'!F5+'A1-Sum'!F6)-('A1-Sum'!E5+'A1-Sum'!E6))/('A1-Sum'!E5+'A1-Sum'!E6)))","v":2.9001198010279963E-2},{"$f":"IF(ISERROR((('A1-Sum'!G5+'A1-Sum'!G6)-('A1-Sum'!F5+'A1-Sum'!F6))/('A1-Sum'!F5+'A1-Sum'!F6)),0,((('A1-Sum'!G5+'A1-Sum'!G6)-('A1-Sum'!F5+'A1-Sum'!F6))/('A1-Sum'!F5+'A1-Sum'!F6)))","v":0},{"$f":"IF(ISERROR((('A1-Sum'!H5+'A1-Sum'!H6)-('A1-Sum'!G5+'A1-Sum'!G6))/('A1-Sum'!G5+'A1-Sum'!G6)),0,((('A1-Sum'!H5+'A1-Sum'!H6)-('A1-Sum'!G5+'A1-Sum'!G6))/('A1-Sum'!G5+'A1-Sum'!G6)))","v":-0.14513854711063043},{"$f":"IF(ISERROR((('A1-Sum'!I5+'A1-Sum'!I6)-('A1-Sum'!F5+'A1-Sum'!F6))/('A1-Sum'!F5+'A1-Sum'!F6)),0,((('A1-Sum'!I5+'A1-Sum'!I6)-('A1-Sum'!F5+'A1-Sum'!F6))/('A1-Sum'!F5+'A1-Sum'!F6)))","v":4.9999995437868747E-2},{"$f":"IF(ISERROR((('A1-Sum'!J5+'A1-Sum'!J6)-('A1-Sum'!I5+'A1-Sum'!I6))/('A1-Sum'!I5+'A1-Sum'!I6)),0,((('A1-Sum'!J5+'A1-Sum'!J6)-('A1-Sum'!I5+'A1-Sum'!I6))/('A1-Sum'!I5+'A1-Sum'!I6)))","v":5.0000002896591289E-2},{"$f":"IF(ISERROR((('A1-Sum'!K5+'A1-Sum'!K6)-('A1-Sum'!J5+'A1-Sum'!J6))/('A1-Sum'!J5+'A1-Sum'!J6)),0,((('A1-Sum'!K5+'A1-Sum'!K6)-('A1-Sum'!J5+'A1-Sum'!J6))/('A1-Sum'!J5+'A1-Sum'!J6)))","v":5.000001149440983E-2}]
["Expenditure"]
["% Increase in Total Operating Expenditure",null,null,null,{"$f":"IF(ISERROR(('A1-Sum'!C18-'A1-Sum'!B18)/'A1-Sum'!B18),0,(('A1-Sum'!C18-'A1-Sum'!B18)/'A1-Sum'!B18))","v":5.6894507434488602E-2},{"$f":"IF(ISERROR(('A1-Sum'!D18-'A1-Sum'!C18)/'A1-Sum'!C18),0,(('A1-Sum'!D18-'A1-Sum'!C18)/'A1-Sum'!C18))","v":-1.7430024479337052E-2},{"$f":"IF(ISERROR(('A1-Sum'!E18-'A1-Sum'!D18)/'A1-Sum'!D18),0,(('A1-Sum'!E18-'A1-Sum'!D18)/'A1-Sum'!D18))","v":0.19704433832780019},{"$f":"IF(ISERROR(('A1-Sum'!F18-'A1-Sum'!E18)/'A1-Sum'!E18),0,(('A1-Sum'!F18-'A1-Sum'!E18)/'A1-Sum'!E18))","v":4.2949092732399573E-2},{"$f":"IF(ISERROR(('A1-Sum'!G18-'A1-Sum'!F18)/'A1-Sum'!F18),0,(('A1-Sum'!G18-'A1-Sum'!F18)/'A1-Sum'!F18))","v":0},{"$f":"IF(ISERROR(('A1-Sum'!H18-'A1-Sum'!G18)/'A1-Sum'!G18),0,(('A1-Sum'!H18-'A1-Sum'!G18)/'A1-Sum'!G18))","v":-0.40968626014209725},{"$f":"IF(ISERROR(('A1-Sum'!I18-'A1-Sum'!F18)/'A1-Sum'!F18),0,(('A1-Sum'!I18-'A1-Sum'!F18)/'A1-Sum'!F18))","v":5.1834455790014576E-2},{"$f":"IF(ISERROR(('A1-Sum'!J18-'A1-Sum'!I18)/'A1-Sum'!I18),0,(('A1-Sum'!J18-'A1-Sum'!I18)/'A1-Sum'!I18))","v":6.4712948178996227E-2},{"$f":"IF(ISERROR(('A1-Sum'!K18-'A1-Sum'!J18)/'A1-Sum'!J18),0,(('A1-Sum'!K18-'A1-Sum'!J18)/'A1-Sum'!J18))","v":8.7171594917899678E-2}]
["% Increase in Employee Costs",null,null,null,{"$f":"IF(ISERROR(('A1-Sum'!C11-'A1-Sum'!B11)/'A1-Sum'!B11),0,(('A1-Sum'!C11-'A1-Sum'!B11)/'A1-Sum'!B11))","v":5.9138949897160217E-2},{"$f":"IF(ISERROR(('A1-Sum'!D11-'A1-Sum'!C11)/'A1-Sum'!C11),0,(('A1-Sum'!D11-'A1-Sum'!C11)/'A1-Sum'!C11))","v":4.5434251291239493E-2},{"$f":"IF(ISERROR(('A1-Sum'!E11-'A1-Sum'!D11)/'A1-Sum'!D11),0,(('A1-Sum'!E11-'A1-Sum'!D11)/'A1-Sum'!D11))","v":4.8278077563981114E-2},{"$f":"IF(ISERROR(('A1-Sum'!F11-'A1-Sum'!E11)/'A1-Sum'!E11),0,(('A1-Sum'!F11-'A1-Sum'!E11)/'A1-Sum'!E11))","v":-3.144799347411438E-2},{"$f":"IF(ISERROR(('A1-Sum'!G11-'A1-Sum'!F11)/'A1-Sum'!F11),0,(('A1-Sum'!G11-'A1-Sum'!F11)/'A1-Sum'!F11))","v":0},{"$f":"IF(ISERROR(('A1-Sum'!H11-'A1-Sum'!G11)/'A1-Sum'!G11),0,(('A1-Sum'!H11-'A1-Sum'!G11)/'A1-Sum'!G11))","v":-0.11899265537753974},{"$f":"IF(ISERROR(('A1-Sum'!I11-'A1-Sum'!F11)/'A1-Sum'!F11),0,(('A1-Sum'!I11-'A1-Sum'!F11)/'A1-Sum'!F11))","v":9.5166871074628526E-2},{"$f":"IF(ISERROR(('A1-Sum'!J11-'A1-Sum'!I11)/'A1-Sum'!I11),0,(('A1-Sum'!J11-'A1-Sum'!I11)/'A1-Sum'!I11))","v":-2.3344700547524985E-3},{"$f":"IF(ISERROR(('A1-Sum'!K11-'A1-Sum'!J11)/'A1-Sum'!J11),0,(('A1-Sum'!K11-'A1-Sum'!J11)/'A1-Sum'!J11))","v":5.545120674039368E-2}]
["% Increase in Electricity Bulk Purchases",null,null,null,{"$f":"IF(ISERROR(('SA1'!D86-'SA1'!C86)/'SA1'!C86),0,(('SA1'!D86-'SA1'!C86)/'SA1'!C86))","v":0},{"$f":"IF(ISERROR(('SA1'!E86-'SA1'!D86)/'SA1'!D86),0,(('SA1'!E86-'SA1'!D86)/'SA1'!D86))","v":0},{"$f":"IF(ISERROR(('SA1'!F86-'SA1'!E86)/'SA1'!E86),0,(('SA1'!F86-'SA1'!E86)/'SA1'!E86))","v":0},{"$f":"IF(ISERROR(('SA1'!G86-'SA1'!F86)/'SA1'!F86),0,(('SA1'!G86-'SA1'!F86)/'SA1'!F86))","v":0},{"$f":"IF(ISERROR(('SA1'!H86-'SA1'!G86)/'SA1'!G86),0,(('SA1'!H86-'SA1'!G86)/'SA1'!G86))","v":0},{"$f":"IF(ISERROR(('SA1'!I86-'SA1'!H86)/'SA1'!H86),0,(('SA1'!I86-'SA1'!H86)/'SA1'!H86))","v":0},{"$f":"IF(ISERROR(('SA1'!J86-'SA1'!G86)/'SA1'!G86),0,(('SA1'!J86-'SA1'!G86)/'SA1'!G86))","v":0},{"$f":"IF(ISERROR(('SA1'!K86-'SA1'!J86)/'SA1'!J86),0,(('SA1'!K86-'SA1'!J86)/'SA1'!J86))","v":0},{"$f":"IF(ISERROR(('SA1'!L86-'SA1'!K86)/'SA1'!K86),0,(('SA1'!L86-'SA1'!K86)/'SA1'!K86))","v":0}]
["Average Cost Per Budgeted Employee Position (Remuneration)",null,null,null,null,{"$f":"IF(ISERROR('A1-Sum'!D11/('SA24'!D36+'SA24'!E36-'SA24'!C5)),0,('A1-Sum'!D11/('SA24'!D36+'SA24'!E36-'SA24'!C5)))","v":805417.74754385964},{"$f":"IF(ISERROR('A1-Sum'!E11/('SA24'!F36-'SA24'!F5)),0,('A1-Sum'!E11/('SA24'!F36-'SA24'!F5)))","v":4559229.5473684212},null,null,null,{"$f":"IF(ISERROR('A1-Sum'!I11/('SA24'!I36-'SA24'!I5)),0,('A1-Sum'!I11/('SA24'!I36-'SA24'!I5)))","v":4836093.6421052627}]
["Average Cost Per Councillor (Remuneration)",null,null,null,null,{"$f":"IF(ISERROR('A1-Sum'!D12/'SA24'!C5),0,('A1-Sum'!D12/'SA24'!C5))","v":0},{"$f":"IF(ISERROR('A1-Sum'!E12/'SA24'!F5),0,('A1-Sum'!E12/'SA24'!F5))","v":0},null,null,null,{"$f":"IF(ISERROR('A1-Sum'!I12/'SA24'!I5),0,('A1-Sum'!I12/'SA24'!I5))","v":0}]
["R&M % of PPE",null,null,{"$f":"'A9-Asset'!C205","v":3.5999999999999997E-2},{"$f":"'A9-Asset'!D205","v":2.7E-2},{"$f":"'A9-Asset'!E205","v":2.4E-2},{"$f":"'A9-Asset'!F205","v":3.5000000000000003E-2},{"$f":"'A9-Asset'!G205","v":4.7E-2},{"$f":"'A9-Asset'!H205","v":4.7E-2},null,{"$f":"'A9-Asset'!I205","v":3.3000000000000002E-2},{"$f":"'A9-Asset'!J205","v":3.2000000000000001E-2},{"$f":"'A9-Asset'!K205","v":3.2000000000000001E-2}]
["Asset Renewal and R&M as a % of PPE",null,null,{"$f":"'A9-Asset'!C206","v":0.06},{"$f":"'A9-Asset'!D206","v":0.09},{"$f":"'A9-Asset'!E206","v":0.09},{"$f":"'A9-Asset'!F206","v":0.06},{"$f":"'A9-Asset'!G206","v":0.08},{"$f":"'A9-Asset'!H206","v":0.08},null,{"$f":"'A9-Asset'!I206","v":0.05},{"$f":"'A9-Asset'!J206","v":0.05},{"$f":"'A9-Asset'!K206","v":0.05}]
["Debt Impairment % of Total Billable Revenue",null,null,{"$f":"'SA10'!D11","v":0},{"$f":"'SA10'!E11","v":2.7733694634437204E-2},{"$f":"'SA10'!F11","v":7.8406843000086788E-4},{"$f":"'SA10'!G11","v":0.1107365888054395},{"$f":"'SA10'!H11","v":0.10761560727000555},{"$f":"'SA10'!I11","v":0.10761560727000555},{"$f":"'SA10'!J11","v":0},{"$f":"'SA10'!K11","v":0.10659069718770145},{"$f":"'SA10'!L11","v":0.10598160351890783},{"$f":"'SA10'!M11","v":0.10547693340393864}]
["Capital Revenue"]
["Internally Funded & Other (R'000)",null,null,{"$f":"'A1-Sum'!B29+'A1-Sum'!B31","v":8740883.9000000004},{"$f":"'A1-Sum'!C29+'A1-Sum'!C31","v":3319703.09},{"$f":"'A1-Sum'!D29+'A1-Sum'!D31","v":29210026.829999998},{"$f":"'A1-Sum'!E29+'A1-Sum'!E31","v":8100000},{"$f":"'A1-Sum'!F29+'A1-Sum'!F31","v":17780000},{"$f":"'A1-Sum'!G29+'A1-Sum'!G31","v":17780000},{"$f":"'A1-Sum'!H29+'A1-Sum'!H31","v":8149064.6799999997},{"$f":"'A1-Sum'!I29+'A1-Sum'!I31","v":20130000},{"$f":"'A1-Sum'!J29+'A1-Sum'!J31","v":10031520},{"$f":"'A1-Sum'!K29+'A1-Sum'!K31","v":8269239}]
["Borrowing (R'000)",null,null,{"$f":"'A1-Sum'!B30","v":0},{"$f":"'A1-Sum'!C30","v":0},{"$f":"'A1-Sum'!D30","v":0},{"$f":"'A1-Sum'!E30","v":0},{"$f":"'A1-Sum'!F30","v":0},{"$f":"'A1-Sum'!G30","v":0},{"$f":"'A1-Sum'!H30","v":0},{"$f":"'A1-Sum'!I30","v":0},{"$f":"'A1-Sum'!J30","v":0},{"$f":"'A1-Sum'!K30","v":0}]
["Grant Funding and Other (R'000)",null,null,{"$f":"'A1-Sum'!B28","v":449103607.43000001},{"$f":"'A1-Sum'!C28","v":386878394.88},{"$f":"'A1-Sum'!D28","v":400327020.75999999},{"$f":"'A1-Sum'!E28","v":415901000},{"$f":"'A1-Sum'!F28","v":379617708},{"$f":"'A1-Sum'!G28","v":379617708},{"$f":"'A1-Sum'!H28","v":244894146.47},{"$f":"'A1-Sum'!I28","v":469076441},{"$f":"'A1-Sum'!J28","v":501682010},{"$f":"'A1-Sum'!K28","v":512086000}]
["Internally Generated funds % of Non Grant Funding",null,null,{"$f":"IF(ISERROR(('A1-Sum'!B29+'A1-Sum'!B31)/('A1-Sum'!B32-'A1-Sum'!B28)),0,(('A1-Sum'!B29+'A1-Sum'!B31)/('A1-Sum'!B32-'A1-Sum'!B28)))","v":1.0000000000000027},{"$f":"IF(ISERROR(('A1-Sum'!C29+'A1-Sum'!C31)/('A1-Sum'!C32-'A1-Sum'!C28)),0,(('A1-Sum'!C29+'A1-Sum'!C31)/('A1-Sum'!C32-'A1-Sum'!C28)))","v":1.0000000000000078},{"$f":"IF(ISERROR(('A1-Sum'!D29+'A1-Sum'!D31)/('A1-Sum'!D32-'A1-Sum'!D28)),0,(('A1-Sum'!D29+'A1-Sum'!D31)/('A1-Sum'!D32-'A1-Sum'!D28)))","v":1.0000000000000004},{"$f":"IF(ISERROR(('A1-Sum'!E29+'A1-Sum'!E31)/('A1-Sum'!E32-'A1-Sum'!E28)),0,(('A1-Sum'!E29+'A1-Sum'!E31)/('A1-Sum'!E32-'A1-Sum'!E28)))","v":1},{"$f":"IF(ISERROR(('A1-Sum'!F29+'A1-Sum'!F31)/('A1-Sum'!F32-'A1-Sum'!F28)),0,(('A1-Sum'!F29+'A1-Sum'!F31)/('A1-Sum'!F32-'A1-Sum'!F28)))","v":1},{"$f":"IF(ISERROR(('A1-Sum'!G29+'A1-Sum'!G31)/('A1-Sum'!G32-'A1-Sum'!G28)),0,(('A1-Sum'!G29+'A1-Sum'!G31)/('A1-Sum'!G32-'A1-Sum'!G28)))","v":1},{"$f":"IF(ISERROR(('A1-Sum'!H29+'A1-Sum'!H31)/('A1-Sum'!H32-'A1-Sum'!H28)),0,(('A1-Sum'!H29+'A1-Sum'!H31)/('A1-Sum'!H32-'A1-Sum'!H28)))","v":0.99999999999999911},{"$f":"IF(ISERROR(('A1-Sum'!I29+'A1-Sum'!I31)/('A1-Sum'!I32-'A1-Sum'!I28)),0,(('A1-Sum'!I29+'A1-Sum'!I31)/('A1-Sum'!I32-'A1-Sum'!I28)))","v":1},{"$f":"IF(ISERROR(('A1-Sum'!J29+'A1-Sum'!J31)/('A1-Sum'!J32-'A1-Sum'!J28)),0,(('A1-Sum'!J29+'A1-Sum'!J31)/('A1-Sum'!J32-'A1-Sum'!J28)))","v":1},{"$f":"IF(ISERROR(('A1-Sum'!K29+'A1-Sum'!K31)/('A1-Sum'!K32-'A1-Sum'!K28)),0,(('A1-Sum'!K29+'A1-Sum'!K31)/('A1-Sum'!K32-'A1-Sum'!K28)))","v":1}]
["Borrowing % of Non Grant Funding",null,null,{"$f":"IF(ISERROR('A1-Sum'!B30/('A1-Sum'!B32-'A1-Sum'!B28)),0,('A1-Sum'!B30/('A1-Sum'!B32-'A1-Sum'!B28)))","v":0},{"$f":"IF(ISERROR('A1-Sum'!C30/('A1-Sum'!C32-'A1-Sum'!C28)),0,('A1-Sum'!C30/('A1-Sum'!C32-'A1-Sum'!C28)))","v":0},{"$f":"IF(ISERROR('A1-Sum'!D30/('A1-Sum'!D32-'A1-Sum'!D28)),0,('A1-Sum'!D30/('A1-Sum'!D32-'A1-Sum'!D28)))","v":0},{"$f":"IF(ISERROR('A1-Sum'!E30/('A1-Sum'!E32-'A1-Sum'!E28)),0,('A1-Sum'!E30/('A1-Sum'!E32-'A1-Sum'!E28)))","v":0},{"$f":"IF(ISERROR('A1-Sum'!F30/('A1-Sum'!F32-'A1-Sum'!F28)),0,('A1-Sum'!F30/('A1-Sum'!F32-'A1-Sum'!F28)))","v":0},{"$f":"IF(ISERROR('A1-Sum'!G30/('A1-Sum'!G32-'A1-Sum'!G28)),0,('A1-Sum'!G30/('A1-Sum'!G32-'A1-Sum'!G28)))","v":0},{"$f":"IF(ISERROR('A1-Sum'!H30/('A1-Sum'!H32-'A1-Sum'!H28)),0,('A1-Sum'!H30/('A1-Sum'!H32-'A1-Sum'!H28)))","v":0},{"$f":"IF(ISERROR('A1-Sum'!I30/('A1-Sum'!I32-'A1-Sum'!I28)),0,('A1-Sum'!I30/('A1-Sum'!I32-'A1-Sum'!I28)))","v":0},{"$f":"IF(ISERROR('A1-Sum'!J30/('A1-Sum'!J32-'A1-Sum'!J28)),0,('A1-Sum'!J30/('A1-Sum'!J32-'A1-Sum'!J28)))","v":0},{"$f":"IF(ISERROR('A1-Sum'!K30/('A1-Sum'!K32-'A1-Sum'!K28)),0,('A1-Sum'!K30/('A1-Sum'!K32-'A1-Sum'!K28)))","v":0}]
["Grant Funding % of Total Funding",null,null,{"$f":"IF(ISERROR('A1-Sum'!B28/'A1-Sum'!B32),0,('A1-Sum'!B28/'A1-Sum'!B32))","v":0.98090861839440624},{"$f":"IF(ISERROR('A1-Sum'!C28/'A1-Sum'!C32),0,('A1-Sum'!C28/'A1-Sum'!C32))","v":0.99149226224507325},{"$f":"IF(ISERROR('A1-Sum'!D28/'A1-Sum'!D32),0,('A1-Sum'!D28/'A1-Sum'!D32))","v":0.93199649018894071},{"$f":"IF(ISERROR('A1-Sum'!E28/'A1-Sum'!E32),0,('A1-Sum'!E28/'A1-Sum'!E32))","v":0.98089627147105785},{"$f":"IF(ISERROR('A1-Sum'!F28/'A1-Sum'!F32),0,('A1-Sum'!F28/'A1-Sum'!F32))","v":0.95525892665691969},{"$f":"IF(ISERROR('A1-Sum'!G28/'A1-Sum'!G32),0,('A1-Sum'!G28/'A1-Sum'!G32))","v":0.95525892665691969},{"$f":"IF(ISERROR('A1-Sum'!H28/'A1-Sum'!H32),0,('A1-Sum'!H28/'A1-Sum'!H32))","v":0.96779575850715327},{"$f":"IF(ISERROR('A1-Sum'!I28/'A1-Sum'!I32),0,('A1-Sum'!I28/'A1-Sum'!I32))","v":0.95885172738353219},{"$f":"IF(ISERROR('A1-Sum'!J28/'A1-Sum'!J32),0,('A1-Sum'!J28/'A1-Sum'!J32))","v":0.98039621895477336},{"$f":"IF(ISERROR('A1-Sum'!K28/'A1-Sum'!K32),0,('A1-Sum'!K28/'A1-Sum'!K32))","v":0.9841084736344895}]
["Capital Expenditure"]
["Total Capital Programme (R'000)",null,null,{"$f":"'A1-Sum'!B27","v":457492910.36999995},{"$f":"'A1-Sum'!C27","v":390198097.97000003},{"$f":"'A1-Sum'!D27","v":429537047.58999997},{"$f":"'A1-Sum'!E27","v":424001000},{"$f":"'A1-Sum'!F27","v":397397708},{"$f":"'A1-Sum'!G27","v":397397708},{"$f":"'A1-Sum'!H27","v":253043211.15000001},{"$f":"'A1-Sum'!I27","v":489206441},{"$f":"'A1-Sum'!J27","v":511713530},{"$f":"'A1-Sum'!K27","v":520355239}]
["Asset Renewal",null,null,{"$f":"'A1-Sum'!B55","v":5086255.0299999993},{"$f":"'A1-Sum'!C55","v":105683550.39},{"$f":"'A1-Sum'!D55","v":141676551.87},{"$f":"'A1-Sum'!E55","v":34927829},{"$f":"'A1-Sum'!F55","v":26662865},{"$f":"'A1-Sum'!G55","v":26662865},{"$f":"'A1-Sum'!H55","v":26662865},{"$f":"'A1-Sum'!I55","v":6493603},{"$f":"'A1-Sum'!J55","v":9320000},{"$f":"'A1-Sum'!K55","v":8549000}]
["Asset Renewal % of Total Capital Expenditure",null,null,{"$f":"IF(ISERROR('A1-Sum'!B55/'A1-Sum'!B32),0,('A1-Sum'!B55/'A1-Sum'!B32))","v":1.1109132306528038E-2},{"$f":"IF(ISERROR('A1-Sum'!C55/'A1-Sum'!C32),0,('A1-Sum'!C55/'A1-Sum'!C32))","v":0.27084588812661353},{"$f":"IF(ISERROR('A1-Sum'!D55/'A1-Sum'!D32),0,('A1-Sum'!D55/'A1-Sum'!D32))","v":0.32983546510109774},{"$f":"IF(ISERROR('A1-Sum'!E55/'A1-Sum'!E32),0,('A1-Sum'!E55/'A1-Sum'!E32))","v":8.2376760903865795E-2},{"$f":"IF(ISERROR('A1-Sum'!F55/'A1-Sum'!F32),0,('A1-Sum'!F55/'A1-Sum'!F32))","v":6.7093655708754113E-2},{"$f":"IF(ISERROR('A1-Sum'!G55/'A1-Sum'!G32),0,('A1-Sum'!G55/'A1-Sum'!G32))","v":6.7093655708754113E-2},{"$f":"IF(ISERROR('A1-Sum'!H55/'A1-Sum'!H32),0,('A1-Sum'!H55/'A1-Sum'!H32))","v":0.10536882170766745},{"$f":"IF(ISERROR('A1-Sum'!I55/'A1-Sum'!I32),0,('A1-Sum'!I55/'A1-Sum'!I32))","v":1.3273747963592328E-2},{"$f":"IF(ISERROR('A1-Sum'!J55/'A1-Sum'!J32),0,('A1-Sum'!J55/'A1-Sum'!J32))","v":1.8213315563495067E-2},{"$f":"IF(ISERROR('A1-Sum'!K55/'A1-Sum'!K32),0,('A1-Sum'!K55/'A1-Sum'!K32))","v":1.6429161002451249E-2}]
["Cash"]
["Cash Receipts % of Rate Payer & Other",null,null,{"$f":"'SA10'!D10","v":0},{"$f":"'SA10'!E10","v":0},{"$f":"'SA10'!F10","v":0.96436092377829796},{"$f":"'SA10'!G10","v":0.47477664886337961},{"$f":"'SA10'!H10","v":0.68724851357862149},{"$f":"'SA10'!I10","v":0.68724851357862149},{"$f":"'SA10'!J10","v":-3.3327616936705513},{"$f":"'SA10'!K10","v":0.53180666014169808},{"$f":"'SA10'!L10","v":0.53179838527826406},{"$f":"'SA10'!M10","v":0.60886624153103153}]
["Cash Coverage Ratio",null,null,{"$f":"'SA10'!D7","v":1.2872434122274532},{"$f":"'SA10'!E7","v":-2.9889487309883553},{"$f":"'SA10'!F7","v":-15.604199224387795},{"$f":"'SA10'!G7","v":14.410233737399412},{"$f":"'SA10'!H7","v":21.220111106179342},{"$f":"'SA10'!I7","v":21.220111106179342},{"$f":"'SA10'!J7","v":-23.831032538271266},{"$f":"'SA10'!K7","v":3.826532581043053},{"$f":"'SA10'!L7","v":4.4854513591104661},{"$f":"'SA10'!M7","v":5.2897404443527662}]
["Borrowing"]
[]
["Credit Rating (2009/10)",null,null,null,null,null,null,null,null,null,{"$f":"'SA8'!F6","v":0}]
["Capital Charges to Operating",null,null,{"$f":"'SA8'!C7","v":3.908103373379989E-4},{"$f":"'SA8'!D7","v":0},{"$f":"'SA8'!E7","v":0},{"$f":"'SA8'!F7","v":4.4386376446591328E-4},{"$f":"'SA8'!G7","v":4.2558526351755508E-4},{"$f":"'SA8'!H7","v":4.2558526351755508E-4},{"$f":"'SA8'!I7","v":0},{"$f":"'SA8'!J7","v":4.2079712725113426E-4},{"$f":"'SA8'!K7","v":4.1261086588047203E-4},{"$f":"'SA8'!L7","v":3.9660552196243835E-4}]
["Borrowing Receipts % of Capital Expenditure",null,null,{"$f":"'SA10'!D13","v":0},{"$f":"'SA10'!E13","v":0},{"$f":"'SA10'!F13","v":0},{"$f":"'SA10'!G13","v":0},{"$f":"'SA10'!H13","v":0},{"$f":"'SA10'!I13","v":0},{"$f":"'SA10'!J13","v":0},{"$f":"'SA10'!K13","v":0},{"$f":"'SA10'!L13","v":0},{"$f":"'SA10'!M13","v":0}]
["Reserves"]
["Surplus/(Deficit)",null,null,{"$f":"'A8-ResRecon'!C19","v":-375831620.78000003},{"$f":"'A8-ResRecon'!D19","v":-398376445.92999995},{"$f":"'A8-ResRecon'!E19","v":-512505202.32999992},{"$f":"'A8-ResRecon'!F19","v":117635215},{"$f":"'A8-ResRecon'!G19","v":167097795},{"$f":"'A8-ResRecon'!H19","v":167097795},{"$f":"'A8-ResRecon'!I19","v":-1440503519.3700001},{"$f":"'A8-ResRecon'!J19","v":96919068},{"$f":"'A8-ResRecon'!K19","v":147496324},{"$f":"'A8-ResRecon'!L19","v":100112119}]
["Free Services"]
["Free Basic Services as a % of Equitable Share",null,null,{"$f":"IF(ISERROR('A10-SerDel'!C60/'SA18'!C8),0,('A10-SerDel'!C60/'SA18'!C8))","v":0},{"$f":"IF(ISERROR('A10-SerDel'!D60/'SA18'!D8),0,('A10-SerDel'!D60/'SA18'!D8))","v":0},{"$f":"IF(ISERROR('A10-SerDel'!E60/'SA18'!E8),0,('A10-SerDel'!E60/'SA18'!E8))","v":0},{"$f":"IF(ISERROR('A10-SerDel'!F60/'SA18'!F8),0,('A10-SerDel'!F60/'SA18'!F8))","v":0},{"$f":"IF(ISERROR('A10-SerDel'!G60/'SA18'!G8),0,('A10-SerDel'!G60/'SA18'!G8))","v":0},{"$f":"IF(ISERROR('A10-SerDel'!H60/'SA18'!H8),0,('A10-SerDel'!H60/'SA18'!H8))","v":0},null,{"$f":"IF(ISERROR('A10-SerDel'!I60/'SA18'!I8),0,('A10-SerDel'!I60/'SA18'!I8))","v":0},{"$f":"IF(ISERROR('A10-SerDel'!J60/'SA18'!J8),0,('A10-SerDel'!J60/'SA18'!J8))","v":0},{"$f":"IF(ISERROR('A10-SerDel'!K60/'SA18'!K8),0,('A10-SerDel'!K60/'SA18'!K8))","v":0}]
["Free Services as a % of Operating Revenue \n(excl operational transfers)",null,null,{"$f":"IF(ISERROR('A10-SerDel'!C79/('A1-Sum'!B10-'A1-Sum'!B8)),0,('A10-SerDel'!C79/('A1-Sum'!B10-'A1-Sum'!B8)))","v":0},{"$f":"IF(ISERROR('A10-SerDel'!D79/('A1-Sum'!C10-'A1-Sum'!C8)),0,('A10-SerDel'!D79/('A1-Sum'!C10-'A1-Sum'!C8)))","v":0},{"$f":"IF(ISERROR('A10-SerDel'!E79/('A1-Sum'!D10-'A1-Sum'!D8)),0,('A10-SerDel'!E79/('A1-Sum'!D10-'A1-Sum'!D8)))","v":0},{"$f":"IF(ISERROR('A10-SerDel'!F79/('A1-Sum'!E10-'A1-Sum'!E8)),0,('A10-SerDel'!F79/('A1-Sum'!E10-'A1-Sum'!E8)))","v":0},{"$f":"IF(ISERROR('A10-SerDel'!G79/('A1-Sum'!F10-'A1-Sum'!F8)),0,('A10-SerDel'!G79/('A1-Sum'!F10-'A1-Sum'!F8)))","v":0},{"$f":"IF(ISERROR('A10-SerDel'!H79/('A1-Sum'!G10-'A1-Sum'!G8)),0,('A10-SerDel'!H79/('A1-Sum'!G10-'A1-Sum'!G8)))","v":0},null,{"$f":"IF(ISERROR('A10-SerDel'!I79/('A1-Sum'!I10-'A1-Sum'!I8)),0,('A10-SerDel'!I79/('A1-Sum'!I10-'A1-Sum'!I8)))","v":0},{"$f":"IF(ISERROR('A10-SerDel'!J79/('A1-Sum'!J10-'A1-Sum'!J8)),0,('A10-SerDel'!J79/('A1-Sum'!J10-'A1-Sum'!J8)))","v":0},{"$f":"IF(ISERROR('A10-SerDel'!K79/('A1-Sum'!K10-'A1-Sum'!K8)),0,('A10-SerDel'!K79/('A1-Sum'!K10-'A1-Sum'!K8)))","v":0}]
[]
["High Level Outcome of Funding Compliance"]
["Total Operating Revenue",null,null,{"$f":"D80","v":1319726183.8599999},{"$f":"E80","v":982574334.49000001},1270964416.96,1113046877,1161361877,1161361877,{"$f":"J80","v":1010561627.4800001},1230949149,1299361902,1410936397]
["Total Operating Expenditure",null,null,{"$f":"D81","v":887727516.01999998},938234335.77999997,921880888.34000003,1103532298,1150928009,1150928009,679408617.29999995,1210585736,1288926308,1401284070]
["Surplus/(Deficit) Budgeted Operating Statement",null,null,431998667.83999991,44339998.710000038,349083528.62,9514579,10433868,10433868,331153010.18000019,20363413,10435594,9652327]
["Surplus/(Deficit) Considering Reserves and Cash Backing",null,null,{"$f":"'A8-ResRecon'!C19","v":-375831620.78000003},{"$f":"'A8-ResRecon'!D19","v":-398376445.92999995},{"$f":"'A8-ResRecon'!E19","v":-512505202.32999992},{"$f":"'A8-ResRecon'!F19","v":117635215},{"$f":"'A8-ResRecon'!G19","v":167097795},{"$f":"'A8-ResRecon'!H19","v":167097795},{"$f":"'A8-ResRecon'!I19","v":-1440503519.3700001},{"$f":"'A8-ResRecon'!J19","v":96919068},{"$f":"'A8-ResRecon'!K19","v":147496324},{"$f":"'A8-ResRecon'!L19","v":100112119}]
["MTREF Funded (1) / Unfunded (0)",null,15,{"$f":"IF(D127>=0,1,0)","v":0},{"$f":"IF(E127>=0,1,0)","v":0},0,1,1,1,0,1,1,1]
["MTREF Funded ü / Unfunded û",null,15,{"$f":"IF(D128=1,\"ü\",\"û\")","v":"û"},{"$f":"IF(E128=1,\"ü\",\"û\")","v":"û"},"û","ü","ü","ü","û","ü","ü","ü"]
[]
[{"$f":"head27a","v":"References"}]
["15. Subject to figures provided in Schedule."]

{"sheet":"SA11","index":30,"n_rows":73,"n_cols":11,"rows_kept":73,"cut":false,"hidden":false,"merged":[[1,5,1,7],[1,8,1,10],[1,1,3,1],[1,0,2,0]]}
[{"$f":"muni&\" - \"&TableA11","v":"DC47 Sekhukhune - Supporting Table SA11 Property rates summary"}]
[{"$f":"desc","v":"Description"},{"$f":"head27","v":"Ref"},{"$f":"head1b","v":"2018/19"},{"$f":"head1A","v":"2019/20"},{"$f":"Head1","v":"2020/21"},{"$f":"Head2","v":"Current Year 2021/22"},null,null,{"$f":"Head3","v":"2022/23 Medium Term Revenue & Expenditure Framework"}]
[null,null,{"$f":"Head5","v":"Audited Outcome"},{"$f":"Head5","v":"Audited Outcome"},{"$f":"Head5","v":"Audited Outcome"},{"$f":"Head6","v":"Original Budget"},{"$f":"Head7","v":"Adjusted Budget"},{"$f":"Head8","v":"Full Year Forecast"},{"$f":"Head9","v":"Budget Year 2022/23"},{"$f":"Head10","v":"Budget Year +1 2023/24"},{"$f":"Head11","v":"Budget Year +2 2024/25"}]
[]
["Valuation:",1]
["Date of valuation:",null,"2000-01-01","2000-01-01","2000-01-01","2000-01-01"]
["Financial year valuation used"]
["Municipal by-laws s6 in place? (Y/N)","2"]
["Municipal/assistant valuer appointed? (Y/N)"]
["Municipal partnership s38 used? (Y/N)"]
["No. of assistant valuers (FTE)",3]
["No. of data collectors (FTE)",3]
["No. of internal valuers (FTE)",3]
["No. of external valuers (FTE)",3]
["No. of additional valuers (FTE)",4]
["Valuation appeal board established? (Y/N)"]
["Implementation time of new valuation roll (mths)"]
["No. of properties",5]
["No. of sectional title values",5]
["No. of unreasonably difficult properties s7(2)"]
["No. of supplementary valuations"]
["No. of valuation roll amendments"]
["No. of objections by rate payers"]
["No. of appeals by rate payers"]
["No. of successful objections",8]
["No. of successful objections > 10%",8]
["Supplementary valuation"]
["Public service infrastructure value (Rm)",5]
["Municipality owned property value (Rm)"]
["Valuation reductions:"]
["Valuation reductions-public infrastructure (Rm)"]
["Valuation reductions-nature reserves/park (Rm)"]
["Valuation reductions-mineral rights (Rm)"]
["Valuation reductions-R15,000 threshold (Rm)"]
["Valuation reductions-public worship (Rm)"]
["Valuation reductions-other (Rm)"]
["Total valuation reductions:",null,{"$f":"SUM(C31:C36)","v":0},{"$f":"SUM(D31:D36)","v":0},0,0,0,0,0,0,0]
["Total value used for rating (Rm)",5]
["Total land value (Rm)",5]
["Total value of improvements (Rm)",5]
["Total market value (Rm)",5]
[]
["Rating:"]
["Residential rate used to determine rate for other categories? (Y/N)"]
["Differential rates used? (Y/N)",5]
["Limit on annual rate increase (s20)? (Y/N)"]
["Special rating area used? (Y/N)"]
["Phasing-in properties s21 (number)"]
["Rates policy accompanying budget? (Y/N)"]
["Fixed amount minimum value (R'000)"]
["Non-residential prescribed ratio s19? (%)"]
[]
["Rate revenue:"]
["Rate revenue budget (R '000)",6]
["Rate revenue expected to collect (R'000)",6]
["Expected cash collection rate (%)"]
["Special rating areas (R'000)",7]
["Rebates, exemptions - indigent (R'000)"]
["Rebates, exemptions - pensioners (R'000)"]
["Rebates, exemptions - bona fide farm. (R'000)"]
["Rebates, exemptions - other (R'000)"]
["Phase-in reductions/discounts (R'000)"]
["Total rebates,exemptns,reductns,discs (R'000)",null,{"$f":"SUM(C58:C62)","v":0},{"$f":"SUM(D58:D62)","v":0},0,0,0,0,0,0,0]
[]
[{"$f":"head27a","v":"References"}]
["1. All numbers to be expressed as whole numbers except FTEs and Rates in the Rand"]
["2. To give effect to rates policy"]
["3. Full Time Equivalent (FTE)  should be expressed to one decimal place and takes into account full time and part time staff"]
["4. Required to implement new system (FTE)"]
["5. Provide relevant information for historical comparisons. Must reconcile to the total of Table SA12"]
[{"$f":"\"6. Current and budget year must reconcile to \"&'Template names'!F103","v":"6. Current and budget year must reconcile to Table A4 Budgeted Financial Performance (revenue and expenditure)"}]
["7. Included in rate revenue budget"]
["8. In favour of the rate-payer"]

{"sheet":"SA12a","index":31,"n_rows":56,"n_cols":19,"rows_kept":56,"cut":false,"hidden":false,"merged":[]}
[{"$f":"muni&\" - \"&TableA12a","v":"DC47 Sekhukhune - Supporting Table SA12a Property rates by category (current year)"}]
[{"$f":"desc","v":"Description"},{"$f":"head27","v":"Ref"},"Resi.","Indust.","Bus. & Comm.","Farm props.","State-owned ","Muni props.","Public service infra.","Private owned towns","Formal & Informal Settle.","Comm. Land","State trust land","Section 8(2)(n) (note 1)","Protect. Areas","National Monum/ts","Public benefit organs.","Mining Props."]
[{"$f":"Head2","v":"Current Year 2021/22"}]
["Valuation:"]
["No. of properties"]
["No. of sectional title property values"]
["No. of unreasonably difficult properties s7(2)"]
["No. of supplementary valuations"]
["Supplementary valuation (Rm)"]
["No. of valuation roll amendments"]
["No. of objections by rate-payers"]
["No. of appeals by rate-payers"]
["No. of appeals by rate-payers finalised"]
["No. of successful objections",5]
["No. of successful objections > 10%",5]
["Estimated no. of properties not valued"]
["Years since last valuation (select)"]
["Frequency of valuation (select)"]
["Method of valuation used (select)"]
["Base of valuation (select)"]
["Phasing-in properties s21 (number)"]
["Combination of rating types used? (Y/N)"]
["Flat rate used? (Y/N)"]
["Is balance rated by uniform rate/variable rate?"]
["Valuation reductions:"]
["Valuation reductions-public infrastructure (Rm)"]
["Valuation reductions-nature reserves/park (Rm)"]
["Valuation reductions-mineral rights (Rm)"]
["Valuation reductions-R15,000 threshold (Rm)"]
["Valuation reductions-public worship (Rm)"]
["Valuation reductions-other (Rm)",2]
["Total valuation reductions:"]
["Total value used for rating (Rm)",6]
["Total land value (Rm)",6]
["Total value of improvements (Rm)",6]
["Total market value (Rm)",6]
["Rating:"]
["Average rate",3]
["Rate revenue budget (R '000)",null,null,null,null,null,null,null,null,null,null,null,null,null,null,null,null,null,{"$f":"SUM(C39:R39)","v":0}]
["Rate revenue expected to collect (R'000)",null,null,null,null,null,null,null,null,null,null,null,null,null,null,null,null,null,{"$f":"SUM(C40:R40)","v":0}]
["Expected cash collection rate (%)",4]
["Special rating areas (R'000)"]
["Rebates, exemptions - indigent (R'000)"]
["Rebates, exemptions - pensioners (R'000)"]
["Rebates, exemptions - bona fide farm. (R'000)"]
["Rebates, exemptions - other (R'000)"]
["Phase-in reductions/discounts (R'000)"]
["Total rebates,exemptns,reductns,discs (R'000)"]
[]
[{"$f":"head27a","v":"References"}]
["1. Land & Assistance Act, Restitution of Land Rights, Communual Property Associations"]
["2. Include value of additional reductions is 'free' value greater than MPRA minimum."]
["3. Average rate - cents in  the Rand. Eg 10.26 cents in the Rand is 0.1026, expressed to 6 decimal places maximum"]
["4. Include arrears collections"]
["5. In favour of the rate-payer"]
["6. Provide relevant information for historical comparisons."]

{"sheet":"SA12b","index":32,"n_rows":56,"n_cols":18,"rows_kept":56,"cut":false,"hidden":false,"merged":[]}
[{"$f":"muni&\" - \"&TableA12b","v":"DC47 Sekhukhune - Supporting Table SA12b Property rates by category (budget year)"}]
[{"$f":"desc","v":"Description"},{"$f":"head27","v":"Ref"},"Resi.","Indust.","Bus. & Comm.","Farm props.","State-owned ","Muni props.","Public service infra.","Private owned towns","Formal & Informal Settle.","Comm. Land","State trust land","Section 8(2)(n) (note 1)","Protect. Areas","National Monum/ts","Public benefit organs.","Mining Props."]
[{"$f":"Head9","v":"Budget Year 2022/23"}]
["Valuation:"]
["No. of properties"]
["No. of sectional title property values"]
["No. of unreasonably difficult properties s7(2)"]
["No. of supplementary valuations"]
["Supplementary valuation (Rm)"]
["No. of valuation roll amendments"]
["No. of objections by rate-payers"]
["No. of appeals by rate-payers"]
["No. of appeals by rate-payers finalised"]
["No. of successful objections",5]
["No. of successful objections > 10%",5]
["Estimated no. of properties not valued"]
["Years since last valuation (select)"]
["Frequency of valuation (select)"]
["Method of valuation used (select)"]
["Base of valuation (select)"]
["Phasing-in properties s21 (number)"]
["Combination of rating types used? (Y/N)"]
["Flat rate used? (Y/N)"]
["Is balance rated by uniform rate/variable rate?"]
["Valuation reductions:"]
["Valuation reductions-public infrastructure (Rm)"]
["Valuation reductions-nature reserves/park (Rm)"]
["Valuation reductions-mineral rights (Rm)"]
["Valuation reductions-R15,000 threshold (Rm)"]
["Valuation reductions-public worship (Rm)"]
["Valuation reductions-other (Rm)",2]
["Total valuation reductions:"]
["Total value used for rating (Rm)",6]
["Total land value (Rm)",6]
["Total value of improvements (Rm)",6]
["Total market value (Rm)",6]
["Rating:"]
["Average rate",3]
["Rate revenue budget (R '000)"]
["Rate revenue expected to collect (R'000)"]
["Expected cash collection rate (%)",4]
["Special rating areas (R'000)"]
["Rebates, exemptions - indigent (R'000)"]
["Rebates, exemptions - pensioners (R'000)"]
["Rebates, exemptions - bona fide farm. (R'000)"]
["Rebates, exemptions - other (R'000)"]
["Phase-in reductions/discounts (R'000)"]
["Total rebates,exemptns,reductns,discs (R'000)"]
[]
[{"$f":"head27a","v":"References"}]
["1. Land & Assistance Act, Restitution of Land Rights, Communual Property Associations"]
["2. Include value of additional reductions is 'free' value greater than MPRA minimum."]
["3. Average rate - cents in  the Rand. Eg 10.26 cents in the Rand is 0.1026, expressed to 6 decimal places maximum"]
["4. Include arrears collections"]
["5. In favour of the rate-payer"]
["6. Provide relevant information for historical comparisons."]

{"sheet":"SA13a","index":33,"n_rows":90,"n_cols":19,"rows_kept":90,"cut":false,"hidden":false,"merged":[[1,6,2,6],[1,0,2,0],[1,1,2,1],[1,2,2,2],[1,3,2,3],[1,4,2,4],[1,5,2,5],[93,6,94,6],[93,0,94,0],[93,1,94,1],[93,2,94,2],[93,3,94,3],[93,4,94,4],[93,5,94,5]]}
[{"$f":"muni&\" - \"&TableA13a","v":"DC47 Sekhukhune - Supporting Table SA13a Service Tariffs by category"}]
[{"$f":"desc","v":"Description"},{"$f":"head27","v":"Ref"},"Provide description of tariff structure where appropriate",{"$f":"head1b","v":"2018/19"},{"$f":"head1A","v":"2019/20"},{"$f":"Head1","v":"2020/21"},{"$f":"Head2","v":"Current Year 2021/22"},{"$f":"Head3","v":"2022/23 Medium Term Revenue & Expenditure Framework"}]
[null,null,null,null,null,null,null,{"$f":"Head9","v":"Budget Year 2022/23"},{"$f":"Head10","v":"Budget Year +1 2023/24"},{"$f":"Head11","v":"Budget Year +2 2024/25"}]
["Property rates (rate in the Rand)",1]
["Residential properties"]
["Residential properties - vacant land"]
["Formal/informal settlements"]
["Small holdings"]
["Farm properties - used"]
["Farm properties - not used"]
["Industrial properties"]
["Business and commercial properties"]
["Communal land - residential"]
["Communal land - small holdings"]
["Communal land - farm property"]
["Communal land - business and commercial"]
["Communal land - other"]
["State-owned properties"]
["Municipal properties"]
["Public service infrastructure"]
["Privately owned towns serviced by the owner"]
["State trust land"]
["Restitution and redistribution properties"]
["Protected areas"]
["National monuments properties"]
[]
["Exemptions, reductions and rebates (Rands)"]
["Residential properties"]
["R15 000 threshhold rebate",null,null,15000,15000,15000,15000,15000,15000,15000]
["General residential rebate"]
["Indigent rebate or exemption"]
["Pensioners/social grants rebate or exemption "]
["Temporary relief rebate or exemption"]
[" Bona fide farmers rebate or exemption"]
["Other rebates or exemptions",2]
[]
["Water tariffs"]
["Domestic"]
["Basic charge/fixed fee (Rands/month)",null,null,null,null,null,null,null,null,null,null,null,null,null,null,null,null,null,{"$f":"SUM(C39:R39)","v":0}]
["Service point - vacant land (Rands/month)",null,null,null,null,null,null,null,null,null,null,null,null,null,null,null,null,null,{"$f":"SUM(C40:R40)","v":0}]
["Water usage - flat rate tariff (c/kl)"]
["Water usage - life line tariff",null,"(describe structure)"]
["Water usage - Block 1 (c/kl)",null," (fill in thresholds)"]
["Water usage - Block 2 (c/kl)",null," (fill in thresholds)"]
["Water usage - Block 3 (c/kl)",null," (fill in thresholds)"]
["Water usage - Block 4 (c/kl)",null," (fill in thresholds)"]
["Other",2]
[]
["Waste water tariffs"]
["Domestic"]
["Basic charge/fixed fee (Rands/month)"]
["Service point - vacant land (Rands/month)"]
["Waste water - flat rate tariff (c/kl)"]
["Volumetric charge - Block 1 (c/kl)",null,"(fill in structure)"]
["Volumetric charge - Block 2 (c/kl)",null,"(fill in structure)"]
["Volumetric charge - Block 3 (c/kl)",null,"(fill in structure)"]
["Volumetric charge - Block 4 (c/kl)",null,"(fill in structure)"]
["Other",2]
[]
["Electricity tariffs"]
["Domestic"]
["Basic charge/fixed fee (Rands/month)"]
["Service point - vacant land (Rands/month)"]
["FBE",null,"(how is this targeted?)"]
["Life-line tariff - meter",null,"(describe structure)"]
["Life-line tariff - prepaid",null,"(describe structure)"]
["Flat rate tariff - meter (c/kwh)"]
["Flat rate tariff - prepaid(c/kwh)"]
["Meter - IBT Block 1 (c/kwh)",null,"(fill in thresholds)"]
["Meter - IBT Block 2 (c/kwh)",null,"(fill in thresholds)"]
["Meter - IBT Block 3 (c/kwh)",null,"(fill in thresholds)"]
["Meter - IBT Block 4 (c/kwh)",null,"(fill in thresholds)"]
["Meter - IBT Block 5 (c/kwh)",null,"(fill in thresholds)"]
["Prepaid - IBT Block 1 (c/kwh)",null,"(fill in thresholds)"]
["Prepaid - IBT Block 2 (c/kwh)",null,"(fill in thresholds)"]
["Prepaid - IBT Block 3 (c/kwh)",null,"(fill in thresholds)"]
["Prepaid - IBT Block 4 (c/kwh)",null,"(fill in thresholds)"]
["Prepaid - IBT Block 5 (c/kwh)",null,"(fill in thresholds)"]
["Other",2]
[]
["Waste management tariffs"]
["Domestic"]
["Street cleaning charge"]
["Basic charge/fixed fee"]
["80l bin - once a week"]
["250l bin - once a week"]
[]
[{"$f":"head27a","v":"References"}]
["1. If properties are not rated or zero rated this must be indicated as such"]
["2.Please provide detailed descriptions on Sheet SA13b"]

{"sheet":"SA13b","index":34,"n_rows":54,"n_cols":19,"rows_kept":54,"cut":false,"hidden":false,"merged":[[98,5,99,5],[98,6,99,6],[1,6,2,6],[1,5,2,5],[1,4,2,4],[98,4,99,4],[98,0,99,0],[1,0,2,0],[1,1,2,1],[1,2,2,2],[1,3,2,3],[98,1,99,1],[98,2,99,2],[98,3,99,3]]}
[{"$f":"muni&\" - \"&TableA13b","v":"DC47 Sekhukhune - Supporting Table SA13b Service Tariffs by category - explanatory"}]
[{"$f":"desc","v":"Description"},{"$f":"head27","v":"Ref"},"Provide description of tariff structure where appropriate",{"$f":"head1b","v":"2018/19"},{"$f":"head1A","v":"2019/20"},{"$f":"Head1","v":"2020/21"},{"$f":"Head2","v":"Current Year 2021/22"},{"$f":"Head3","v":"2022/23 Medium Term Revenue & Expenditure Framework"}]
[null,null,null,null,null,null,null,{"$f":"Head9","v":"Budget Year 2022/23"},{"$f":"Head10","v":"Budget Year +1 2023/24"},{"$f":"Head11","v":"Budget Year +2 2024/25"}]
["Exemptions, reductions and rebates (Rands)"]
[" ",null,0,0,0,0,0,0,0,0]
["[Insert lines as applicable]"]
[]
[]
[]
[]
[]
[]
[]
[]
["Water tariffs"]
[" ",null,0,0,0,0,0,0,0,0]
["[Insert blocks as applicable]",null," (fill in thresholds)"]
[null,null," (fill in thresholds)"]
[null,null," (fill in thresholds)"]
[null,null," (fill in thresholds)"]
[null,null," (fill in thresholds)"]
[null,null," (fill in thresholds)"]
[null,null," (fill in thresholds)"]
[null,null," (fill in thresholds)"]
[null,null," (fill in thresholds)"]
[null,null," (fill in thresholds)"]
[]
["Waste water tariffs"]
[" ",null,0,0,0,0,0,0,0,0]
["[Insert blocks as applicable]",null,"(fill in structure)"]
[null,null,"(fill in structure)"]
[null,null,"(fill in structure)"]
[null,null,"(fill in structure)"]
[null,null,"(fill in structure)"]
[null,null,"(fill in structure)"]
[null,null,"(fill in structure)"]
[null,null,"(fill in structure)"]
[null,null,"(fill in structure)"]
[]
["Electricity tariffs"]
[" ",null,0,0,0,0,0,0,0,0]
["[Insert blocks as applicable]",null,"(fill in thresholds)"]
[null,null,"(fill in thresholds)",null,null,null,null,null,null,null,null,null,null,null,null,null,null,null,{"$f":"SUM(C43:R43)","v":0}]
[null,null,"(fill in thresholds)",null,null,null,null,null,null,null,null,null,null,null,null,null,null,null,{"$f":"SUM(C44:R44)","v":0}]
[null,null,"(fill in thresholds)"]
[null,null,"(fill in thresholds)"]
[null,null,"(fill in thresholds)"]
[null,null,"(fill in thresholds)"]
[null,null,"(fill in thresholds)"]
[null,null,"(fill in thresholds)"]
[null,null,"(fill in thresholds)"]
[null,null,"(fill in thresholds)"]
[null,null,"(fill in thresholds)"]
[null,null,"(fill in thresholds)"]

{"sheet":"SA14","index":35,"n_rows":54,"n_cols":12,"rows_kept":54,"cut":false,"hidden":false,"merged":[[1,1,3,1],[1,5,1,7],[1,0,2,0]]}
[{"$f":"muni&\" - \"&TableA14","v":"DC47 Sekhukhune - Supporting Table SA14 Household bills"}]
[{"$f":"desc","v":"Description"},{"$f":"head27","v":"Ref"},{"$f":"head1b","v":"2018/19"},{"$f":"head1A","v":"2019/20"},{"$f":"Head1","v":"2020/21"},{"$f":"Head2","v":"Current Year 2021/22"},null,null,{"$f":"Head3","v":"2022/23 Medium Term Revenue & Expenditure Framework"}]
[null,null,{"$f":"Head5","v":"Audited Outcome"},{"$f":"Head5","v":"Audited Outcome"},{"$f":"Head5","v":"Audited Outcome"},{"$f":"Head6","v":"Original Budget"},{"$f":"Head7","v":"Adjusted Budget"},{"$f":"Head8","v":"Full Year Forecast"},{"$f":"Head9","v":"Budget Year 2022/23"},{"$f":"Head9","v":"Budget Year 2022/23"},{"$f":"Head10","v":"Budget Year +1 2023/24"},{"$f":"Head11","v":"Budget Year +2 2024/25"}]
["Rand/cent",null,null,null,null,null,null,null,"% incr."]
["Monthly Account for Household - 'Middle Income Range'",1]
["Rates and services charges:"]
["Property rates"]
["Electricity: Basic levy"]
["Electricity: Consumption"]
["Water: Basic levy"]
["Water: Consumption"]
["Sanitation"]
["Refuse removal"]
["Other"]
["sub-total",null,{"$f":"SUM(C7:C14)","v":0},{"$f":"SUM(D7:D14)","v":0},{"$f":"SUM(E7:E14)","v":0},{"$f":"SUM(F7:F14)","v":0},{"$f":"SUM(G7:G14)","v":0},0,{"$f":"IF(ISERROR(ROUND((J15-F15)/F15,3)),0,(ROUND((J15-F15)/F15,3)))","v":0},0,0,0]
["VAT on Services"]
["Total large household bill:",null,{"$f":"SUM(C15:C16)","v":0},{"$f":"SUM(D15:D16)","v":0},{"$f":"SUM(E15:E16)","v":0},{"$f":"SUM(F15:F16)","v":0},{"$f":"SUM(G15:G16)","v":0},0,{"$f":"IF(ISERROR(ROUND((J17-F17)/F17,3)),0,(ROUND((J17-F17)/F17,3)))","v":0},0,0,0]
["% increase/-decrease",null,null,{"$f":"IF(ISERROR((D17/C17)-1),0,((D17/C17)-1))","v":0},{"$f":"IF(ISERROR((E17/D17)-1),0,((E17/D17)-1))","v":0},{"$f":"IF(ISERROR((F17/E17)-1),0,((F17/E17)-1))","v":0},{"$f":"IF(ISERROR((G17/F17)-1),0,((G17/F17)-1))","v":0},{"$f":"IF(ISERROR((H17/G17)-1),0,((H17/G17)-1))","v":0},null,{"$f":"IF(ISERROR((J17/H17)-1),0,((J17/H17)-1))","v":0},{"$f":"IF(ISERROR((K17/J17)-1),0,((K17/J17)-1))","v":0},{"$f":"IF(ISERROR((L17/K17)-1),0,((L17/K17)-1))","v":0}]
[]
["Monthly Account for Household - 'Affordable Range' ",2]
[{"$f":"A6","v":"Rates and services charges:"}]
[{"$f":"A7","v":"Property rates"}]
["Electricity: Basic levy"]
["Electricity: Consumption"]
["Water: Basic levy"]
["Water: Consumption"]
["Sanitation"]
["Refuse removal"]
["Other"]
["sub-total",null,{"$f":"SUM(C22:C29)","v":0},0,0,0,0,0,{"$f":"IF(ISERROR(ROUND((J30-F30)/F30,3)),0,(ROUND((J30-F30)/F30,3)))","v":0},{"$f":"SUM(J22:J29)","v":0},{"$f":"SUM(K22:K29)","v":0},{"$f":"SUM(L22:L29)","v":0}]
["VAT on Services"]
["Total small household bill:",null,{"$f":"SUM(C30:C31)","v":0},0,0,0,0,0,{"$f":"IF(ISERROR(ROUND((J32-F32)/F32,3)),0,(ROUND((J32-F32)/F32,3)))","v":0},{"$f":"SUM(J30:J31)","v":0},{"$f":"SUM(K30:K31)","v":0},{"$f":"SUM(L30:L31)","v":0}]
["% increase/-decrease",null,null,{"$f":"IF(ISERROR((D32/C32)-1),0,((D32/C32)-1))","v":0},{"$f":"IF(ISERROR((E32/D32)-1),0,((E32/D32)-1))","v":0},{"$f":"IF(ISERROR((F32/E32)-1),0,((F32/E32)-1))","v":0},{"$f":"IF(ISERROR((G32/F32)-1),0,((G32/F32)-1))","v":0},{"$f":"IF(ISERROR((H32/G32)-1),0,((H32/G32)-1))","v":0},null,{"$f":"IF(ISERROR((J32/H32)-1),0,((J32/H32)-1))","v":0},{"$f":"IF(ISERROR((K32/J32)-1),0,((K32/J32)-1))","v":0},{"$f":"IF(ISERROR((L32/K32)-1),0,((L32/K32)-1))","v":0}]
[null,null,null,null,{"$f":"IF(ISERROR((E33/D33)-1),0,((E33/D33)-1))","v":0},{"$f":"IF(ISERROR((F33/E33)-1),0,((F33/E33)-1))","v":0},{"$f":"IF(ISERROR((G33/F33)-1),0,((G33/F33)-1))","v":0},{"$f":"IF(ISERROR((H33/G33)-1),0,((H33/G33)-1))","v":0}]
["Monthly Account for Household - 'Indigent' Household receiving free basic services",3]
[{"$f":"A6","v":"Rates and services charges:"}]
[{"$f":"A7","v":"Property rates"},null,null,null,null,null,null,null,{"$f":"IF(J37>0,ROUND((J37-F37)/F37,3),\"\")","v":""}]
["Electricity: Basic levy",null,null,null,null,null,null,null,{"$f":"IF(J38>0,ROUND((J38-F38)/F38,3),\"\")","v":""}]
["Electricity: Consumption",null,null,null,null,null,null,null,""]
["Water: Basic levy",null,null,null,null,null,null,null,""]
["Water: Consumption",null,null,null,null,null,null,null,""]
["Sanitation",null,null,null,null,null,null,null,""]
["Refuse removal",null,null,null,null,null,null,null,""]
["Other",null,null,null,null,null,null,null,""]
["sub-total",null,{"$f":"SUM(C37:C44)","v":0},{"$f":"SUM(D37:D44)","v":0},{"$f":"SUM(E37:E44)","v":0},{"$f":"SUM(F37:F44)","v":0},{"$f":"SUM(G37:G44)","v":0},0,{"$f":"IF(ISERROR(ROUND((J45-F45)/F45,3)),0,(ROUND((J45-F45)/F45,3)))","v":0},0,0,0]
["VAT on Services",null,null,null,null,null,null,null,{"$f":"IF(J46>0,I13ROUND((J46-F46)/F46,3),\"\")","v":""}]
["Total small household bill:",null,{"$f":"SUM(C45:C46)","v":0},{"$f":"SUM(D45:D46)","v":0},{"$f":"SUM(E45:E46)","v":0},{"$f":"SUM(F45:F46)","v":0},{"$f":"SUM(G45:G46)","v":0},0,{"$f":"IF(ISERROR(ROUND((J47-F47)/F47,3)),0,(ROUND((J47-F47)/F47,3)))","v":0},0,0,0]
[{"$f":"A18","v":"% increase/-decrease"},null,null,{"$f":"IF(ISERROR((D47/C47)-1),0,((D47/C47)-1))","v":0},{"$f":"IF(ISERROR((E47/D47)-1),0,((E47/D47)-1))","v":0},{"$f":"IF(ISERROR((F47/E47)-1),0,((F47/E47)-1))","v":0},{"$f":"IF(ISERROR((G47/F47)-1),0,((G47/F47)-1))","v":0},{"$f":"IF(ISERROR((H47/G47)-1),0,((H47/G47)-1))","v":0},null,{"$f":"IF(ISERROR((J47/H47)-1),0,((J47/H47)-1))","v":0},{"$f":"IF(ISERROR((K47/J47)-1),0,((K47/J47)-1))","v":0},{"$f":"IF(ISERROR((L47/K47)-1),0,((L47/K47)-1))","v":0}]
[]
[{"$f":"head27a","v":"References"}]
["1. Use as basis property value of R700 000, 1 000 kWh electricity and 30kl water"]
["2. Use as basis property value  of R500 000 and R700 000, 500 kWh electricity and 25kl water"]
["3. Use as basis property value of R 300 000, 350kWh electricity and 20kl water (50 kWh electricity and 6 kl water free)"]
["4. Note this is for a SINGLE household."]

{"sheet":"SA15","index":36,"n_rows":36,"n_cols":11,"rows_kept":36,"cut":false,"hidden":false,"merged":[[1,5,1,7],[1,8,1,10],[1,1,3,1],[1,0,2,0]]}
[{"$f":"muni&\" - \"&TableA15","v":"DC47 Sekhukhune - Supporting Table SA15 Investment particulars by type"}]
["Investment type",{"$f":"head27","v":"Ref"},{"$f":"head1b","v":"2018/19"},{"$f":"head1A","v":"2019/20"},{"$f":"Head1","v":"2020/21"},{"$f":"Head2","v":"Current Year 2021/22"},null,null,{"$f":"Head3","v":"2022/23 Medium Term Revenue & Expenditure Framework"}]
[null,null,{"$f":"Head5","v":"Audited Outcome"},{"$f":"Head5","v":"Audited Outcome"},{"$f":"Head5","v":"Audited Outcome"},{"$f":"Head6","v":"Original Budget"},{"$f":"Head7","v":"Adjusted Budget"},{"$f":"Head8","v":"Full Year Forecast"},{"$f":"Head9","v":"Budget Year 2022/23"},{"$f":"Head10","v":"Budget Year +1 2023/24"},{"$f":"Head11","v":"Budget Year +2 2024/25"}]
["R thousand"]
["Parent municipality"]
["Securities - National Government"]
["Listed Corporate Bonds"]
["Deposits - Bank",null,0,149980333,149980333,0,0,0,100000000,110000000,120000000]
["Deposits - Public Investment Commissioners"]
["Deposits - Corporation for Public Deposits",null,58739720.619999997,-118422686.40000001,-128773794.59,1000,1000,1000,1000,1000,1000]
["Bankers Acceptance Certificates",null,129571.37,131203.63,131203.63,0,0,0,0,0,0]
["Negotiable Certificates of Deposit - Banks"]
["Guaranteed Endowment Policies (sinking)"]
["Repurchase Agreements - Banks"]
["Municipal Bonds"]
[]
["Municipality sub-total",1,{"$f":"SUM(C6:C15)","v":58869291.989999995},31688850.229999993,21337742.039999995,1000,1000,1000,100001000,110001000,120001000]
[]
["Entities"]
[{"$f":"A6","v":"Securities - National Government"}]
[{"$f":"A7","v":"Listed Corporate Bonds"}]
["Deposits - Bank"]
["Deposits - Public Investment Commissioners"]
["Deposits - Corporation for Public Deposits"]
["Bankers Acceptance Certificates"]
["Negotiable Certificates of Deposit - Banks"]
["Guaranteed Endowment Policies (sinking)"]
["Repurchase Agreements - Banks"]
[]
["Entities sub-total",null,{"$f":"SUM(C20:C29)","v":0},0,0,0,0,0,0,0,0]
[]
["Consolidated total:",null,{"$f":"C17+C30","v":58869291.989999995},31688850.229999993,21337742.039999995,1000,1000,1000,100001000,110001000,120001000]
[]
[{"$f":"head27a","v":"References"}]
["1. Total investments must reconcile to Budgeted Financial Position ('current' call investment deposits plus 'non-current' investments)"]
["check investment balance",null,{"$f":"C17-'A6-FinPos'!C7-'A6-FinPos'!C16","v":0},{"$f":"D17-'A6-FinPos'!D7-'A6-FinPos'!D16","v":0},{"$f":"E17-'A6-FinPos'!E7-'A6-FinPos'!E16","v":0},{"$f":"F17-'A6-FinPos'!F7-'A6-FinPos'!F16","v":0},{"$f":"G17-'A6-FinPos'!G7-'A6-FinPos'!G16","v":0},{"$f":"H17-'A6-FinPos'!H7-'A6-FinPos'!H16","v":0},{"$f":"I17-'A6-FinPos'!J7-'A6-FinPos'!J16","v":0},{"$f":"J17-'A6-FinPos'!K7-'A6-FinPos'!K16","v":0},{"$f":"K17-'A6-FinPos'!L7-'A6-FinPos'!L16","v":0}]

{"sheet":"SA16","index":37,"n_rows":25,"n_cols":15,"rows_kept":25,"cut":false,"hidden":false,"merged":[[1,3,2,3],[1,9,2,9],[2,10,2,14]]}
[{"$f":"muni&\" - \"&TableA16","v":"DC47 Sekhukhune - Supporting Table SA16 Investment particulars by maturity"}]
["Investments by Maturity",{"$f":"head27","v":"Ref"},"Period of Investment","Type of Investment","Capital Guarantee\n(Yes/ No)","Variable or Fixed interest rate","Interest Rate ᶟ","Commission Paid (Rands)","Commission Recipient","Expiry date of investment","Opening balance","Interest to be realised","Partial / Premature Withdrawal (4)","Investment Top Up","Closing Balance"]
["Name of institution & investment ID",1,"Yrs/Months"]
["Parent municipality"]
["Municipality sub-total",null,null,null,null,null,null,null,null,null,{"$f":"SUM(#REF!)","v":{"$error":"#REF!"}},null,{"$f":"SUM(#REF!)","v":{"$error":"#REF!"}},{"$f":"SUM(#REF!)","v":{"$error":"#REF!"}},{"$f":"SUM(#REF!)","v":{"$error":"#REF!"}}]
[]
["Entities"]
["N/A",null,null,null,null,null,null,null,null,null,null,null,null,null,{"$f":"SUM(K8:N8)","v":0}]
[null,null,null,null,null,null,null,null,null,null,null,null,null,null,{"$f":"SUM(K9:N9)","v":0}]
[null,null,null,null,null,null,null,null,null,null,null,null,null,null,0]
[null,null,null,null,null,null,null,null,null,null,null,null,null,null,0]
[null,null,null,null,null,null,null,null,null,null,null,null,null,null,0]
[null,null,null,null,null,null,null,null,null,null,null,null,null,null,0]
[null,null,null,null,null,null,null,null,null,null,null,null,null,null,0]
["Entities sub-total",null,null,null,null,null,null,null,null,null,{"$f":"SUM(K8:K14)","v":0},null,{"$f":"SUM(M8:M14)","v":0},{"$f":"SUM(N8:N14)","v":0},{"$f":"SUM(O8:O14)","v":0}]
[]
["TOTAL INVESTMENTS AND INTEREST",1,null,null,null,null,null,null,null,null,{"$f":"K5+K15","v":{"$error":"#REF!"}},null,{"$f":"M5+M15","v":{"$error":"#REF!"}},{"$f":"N5+N15","v":{"$error":"#REF!"}},{"$f":"O5+O15","v":{"$error":"#REF!"}}]
[]
[{"$f":"head27a","v":"References"}]
["1. Total investments must reconcile to all items in Table SA15 for the Current Year (30 June)"]
["2. List investments in expiry date order"]
["3. If 'variable' is selected in column F, input interest rate range"]
["4. Withdrawals to be entered as negative"]
["check"]
[null,null,null,null,null,null,null,null,null,null,null,null,"`"]

{"sheet":"SA17","index":38,"n_rows":71,"n_cols":45,"rows_kept":71,"cut":false,"hidden":false,"merged":[[1,5,1,7],[1,8,1,10]]}
[{"$f":"muni&\" - \"&TableA17","v":"DC47 Sekhukhune - Supporting Table SA17 Borrowing"}]
["Borrowing - Categorised by type",{"$f":"head27","v":"Ref"},{"$f":"head1b","v":"2018/19"},{"$f":"head1A","v":"2019/20"},{"$f":"Head1","v":"2020/21"},{"$f":"Head2","v":"Current Year 2021/22"},null,null,{"$f":"Head3","v":"2022/23 Medium Term Revenue & Expenditure Framework"}]
["R thousand",null,{"$f":"Head5","v":"Audited Outcome"},{"$f":"Head5","v":"Audited Outcome"},{"$f":"Head5","v":"Audited Outcome"},{"$f":"Head6","v":"Original Budget"},{"$f":"Head7","v":"Adjusted Budget"},{"$f":"Head8","v":"Full Year Forecast"},{"$f":"Head9","v":"Budget Year 2022/23"},{"$f":"Head10","v":"Budget Year +1 2023/24"},{"$f":"Head11","v":"Budget Year +2 2024/25"}]
["Parent municipality"]
["Annuity and Bullet Loans",null,0,0,0,0,0,0,0,0,0]
["Long-Term Loans (non-annuity)"]
["Local registered stock"]
["Instalment Credit"]
["Financial Leases",null,1227561.1599999999,3322476.83,3822340.19,0,0,0,0,0,0]
["PPP liabilities"]
["Finance Granted By Cap Equipment Supplier"]
["Marketable Bonds"]
["Non-Marketable Bonds"]
["Bankers Acceptances"]
["Financial derivatives"]
["Other Securities",null,0,0,0,0,0,0,0,0,0]
["Municipality sub-total",1,{"$f":"SUM(C5:C16)","v":1227561.1599999999},{"$f":"SUM(D5:D16)","v":3322476.83},3822340.19,0,0,0,0,0,0]
[]
["Entities"]
[{"$f":"A5","v":"Annuity and Bullet Loans"}]
["Long-Term Loans (non-annuity)"]
["Local registered stock"]
["Instalment Credit"]
["Financial Leases"]
["PPP liabilities"]
["Finance Granted By Cap Equipment Supplier"]
["Marketable Bonds"]
["Non-Marketable Bonds"]
["Bankers Acceptances"]
["Financial derivatives"]
["Other Securities"]
["Entities sub-total",1,{"$f":"SUM(C20:C31)","v":0},{"$f":"SUM(D20:D31)","v":0},0,0,0,0,0,0,0]
[]
["Total Borrowing",1,{"$f":"C17+C32","v":1227561.1599999999},{"$f":"D17+D32","v":3322476.83},3822340.19,0,0,0,0,0,0]
[]
["Unspent Borrowing - Categorised by type"]
["Parent municipality"]
["Long-Term Loans (annuity/reducing balance)"]
["Long-Term Loans (non-annuity)"]
["Local registered stock"]
["Instalment Credit",null,null,null,null,null,null,null,null,null,null,null,null,null,null,null,null,null,null,null,null,null,null,null,null,null,null,null,null,null,null,null,null,null,null,null,null,null,null,null,null,null,439005000,null,539442200]
["Financial Leases"]
["PPP liabilities",null,null,null,null,null,null,null,null,null,null,null,null,null,null,null,null,null,null,null,null,null,0,null,0,null,null,0,null,0,null,null,0,null,0,null,null,0,null,0,null,null,1834701353,null,1241876995]
["Finance Granted By Cap Equipment Supplier",null,null,null,null,null,null,null,null,null,null,null,null,null,null,null,null,null,null,null,null,null,null,null,null,null,null,null,null,null,null,null,null,null,null,null,null,null,null,null,null,null,839041298,null,440387617]
["Marketable Bonds",null,null,null,null,null,null,null,null,null,null,null,null,null,null,null,null,null,null,null,null,null,null,null,null,null,null,null,null,null,null,null,null,null,null,null,null,null,null,null,null,null,976543638,null,782372961]
["Non-Marketable Bonds",null,null,null,null,null,null,null,null,null,null,null,null,null,null,null,null,null,null,null,null,null,null,null,null,null,null,null,null,null,null,null,null,null,null,null,null,null,null,null,null,null,19116417,null,19116417]
["Bankers Acceptances",null,null,null,null,null,null,null,null,null,null,null,null,null,null,null,null,null,null,null,null,null,null,null,null,null,null,null,null,null,null,null,null,null,null,null,null,null,null,null,null,null,2273706353,null,1781319195]
["Financial derivatives",null,null,null,null,null,null,null,null,null,null,null,null,null,null,null,null,null,null,null,null,null,null,null,null,null,null,null,null,null,null,null,null,null,null,null,null,null,null,null,null,null,180259232,null,140396729]
["Other Securities",null,null,null,null,null,null,null,null,null,null,null,null,null,null,null,null,null,null,null,null,null,null,null,null,null,null,null,null,null,null,null,null,null,null,null,null,null,null,null,null,null,125005000,null,100442200]
["Municipality sub-total",1,{"$f":"SUM(C38:C49)","v":0},{"$f":"SUM(D38:D49)","v":0},0,0,0,0,0,0,0,null,null,null,null,null,null,null,null,null,null,null,null,null,null,null,null,null,null,null,null,null,null,null,null,null,null,null,null,null,null,null,40341797,null,38954529]
[null,null,null,null,null,null,null,null,null,null,null,null,null,null,null,null,null,null,null,null,null,null,null,null,null,null,null,null,null,null,null,null,null,null,null,null,null,null,null,null,null,null,14912435,null,1000000]
["Entities"]
[{"$f":"A38","v":"Long-Term Loans (annuity/reducing balance)"}]
["Long-Term Loans (non-annuity)"]
["Local registered stock"]
["Instalment Credit"]
["Financial Leases"]
["PPP liabilities"]
["Finance Granted By Cap Equipment Supplier"]
["Marketable Bonds"]
["Non-Marketable Bonds"]
["Bankers Acceptances"]
["Financial derivatives"]
["Other Securities"]
["Entities sub-total",1,{"$f":"SUM(C53:C64)","v":0},{"$f":"SUM(D53:D64)","v":0},0,0,0,0,0,0,0]
[]
["Total Unspent Borrowing",1,{"$f":"C50+C65","v":0},{"$f":"D50+D65","v":0},0,0,0,0,0,0,0]
[]
[{"$f":"head27a","v":"References"}]
["1. Total borrowing must reconcile to Budgeted Financial Position (Borrowing - non-current)"]
["check borrowing balance",null,{"$f":"C34-'A6-FinPos'!C37","v":0},{"$f":"D34-'A6-FinPos'!D37","v":0},{"$f":"E34-'A6-FinPos'!E37","v":0},{"$f":"F34-'A6-FinPos'!F37","v":0},{"$f":"G34-'A6-FinPos'!G37","v":0},{"$f":"H34-'A6-FinPos'!H37","v":0},{"$f":"I34-'A6-FinPos'!J37","v":0},{"$f":"J34-'A6-FinPos'!K37","v":0},{"$f":"K34-'A6-FinPos'!L37","v":0}]

{"sheet":"SA18","index":39,"n_rows":41,"n_cols":11,"rows_kept":41,"cut":false,"hidden":false,"merged":[[1,5,1,7],[1,8,1,10]]}
[{"$f":"muni&\" - \"& TableA18","v":"DC47 Sekhukhune - Supporting Table SA18 Transfers and grant receipts"}]
[{"$f":"desc","v":"Description"},{"$f":"head27","v":"Ref"},{"$f":"head1b","v":"2018/19"},{"$f":"head1A","v":"2019/20"},{"$f":"Head1","v":"2020/21"},{"$f":"Head2","v":"Current Year 2021/22"},null,null,{"$f":"Head3","v":"2022/23 Medium Term Revenue & Expenditure Framework"}]
["R thousand",null,{"$f":"Head5","v":"Audited Outcome"},{"$f":"Head5","v":"Audited Outcome"},{"$f":"Head5","v":"Audited Outcome"},{"$f":"Head6","v":"Original Budget"},{"$f":"Head7","v":"Adjusted Budget"},{"$f":"Head8","v":"Full Year Forecast"},{"$f":"Head9","v":"Budget Year 2022/23"},{"$f":"Head10","v":"Budget Year +1 2023/24"},{"$f":"Head11","v":"Budget Year +2 2024/25"}]
["RECEIPTS:","1, 2"]
[]
["Operating Transfers and Grants"]
["National Government:",null,{"$f":"SUM(C8:C11)","v":1320000},2679000,2548921.35,973933000,134892000,134892000,83352560,76734990,94060000]
["Local Government Equitable Share",{"$f":"IF(A8=\"  Levy replacement\",3,\"\")","v":""}]
["LGFMG: RECEIPTS","",1320000,1785000,2548921.35,973933000,2300000,2300000,2400000,2400000,2400000]
["MDG: RECEIPTS","",0,894000,0,0,0,0,0,0,0]
["MIG: RECEIPTS","",0,0,0,0,132592000,132592000,80952560,74334990,91660000]
[" "]
["Provincial Government:",null,{"$f":"SUM(C14:C14)","v":0},0,0,0,0,0,0,0,0]
[" "]
["District Municipality:",null,{"$f":"SUM(C16:C16)","v":0},0,0,0,0,0,0,0,0]
[" "]
["Other grant providers:",null,{"$f":"SUM(C18:C18)","v":0},0,0,0,0,0,0,0,0]
[" "]
["Total Operating Transfers and Grants",5,{"$f":"C7+C13+C15+C17","v":1320000},2679000,2548921.35,973933000,134892000,134892000,83352560,76734990,94060000]
[]
["Capital Transfers and Grants"]
[{"$f":"A7","v":"National Government:"},null,{"$f":"SUM(C23:C25)","v":532227000},527622000,521796000,415997002,379101000,379101000,469076440,501682010,512086000]
["MIG: RECEIPTS",null,464936000,465195000,466015000,413560002,371671996,371671996,466625440,501682010,512086000]
["RRAMS: RECEIPTS",null,0,0,0,2437000,2437000,2437000,2451000,0,0]
["WSIG: RECEIPTS",null,67291000,62427000,55781000,0,4992004,4992004,0,0,0]
[" "]
[{"$f":"A13","v":"Provincial Government:"},null,{"$f":"SUM(C28)","v":0},{"$f":"SUM(D28)","v":0},0,0,0,0,0,0,0]
[" "]
[{"$f":"A15","v":"District Municipality:"},null,{"$f":"SUM(C30:C30)","v":0},0,0,0,0,0,0,0,0]
[" "]
[{"$f":"A17","v":"Other grant providers:"},null,{"$f":"SUM(C32:C32)","v":0},0,0,0,0,0,0,0,0]
[" "]
["Total Capital Transfers and Grants",5,{"$f":"C22+C27+C29+C31","v":532227000},527622000,521796000,415997002,379101000,379101000,469076440,501682010,512086000]
["TOTAL RECEIPTS OF TRANSFERS & GRANTS",null,{"$f":"C19+C33","v":533547000},530301000,524344921.35000002,1389930002,513993000,513993000,552429000,578417000,606146000]
[{"$f":"head27a","v":"References"}]
["1. Each transfer/grant is listed by name as gazetted together with the name of the transferring department or municipality, donor or other organisation"]
["2. Amounts actually RECEIVED; not revenue recognised (objective is to confirm grants transferred)"]
["3. Replacement of RSC levies"]
["4. Housing subsidies for housing where ownership transferred to organisations or persons outside the control of the municipality"]
["5. Total transfers and grants must reconcile to Budgeted Cash Flows"]
["6. Motor vehicle licensing refunds to be included under 'agency' services (Not Grant Receipts)"]

{"sheet":"SA19","index":40,"n_rows":36,"n_cols":11,"rows_kept":36,"cut":false,"hidden":false,"merged":[[1,5,1,7],[1,8,1,10]]}
[{"$f":"muni&\" - \"& TableA19","v":"DC47 Sekhukhune - Supporting Table SA19 Expenditure on transfers and grant programme"}]
[{"$f":"desc","v":"Description"},{"$f":"head27","v":"Ref"},{"$f":"head1b","v":"2018/19"},{"$f":"head1A","v":"2019/20"},{"$f":"Head1","v":"2020/21"},{"$f":"Head2","v":"Current Year 2021/22"},null,null,{"$f":"Head3","v":"2022/23 Medium Term Revenue & Expenditure Framework"}]
["R thousand",null,{"$f":"Head5","v":"Audited Outcome"},{"$f":"Head5","v":"Audited Outcome"},{"$f":"Head5","v":"Audited Outcome"},{"$f":"Head6","v":"Original Budget"},{"$f":"Head7","v":"Adjusted Budget"},{"$f":"Head8","v":"Full Year Forecast"},{"$f":"Head9","v":"Budget Year 2022/23"},{"$f":"Head10","v":"Budget Year +1 2023/24"},{"$f":"Head11","v":"Budget Year +2 2024/25"}]
["EXPENDITURE:",1]
[]
["Operating expenditure of Transfers and Grants"]
[{"$f":"'SA18'!A7","v":"National Government:"},null,{"$f":"SUM(C8:C11)","v":1319995},2554970.7199999997,2675995.35,973933000,134892000,134892000,83352560,76734990,94060000]
[{"$f":"IF('SA18'!A8=\"\",\"\",'SA18'!A8)","v":"Local Government Equitable Share"}]
["LGFMG: TRSF TO REV",null,1319995,1788044.97,2548921.35,973933000,2300000,2300000,2400000,2400000,2400000]
["MDG: TRSF TO REV",null,0,766925.75,127074,0,0,0,0,0,0]
["MIG: TRSF TO REV",null,0,0,0,0,132592000,132592000,80952560,74334990,91660000]
[" "]
[{"$f":"'SA18'!A13","v":"Provincial Government:"},null,{"$f":"SUM(C14:C14)","v":0},0,0,0,0,0,0,0,0]
[" "]
[{"$f":"'SA18'!A15","v":"District Municipality:"},null,{"$f":"SUM(C16:C16)","v":0},0,0,0,0,0,0,0,0]
[" "]
[{"$f":"'SA18'!A17","v":"Other grant providers:"},null,{"$f":"SUM(C18:C18)","v":0},0,0,0,0,0,0,0,0]
[" "]
["Total operating expenditure of Transfers and Grants:",null,{"$f":"C7+C13+C15+C17","v":1319995},2554970.7199999997,2675995.35,973933000,134892000,134892000,83352560,76734990,94060000]
[]
["Capital expenditure of Transfers and Grants"]
[{"$f":"'SA18'!A22","v":"National Government:"},null,{"$f":"SUM(C23:C25)","v":510658872.79999995},458817651.95000005,491477600,415997002,379101000,379101000,469076440,501682010,512086000]
["MIG: TRSF TO REV",null,480067071.39999998,418108385.47000003,460140844.51999998,413560002,371864000,371864000,466625440,501682010,512086000]
["RRAMS: TRSF TO REV",null,2285660,2062917.14,2309331.9900000002,2437000,2437000,2437000,2451000,0,0]
["WSIG: TRSF TO REV",null,28306141.399999999,38646349.340000004,29027423.489999998,0,4800000,4800000,0,0,0]
[{"$f":"'SA18'!A27","v":"Provincial Government:"},null,{"$f":"SUM(C27)","v":0},{"$f":"SUM(D27)","v":0},0,0,0,0,0,0,0]
[" "]
[{"$f":"'SA18'!A29","v":"District Municipality:"},null,{"$f":"SUM(C29:C29)","v":0},0,0,0,0,0,0,0,0]
[" "]
[{"$f":"'SA18'!A31","v":"Other grant providers:"},null,{"$f":"SUM(C31:C31)","v":0},0,0,0,0,0,0,0,0]
[" "]
["Total capital expenditure of Transfers and Grants",null,{"$f":"C22+C26+C28+C30","v":510658872.79999995},458817651.95000005,491477600,415997002,379101000,379101000,469076440,501682010,512086000]
[]
["TOTAL EXPENDITURE OF TRANSFERS AND GRANTS",null,{"$f":"C19+C32","v":511978867.79999995},461372622.67000008,494153595.35000002,1389930002,513993000,513993000,552429000,578417000,606146000]
[{"$f":"head27a","v":"References"}]
["1. Expenditure must be separately listed for each transfer or grant received or recognised"]

{"sheet":"SA20","index":41,"n_rows":60,"n_cols":11,"rows_kept":60,"cut":false,"hidden":false,"merged":[[56,0,56,10],[1,5,1,7],[1,8,1,10],[54,0,54,10],[55,0,55,10]]}
[{"$f":"muni&\" - \"& TableA20","v":"DC47 Sekhukhune - Supporting Table SA20 Reconciliation of transfers, grant receipts and unspent funds"}]
[{"$f":"desc","v":"Description"},{"$f":"head27","v":"Ref"},{"$f":"head1b","v":"2018/19"},{"$f":"head1A","v":"2019/20"},{"$f":"Head1","v":"2020/21"},{"$f":"Head2","v":"Current Year 2021/22"},null,null,{"$f":"Head3","v":"2022/23 Medium Term Revenue & Expenditure Framework"}]
["R thousand",null,{"$f":"Head5","v":"Audited Outcome"},{"$f":"Head5","v":"Audited Outcome"},{"$f":"Head5","v":"Audited Outcome"},{"$f":"Head6","v":"Original Budget"},{"$f":"Head7","v":"Adjusted Budget"},{"$f":"Head8","v":"Full Year Forecast"},{"$f":"Head9","v":"Budget Year 2022/23"},{"$f":"Head10","v":"Budget Year +1 2023/24"},{"$f":"Head11","v":"Budget Year +2 2024/25"}]
["Operating transfers and grants:","1,3"]
[{"$f":"'SA18'!A7","v":"National Government:"}]
["Balance unspent at beginning of the year",null,0.4,-657.91,-124034.19,0,0,0,0,0,0]
["Current year receipts",null,-3066000,-5344000,-8842921.3499999996,-982113000,-1021904000,-1021904000,-96362560,-76734990,-94060000]
["Conditions met - transferred to revenue",null,3065341.69,5219970.72,8969995.3499999996,982113000,1021904000,1021904000,96362560,76734990,94060000]
["Conditions still to be met - transferred to liabilities",null,-657.91000000014901,-124687.19000000041,3039.8100000005215,0,0,0,0,0,0]
["Provincial Government:"]
["Balance unspent at beginning of the year"]
[{"$f":"A7","v":"Current year receipts"}]
[{"$f":"A8","v":"Conditions met - transferred to revenue"},null,{"$f":"C11+C12-C14","v":0},0,0,0,0,0,0,0,0]
[{"$f":"A9","v":"Conditions still to be met - transferred to liabilities"}]
["District Municipality:"]
[{"$f":"A11","v":"Balance unspent at beginning of the year"}]
[{"$f":"A12","v":"Current year receipts"}]
[{"$f":"A13","v":"Conditions met - transferred to revenue"},null,{"$f":"C16+C17-C19","v":0},0,0,0,0,0,0,0,0]
[{"$f":"A14","v":"Conditions still to be met - transferred to liabilities"}]
["Other grant providers:"]
[{"$f":"A11","v":"Balance unspent at beginning of the year"},null,0,0,0,0,0,0,0,0,0]
[{"$f":"A12","v":"Current year receipts"},null,0,0,0,0,-2309000,-2309000,-2309000,-2309000,-2352418]
[{"$f":"A13","v":"Conditions met - transferred to revenue"},null,0,0,0,0,2309000,2309000,2309000,0,0]
[{"$f":"A14","v":"Conditions still to be met - transferred to liabilities"},null,0,0,0,0,0,0,0,-2309000,-2352418]
["Total operating transfers and grants revenue",null,{"$f":"C8+C13+C18+C23","v":3065341.69},5219970.72,8969995.3499999996,982113000,1024213000,1024213000,98671560,76734990,94060000]
["Total operating transfers and grants - CTBM",2,-657.91000000014901,-124687.19000000041,3039.8100000005215,0,0,0,0,-2309000,-2352418]
[]
["Capital transfers and grants:","1,3"]
[{"$f":"A5","v":"National Government:"}]
["Balance unspent at beginning of the year",null,-39483792.609999999,-61051919.810000002,-21353650.010000002,-20000000,-20000000,-20000000,-20000000,-30000000,-40000000]
["Current year receipts",null,-532227000,-527622000,-521796000,-415997002,-379101000,-379101000,-469076440,-501682010,-512086000]
["Conditions met - transferred to revenue",null,510658872.80000001,458817651.94999999,491477600,415997002,379101000,379101000,469076440,501682010,512086000]
["Conditions still to be met - transferred to liabilities",null,-61051919.810000002,-190902847.70999995,-73025701.00999999,-20000000,-20000000,-20000000,-20000000,-30000000,-40000000]
["Provincial Government:"]
["Balance unspent at beginning of the year"]
[{"$f":"A31","v":"Current year receipts"}]
[{"$f":"A32","v":"Conditions met - transferred to revenue"},null,{"$f":"C35+C36-C38","v":0},0,0,0,0,0,0,0,0]
[{"$f":"A33","v":"Conditions still to be met - transferred to liabilities"}]
["District Municipality:"]
[{"$f":"A35","v":"Balance unspent at beginning of the year"}]
[{"$f":"A36","v":"Current year receipts"}]
[{"$f":"A37","v":"Conditions met - transferred to revenue"},null,{"$f":"C40+C41-C43","v":0},0,0,0,0,0,0,0,0]
[{"$f":"A38","v":"Conditions still to be met - transferred to liabilities"}]
["Other grant providers:"]
[{"$f":"A35","v":"Balance unspent at beginning of the year"}]
[{"$f":"A36","v":"Current year receipts"}]
[{"$f":"A37","v":"Conditions met - transferred to revenue"},null,{"$f":"C45+C46-C48","v":0},0,0,0,0,0,0,0,0]
[{"$f":"A38","v":"Conditions still to be met - transferred to liabilities"}]
["Total capital transfers and grants revenue",null,{"$f":"C32+C37+C42+C47","v":510658872.80000001},458817651.94999999,491477600,415997002,379101000,379101000,469076440,501682010,512086000]
["Total capital transfers and grants - CTBM",2,-61051919.810000002,-190902847.70999995,-73025701.00999999,-20000000,-20000000,-20000000,-20000000,-30000000,-40000000]
[]
["TOTAL TRANSFERS AND GRANTS REVENUE",null,{"$f":"C25+C49","v":513724214.49000001},464037622.67000002,500447595.35000002,1398110002,1403314000,1403314000,567748000,578417000,606146000]
["TOTAL TRANSFERS AND GRANTS - CTBM",null,{"$f":"C26+C50","v":-61052577.719999999},{"$f":"D26+D50","v":-191027534.89999995},-73022661.199999988,-20000000,-20000000,-20000000,-20000000,-32309000,-42352418]
[{"$f":"head27a","v":"References"}]
["1. Total capital transfers and grants revenue must reconcile to Budgeted Financial Performance and Financial Position; total recurrent grants revenue must reconcile to Budgeted Financial Performance"]
["2. CTBM = conditions to be met"]
["3. National Treasury database will require this reconciliation for each transfer/grant"]
[]
["Check opex",null,{"$f":"C25-'A4-FinPerf RE'!C18","v":-1191547571.3999999},{"$f":"D25-'A4-FinPerf RE'!D18","v":-853968546.29999995},{"$f":"E25-'A4-FinPerf RE'!E18","v":-1065724107.34},{"$f":"F25-'A4-FinPerf RE'!F18","v":0},{"$f":"G25-'A4-FinPerf RE'!G18","v":0},{"$f":"H25-'A4-FinPerf RE'!H18","v":0},{"$f":"I25-'A4-FinPerf RE'!J18","v":-989172000},{"$f":"J25-'A4-FinPerf RE'!K18","v":-1072496000},{"$f":"K25-'A4-FinPerf RE'!L18","v":-1159352000}]
["Check capex",null,{"$f":"C49-'A5-Capex'!C70","v":61555265.370000005},{"$f":"D49-'A5-Capex'!D70","v":71939257.069999993},{"$f":"E49-'A5-Capex'!E70","v":91150579.24000001},{"$f":"F49-'A5-Capex'!F70","v":96002},{"$f":"G49-'A5-Capex'!G70","v":-516708},{"$f":"H49-'A5-Capex'!H70","v":-516708},{"$f":"I49-'A5-Capex'!J70","v":-1},{"$f":"J49-'A5-Capex'!K70","v":0},{"$f":"K49-'A5-Capex'!L70","v":0}]

{"sheet":"SA21","index":42,"n_rows":72,"n_cols":12,"rows_kept":72,"cut":false,"hidden":false,"merged":[[1,9,1,11],[1,5,1,8]]}
[{"$f":"muni&\" - \"& TableA21","v":"DC47 Sekhukhune - Supporting Table SA21 Transfers and grants made by the municipality"}]
[{"$f":"desc","v":"Description"},{"$f":"head27","v":"Ref"},{"$f":"head1b","v":"2018/19"},{"$f":"head1A","v":"2019/20"},{"$f":"Head1","v":"2020/21"},{"$f":"Head2","v":"Current Year 2021/22"},null,null,null,{"$f":"Head3","v":"2022/23 Medium Term Revenue & Expenditure Framework"}]
["R thousand",null,{"$f":"Head5","v":"Audited Outcome"},{"$f":"Head5","v":"Audited Outcome"},{"$f":"Head5","v":"Audited Outcome"},{"$f":"Head6","v":"Original Budget"},{"$f":"Head7","v":"Adjusted Budget"},{"$f":"Head8","v":"Full Year Forecast"},{"$f":"Head5b","v":"Pre-audit outcome"},{"$f":"Head9","v":"Budget Year 2022/23"},{"$f":"Head10","v":"Budget Year +1 2023/24"},{"$f":"Head11","v":"Budget Year +2 2024/25"}]
[]
["Cash Transfers to other municipalities"]
["Insert description",1]
[]
[]
["Total Cash Transfers To Municipalities:",null,{"$f":"SUM(C6:C8)","v":0},{"$f":"SUM(D6:D8)","v":0},0,0,0,0,0,0,0,0]
[]
["Cash Transfers to Entities/Other External Mechanisms"]
[null,2]
[]
[]
["Total Cash Transfers To Entities/Ems'",null,{"$f":"SUM(C12:C14)","v":0},{"$f":"SUM(D12:D14)","v":0},0,0,0,0,0,0,0,0]
[]
["Cash Transfers to other Organs of State"]
[null,3]
[]
[]
["Total Cash Transfers To Other Organs Of State:",null,{"$f":"SUM(C18:C20)","v":0},{"$f":"SUM(D18:D20)","v":0},0,0,0,0,0,0,{"$f":"SUM(K18:K20)","v":0},0]
[]
["Cash Transfers to Organisations"]
[]
[]
["Total Cash Transfers To Organisations",null,{"$f":"SUM(C24:C25)","v":0},0,0,0,0,0,0,0,0,0]
[]
["Cash Transfers to Groups of Individuals"]
[]
[]
["Total Cash Transfers To Groups Of Individuals:",null,{"$f":"SUM(C29:C30)","v":0},0,0,0,0,0,0,0,0,0]
["TOTAL CASH TRANSFERS AND GRANTS",6,{"$f":"C9+C15+C21+C26+C31","v":0},0,0,0,0,0,0,0,0,0]
[]
["Non-Cash Transfers to other municipalities"]
[null,1]
[]
[]
["Total Non-Cash Transfers To Municipalities:",null,{"$f":"SUM(C35:C37)","v":0},{"$f":"SUM(D35:D37)","v":0},0,0,0,0,0,0,0,0]
[]
["Non-Cash Transfers to Entities/Other External Mechanisms"]
[null,2]
[]
[]
["Total Non-Cash Transfers To Entities/Ems'",null,{"$f":"SUM(C41:C43)","v":0},{"$f":"SUM(D41:D43)","v":0},0,0,0,0,0,0,0,0]
[]
["Non-Cash Transfers to other Organs of State"]
["Nat Dpt Agen - Information Tech Agency",3,0,0,0,0,0,0,0,0,0,0]
["Nat Dpt Agen - Sa Sa Local Govern Assoc",null,3627328,0,0,0,0,0,0,0,0,0]
["Prv Dpt Agen - Lim Econ Dev Agency",null,3699050.35,3497209.2,2556298.0299999998,758211,796171,796171,734369.14,0,0,0]
[]
["Total Non-Cash Transfers To Other Organs Of State:",null,{"$f":"SUM(C47:C50)","v":7326378.3499999996},{"$f":"SUM(D47:D50)","v":3497209.2},2556298.0299999998,758211,796171,796171,734369.14,0,{"$f":"SUM(K47:K50)","v":0},{"$f":"SUM(L47:L50)","v":0}]
[]
["Non-Cash Grants to Organisations"]
[null,4]
[]
[]
["Total Non-Cash Grants To Organisations",null,{"$f":"SUM(C54:C56)","v":0},{"$f":"SUM(D54:D56)","v":0},0,0,0,0,0,0,{"$f":"SUM(K54:K56)","v":0},{"$f":"SUM(L54:L56)","v":0}]
[]
["Groups of Individuals"]
["Hh Ssp Soc Ass: Old Age Grant",5,89200,0,0,0,0,0,0,0,0,0]
[]
[]
["Total Non-Cash Grants To Groups Of Individuals:",null,{"$f":"SUM(C60:C62)","v":89200},0,0,0,0,0,0,0,0,0]
["TOTAL NON-CASH TRANSFERS AND GRANTS",null,{"$f":"C38+C44+C51+C57+C63","v":7415578.3499999996},3497209.2,2556298.0299999998,758211,796171,796171,734369.14,0,0,0]
["TOTAL TRANSFERS AND GRANTS",6,{"$f":"C32+C64","v":7415578.3499999996},{"$f":"D32+D64","v":3497209.2},2556298.0299999998,758211,796171,796171,734369.14,0,0,0]
[{"$f":"head27a","v":"References"}]
["1. Insert description listed by municipal name and demarcation code of recipient"]
["2. Insert description of each entity or external mechanism (an external mechanism may be provided with resources to ensure a minimum level of service)"]
["3. Insert description of each Organ of State (e.g. transfer to electricity provider to compensate for FBS provided)"]
["4. Insert description of each other organisation (e.g. charity)"]
["5 Insert description of each other organisation (e.g. the aged, child-headed households)"]
["6. All descriptions should separate transfers for 'capital purposes' and 'operating purposes'"]

{"sheet":"SA22","index":43,"n_rows":120,"n_cols":11,"rows_kept":120,"cut":false,"hidden":false,"merged":[[1,5,1,7],[1,8,1,10]]}
[{"$f":"muni&\" - \"&TableA22","v":"DC47 Sekhukhune - Supporting Table SA22 Summary councillor and staff benefits"}]
["Summary of Employee and Councillor remuneration",{"$f":"head27","v":"Ref"},{"$f":"head1b","v":"2018/19"},{"$f":"head1A","v":"2019/20"},{"$f":"Head1","v":"2020/21"},{"$f":"Head2","v":"Current Year 2021/22"},null,null,{"$f":"Head3","v":"2022/23 Medium Term Revenue & Expenditure Framework"}]
["R thousand",null,{"$f":"Head5","v":"Audited Outcome"},{"$f":"Head5","v":"Audited Outcome"},{"$f":"Head5","v":"Audited Outcome"},{"$f":"Head6","v":"Original Budget"},{"$f":"Head7","v":"Adjusted Budget"},{"$f":"Head8","v":"Full Year Forecast"},{"$f":"Head9","v":"Budget Year 2022/23"},{"$f":"Head10","v":"Budget Year +1 2023/24"},{"$f":"Head11","v":"Budget Year +2 2024/25"}]
[null,1,"A","B","C","D","E","F","G","H","I"]
["Councillors (Political Office Bearers plus Other)"]
["Basic Salaries and Wages",null,6966313.0599999996,7125701.8300000001,7038876.9800000004,7927180,7927180,7927180,7966815,8317356,8691636]
["Pension and UIF Contributions",null,500743.92,513474.06,497272.14,596172,596172,596172,599153,625517,653663]
["Medical Aid Contributions",null,212477.4,219316.8,225684.6,252096,252096,252096,253356,264504,276407]
["Motor Vehicle Allowance"]
["Cellphone Allowance",null,1560958.5,1582267,1563885.95,1975582,1975582,1975582,1985461,2072820,2166097]
["Housing Allowances"]
["Other benefits and allowances",null,7357230.3499999996,6025954.5099999998,5717075.7999999998,7579426,7579426,7579426,7617323,7952485,8310347]
["Sub Total - Councillors",null,{"$f":"SUM(C6:C12)","v":16597723.229999999},15466714.199999999,15042795.469999999,18330456,18330456,18330456,18422108,19232682,20098150]
["% increase",4,null,{"$f":"IF(ISERROR((D13/C13)-1),0,((D13/C13)-1))","v":-6.8142420157707329E-2},{"$f":"IF(ISERROR((E13/D13)-1),0,((E13/D13)-1))","v":-2.740845434384509E-2},0.21855382774808163,0,0,4.9999847248753948E-3,4.4000067744690341E-2,4.4999860133911662E-2]
[]
["Senior Managers of the Municipality",2]
["Basic Salaries and Wages",null,295859.84000000003,3054186.85,5176913.9400000004,6818248,3990170,3990170,6183198,6505123,6844461]
["Pension and UIF Contributions",null,35503.199999999997,159862.16,241654.42,607142,456531,456531,479357,504058,530267]
["Medical Aid Contributions",null,0,8732.4,0,0,0,0,0,0,0]
["Overtime",null,0,0,0,0,0,0,0,0,0]
["Performance Bonus",null,0,0,0,0,0,0,0,0,0]
["Motor Vehicle Allowance",3,28000,229000,508000,835678,625678,625678,656963,691215,727352]
["Cellphone Allowance",3,7996,47976,101962,157612,165852,165852,174145,183190,192745]
["Housing Allowances",3,89123.8,99756.64,35022.400000000001,120509,120509,120509,125329,130844,136732]
["Other benefits and allowances",3,32260.15,119897.93,65514.76,317337,200734,200734,210770,221829,233527]
["Payments in lieu of leave",null,27538.84,0,76728.06,33188,149414,149414,156884,164886,173460]
["Long service awards",null,0,0,0,0,0,0,0,0,0]
["Post-retirement benefit obligations",6,2508123,-1812258,8850991.1799999997,0,0,0,0,0,0]
["Sub Total - Senior Managers of Municipality",null,{"$f":"SUM(C17:C28)","v":3024404.83},{"$f":"SUM(D17:D28)","v":1907153.9800000004},15056786.76,8889714,5708888,5708888,7986646,8401145,8838544]
[{"$f":"$A$14","v":"% increase"},{"$f":"$B$14","v":4},null,{"$f":"IF(ISERROR((D29/C29)-1),0,((D29/C29)-1))","v":-0.36941180589240086},{"$f":"IF(ISERROR((E29/D29)-1),0,((E29/D29)-1))","v":6.8948983238364407},-0.4095875739160697,-0.35780971131354733,0,0.39898453078778218,5.1899007418132692E-2,5.2064212675772215E-2]
[]
["Other Municipal Staff"]
["Basic Salaries and Wages",null,237889044.24000001,246415108.78999999,254808620.09,287472441,289363084,289363084,328259938,314699213,332640412]
["Pension and UIF Contributions",null,37602212.909999996,39464610.210000001,40851704.549999997,43855064,43365064,43365064,43356638,45628145,48001890]
["Medical Aid Contributions",null,12129874.279999999,13325355.76,14030392.720000001,14373917,14705917,14705917,14427956,15222170,16014148]
["Overtime"]
["Performance Bonus",null,0,0,0,0,500000,500000,0,0,0]
["Motor Vehicle Allowance",3,28826029.82,27397484.870000001,23436222.210000001,31000849,22216849,22216849,25708017,26872462,28270613]
["Cellphone Allowance",3,1702348.2,1640486,1530402,2549491,1764267,1764267,1843816,1939238,2040234]
["Housing Allowances",3,2219430.9500000002,2270087.67,2238248.98,3436536,3148806,3148806,3311757,3481346,3662404]
["Other benefits and allowances",3,42012741.039999999,50825250.719999999,48515250.530000001,29274255,32279055,32279055,28089092,35332764,37170172]
["Payments in lieu of leave",null,3902189.51,3851637.03,3020925.01,4780464,4738726,4738726,4974925,5232956,5506247]
["Long service awards",null,1700200.73,4159787.28,2840400.56,537381,1323351,1323351,1267848,1334355,1404490]
["Post-retirement benefit obligations",6,411016.47,1417964.34,172764.38,285055,194085,194085,202263,212579,223633]
["Sub Total - Other Municipal Staff",null,{"$f":"SUM(C33:C44)","v":368395088.14999998},390767772.6699999,391444931.03000003,417565453,413599204,413599204,451442250,449955228,474934243]
[{"$f":"$A$14","v":"% increase"},{"$f":"$B$14","v":4},null,{"$f":"IF(ISERROR((D45/C45)-1),0,((D45/C45)-1))","v":6.0730137940629758E-2},{"$f":"IF(ISERROR((E45/D45)-1),0,((E45/D45)-1))","v":1.7328920329671149E-3},6.6728471617373275E-2,-9.4985084889194216E-3,0,9.1496902397326663E-2,-3.2939362675956652E-3,5.5514445539457169E-2]
[]
["Total Parent Municipality",null,{"$f":"C13+C29+C45","v":388017216.20999998},408141640.8499999,421544513.26000005,444785623,437638548,437638548,477851004,477589055,503870937]
[null,null,null,{"$f":"IF(ISERROR((D48/C48)-1),0,((D48/C48)-1))","v":5.1864772487590693E-2},{"$f":"IF(ISERROR((E48/D48)-1),0,((E48/D48)-1))","v":3.2838777200207225E-2},5.5133227948492625E-2,-1.606858367362296E-2,0,9.1885086868536137E-2,-5.4818133227152455E-4,5.5030327275820801E-2]
[]
["Board Members of Entities"]
["Basic Salaries and Wages"]
["Pension and UIF Contributions"]
["Medical Aid Contributions"]
["Overtime"]
["Performance Bonus"]
["Motor Vehicle Allowance",3]
["Cellphone Allowance",3]
["Housing Allowances",3]
["Other benefits and allowances",3]
["Board Fees"]
["Payments in lieu of leave"]
["Long service awards"]
["Post-retirement benefit obligations",6]
["Sub Total - Board Members of Entities",null,{"$f":"SUM(C52:C64)","v":0},{"$f":"SUM(D52:D64)","v":0},0,0,0,0,0,0,0]
[{"$f":"$A$14","v":"% increase"},{"$f":"$B$14","v":4},null,{"$f":"IF(ISERROR((D65/C65)-1),0,((D65/C65)-1))","v":0},{"$f":"IF(ISERROR((E65/D65)-1),0,((E65/D65)-1))","v":0},0,0,0,0,0,0]
[]
["Senior Managers of Entities"]
["Basic Salaries and Wages"]
["Pension and UIF Contributions"]
["Medical Aid Contributions"]
["Overtime"]
["Performance Bonus"]
["Motor Vehicle Allowance",3]
["Cellphone Allowance",3]
["Housing Allowances",3]
["Other benefits and allowances",3]
["Payments in lieu of leave"]
["Long service awards"]
["Post-retirement benefit obligations",6]
["Sub Total - Senior Managers of Entities",null,{"$f":"SUM(C69:C80)","v":0},{"$f":"SUM(D69:D80)","v":0},0,0,0,0,0,0,0]
[{"$f":"$A$14","v":"% increase"},{"$f":"$B$14","v":4},null,{"$f":"IF(ISERROR((D81/C81)-1),0,((D81/C81)-1))","v":0},{"$f":"IF(ISERROR((E81/D81)-1),0,((E81/D81)-1))","v":0},0,0,0,0,0,0]
[]
["Other Staff of Entities"]
["Basic Salaries and Wages"]
["Pension and UIF Contributions"]
["Medical Aid Contributions"]
["Overtime"]
["Performance Bonus"]
["Motor Vehicle Allowance",3]
["Cellphone Allowance",3]
["Housing Allowances",3]
["Other benefits and allowances",3]
["Payments in lieu of leave"]
["Long service awards"]
["Post-retirement benefit obligations",6]
["Sub Total - Other Staff of Entities",null,{"$f":"SUM(C85:C96)","v":0},{"$f":"SUM(D85:D96)","v":0},0,0,0,0,0,0,0]
[{"$f":"$A$14","v":"% increase"},{"$f":"$B$14","v":4},null,{"$f":"IF(ISERROR((D97/C97)-1),0,((D97/C97)-1))","v":0},{"$f":"IF(ISERROR((E97/D97)-1),0,((E97/D97)-1))","v":0},0,0,0,0,0,0]
[]
["Total Municipal Entities",null,{"$f":"C65+C81+C97","v":0},{"$f":"D65+D81+D97","v":0},0,0,0,0,0,0,0]
[]
["TOTAL SALARY, ALLOWANCES & BENEFITS",null,{"$f":"C48+C100","v":388017216.20999998},{"$f":"D48+D100","v":408141640.8499999},{"$f":"E48+E100","v":421544513.26000005},444785623,437638548,437638548,477851004,477589055,503870937]
[{"$f":"$A$14","v":"% increase"},{"$f":"$B$14","v":4},null,{"$f":"IF(ISERROR((D102/C102)-1),0,((D102/C102)-1))","v":5.1864772487590693E-2},{"$f":"IF(ISERROR((E102/D102)-1),0,((E102/D102)-1))","v":3.2838777200207225E-2},5.5133227948492625E-2,-1.606858367362296E-2,0,9.1885086868536137E-2,-5.4818133227152455E-4,5.5030327275820801E-2]
["TOTAL MANAGERS AND STAFF","5,7",{"$f":"C29+C45+C81+C97","v":371419492.97999996},392674926.64999992,406501717.79000002,426455167,419308092,419308092,459428896,458356373,483772787]
[{"$f":"head27a","v":"References"}]
["1. Include 'Loans and advances' where applicable if any reportable amounts until phased compliance with s164 of MFMA achieved"]
["2. s57 of the Systems Act"]
["3. In kind benefits (e.g. provision of living quarters) must be shown as the cost (full market value) to the municipality, as part of the relevant allowance"]
["4. B/A, C/B, D/C, E/C, F/C, G/D, H/D, I/D"]
["5. Must agree to the sub-total appearing on Table A1 (Employee costs)"]
["6. Includes pension payments and employer contributions to medical aid"]
["7. Correct as at 30 June"]
[]
["Column Definitions:"]
["A, B and C. Audited actual as per the audited financial statements. If audited amounts are unavailable, unaudited amounts must be provided with a note stating these are unaudited"]
["D. The original budget approved by council for the budget year."]
["E. The budget for the budget year as adjusted by council resolution in terms of section 28 of the MFMA."]
["F. An estimate of final actual amounts (pre audit) for the current year at the point in time of preparing the budget for the budget year. This may differ from E."]
["G. The amount to be appropriated for the budget year."]
["H and I. The indicative projection"]

{"sheet":"SA23","index":44,"n_rows":76,"n_cols":9,"rows_kept":76,"cut":false,"hidden":false,"merged":[[1,2,2,2],[1,5,2,5],[1,3,2,3],[1,6,2,6]]}
[{"$f":"muni&\" - \"&TableA23","v":"DC47 Sekhukhune - Supporting Table SA23 Salaries, allowances & benefits (political office bearers/councillors/senior managers)"}]
["Disclosure of Salaries, Allowances & Benefits 1.",{"$f":"head27","v":"Ref"},"No.","Salary","\nContributions\n","Allowances","Performance  Bonuses","In-kind benefits","Total Package"]
["Rand per annum",null,null,null,"1.",null,null,null,"2."]
["Councillors",3]
["Speaker",4,null,753221,79507,51390,null,null,{"$f":"SUM(D5:F5)","v":884118}]
["Chief Whip",null,null,488068,74892,323994,null,null,886954]
["Executive Mayor",null,null,870005,65250,51390,null,null,986645]
["Deputy Executive Mayor",null,null,null,null,null,null,null,0]
["Executive Committee",null,null,3785575,487215,3005847,null,null,7278637]
["Total for all other councillors",null,null,2069946,145645,6170163,null,null,8385754]
[{"$f":"\"Total \"&A4","v":"Total Councillors"},8,{"$f":"SUM(C5:C10)","v":0},7966815,852509,9602784,null,null,18422108]
[]
["Senior Managers of the Municipality",5]
["Municipal Manager (MM)",null,null,1514648,84077,287268,0,null,{"$f":"SUM(D14:H14)","v":1885993}]
["Chief Finance Officer",null,null,1363021,107924,197746,0,null,1668691]
["SM D01",null,null,0,256675,170275,0,null,{"$f":"SUM(D16:H16)","v":426950}]
["SM D02",null,null,1088089,2310,129109,0,null,1219508]
["SM D03",null,null,0,0,0,0,null,0]
["SM D04",null,null,1200000,28371,172593,0,null,1400964]
["SM D05",null,null,1017440,null,367100,0,null,1384540]
["SM D06",null,null,0,null,0,0,null,0]
["SM D07",null,null,0,null,0,0,null,0]
["SM PST",null,null,null,null,0,null,null,0]
["SM: PRB ",null,null,null,null,0,null,null,0]
[null,null,null,null,null,null,null,null,0]
[]
["List of each offical with packages >= senior manager"]
[null,null,null,null,null,null,null,null,{"$f":"SUM(D28:H28)","v":0}]
[null,null,null,null,null,null,null,null,{"$f":"SUM(D29:H29)","v":0}]
[null,null,null,null,null,null,null,null,0]
[null,null,null,null,null,null,null,null,0]
[null,null,null,null,null,null,null,null,0]
[null,null,null,null,null,null,null,null,0]
[null,null,null,null,null,null,null,null,0]
[null,null,null,null,null,null,null,null,0]
[null,null,null,null,null,null,null,null,0]
[null,null,null,null,null,null,null,null,0]
[null,null,null,null,null,null,null,null,0]
[null,null,null,null,null,null,null,null,{"$f":"SUM(D39:H39)","v":0}]
[null,null,null,null,null,null,null,null,{"$f":"SUM(D40:H40)","v":0}]
[{"$f":"\"Total \"&A13","v":"Total Senior Managers of the Municipality"},"8,10",{"$f":"SUM(C14:C40)","v":0},{"$f":"SUM(D14:D40)","v":6183198},{"$f":"SUM(E14:E40)","v":479357},{"$f":"SUM(F14:F40)","v":1324091},{"$f":"SUM(G14:G40)","v":0},null,{"$f":"SUM(I14:I40)","v":7986646}]
[]
["A Heading for Each Entity","6,7"]
["List each member of board by designation"]
[null,null,null,null,null,null,null,null,{"$f":"SUM(D45:G45)","v":0}]
[null,null,null,null,null,null,null,null,{"$f":"SUM(D46:G46)","v":0}]
[null,null,null,null,null,null,null,null,0]
[null,null,null,null,null,null,null,null,0]
[null,null,null,null,null,null,null,null,0]
[null,null,null,null,null,null,null,null,0]
[null,null,null,null,null,null,null,null,0]
[null,null,null,null,null,null,null,null,0]
[null,null,null,null,null,null,null,null,0]
[null,null,null,null,null,null,null,null,0]
[null,null,null,null,null,null,null,null,0]
[null,null,null,null,null,null,null,null,0]
[null,null,null,null,null,null,null,null,0]
[null,null,null,null,null,null,null,null,0]
[null,null,null,null,null,null,null,null,0]
[null,null,null,null,null,null,null,null,0]
["Total for municipal entities","8,10",{"$f":"SUM(C44:C60)","v":0},{"$f":"SUM(D45:D60)","v":0},0,0,0,null,0]
[]
["TOTAL COST OF COUNCILLOR, DIRECTOR and EXECUTIVE REMUNERATION",10,{"$f":"C11+C41+C61","v":0},{"$f":"D11+D41+D61","v":14150013},{"$f":"E11+E41+E61","v":1331866},{"$f":"F11+F41+F61","v":10926875},{"$f":"G11+G41+G61","v":0},null,{"$f":"I11+I41+I61","v":26408754}]
[]
[{"$f":"head27a","v":"References"}]
["1. Pension and medical aid"]
["2. Total package must equal the total cost to the municipality"]
["3. List each political office bearer by designation. Provide a total for all other councillors"]
["4. Political office bearer is defined in MFMA s 1: speaker, executive mayor, deputy executive mayor, member of executive committee,"]
["    mayor, deputy mayor, member of mayoral committee, the councillor designated to exercise powers and duties of mayor (MSA s 57)"]
["5. Also list each senior manager reporting to MM by designation and each official with package >= senior manager by designation"]
["6. List each entity where municipality has an interest and state percentage ownership and control"]
["7. List each senior manager reporting to the CEO of an Entity by designation"]
["8. Must reconcile to relevant section of Table SA24"]
["9. Must reconcile to totals shown for the budget year of Table SA22"]
["10. Correct as at 30 June"]

{"sheet":"SA24","index":45,"n_rows":53,"n_cols":11,"rows_kept":53,"cut":false,"hidden":false,"merged":[[1,5,1,7],[1,8,1,10],[1,2,1,4]]}
[{"$f":"muni&\" - \"&TableA24","v":"DC47 Sekhukhune - Supporting Table SA24 Summary of personnel numbers"}]
["Summary of Personnel Numbers",{"$f":"head27","v":"Ref"},{"$f":"Head1","v":"2020/21"},null,null,{"$f":"Head2","v":"Current Year 2021/22"},null,null,{"$f":"Head9","v":"Budget Year 2022/23"}]
["Number","1,2","Positions","Permanent employees","Contract employees","Positions","Permanent employees","Contract employees","Positions","Permanent employees","Contract employees"]
["Municipal Council and Boards of Municipal Entities"]
["Councillors (Political Office Bearers plus Other Councillors)",null,0,0,0,0,9,42,0,0,0]
["Board Members of municipal entities",4]
["Municipal employees",5]
["Municipal Manager and Senior Managers",3,6,0,3,6,0,3,6,0,6]
["Other Managers",7,44,40,0,44,40,0,44,40,0]
["Professionals",null,{"$f":"SUM(C11:C19)","v":46},{"$f":"SUM(D11:D19)","v":111},0,45,425,0,45,104,0]
["Finance",null,18,14,0,18,14,0,18,14,0]
["Spatial/town planning",null,14,9,0,13,8,0,13,8,0]
["Information Technology",null,3,2,0,3,2,0,3,2,0]
["Roads"]
["Electricity",null,11,7,0,11,4,0,11,7,0]
["Water",null,0,79,0,0,73,0,0,73,0]
["Sanitation"]
["Refuse"]
["Other",null,0,0,0,0,324,0,0,0,0]
["Technicians",null,{"$f":"SUM(C21:C29)","v":0},{"$f":"SUM(D21:D29)","v":8},7,0,8,5,0,8,7]
["Finance"]
["Spatial/town planning"]
["Information Technology",null,0,8,0,0,8,0,0,8,0]
["Roads"]
["Electricity"]
["Water",null,0,0,7,0,0,5,0,0,7]
["Sanitation"]
["Refuse"]
["Other"]
["Clerks (Clerical and administrative)",null,0,204,0,0,189,0,0,190,0]
["Service and sales workers"]
["Skilled agricultural and fishery workers"]
["Craft and related trades"]
["Plant and Machine Operators",null,0,140,0,0,131,0,0,131,0]
["Elementary Occupations"]
["TOTAL PERSONNEL NUMBERS",9,{"$f":"SUM(C5:C9)+SUM(C11:C19)+SUM(C21:C35)","v":96},{"$f":"SUM(D5:D9)+SUM(D11:D19)+SUM(D21:D35)","v":503},10,95,802,{"$f":"SUM(H5:H9)+SUM(H11:H19)+SUM(H21:H35)","v":50},95,473,13]
["% increase",null,null,null,null,{"$f":"IF(ISERROR((F36/C36)-1),0,((F36/C36)-1))","v":-1.041666666666663E-2},0.59443339960238561,4,0,-0.41022443890274318,-0.74]
[]
["Total municipal employees headcount","6, 10",96,620,10,95,916,50,95,588,13]
["Finance personnel headcount","8, 10",0,57,0,0,55,0,0,56,0]
["Human Resources personnel headcount","8, 10",0,60,0,0,59,0,0,59,0]
[]
[{"$f":"head27a","v":"References"}]
["1. Positions must be funded and aligned to the municipality's current organisational structure"]
["2. Full Time Equivalent (FTE). E.g. One full time person = 1FTE. A person working half time (say 4 hours out of 8) = 0.5FTE."]
["3. s57 of the Systems Act"]
["4. Include only in Consolidated Statements"]
["5. Include municipal entity employees in Consolidated Statements"]
["6.  Include headcount (number fo persons, Not FTE) of managers and staff only (exclude councillors)"]
["7. Managers who provide the direction of a critical technical function"]
["8. Total number of employees working on these functions"]
["9. Correct as at 30 June"]
["10. Must account for all budgeted positions, as per the municipal organogram"]

{"sheet":"SA25","index":46,"n_rows":48,"n_cols":17,"rows_kept":48,"cut":false,"hidden":false,"merged":[[1,2,1,13],[1,14,1,16]]}
[{"$f":"muni&\" - \"& TableA25","v":"DC47 Sekhukhune - Supporting Table SA25 Budgeted monthly revenue and expenditure"}]
[{"$f":"desc","v":"Description"},{"$f":"head27","v":"Ref"},{"$f":"Head9","v":"Budget Year 2022/23"},null,null,null,null,null,null,null,null,null,null,null,"Medium Term Revenue and Expenditure Framework"]
["R thousand",null,"July","August","Sept.","October","November","December","January","February","March","April","May","June",{"$f":"Head9","v":"Budget Year 2022/23"},{"$f":"Head10","v":"Budget Year +1 2023/24"},{"$f":"Head11","v":"Budget Year +2 2024/25"}]
[{"$f":"'A4-FinPerf RE'!A4","v":"Revenue By Source"}]
[{"$f":"'A4-FinPerf RE'!A5","v":"Property rates"},null,null,null,null,null,null,null,null,null,null,null,null,{"$f":"O5-SUM(C5:M5)","v":0},{"$f":"'A4-FinPerf RE'!J5","v":0},{"$f":"'A4-FinPerf RE'!K5","v":0},{"$f":"'A4-FinPerf RE'!L5","v":0}]
[{"$f":"'A4-FinPerf RE'!A6","v":"Service charges - electricity revenue"},null,0,0,0,0,0,0,0,0,0,0,0,0,{"$f":"'A4-FinPerf RE'!J6","v":0},{"$f":"'A4-FinPerf RE'!K6","v":0},{"$f":"'A4-FinPerf RE'!L6","v":0}]
[{"$f":"'A4-FinPerf RE'!A7","v":"Service charges - water revenue"},null,8062628,6764128,8774128,7977749,7977897,7977896,6719128,6689978,7280980,6875328,6669527,7064252,{"$f":"'A4-FinPerf RE'!J7","v":88833619},{"$f":"'A4-FinPerf RE'!K7","v":93275300},{"$f":"'A4-FinPerf RE'!L7","v":97939066}]
[{"$f":"'A4-FinPerf RE'!A8","v":"Service charges - sanitation revenue"},null,1026799,1026799,1207909,966430,1207909,845690,1026799,1328648,1087169,1147539,1630497,2234207,{"$f":"'A4-FinPerf RE'!J8","v":14736395},{"$f":"'A4-FinPerf RE'!K8","v":15473215},{"$f":"'A4-FinPerf RE'!L8","v":16246876}]
[{"$f":"'A4-FinPerf RE'!A9","v":"Service charges - refuse revenue"},null,null,null,null,null,null,null,null,null,null,null,null,0,{"$f":"'A4-FinPerf RE'!J9","v":0},{"$f":"'A4-FinPerf RE'!K9","v":0},{"$f":"'A4-FinPerf RE'!L9","v":0}]
[]
[{"$f":"'A4-FinPerf RE'!A11","v":"Rental of facilities and equipment"},null,null,null,null,null,null,null,null,null,null,null,null,0,{"$f":"'A4-FinPerf RE'!J11","v":0},{"$f":"'A4-FinPerf RE'!K11","v":0},{"$f":"'A4-FinPerf RE'!L11","v":0}]
[{"$f":"'A4-FinPerf RE'!A12","v":"Interest earned - external investments"},null,2081670,1496951,2144758,1476047,1356047,810239,1753999,2301522,1986026,1947401,2358689,1946055,{"$f":"'A4-FinPerf RE'!J12","v":21659404},{"$f":"'A4-FinPerf RE'!K12","v":22612419},{"$f":"'A4-FinPerf RE'!L12","v":23629977}]
[{"$f":"'A4-FinPerf RE'!A13","v":"Interest earned - outstanding debtors"},null,1450000,1250000,900000,2000000,1268433,1606607,880000,1540000,1200000,1200600,820566,1105000,{"$f":"'A4-FinPerf RE'!J13","v":15221206},{"$f":"'A4-FinPerf RE'!K13","v":15982267},{"$f":"'A4-FinPerf RE'!L13","v":16781380}]
[{"$f":"'A4-FinPerf RE'!A14","v":"Dividends received"},null,0,0,0,0,0,0,0,0,0,0,0,0,{"$f":"'A4-FinPerf RE'!J14","v":0},{"$f":"'A4-FinPerf RE'!K14","v":0},{"$f":"'A4-FinPerf RE'!L14","v":0}]
[{"$f":"'A4-FinPerf RE'!A15","v":"Fines, penalties and forfeits"},null,12625,2125,4625,3125,3125,3755,2125,6625,2125,5125,1625,3127,{"$f":"'A4-FinPerf RE'!J15","v":50132},{"$f":"'A4-FinPerf RE'!K15","v":52639},{"$f":"'A4-FinPerf RE'!L15","v":55271}]
[{"$f":"'A4-FinPerf RE'!A16","v":"Licences and permits"},null,null,null,null,null,null,null,null,null,null,null,null,0,{"$f":"'A4-FinPerf RE'!J16","v":0},{"$f":"'A4-FinPerf RE'!K16","v":0},{"$f":"'A4-FinPerf RE'!L16","v":0}]
[{"$f":"'A4-FinPerf RE'!A17","v":"Agency services"},null,null,null,null,null,null,null,null,null,null,null,null,0,{"$f":"'A4-FinPerf RE'!J17","v":0},{"$f":"'A4-FinPerf RE'!K17","v":0},{"$f":"'A4-FinPerf RE'!L17","v":0}]
[{"$f":"'A4-FinPerf RE'!A18","v":"Transfers and subsidies"},null,1084166,1590066,328022726,1084166,1637266,1084166,373977166,3784166,1084166,1234166,1084166,372177174,{"$f":"'A4-FinPerf RE'!J18","v":1087843560},{"$f":"'A4-FinPerf RE'!K18","v":1149230990},{"$f":"'A4-FinPerf RE'!L18","v":1253412000}]
[{"$f":"'A4-FinPerf RE'!A19","v":"Other revenue"},null,298677,48677,399308,48677,238677,48677,298677,48677,48677,598677,48677,48734,{"$f":"'A4-FinPerf RE'!J19","v":2174812},{"$f":"'A4-FinPerf RE'!K19","v":2283550},{"$f":"'A4-FinPerf RE'!L19","v":2397729}]
[{"$f":"'A4-FinPerf RE'!A20","v":"Gains"},null,35835,35835,35835,35835,35835,35835,35835,35835,35835,35835,35835,35836,{"$f":"'A4-FinPerf RE'!J20","v":430021},{"$f":"'A4-FinPerf RE'!K20","v":451522},{"$f":"'A4-FinPerf RE'!L20","v":474098}]
[{"$f":"'A4-FinPerf RE'!A21","v":"Total Revenue (excluding capital transfers and contributions)"},null,{"$f":"SUM(C5:C9)+SUM(C11:C20)","v":14052400},{"$f":"SUM(D5:D9)+SUM(D11:D20)","v":12214581},341489289,13592029,13725189,12412865,384693729,15735451,12724978,13044671,12649582,384614385,1230949149,1299361902,1410936397]
[]
[{"$f":"'A4-FinPerf RE'!A23","v":"Expenditure By Type"}]
[{"$f":"'A4-FinPerf RE'!A24","v":"Employee related costs"},null,41947074,34077211,35578551,38049622,33524907,34240819,34998587,34929270,36376289,36629265,50242690,{"$f":"O24-SUM(C24:M24)","v":48834611},{"$f":"'A4-FinPerf RE'!J24","v":459428896},{"$f":"'A4-FinPerf RE'!K24","v":458356373},{"$f":"'A4-FinPerf RE'!L24","v":483772787}]
[{"$f":"'A4-FinPerf RE'!A25","v":"Remuneration of councillors"},null,1535185,1535185,1535185,1535185,1535185,1535185,1535185,1535185,1535185,1535185,1535185,1535073,{"$f":"'A4-FinPerf RE'!J25","v":18422108},{"$f":"'A4-FinPerf RE'!K25","v":19232682},{"$f":"'A4-FinPerf RE'!L25","v":20098150}]
[{"$f":"'A4-FinPerf RE'!A26","v":"Debt impairment"},null,919967,919967,919967,919967,919967,919967,919967,919967,919967,919967,919967,919963,{"$f":"'A4-FinPerf RE'!J26","v":11039600},{"$f":"'A4-FinPerf RE'!K26","v":11525342},{"$f":"'A4-FinPerf RE'!L26","v":12043983}]
[{"$f":"'A4-FinPerf RE'!A27","v":"Depreciation & asset impairment"},null,6259506,7184972,12081789,4845894,9305390,13764887,8766418,8649410,10988489,8598584,9742710,6696815,{"$f":"'A4-FinPerf RE'!J27","v":106884864},{"$f":"'A4-FinPerf RE'!K27","v":111671318},{"$f":"'A4-FinPerf RE'!L27","v":127396528}]
[{"$f":"'A4-FinPerf RE'!A28","v":"Finance charges"},null,42451,42451,42451,42451,42451,42451,42451,42451,42451,42451,42451,42450,{"$f":"'A4-FinPerf RE'!J28","v":509411},{"$f":"'A4-FinPerf RE'!K28","v":531825},{"$f":"'A4-FinPerf RE'!L28","v":555757}]
[{"$f":"'A4-FinPerf RE'!A29","v":"Bulk purchases - electricity"},null,0,0,0,0,0,0,0,0,0,0,0,0,{"$f":"'A4-FinPerf RE'!J29","v":0},{"$f":"'A4-FinPerf RE'!K29","v":0},{"$f":"'A4-FinPerf RE'!L29","v":0}]
[{"$f":"'A4-FinPerf RE'!A30","v":"Inventory consumed"},null,18277230,13868470,15280701,18582296,14019786,12122893,15313268,15289785,13896237,17011880,16553258,20859422,{"$f":"'A4-FinPerf RE'!J30","v":191075226},{"$f":"'A4-FinPerf RE'!K30","v":187994806},{"$f":"'A4-FinPerf RE'!L30","v":207271499}]
[{"$f":"'A4-FinPerf RE'!A31","v":"Contracted services"},null,19944300,19944300,19944300,19944300,19944300,19944300,19944300,19944300,19944300,19944300,19944300,19943823,{"$f":"'A4-FinPerf RE'!J31","v":239331123},{"$f":"'A4-FinPerf RE'!K31","v":297911933},{"$f":"'A4-FinPerf RE'!L31","v":334392874}]
[{"$f":"'A4-FinPerf RE'!A32","v":"Transfers and subsidies"},null,0,0,0,0,0,0,0,0,0,0,0,0,{"$f":"'A4-FinPerf RE'!J32","v":0},{"$f":"'A4-FinPerf RE'!K32","v":0},{"$f":"'A4-FinPerf RE'!L32","v":0}]
[{"$f":"'A4-FinPerf RE'!A33","v":"Other expenditure"},null,16849912,15185912,14353912,14353912,13937912,15185912,15185912,15601912,15185912,15601912,14769912,17681476,{"$f":"'A4-FinPerf RE'!J33","v":183894508},{"$f":"'A4-FinPerf RE'!K33","v":201702029},{"$f":"'A4-FinPerf RE'!L33","v":215752492}]
[{"$f":"'A4-FinPerf RE'!A34","v":"Losses"},null,0,0,0,0,0,0,0,0,0,0,0,0,{"$f":"'A4-FinPerf RE'!J34","v":0},{"$f":"'A4-FinPerf RE'!K34","v":0},{"$f":"'A4-FinPerf RE'!L34","v":0}]
[{"$f":"'A4-FinPerf RE'!A35","v":"Total Expenditure"},null,{"$f":"SUM(C24:C34)","v":105775625},{"$f":"SUM(D24:D34)","v":92758468},99736856,98273627,93229898,97756414,96706088,96912280,98888830,100283544,113750473,116513633,1210585736,1288926308,1401284070]
[]
[{"$f":"'A4-FinPerf RE'!A37","v":"Surplus/(Deficit)"},null,{"$f":"C21-C35","v":-91723225},-80543887,241752433,-84681598,-79504709,-85343549,287987641,-81176829,-86163852,-87238873,-101100891,268100752,20363413,10435594,9652327]
[{"$f":"'A4-FinPerf RE'!A38","v":"Transfers and subsidies - capital (monetary allocations) (National / Provincial and District)"},null,0,0,112176440,0,0,0,200000000,1900000,0,0,0,{"$f":"O38-SUM(C38:M38)","v":155000000},{"$f":"'A4-FinPerf RE'!J38","v":469076440},{"$f":"'A4-FinPerf RE'!K38","v":501682010},{"$f":"'A4-FinPerf RE'!L38","v":512086000}]
[{"$f":"'A4-FinPerf RE'!A39","v":"Transfers and subsidies - capital (monetary allocations) (National / Provincial Departmental Agencies, Households, Non-profit Institutions, Private Enterprises, Public Corporatons, Higher Educational Institutions)"},null,null,null,null,null,null,null,null,null,null,null,null,{"$f":"O39-SUM(C39:M39)","v":0},{"$f":"'A4-FinPerf RE'!J39","v":0},{"$f":"'A4-FinPerf RE'!K39","v":0},{"$f":"'A4-FinPerf RE'!L39","v":0}]
[{"$f":"'A4-FinPerf RE'!A40","v":"Transfers and subsidies - capital (in-kind - all) "},null,0,0,0,0,0,0,0,0,0,0,0,{"$f":"O40-SUM(C40:M40)","v":0},{"$f":"'A4-FinPerf RE'!J40","v":0},{"$f":"'A4-FinPerf RE'!K40","v":0},{"$f":"'A4-FinPerf RE'!L40","v":0}]
[{"$f":"'A4-FinPerf RE'!A41","v":"Surplus/(Deficit) after capital transfers & contributions"},null,{"$f":"C37+SUM(C38:C40)","v":-91723225},-80543887,353928873,-84681598,-79504709,-85343549,487987641,-79276829,-86163852,-87238873,-101100891,423100752,{"$f":"O37+SUM(O38:O40)","v":489439853},{"$f":"P37+SUM(P38:P40)","v":512117604},{"$f":"Q37+SUM(Q38:Q40)","v":521738327}]
[{"$f":"'A4-FinPerf RE'!A42","v":"Taxation"},null,null,null,null,null,null,null,null,null,null,null,null,{"$f":"O42-SUM(C42:M42)","v":0},{"$f":"'A4-FinPerf RE'!J42","v":0},{"$f":"'A4-FinPerf RE'!K42","v":0},{"$f":"'A4-FinPerf RE'!L42","v":0}]
[{"$f":"'A4-FinPerf RE'!A44","v":"Attributable to minorities"},null,null,null,null,null,null,null,null,null,null,null,null,{"$f":"O43-SUM(C43:M43)","v":0},{"$f":"'A4-FinPerf RE'!J44","v":0},{"$f":"'A4-FinPerf RE'!K44","v":0},{"$f":"'A4-FinPerf RE'!L44","v":0}]
[{"$f":"'A4-FinPerf RE'!A46","v":"Share of surplus/ (deficit) of associate"},null,null,null,null,null,null,null,null,null,null,null,null,{"$f":"O44-SUM(C44:M44)","v":0},{"$f":"'A4-FinPerf RE'!J46","v":0},{"$f":"'A4-FinPerf RE'!K46","v":0},{"$f":"'A4-FinPerf RE'!L46","v":0}]
[{"$f":"'A4-FinPerf RE'!A37","v":"Surplus/(Deficit)"},1,{"$f":"C41-C42+SUM(C43:C44)","v":-91723225},{"$f":"D41-D42+SUM(D43:D44)","v":-80543887},353928873,-84681598,-79504709,-85343549,487987641,-79276829,-86163852,-87238873,-101100891,{"$f":"N41-N42+SUM(N43:N44)","v":423100752},{"$f":"O41-O42+SUM(O43:O44)","v":489439853},{"$f":"P41-P42+SUM(P43:P44)","v":512117604},{"$f":"Q41-Q42+SUM(Q43:Q44)","v":521738327}]
[{"$f":"head27a","v":"References"}]
["1. Surplus (Deficit) must reconcile with Budgeted Financial Performance"]
["check",null,null,null,null,null,null,null,null,null,null,null,null,null,{"$f":"O45-'A4-FinPerf RE'!J47","v":0},{"$f":"P45-'A4-FinPerf RE'!K47","v":0},{"$f":"Q45-'A4-FinPerf RE'!L47","v":0}]

{"sheet":"SA26","index":47,"n_rows":48,"n_cols":17,"rows_kept":48,"cut":false,"hidden":false,"merged":[[1,2,1,13],[1,14,1,16]]}
[{"$f":"muni&\" - \"&TableA26","v":"DC47 Sekhukhune - Supporting Table SA26 Budgeted monthly revenue and expenditure (municipal vote)"}]
[{"$f":"desc","v":"Description"},{"$f":"head27","v":"Ref"},{"$f":"Head9","v":"Budget Year 2022/23"},null,null,null,null,null,null,null,null,null,null,null,"Medium Term Revenue and Expenditure Framework"]
["R thousand",null,"July","August","Sept.","October","November","December","January","February","March","April","May","June",{"$f":"Head9","v":"Budget Year 2022/23"},{"$f":"Head10","v":"Budget Year +1 2023/24"},{"$f":"Head11","v":"Budget Year +2 2024/25"}]
[{"$f":"'A3-FinPerf V'!A4","v":"Revenue by Vote"}]
[{"$f":"'A3-FinPerf V'!A5","v":"Vote 01 - Speakers Office"},null,0,0,0,0,0,0,0,0,0,0,0,{"$f":"O5-SUM(C5:M5)","v":0},{"$f":"'A3-FinPerf V'!I5","v":0},{"$f":"'A3-FinPerf V'!J5","v":0},{"$f":"'A3-FinPerf V'!K5","v":0}]
[{"$f":"'A3-FinPerf V'!A6","v":"Vote 02 - Executive Mayor's Office"},null,0,0,0,0,0,0,0,0,0,0,0,0,{"$f":"'A3-FinPerf V'!I6","v":0},{"$f":"'A3-FinPerf V'!J6","v":0},{"$f":"'A3-FinPerf V'!K6","v":0}]
[{"$f":"'A3-FinPerf V'!A7","v":"Vote 03 - Municipal Manager  Office"},null,0,0,0,0,0,0,0,0,0,0,0,0,{"$f":"'A3-FinPerf V'!I7","v":0},{"$f":"'A3-FinPerf V'!J7","v":0},{"$f":"'A3-FinPerf V'!K7","v":0}]
[{"$f":"'A3-FinPerf V'!A8","v":"Vote 04 - Budget And Treasury"},null,14052400,12214581,453665729,13592029,13725189,12412865,584693729,17635451,12724978,13044671,12649582,539614385,{"$f":"'A3-FinPerf V'!I8","v":1700025589},{"$f":"'A3-FinPerf V'!J8","v":1801043912},{"$f":"'A3-FinPerf V'!K8","v":1923022397}]
[{"$f":"'A3-FinPerf V'!A9","v":"Vote 05 - Infrustracture And Water Services"},null,0,0,0,0,0,0,0,0,0,0,0,0,{"$f":"'A3-FinPerf V'!I9","v":0},{"$f":"'A3-FinPerf V'!J9","v":0},{"$f":"'A3-FinPerf V'!K9","v":0}]
[{"$f":"'A3-FinPerf V'!A10","v":"Vote 06 - Planning And Economic Development"},null,0,0,0,0,0,0,0,0,0,0,0,0,{"$f":"'A3-FinPerf V'!I10","v":0},{"$f":"'A3-FinPerf V'!J10","v":0},{"$f":"'A3-FinPerf V'!K10","v":0}]
[{"$f":"'A3-FinPerf V'!A11","v":"Vote 07 - Community Services"},null,0,0,0,0,0,0,0,0,0,0,0,0,{"$f":"'A3-FinPerf V'!I11","v":0},{"$f":"'A3-FinPerf V'!J11","v":0},{"$f":"'A3-FinPerf V'!K11","v":0}]
[{"$f":"'A3-FinPerf V'!A12","v":"Vote 08 - Sekhukhune Development Angancy"},null,0,0,0,0,0,0,0,0,0,0,0,0,{"$f":"'A3-FinPerf V'!I12","v":0},{"$f":"'A3-FinPerf V'!J12","v":0},{"$f":"'A3-FinPerf V'!K12","v":0}]
[{"$f":"'A3-FinPerf V'!A13","v":"Vote 09 - Corporate Services"},null,0,0,0,0,0,0,0,0,0,0,0,0,{"$f":"'A3-FinPerf V'!I13","v":0},{"$f":"'A3-FinPerf V'!J13","v":0},{"$f":"'A3-FinPerf V'!K13","v":0}]
[{"$f":"'A3-FinPerf V'!A14","v":"Vote 10 - "},null,0,0,0,0,0,0,0,0,0,0,0,0,{"$f":"'A3-FinPerf V'!I14","v":0},{"$f":"'A3-FinPerf V'!J14","v":0},{"$f":"'A3-FinPerf V'!K14","v":0}]
[{"$f":"'A3-FinPerf V'!A15","v":"Vote 11 - "},null,0,0,0,0,0,0,0,0,0,0,0,0,{"$f":"'A3-FinPerf V'!I15","v":0},{"$f":"'A3-FinPerf V'!J15","v":0},{"$f":"'A3-FinPerf V'!K15","v":0}]
[{"$f":"'A3-FinPerf V'!A16","v":"Vote 12 - "},null,0,0,0,0,0,0,0,0,0,0,0,0,{"$f":"'A3-FinPerf V'!I16","v":0},{"$f":"'A3-FinPerf V'!J16","v":0},{"$f":"'A3-FinPerf V'!K16","v":0}]
[{"$f":"'A3-FinPerf V'!A17","v":"Vote 13 - "},null,0,0,0,0,0,0,0,0,0,0,0,0,{"$f":"'A3-FinPerf V'!I17","v":0},{"$f":"'A3-FinPerf V'!J17","v":0},{"$f":"'A3-FinPerf V'!K17","v":0}]
[{"$f":"'A3-FinPerf V'!A18","v":"Vote 14 - "},null,0,0,0,0,0,0,0,0,0,0,0,0,{"$f":"'A3-FinPerf V'!I18","v":0},{"$f":"'A3-FinPerf V'!J18","v":0},{"$f":"'A3-FinPerf V'!K18","v":0}]
[{"$f":"'A3-FinPerf V'!A19","v":"Vote 15 - Other"},null,0,0,0,0,0,0,0,0,0,0,0,0,{"$f":"'A3-FinPerf V'!I19","v":0},{"$f":"'A3-FinPerf V'!J19","v":0},{"$f":"'A3-FinPerf V'!K19","v":0}]
[{"$f":"'A3-FinPerf V'!A20","v":"Total Revenue by Vote"},null,{"$f":"SUM(C5:C19)","v":14052400},12214581,453665729,{"$f":"SUM(F5:F19)","v":13592029},13725189,12412865,584693729,17635451,12724978,13044671,12649582,539614385,1700025589,1801043912,1923022397]
[]
[{"$f":"'A3-FinPerf V'!A22","v":"Expenditure by Vote to be appropriated"}]
[{"$f":"'A3-FinPerf V'!A23","v":"Vote 01 - Speakers Office"},null,4029124,4029124,4029124,4029124,4029124,4029124,4029124,4029124,4029124,4029124,4029124,{"$f":"O23-SUM(C23:M23)","v":4028797},{"$f":"'A3-FinPerf V'!I23","v":48349161},{"$f":"'A3-FinPerf V'!J23","v":48421963},{"$f":"'A3-FinPerf V'!K23","v":50724050}]
[{"$f":"'A3-FinPerf V'!A24","v":"Vote 02 - Executive Mayor's Office"},null,3568478,3568478,3568478,3568478,3568478,3568478,3568478,3568478,3568478,3568478,3568478,3568260,{"$f":"'A3-FinPerf V'!I24","v":42821518},{"$f":"'A3-FinPerf V'!J24","v":44429959},{"$f":"'A3-FinPerf V'!K24","v":46660243}]
[{"$f":"'A3-FinPerf V'!A25","v":"Vote 03 - Municipal Manager  Office"},null,7388571,7388571,7388571,7388571,7388571,7388571,7388571,7388571,7388571,7388571,7388571,7388417,{"$f":"'A3-FinPerf V'!I25","v":88662698},{"$f":"'A3-FinPerf V'!J25","v":108896425},{"$f":"'A3-FinPerf V'!K25","v":126186681}]
[{"$f":"'A3-FinPerf V'!A26","v":"Vote 04 - Budget And Treasury"},null,14591725,15517191,20414008,13178113,17637609,22097106,17098637,16981629,19320708,16930803,18074929,15028846,{"$f":"'A3-FinPerf V'!I26","v":206871304},{"$f":"'A3-FinPerf V'!J26","v":232083437},{"$f":"'A3-FinPerf V'!K26","v":253449573}]
[{"$f":"'A3-FinPerf V'!A27","v":"Vote 05 - Infrustracture And Water Services"},null,55186080,41792228,43021740,48409291,39921780,39521856,43691459,43629543,42718244,47518576,59841379,66258602,{"$f":"'A3-FinPerf V'!I27","v":571510778},{"$f":"'A3-FinPerf V'!J27","v":577079534},{"$f":"'A3-FinPerf V'!K27","v":611228228}]
[{"$f":"'A3-FinPerf V'!A28","v":"Vote 06 - Planning And Economic Development"},null,1600779,1600779,1600779,1600779,1600779,1600779,1600779,1600779,1600779,1600779,1600779,1600551,{"$f":"'A3-FinPerf V'!I28","v":19209120},{"$f":"'A3-FinPerf V'!J28","v":22557537},{"$f":"'A3-FinPerf V'!K28","v":23662589}]
[{"$f":"'A3-FinPerf V'!A29","v":"Vote 07 - Community Services"},null,6389265,5840494,6692553,7077668,6061954,6528897,6307437,6692553,7241323,6225610,6225610,5618857,{"$f":"'A3-FinPerf V'!I29","v":76902221},{"$f":"'A3-FinPerf V'!J29","v":81085303},{"$f":"'A3-FinPerf V'!K29","v":85276547}]
[{"$f":"'A3-FinPerf V'!A30","v":"Vote 08 - Sekhukhune Development Angancy"},null,642344,642344,642344,642344,642344,642344,642344,642344,642344,642344,642344,642275,{"$f":"'A3-FinPerf V'!I30","v":7708059},{"$f":"'A3-FinPerf V'!J30","v":11508720},{"$f":"'A3-FinPerf V'!K30","v":15310716}]
[{"$f":"'A3-FinPerf V'!A31","v":"Vote 09 - Corporate Services"},null,12379259,12379259,12379259,12379259,12379259,12379259,12379259,12379259,12379259,12379259,12379259,12379027,{"$f":"'A3-FinPerf V'!I31","v":148550876},{"$f":"'A3-FinPerf V'!J31","v":162863441},{"$f":"'A3-FinPerf V'!K31","v":188785453}]
[{"$f":"'A3-FinPerf V'!A32","v":"Vote 10 - "},null,0,0,0,0,0,0,0,0,0,0,0,0,{"$f":"'A3-FinPerf V'!I32","v":0},{"$f":"'A3-FinPerf V'!J32","v":0},{"$f":"'A3-FinPerf V'!K32","v":0}]
[{"$f":"'A3-FinPerf V'!A33","v":"Vote 11 - "},null,0,0,0,0,0,0,0,0,0,0,0,0,{"$f":"'A3-FinPerf V'!I33","v":0},{"$f":"'A3-FinPerf V'!J33","v":0},{"$f":"'A3-FinPerf V'!K33","v":0}]
[{"$f":"'A3-FinPerf V'!A34","v":"Vote 12 - "},null,0,0,0,0,0,0,0,0,0,0,0,0,{"$f":"'A3-FinPerf V'!I34","v":0},{"$f":"'A3-FinPerf V'!J34","v":0},{"$f":"'A3-FinPerf V'!K34","v":0}]
[{"$f":"'A3-FinPerf V'!A35","v":"Vote 13 - "},null,0,0,0,0,0,0,0,0,0,0,0,0,{"$f":"'A3-FinPerf V'!I35","v":0},{"$f":"'A3-FinPerf V'!J35","v":0},{"$f":"'A3-FinPerf V'!K35","v":0}]
[{"$f":"'A3-FinPerf V'!A36","v":"Vote 14 - "},null,0,0,0,0,0,0,0,0,0,0,0,0,{"$f":"'A3-FinPerf V'!I36","v":0},{"$f":"'A3-FinPerf V'!J36","v":0},{"$f":"'A3-FinPerf V'!K36","v":0}]
[{"$f":"'A3-FinPerf V'!A37","v":"Vote 15 - Other"},null,0,0,0,0,0,0,0,0,0,0,0,0,{"$f":"'A3-FinPerf V'!I37","v":0},{"$f":"'A3-FinPerf V'!J37","v":0},{"$f":"'A3-FinPerf V'!K37","v":0}]
[{"$f":"'A3-FinPerf V'!A38","v":"Total Expenditure by Vote"},null,{"$f":"SUM(C23:C37)","v":105775625},{"$f":"SUM(D23:D37)","v":92758468},99736856,98273627,93229898,97756414,96706088,96912280,98888830,100283544,113750473,116513632,{"$f":"SUM(O23:O37)","v":1210585735},{"$f":"SUM(P23:P37)","v":1288926319},{"$f":"SUM(Q23:Q37)","v":1401284080}]
[]
[{"$f":"'A4-FinPerf RE'!A37&\" before assoc.\"","v":"Surplus/(Deficit) before assoc."},null,{"$f":"C20-C38","v":-91723225},-80543887,353928873,-84681598,-79504709,-85343549,487987641,-79276829,-86163852,-87238873,-101100891,423100753,489439854,512117593,521738317]
[]
[{"$f":"'SA25'!A42","v":"Taxation"},null,null,null,null,null,null,null,null,null,null,null,null,{"$f":"O42-SUM(C42:M42)","v":0},{"$f":"'SA25'!O42","v":0},{"$f":"'SA25'!P42","v":0},{"$f":"'SA25'!Q42","v":0}]
[{"$f":"'SA25'!A43","v":"Attributable to minorities"},null,null,null,null,null,null,null,null,null,null,null,null,{"$f":"O43-SUM(C43:M43)","v":0},{"$f":"'SA25'!O43","v":0},{"$f":"'SA25'!P43","v":0},{"$f":"'SA25'!Q43","v":0}]
[{"$f":"'A4-FinPerf RE'!A46","v":"Share of surplus/ (deficit) of associate"},null,null,null,null,null,null,null,null,null,null,null,null,{"$f":"O44-SUM(C44:M44)","v":0},{"$f":"'A4-FinPerf RE'!J46","v":0},{"$f":"'A4-FinPerf RE'!K46","v":0},{"$f":"'A4-FinPerf RE'!L46","v":0}]
[{"$f":"'A4-FinPerf RE'!A37","v":"Surplus/(Deficit)"},1,{"$f":"C40+C44","v":-91723225},{"$f":"D40+D44","v":-80543887},353928873,-84681598,-79504709,-85343549,487987641,-79276829,-86163852,-87238873,-101100891,423100753,489439854,512117593,521738317]
[{"$f":"head27a","v":"References"}]
["1. Surplus (Deficit) must reconcile with Budgeted Financial Performance"]
["check",null,null,null,null,null,null,null,null,null,null,null,null,null,{"$f":"O45-'A4-FinPerf RE'!J47","v":1},{"$f":"P45-'A4-FinPerf RE'!K47","v":-11},{"$f":"Q45-'A4-FinPerf RE'!L47","v":-10}]

{"sheet":"SA27","index":48,"n_rows":56,"n_cols":17,"rows_kept":56,"cut":false,"hidden":false,"merged":[[1,2,1,13],[1,14,1,16]]}
[{"$f":"muni&\" - \"&TableA27","v":"DC47 Sekhukhune - Supporting Table SA27 Budgeted monthly revenue and expenditure (functional classification)"}]
[{"$f":"desc","v":"Description"},{"$f":"head27","v":"Ref"},{"$f":"Head9","v":"Budget Year 2022/23"},null,null,null,null,null,null,null,null,null,null,null,"Medium Term Revenue and Expenditure Framework"]
["R thousand",null,"July","August","Sept.","October","November","December","January","February","March","April","May","June",{"$f":"Head9","v":"Budget Year 2022/23"},{"$f":"Head10","v":"Budget Year +1 2023/24"},{"$f":"Head11","v":"Budget Year +2 2024/25"}]
[{"$f":"'A2-FinPerf SC'!A4","v":"Revenue - Functional"}]
[{"$f":"'A2-FinPerf SC'!A5","v":"Governance and administration"},null,{"$f":"SUM(C6:C8)","v":14052400},{"$f":"SUM(D6:D8)","v":12214581},{"$f":"SUM(E6:E8)","v":453665729},13592029,13725189,12412865,584693729,17635451,12724978,13044671,12649582,{"$f":"O5-SUM(C5:M5)","v":539614385},{"$f":"'A2-FinPerf SC'!I5","v":1700025589},{"$f":"'A2-FinPerf SC'!J5","v":1801043912},{"$f":"'A2-FinPerf SC'!K5","v":1923022397}]
[{"$f":"'A2-FinPerf SC'!A6","v":"Executive and council"},null,0,0,0,0,0,0,0,0,0,0,0,0,{"$f":"'A2-FinPerf SC'!I6","v":0},{"$f":"'A2-FinPerf SC'!J6","v":0},{"$f":"'A2-FinPerf SC'!K6","v":0}]
[{"$f":"'A2-FinPerf SC'!A7","v":"Finance and administration"},null,14052400,12214581,453665729,13592029,13725189,12412865,584693729,17635451,12724978,13044671,12649582,539614385,{"$f":"'A2-FinPerf SC'!I7","v":1700025589},{"$f":"'A2-FinPerf SC'!J7","v":1801043912},{"$f":"'A2-FinPerf SC'!K7","v":1923022397}]
[{"$f":"'A2-FinPerf SC'!A8","v":"Internal audit"},null,null,null,null,null,null,null,null,null,null,null,null,0,{"$f":"'A2-FinPerf SC'!I8","v":0},{"$f":"'A2-FinPerf SC'!J8","v":0},{"$f":"'A2-FinPerf SC'!K8","v":0}]
[{"$f":"'A2-FinPerf SC'!A9","v":"Community and public safety"},null,{"$f":"SUM(C10:C14)","v":0},{"$f":"SUM(D10:D14)","v":0},0,0,0,0,0,0,0,0,0,0,{"$f":"'A2-FinPerf SC'!I9","v":0},{"$f":"'A2-FinPerf SC'!J9","v":0},{"$f":"'A2-FinPerf SC'!K9","v":0}]
[{"$f":"'A2-FinPerf SC'!A10","v":"Community and social services"},null,null,null,null,null,null,null,null,null,null,null,null,0,{"$f":"'A2-FinPerf SC'!I10","v":0},{"$f":"'A2-FinPerf SC'!J10","v":0},{"$f":"'A2-FinPerf SC'!K10","v":0}]
[{"$f":"'A2-FinPerf SC'!A11","v":"Sport and recreation"},null,null,null,null,null,null,null,null,null,null,null,null,0,{"$f":"'A2-FinPerf SC'!I11","v":0},{"$f":"'A2-FinPerf SC'!J11","v":0},{"$f":"'A2-FinPerf SC'!K11","v":0}]
[{"$f":"'A2-FinPerf SC'!A12","v":"Public safety"},null,null,null,null,null,null,null,null,null,null,null,null,0,{"$f":"'A2-FinPerf SC'!I12","v":0},{"$f":"'A2-FinPerf SC'!J12","v":0},{"$f":"'A2-FinPerf SC'!K12","v":0}]
[{"$f":"'A2-FinPerf SC'!A13","v":"Housing"},null,null,null,null,null,null,null,null,null,null,null,null,0,{"$f":"'A2-FinPerf SC'!I13","v":0},{"$f":"'A2-FinPerf SC'!J13","v":0},{"$f":"'A2-FinPerf SC'!K13","v":0}]
[{"$f":"'A2-FinPerf SC'!A14","v":"Health"},null,null,null,null,null,null,null,null,null,null,null,null,0,{"$f":"'A2-FinPerf SC'!I14","v":0},{"$f":"'A2-FinPerf SC'!J14","v":0},{"$f":"'A2-FinPerf SC'!K14","v":0}]
[{"$f":"'A2-FinPerf SC'!A15","v":"Economic and environmental services"},null,{"$f":"SUM(C16:C18)","v":0},{"$f":"SUM(D16:D18)","v":0},0,0,0,0,0,0,0,0,0,0,{"$f":"'A2-FinPerf SC'!I15","v":0},{"$f":"'A2-FinPerf SC'!J15","v":0},{"$f":"'A2-FinPerf SC'!K15","v":0}]
[{"$f":"'A2-FinPerf SC'!A16","v":"Planning and development"},null,0,0,0,0,0,0,0,0,0,0,0,0,{"$f":"'A2-FinPerf SC'!I16","v":0},{"$f":"'A2-FinPerf SC'!J16","v":0},{"$f":"'A2-FinPerf SC'!K16","v":0}]
[{"$f":"'A2-FinPerf SC'!A17","v":"Road transport"},null,null,null,null,null,null,null,null,null,null,null,null,0,{"$f":"'A2-FinPerf SC'!I17","v":0},{"$f":"'A2-FinPerf SC'!J17","v":0},{"$f":"'A2-FinPerf SC'!K17","v":0}]
[{"$f":"'A2-FinPerf SC'!A18","v":"Environmental protection"},null,null,null,null,null,null,null,null,null,null,null,null,0,{"$f":"'A2-FinPerf SC'!I18","v":0},{"$f":"'A2-FinPerf SC'!J18","v":0},{"$f":"'A2-FinPerf SC'!K18","v":0}]
[{"$f":"'A2-FinPerf SC'!A19","v":"Trading services"},null,{"$f":"SUM(C20:C23)","v":0},{"$f":"SUM(D20:D23)","v":0},0,0,0,0,0,0,0,0,0,{"$f":"O19-SUM(C19:M19)","v":0},{"$f":"'A2-FinPerf SC'!I19","v":0},{"$f":"'A2-FinPerf SC'!J19","v":0},{"$f":"'A2-FinPerf SC'!K19","v":0}]
[{"$f":"'A2-FinPerf SC'!A20","v":"Energy sources"},null,null,null,null,null,null,null,null,null,null,null,null,0,{"$f":"'A2-FinPerf SC'!I20","v":0},{"$f":"'A2-FinPerf SC'!J20","v":0},{"$f":"'A2-FinPerf SC'!K20","v":0}]
[{"$f":"'A2-FinPerf SC'!A21","v":"Water management"},null,0,0,0,0,0,0,0,0,0,0,0,0,{"$f":"'A2-FinPerf SC'!I21","v":0},{"$f":"'A2-FinPerf SC'!J21","v":0},{"$f":"'A2-FinPerf SC'!K21","v":0}]
[{"$f":"'A2-FinPerf SC'!A22","v":"Waste water management"},null,0,0,0,0,0,0,0,0,0,0,0,0,{"$f":"'A2-FinPerf SC'!I22","v":0},{"$f":"'A2-FinPerf SC'!J22","v":0},{"$f":"'A2-FinPerf SC'!K22","v":0}]
[{"$f":"'A2-FinPerf SC'!A23","v":"Waste management"},null,null,null,null,null,null,null,null,null,null,null,null,0,{"$f":"'A2-FinPerf SC'!I23","v":0},{"$f":"'A2-FinPerf SC'!J23","v":0},{"$f":"'A2-FinPerf SC'!K23","v":0}]
[{"$f":"'A2-FinPerf SC'!A24","v":"Other"},null,null,null,null,null,null,null,null,null,null,null,null,0,{"$f":"'A2-FinPerf SC'!I24","v":0},{"$f":"'A2-FinPerf SC'!J24","v":0},{"$f":"'A2-FinPerf SC'!K24","v":0}]
[{"$f":"'A2-FinPerf SC'!A25","v":"Total Revenue - Functional"},null,{"$f":"C5+C9+C15+C19+C24","v":14052400},12214581,453665729,13592029,13725189,12412865,584693729,17635451,12724978,13044671,12649582,539614385,1700025589,1801043912,1923022397]
[null,null,null,{"$f":"D6+D10+D16+D20+D25","v":12214581},453665729,13592029,13725189,12412865,584693729,17635451,12724978,13044671,{"$f":"M6+M10+M16+M20+M25","v":12649582}]
[{"$f":"'A2-FinPerf SC'!A27","v":"Expenditure - Functional"}]
[{"$f":"'A2-FinPerf SC'!A28","v":"Governance and administration"},null,{"$f":"SUM(C29:C31)","v":48346422},{"$f":"SUM(D29:D31)","v":48723117},{"$f":"SUM(E29:E31)","v":54471993},47621213,51064995,55991435,50771506,51039614,53927463,50521845,51665971,{"$f":"O28-SUM(C28:M28)","v":48012204},{"$f":"'A2-FinPerf SC'!I28","v":612157778},{"$f":"'A2-FinPerf SC'!J28","v":677780528},{"$f":"'A2-FinPerf SC'!K28","v":751082547}]
[{"$f":"'A2-FinPerf SC'!A29","v":"Executive and council"},null,14986173,14986173,14986173,14986173,14986173,14986173,14986173,14986173,14986173,14986173,14986173,14985474,{"$f":"'A2-FinPerf SC'!I29","v":179833377},{"$f":"'A2-FinPerf SC'!J29","v":201748347},{"$f":"'A2-FinPerf SC'!K29","v":223570974}]
[{"$f":"'A2-FinPerf SC'!A30","v":"Finance and administration"},null,33360249,33736944,39485820,32635040,36078822,41005262,35785333,36053441,38941290,35535672,36679798,33026730,{"$f":"'A2-FinPerf SC'!I30","v":432324401},{"$f":"'A2-FinPerf SC'!J30","v":476032181},{"$f":"'A2-FinPerf SC'!K30","v":527511573}]
[{"$f":"'A2-FinPerf SC'!A31","v":"Internal audit"},null,null,null,null,null,null,null,null,null,null,null,null,0,{"$f":"'A2-FinPerf SC'!I31","v":0},{"$f":"'A2-FinPerf SC'!J31","v":0},{"$f":"'A2-FinPerf SC'!K31","v":0}]
[{"$f":"'A2-FinPerf SC'!A32","v":"Community and public safety"},null,{"$f":"SUM(C33:C37)","v":0},{"$f":"SUM(D33:D37)","v":0},0,0,0,0,0,0,0,0,0,0,{"$f":"'A2-FinPerf SC'!I32","v":0},{"$f":"'A2-FinPerf SC'!J32","v":0},{"$f":"'A2-FinPerf SC'!K32","v":0}]
[{"$f":"'A2-FinPerf SC'!A33","v":"Community and social services"},null,null,null,null,null,null,null,null,null,null,null,null,0,{"$f":"'A2-FinPerf SC'!I33","v":0},{"$f":"'A2-FinPerf SC'!J33","v":0},{"$f":"'A2-FinPerf SC'!K33","v":0}]
[{"$f":"'A2-FinPerf SC'!A34","v":"Sport and recreation"},null,null,null,null,null,null,null,null,null,null,null,null,0,{"$f":"'A2-FinPerf SC'!I34","v":0},{"$f":"'A2-FinPerf SC'!J34","v":0},{"$f":"'A2-FinPerf SC'!K34","v":0}]
[{"$f":"'A2-FinPerf SC'!A35","v":"Public safety"},null,null,null,null,null,null,null,null,null,null,null,null,0,{"$f":"'A2-FinPerf SC'!I35","v":0},{"$f":"'A2-FinPerf SC'!J35","v":0},{"$f":"'A2-FinPerf SC'!K35","v":0}]
[{"$f":"'A2-FinPerf SC'!A36","v":"Housing"},null,null,null,null,null,null,null,null,null,null,null,null,0,{"$f":"'A2-FinPerf SC'!I36","v":0},{"$f":"'A2-FinPerf SC'!J36","v":0},{"$f":"'A2-FinPerf SC'!K36","v":0}]
[{"$f":"'A2-FinPerf SC'!A37","v":"Health"},null,null,null,null,null,null,null,null,null,null,null,null,0,{"$f":"'A2-FinPerf SC'!I37","v":0},{"$f":"'A2-FinPerf SC'!J37","v":0},{"$f":"'A2-FinPerf SC'!K37","v":0}]
[{"$f":"'A2-FinPerf SC'!A38","v":"Economic and environmental services"},null,{"$f":"SUM(C39:C41)","v":2243123},{"$f":"SUM(D39:D41)","v":2243123},2243123,2243123,2243123,2243123,2243123,2243123,2243123,2243123,2243123,{"$f":"O38-SUM(C38:M38)","v":2242826},{"$f":"'A2-FinPerf SC'!I38","v":26917179},{"$f":"'A2-FinPerf SC'!J38","v":34066257},{"$f":"'A2-FinPerf SC'!K38","v":38973305}]
[{"$f":"'A2-FinPerf SC'!A39","v":"Planning and development"},null,2243123,2243123,2243123,2243123,2243123,2243123,2243123,2243123,2243123,2243123,2243123,2242826,{"$f":"'A2-FinPerf SC'!I39","v":26917179},{"$f":"'A2-FinPerf SC'!J39","v":34066257},{"$f":"'A2-FinPerf SC'!K39","v":38973305}]
[{"$f":"'A2-FinPerf SC'!A40","v":"Road transport"},null,null,null,null,null,null,null,null,null,null,null,null,0,{"$f":"'A2-FinPerf SC'!I40","v":0},{"$f":"'A2-FinPerf SC'!J40","v":0},{"$f":"'A2-FinPerf SC'!K40","v":0}]
[{"$f":"'A2-FinPerf SC'!A41","v":"Environmental protection"},null,null,null,null,null,null,null,null,null,null,null,null,0,{"$f":"'A2-FinPerf SC'!I41","v":0},{"$f":"'A2-FinPerf SC'!J41","v":0},{"$f":"'A2-FinPerf SC'!K41","v":0}]
[{"$f":"'A2-FinPerf SC'!A42","v":"Trading services"},null,{"$f":"SUM(C43:C46)","v":55186080},{"$f":"SUM(D43:D46)","v":41792228},43021740,48409291,39921780,39521856,43691459,43629543,42718244,47518576,59841379,{"$f":"O42-SUM(C42:M42)","v":66258602},{"$f":"'A2-FinPerf SC'!I42","v":571510778},{"$f":"'A2-FinPerf SC'!J42","v":577079534},{"$f":"'A2-FinPerf SC'!K42","v":611228228}]
[{"$f":"'A2-FinPerf SC'!A43","v":"Energy sources"},null,0,0,0,0,0,0,0,0,0,0,0,0,{"$f":"'A2-FinPerf SC'!I43","v":0},{"$f":"'A2-FinPerf SC'!J43","v":0},{"$f":"'A2-FinPerf SC'!K43","v":0}]
[{"$f":"'A2-FinPerf SC'!A44","v":"Water management"},null,55056753,41662901,42892413,48279964,39792453,39392529,43562132,43500216,42588917,47389249,59712052,66129288,{"$f":"'A2-FinPerf SC'!I44","v":569958867},{"$f":"'A2-FinPerf SC'!J44","v":575445370},{"$f":"'A2-FinPerf SC'!K44","v":609507455}]
[{"$f":"'A2-FinPerf SC'!A45","v":"Waste water management"},null,129327,129327,129327,129327,129327,129327,129327,129327,129327,129327,129327,129314,{"$f":"'A2-FinPerf SC'!I45","v":1551911},{"$f":"'A2-FinPerf SC'!J45","v":1634164},{"$f":"'A2-FinPerf SC'!K45","v":1720773}]
[{"$f":"'A2-FinPerf SC'!A46","v":"Waste management"},null,null,null,null,null,null,null,null,null,null,null,null,0,{"$f":"'A2-FinPerf SC'!I46","v":0},{"$f":"'A2-FinPerf SC'!J46","v":0},{"$f":"'A2-FinPerf SC'!K46","v":0}]
[{"$f":"'A2-FinPerf SC'!A47","v":"Other"},null,null,null,null,null,null,null,null,null,null,null,null,0,{"$f":"'A2-FinPerf SC'!I47","v":0},{"$f":"'A2-FinPerf SC'!J47","v":0},{"$f":"'A2-FinPerf SC'!K47","v":0}]
[{"$f":"'A2-FinPerf SC'!A48","v":"Total Expenditure - Functional"},null,{"$f":"C28+C32+C38+C42+C47","v":105775625},{"$f":"D28+D32+D38+D42+D47","v":92758468},99736856,98273627,93229898,97756414,96706088,96912280,98888830,100283544,113750473,116513632,1210585735,1288926319,{"$f":"Q28+Q32+Q38+Q42+Q47","v":1401284080}]
[]
[{"$f":"'A4-FinPerf RE'!A37&\" before assoc.\"","v":"Surplus/(Deficit) before assoc."},null,{"$f":"C25-C48","v":-91723225},-80543887,353928873,-84681598,-79504709,-85343549,487987641,-79276829,-86163852,-87238873,-101100891,423100753,489439854,512117593,521738317]
[]
[{"$f":"'A4-FinPerf RE'!A46","v":"Share of surplus/ (deficit) of associate"},null,null,null,null,null,null,null,null,null,null,null,null,{"$f":"O52-SUM(C52:M52)","v":0},{"$f":"'A4-FinPerf RE'!J46","v":0},{"$f":"'A4-FinPerf RE'!K46","v":0},{"$f":"'A4-FinPerf RE'!L46","v":0}]
[{"$f":"'A4-FinPerf RE'!A37","v":"Surplus/(Deficit)"},1,{"$f":"C50+C52","v":-91723225},{"$f":"D50+D52","v":-80543887},353928873,-84681598,-79504709,-85343549,487987641,-79276829,-86163852,-87238873,-101100891,423100753,489439854,512117593,521738317]
[{"$f":"head27a","v":"References"}]
["1. Surplus (Deficit) must reconcile with Budeted Financial Performance"]
["check",null,null,null,null,null,null,null,null,null,null,null,null,null,{"$f":"O53-'A4-FinPerf RE'!J47","v":1},{"$f":"P53-'A4-FinPerf RE'!K47","v":-11},{"$f":"Q53-'A4-FinPerf RE'!L47","v":-10}]

{"sheet":"SA28","index":49,"n_rows":47,"n_cols":17,"rows_kept":47,"cut":false,"hidden":false,"merged":[[1,2,1,13],[1,14,1,16]]}
[{"$f":"muni&\" - \"& TableA28","v":"DC47 Sekhukhune - Supporting Table SA28 Budgeted monthly capital expenditure (municipal vote)"}]
[{"$f":"desc","v":"Description"},{"$f":"head27","v":"Ref"},{"$f":"Head9","v":"Budget Year 2022/23"},null,null,null,null,null,null,null,null,null,null,null,"Medium Term Revenue and Expenditure Framework"]
["R thousand",null,"July","August","Sept.","October","Nov.","Dec.","January","Feb.","March","April","May","June",{"$f":"Head9","v":"Budget Year 2022/23"},{"$f":"Head10","v":"Budget Year +1 2023/24"},{"$f":"Head11","v":"Budget Year +2 2024/25"}]
["Multi-year expenditure to be appropriated",1]
[{"$f":"'A5-Capex'!A6","v":"Vote 01 - Speakers Office"},null,0,0,0,0,0,0,0,0,0,0,0,{"$f":"O5-SUM(C5:M5)","v":0},{"$f":"'A5-Capex'!J6","v":0},{"$f":"'A5-Capex'!K6","v":0},{"$f":"'A5-Capex'!L6","v":0}]
[{"$f":"'A5-Capex'!A7","v":"Vote 02 - Executive Mayor's Office"},null,0,0,0,0,0,0,0,0,0,0,0,0,{"$f":"'A5-Capex'!J7","v":0},{"$f":"'A5-Capex'!K7","v":0},{"$f":"'A5-Capex'!L7","v":0}]
[{"$f":"'A5-Capex'!A8","v":"Vote 03 - Municipal Manager  Office"},null,0,0,0,0,0,0,0,0,0,0,0,0,{"$f":"'A5-Capex'!J8","v":0},{"$f":"'A5-Capex'!K8","v":0},{"$f":"'A5-Capex'!L8","v":0}]
[{"$f":"'A5-Capex'!A9","v":"Vote 04 - Budget And Treasury"},null,0,0,0,0,0,0,0,0,0,0,0,0,{"$f":"'A5-Capex'!J9","v":0},{"$f":"'A5-Capex'!K9","v":0},{"$f":"'A5-Capex'!L9","v":0}]
[{"$f":"'A5-Capex'!A10","v":"Vote 05 - Infrustracture And Water Services"},null,0,0,0,0,0,0,0,0,0,0,0,0,{"$f":"'A5-Capex'!J10","v":0},{"$f":"'A5-Capex'!K10","v":0},{"$f":"'A5-Capex'!L10","v":0}]
[{"$f":"'A5-Capex'!A11","v":"Vote 06 - Planning And Economic Development"},null,0,0,0,0,0,0,0,0,0,0,0,0,{"$f":"'A5-Capex'!J11","v":0},{"$f":"'A5-Capex'!K11","v":0},{"$f":"'A5-Capex'!L11","v":0}]
[{"$f":"'A5-Capex'!A12","v":"Vote 07 - Community Services"},null,0,0,0,0,0,0,0,0,0,0,0,0,{"$f":"'A5-Capex'!J12","v":0},{"$f":"'A5-Capex'!K12","v":0},{"$f":"'A5-Capex'!L12","v":0}]
[{"$f":"'A5-Capex'!A13","v":"Vote 08 - Sekhukhune Development Angancy"},null,0,0,0,0,0,0,0,0,0,0,0,0,{"$f":"'A5-Capex'!J13","v":0},{"$f":"'A5-Capex'!K13","v":0},{"$f":"'A5-Capex'!L13","v":0}]
[{"$f":"'A5-Capex'!A14","v":"Vote 09 - Corporate Services"},null,0,0,0,0,0,0,0,0,0,0,0,0,{"$f":"'A5-Capex'!J14","v":0},{"$f":"'A5-Capex'!K14","v":0},{"$f":"'A5-Capex'!L14","v":0}]
[{"$f":"'A5-Capex'!A15","v":"Vote 10 - "},null,0,0,0,0,0,0,0,0,0,0,0,0,{"$f":"'A5-Capex'!J15","v":0},{"$f":"'A5-Capex'!K15","v":0},{"$f":"'A5-Capex'!L15","v":0}]
[{"$f":"'A5-Capex'!A16","v":"Vote 11 - "},null,0,0,0,0,0,0,0,0,0,0,0,0,{"$f":"'A5-Capex'!J16","v":0},{"$f":"'A5-Capex'!K16","v":0},{"$f":"'A5-Capex'!L16","v":0}]
[{"$f":"'A5-Capex'!A17","v":"Vote 12 - "},null,0,0,0,0,0,0,0,0,0,0,0,0,{"$f":"'A5-Capex'!J17","v":0},{"$f":"'A5-Capex'!K17","v":0},{"$f":"'A5-Capex'!L17","v":0}]
[{"$f":"'A5-Capex'!A18","v":"Vote 13 - "},null,0,0,0,0,0,0,0,0,0,0,0,0,{"$f":"'A5-Capex'!J18","v":0},{"$f":"'A5-Capex'!K18","v":0},{"$f":"'A5-Capex'!L18","v":0}]
[{"$f":"'A5-Capex'!A19","v":"Vote 14 - "},null,0,0,0,0,0,0,0,0,0,0,0,0,{"$f":"'A5-Capex'!J19","v":0},{"$f":"'A5-Capex'!K19","v":0},{"$f":"'A5-Capex'!L19","v":0}]
[{"$f":"'A5-Capex'!A20","v":"Vote 15 - Other"},null,0,0,0,0,0,0,0,0,0,0,0,0,{"$f":"'A5-Capex'!J20","v":0},{"$f":"'A5-Capex'!K20","v":0},{"$f":"'A5-Capex'!L20","v":0}]
["Capital multi-year expenditure sub-total",2,{"$f":"SUM(C5:C19)","v":0},{"$f":"SUM(D5:D19)","v":0},0,0,0,0,0,0,0,0,{"$f":"SUM(M5:M19)","v":0},0,0,0,0]
[]
["Single-year expenditure to be appropriated"]
[{"$f":"'A5-Capex'!A24","v":"Vote 01 - Speakers Office"},null,0,0,0,0,0,0,0,0,0,0,0,{"$f":"O23-SUM(C23:M23)","v":0},{"$f":"'A5-Capex'!J24","v":0},{"$f":"'A5-Capex'!K24","v":0},{"$f":"'A5-Capex'!L24","v":0}]
[{"$f":"'A5-Capex'!A25","v":"Vote 02 - Executive Mayor's Office"},null,0,0,0,0,0,0,0,0,0,0,0,0,{"$f":"'A5-Capex'!J25","v":0},{"$f":"'A5-Capex'!K25","v":0},{"$f":"'A5-Capex'!L25","v":0}]
[{"$f":"'A5-Capex'!A26","v":"Vote 03 - Municipal Manager  Office"},null,0,0,0,0,0,0,0,0,0,0,0,0,{"$f":"'A5-Capex'!J26","v":0},{"$f":"'A5-Capex'!K26","v":0},{"$f":"'A5-Capex'!L26","v":0}]
[{"$f":"'A5-Capex'!A27","v":"Vote 04 - Budget And Treasury"},null,0,0,0,0,0,0,0,0,0,0,0,0,{"$f":"'A5-Capex'!J27","v":0},{"$f":"'A5-Capex'!K27","v":0},{"$f":"'A5-Capex'!L27","v":0}]
[{"$f":"'A5-Capex'!A28","v":"Vote 05 - Infrustracture And Water Services"},null,34715658,43851378,25071374,61680128,25071374,41882994,39537800,44802632,33510117,39537800,29639235,69355951,{"$f":"'A5-Capex'!J28","v":488656441},{"$f":"'A5-Capex'!K28","v":511713530},{"$f":"'A5-Capex'!L28","v":520355239}]
[{"$f":"'A5-Capex'!A29","v":"Vote 06 - Planning And Economic Development"},null,0,0,0,0,0,0,0,0,0,0,0,0,{"$f":"'A5-Capex'!J29","v":0},{"$f":"'A5-Capex'!K29","v":0},{"$f":"'A5-Capex'!L29","v":0}]
[{"$f":"'A5-Capex'!A30","v":"Vote 07 - Community Services"},null,0,0,0,0,0,0,0,0,0,0,0,0,{"$f":"'A5-Capex'!J30","v":0},{"$f":"'A5-Capex'!K30","v":0},{"$f":"'A5-Capex'!L30","v":0}]
[{"$f":"'A5-Capex'!A31","v":"Vote 08 - Sekhukhune Development Angancy"},null,45834,45834,45834,45834,45834,45834,45834,45834,45834,45834,45834,45826,{"$f":"'A5-Capex'!J31","v":550000},{"$f":"'A5-Capex'!K31","v":0},{"$f":"'A5-Capex'!L31","v":0}]
[{"$f":"'A5-Capex'!A32","v":"Vote 09 - Corporate Services"},null,0,0,0,0,0,0,0,0,0,0,0,0,{"$f":"'A5-Capex'!J32","v":0},{"$f":"'A5-Capex'!K32","v":0},{"$f":"'A5-Capex'!L32","v":0}]
[{"$f":"'A5-Capex'!A33","v":"Vote 10 - "},null,0,0,0,0,0,0,0,0,0,0,0,0,{"$f":"'A5-Capex'!J33","v":0},{"$f":"'A5-Capex'!K33","v":0},{"$f":"'A5-Capex'!L33","v":0}]
[{"$f":"'A5-Capex'!A34","v":"Vote 11 - "},null,0,0,0,0,0,0,0,0,0,0,0,0,{"$f":"'A5-Capex'!J34","v":0},{"$f":"'A5-Capex'!K34","v":0},{"$f":"'A5-Capex'!L34","v":0}]
[{"$f":"'A5-Capex'!A35","v":"Vote 12 - "},null,0,0,0,0,0,0,0,0,0,0,0,0,{"$f":"'A5-Capex'!J35","v":0},{"$f":"'A5-Capex'!K35","v":0},{"$f":"'A5-Capex'!L35","v":0}]
[{"$f":"'A5-Capex'!A36","v":"Vote 13 - "},null,0,0,0,0,0,0,0,0,0,0,0,0,{"$f":"'A5-Capex'!J36","v":0},{"$f":"'A5-Capex'!K36","v":0},{"$f":"'A5-Capex'!L36","v":0}]
[{"$f":"'A5-Capex'!A37","v":"Vote 14 - "},null,0,0,0,0,0,0,0,0,0,0,0,0,{"$f":"'A5-Capex'!J37","v":0},{"$f":"'A5-Capex'!K37","v":0},{"$f":"'A5-Capex'!L37","v":0}]
[{"$f":"'A5-Capex'!A38","v":"Vote 15 - Other"},null,0,0,0,0,0,0,0,0,0,0,0,0,{"$f":"'A5-Capex'!J38","v":0},{"$f":"'A5-Capex'!K38","v":0},{"$f":"'A5-Capex'!L38","v":0}]
["Capital single-year expenditure sub-total",2,{"$f":"SUM(C23:C37)","v":34761492},43897212,25117208,61725962,25117208,41928828,39583634,44848466,33555951,39583634,29685069,69401777,489206441,511713530,520355239]
["Total Capital Expenditure",2,{"$f":"C20+C38","v":34761492},{"$f":"D20+D38","v":43897212},25117208,61725962,25117208,41928828,39583634,44848466,33555951,39583634,29685069,69401777,{"$f":"O20+O38","v":489206441},{"$f":"P20+P38","v":511713530},{"$f":"Q20+Q38","v":520355239}]
[]
[]
[{"$f":"head27a","v":"References"}]
["1. Table should be completed as either Multi-Year expenditure appropriation or Budget Year and Forward Year estimates"]
["2. Total Capital Expenditure must reconcile to Budgeted Capital Expenditure"]
["check",null,null,null,null,null,null,null,null,null,null,null,null,null,{"$f":"O20-'A5-Capex'!J21","v":0},{"$f":"P20-'A5-Capex'!K21","v":0},{"$f":"Q20-'A5-Capex'!L21","v":0}]
[]
[null,null,null,null,"Add single year stuff"]

{"sheet":"SA29","index":50,"n_rows":40,"n_cols":17,"rows_kept":40,"cut":false,"hidden":false,"merged":[[1,2,1,13],[1,14,1,16]]}
[{"$f":"muni&\" - \"& TableA29","v":"DC47 Sekhukhune - Supporting Table SA29 Budgeted monthly capital expenditure (functional classification)"}]
[{"$f":"desc","v":"Description"},{"$f":"head27","v":"Ref"},{"$f":"Head9","v":"Budget Year 2022/23"},null,null,null,null,null,null,null,null,null,null,null,"Medium Term Revenue and Expenditure Framework"]
["R thousand",null,"July","August","Sept.","October","Nov.","Dec.","January","Feb.","March","April","May","June",{"$f":"Head9","v":"Budget Year 2022/23"},{"$f":"Head10","v":"Budget Year +1 2023/24"},{"$f":"Head11","v":"Budget Year +2 2024/25"}]
[{"$f":"'A5-Capex'!A42","v":"Capital Expenditure - Functional"},1]
[{"$f":"'A5-Capex'!A43","v":"Governance and administration"},null,{"$f":"SUM(C6:C8)","v":0},{"$f":"SUM(D6:D8)","v":0},{"$f":"SUM(E6:E8)","v":0},0,0,0,0,0,0,0,0,{"$f":"O5-SUM(C5:M5)","v":0},{"$f":"'A5-Capex'!J43","v":0},{"$f":"'A5-Capex'!K43","v":0},{"$f":"'A5-Capex'!L43","v":0}]
[{"$f":"'A5-Capex'!A44","v":"Executive and council"},null,0,0,0,0,0,0,0,0,0,0,0,{"$f":"O6-SUM(C6:M6)","v":0},{"$f":"'A5-Capex'!J44","v":0},{"$f":"'A5-Capex'!K44","v":0},{"$f":"'A5-Capex'!L44","v":0}]
[{"$f":"'A5-Capex'!A45","v":"Finance and administration"},null,0,0,0,0,0,0,0,0,0,0,0,0,{"$f":"'A5-Capex'!J45","v":0},{"$f":"'A5-Capex'!K45","v":0},{"$f":"'A5-Capex'!L45","v":0}]
[{"$f":"'A5-Capex'!A46","v":"Internal audit"},null,null,null,null,null,null,null,null,null,null,null,null,0,{"$f":"'A5-Capex'!J46","v":0},{"$f":"'A5-Capex'!K46","v":0},{"$f":"'A5-Capex'!L46","v":0}]
[{"$f":"'A5-Capex'!A47","v":"Community and public safety"},null,{"$f":"SUM(C10:C14)","v":0},{"$f":"SUM(D10:D14)","v":0},0,0,0,0,0,0,0,0,0,0,{"$f":"'A5-Capex'!J47","v":0},{"$f":"'A5-Capex'!K47","v":0},{"$f":"'A5-Capex'!L47","v":0}]
[{"$f":"'A5-Capex'!A48","v":"Community and social services"},null,null,null,null,null,null,null,null,null,null,null,null,0,{"$f":"'A5-Capex'!J48","v":0},{"$f":"'A5-Capex'!K48","v":0},{"$f":"'A5-Capex'!L48","v":0}]
[{"$f":"'A5-Capex'!A49","v":"Sport and recreation"},null,null,null,null,null,null,null,null,null,null,null,null,0,{"$f":"'A5-Capex'!J49","v":0},{"$f":"'A5-Capex'!K49","v":0},{"$f":"'A5-Capex'!L49","v":0}]
[{"$f":"'A5-Capex'!A50","v":"Public safety"},null,null,null,null,null,null,null,null,null,null,null,null,0,{"$f":"'A5-Capex'!J50","v":0},{"$f":"'A5-Capex'!K50","v":0},{"$f":"'A5-Capex'!L50","v":0}]
[{"$f":"'A5-Capex'!A51","v":"Housing"},null,null,null,null,null,null,null,null,null,null,null,null,0,{"$f":"'A5-Capex'!J51","v":0},{"$f":"'A5-Capex'!K51","v":0},{"$f":"'A5-Capex'!L51","v":0}]
[{"$f":"'A5-Capex'!A52","v":"Health"},null,null,null,null,null,null,null,null,null,null,null,null,0,{"$f":"'A5-Capex'!J52","v":0},{"$f":"'A5-Capex'!K52","v":0},{"$f":"'A5-Capex'!L52","v":0}]
[{"$f":"'A5-Capex'!A53","v":"Economic and environmental services"},null,{"$f":"SUM(C16:C18)","v":45834},{"$f":"SUM(D16:D18)","v":45834},45834,45834,45834,45834,45834,45834,45834,45834,45834,45826,{"$f":"'A5-Capex'!J53","v":550000},{"$f":"'A5-Capex'!K53","v":0},{"$f":"'A5-Capex'!L53","v":0}]
[{"$f":"'A5-Capex'!A54","v":"Planning and development"},null,45834,45834,45834,45834,45834,45834,45834,45834,45834,45834,45834,45826,{"$f":"'A5-Capex'!J54","v":550000},{"$f":"'A5-Capex'!K54","v":0},{"$f":"'A5-Capex'!L54","v":0}]
[{"$f":"'A5-Capex'!A55","v":"Road transport"},null,null,null,null,null,null,null,null,null,null,null,null,0,{"$f":"'A5-Capex'!J55","v":0},{"$f":"'A5-Capex'!K55","v":0},{"$f":"'A5-Capex'!L55","v":0}]
[{"$f":"'A5-Capex'!A56","v":"Environmental protection"},null,null,null,null,null,null,null,null,null,null,null,null,0,{"$f":"'A5-Capex'!J56","v":0},{"$f":"'A5-Capex'!K56","v":0},{"$f":"'A5-Capex'!L56","v":0}]
[{"$f":"'A5-Capex'!A57","v":"Trading services"},null,{"$f":"SUM(C20:C23)","v":34715658},{"$f":"SUM(D20:D23)","v":43851378},25071374,61680128,25071374,41882994,39537800,44802632,33510117,39537800,29639235,{"$f":"O19-SUM(C19:M19)","v":69355951},{"$f":"'A5-Capex'!J57","v":488656441},{"$f":"'A5-Capex'!K57","v":511713530},{"$f":"'A5-Capex'!L57","v":520355239}]
[{"$f":"'A5-Capex'!A58","v":"Energy sources"},null,null,null,null,null,null,null,null,null,null,null,null,0,{"$f":"'A5-Capex'!J58","v":0},{"$f":"'A5-Capex'!K58","v":0},{"$f":"'A5-Capex'!L58","v":0}]
[{"$f":"'A5-Capex'!A59","v":"Water management"},null,34715658,43851378,25071374,61680128,25071374,41882994,39537800,44802632,33510117,39537800,29639235,69355951,{"$f":"'A5-Capex'!J59","v":488656441},{"$f":"'A5-Capex'!K59","v":511713530},{"$f":"'A5-Capex'!L59","v":520355239}]
[{"$f":"'A5-Capex'!A60","v":"Waste water management"},null,0,0,0,0,0,0,0,0,0,0,0,0,{"$f":"'A5-Capex'!J60","v":0},{"$f":"'A5-Capex'!K60","v":0},{"$f":"'A5-Capex'!L60","v":0}]
[{"$f":"'A5-Capex'!A61","v":"Waste management"},null,null,null,null,null,null,null,null,null,null,null,null,0,{"$f":"'A5-Capex'!J61","v":0},{"$f":"'A5-Capex'!K61","v":0},{"$f":"'A5-Capex'!L61","v":0}]
[{"$f":"'A5-Capex'!A62","v":"Other"},null,null,null,null,null,null,null,null,null,null,null,null,{"$f":"O24-SUM(C24:M24)","v":0},{"$f":"'A5-Capex'!J62","v":0},{"$f":"'A5-Capex'!K62","v":0},{"$f":"'A5-Capex'!L62","v":0}]
[{"$f":"'A5-Capex'!A63","v":"Total Capital Expenditure - Functional"},2,{"$f":"C5+C9+C15+C19+C24","v":34761492},{"$f":"D5+D9+D15+D19+D24","v":43897212},25117208,61725962,25117208,41928828,39583634,44848466,33555951,39583634,29685069,{"$f":"N5+N9+N15+N19+N24","v":69401777},489206441,511713530,520355239]
[]
["Funded by:"]
["National Government",null,33083987,42219707,23439703,60048457,23439703,40251323,37906129,43170961,31878446,37906129,28007564,{"$f":"O28-SUM(C28:M28)","v":67724332},{"$f":"'A5-Capex'!J66","v":469076441},{"$f":"'A5-Capex'!K66","v":501682010},{"$f":"'A5-Capex'!L66","v":512086000}]
["Provincial Government",null,null,null,null,null,null,null,null,null,null,null,null,{"$f":"O29-SUM(C29:M29)","v":0},{"$f":"'A5-Capex'!J67","v":0},{"$f":"'A5-Capex'!K67","v":0},{"$f":"'A5-Capex'!L67","v":0}]
["District Municipality",null,null,null,null,null,null,null,null,null,null,null,null,0,{"$f":"'A5-Capex'!J68","v":0},{"$f":"'A5-Capex'!K68","v":0},{"$f":"'A5-Capex'!L68","v":0}]
[{"$f":"'A5-Capex'!A69","v":"Transfers and subsidies - capital (monetary allocations) (National / Provincial Departmental Agencies, Households, Non-profit Institutions, Private Enterprises, Public Corporatons, Higher Educational Institutions)"},null,null,null,null,null,null,null,null,null,null,null,null,{"$f":"O31-SUM(C31:M31)","v":0},{"$f":"'A5-Capex'!J69","v":0},{"$f":"'A5-Capex'!K69","v":0},{"$f":"'A5-Capex'!L69","v":0}]
["Transfers recognised - capital",null,{"$f":"SUM(C28:C31)","v":33083987},42219707,23439703,60048457,23439703,40251323,37906129,43170961,31878446,37906129,28007564,{"$f":"SUM(N28:N31)","v":67724332},469076441,501682010,512086000]
[]
["Borrowing",null,null,null,null,null,null,null,null,null,null,null,null,0,{"$f":"'A5-Capex'!J72","v":0},{"$f":"'A5-Capex'!K72","v":0},{"$f":"'A5-Capex'!L72","v":0}]
["Internally generated funds",null,1677505,1677505,1677505,1677505,1677505,1677505,1677505,1677505,1677505,1677505,1677505,1677445,{"$f":"'A5-Capex'!J73","v":20130000},{"$f":"'A5-Capex'!K73","v":10031520},{"$f":"'A5-Capex'!L73","v":8269239}]
["Total Capital Funding",null,{"$f":"+C32+C34+C35","v":34761492},{"$f":"+D32+D34+D35","v":43897212},25117208,61725962,25117208,41928828,39583634,44848466,33555951,39583634,29685069,69401777,489206441,511713530,520355239]
[{"$f":"head27a","v":"References"}]
["1. Table should be completed as either Multi-Year expenditure appropriation or Budget Year and Forward Year estimates"]
[{"$f":"'SA28'!A44","v":"2. Total Capital Expenditure must reconcile to Budgeted Capital Expenditure"}]
["check"]

{"sheet":"SA30","index":51,"n_rows":63,"n_cols":19,"rows_kept":63,"cut":false,"hidden":false,"merged":[[1,13,1,15],[1,1,1,12],[56,0,56,15]]}
[{"$f":"muni&\" - \"& TableA30","v":"DC47 Sekhukhune - Supporting Table SA30 Budgeted monthly cash flow"}]
["MONTHLY CASH FLOWS",{"$f":"Head9","v":"Budget Year 2022/23"},null,null,null,null,null,null,null,null,null,null,null,"Medium Term Revenue and Expenditure Framework"]
["R thousand","July","August","Sept.","October","November","December","January","February","March","April","May","June",{"$f":"Head9","v":"Budget Year 2022/23"},{"$f":"Head10","v":"Budget Year +1 2023/24"},{"$f":"Head11","v":"Budget Year +2 2024/25"}]
["Cash Receipts By Source",null,null,null,null,null,null,null,null,null,null,null,null,1]
[{"$f":"'A4-FinPerf RE'!A5","v":"Property rates"},0,0,0,0,0,0,0,0,0,0,0,{"$f":"N5-SUM(B5:L5)","v":0},0,0,0,100001,100001,100001]
[{"$f":"'A4-FinPerf RE'!A6","v":"Service charges - electricity revenue"},0,0,0,0,0,0,0,0,0,0,0,0,0,0,0]
[{"$f":"'A4-FinPerf RE'!A7","v":"Service charges - water revenue"},0,0,0,0,0,0,0,0,0,0,0,40407805,40407805,48755215,61857151]
[{"$f":"'A4-FinPerf RE'!A8","v":"Service charges - sanitation revenue"},0,0,0,0,0,0,0,0,0,0,0,21734204,21734204,16493894,16936832]
[{"$f":"'A4-FinPerf RE'!A9","v":"Service charges - refuse revenue"},null,null,null,null,null,null,null,null,null,null,null,0]
[]
[{"$f":"'A4-FinPerf RE'!A11","v":"Rental of facilities and equipment"},null,null,null,null,null,null,null,null,null,null,null,0]
[{"$f":"'A4-FinPerf RE'!A12","v":"Interest earned - external investments"},0,0,0,0,0,0,0,0,0,0,0,21659404,21659404,22612418,23629977]
[{"$f":"'A4-FinPerf RE'!A13","v":"Interest earned - outstanding debtors"},null,null,null,null,null,null,null,null,null,null,null,0]
[{"$f":"'A4-FinPerf RE'!A14","v":"Dividends received"},null,null,null,null,null,null,null,null,null,null,null,0]
[{"$f":"'A4-FinPerf RE'!A15","v":"Fines, penalties and forfeits"},0,0,0,0,0,0,0,0,0,0,0,42630,42630,44762,47000]
[{"$f":"'A4-FinPerf RE'!A16","v":"Licences and permits"},null,null,null,null,null,null,null,null,null,null,null,0]
[{"$f":"'A4-FinPerf RE'!A17","v":"Agency services"},null,null,null,null,null,null,null,null,null,null,null,0]
["Transfers and Subsidies - Operational",0,0,0,0,0,0,0,0,0,0,0,1087843560,1087843560,1149230990,1253455418]
[{"$f":"'A4-FinPerf RE'!A19","v":"Other revenue"},0,0,0,0,0,0,0,0,0,0,0,2172563,2172563,2280139,2394147]
["Cash Receipts by Source",{"$f":"SUM(B5:B9)+SUM(B11:B19)","v":0},{"$f":"SUM(C5:C9)+SUM(C11:C19)","v":0},0,0,0,0,0,0,0,0,0,1173860166,1173860166,1239417418,1358320525]
[]
["Other Cash Flows by Source"]
[{"$f":"'A4-FinPerf RE'!A38","v":"Transfers and subsidies - capital (monetary allocations) (National / Provincial and District)"},0,0,0,0,0,0,0,0,0,0,0,{"$f":"N23-SUM(B23:L23)","v":469076440},469076440,501682010,512086000]
[{"$f":"'A4-FinPerf RE'!A39","v":"Transfers and subsidies - capital (monetary allocations) (National / Provincial Departmental Agencies, Households, Non-profit Institutions, Private Enterprises, Public Corporatons, Higher Educational Institutions)"},null,null,null,null,null,null,null,null,null,null,null,0]
["Proceeds on Disposal of Fixed and Intangible Assets",0,0,0,0,0,0,0,0,0,0,0,430021,430021,451522,474098]
[{"$f":"'A7-CFlow'!A31","v":"Short term loans"},null,null,null,null,null,null,null,null,null,null,null,0]
[{"$f":"'A7-CFlow'!A32","v":"Borrowing long term/refinancing"},null,null,null,null,null,null,null,null,null,null,null,0]
[{"$f":"'A7-CFlow'!A33","v":"Increase (decrease) in consumer deposits"},0,0,0,0,0,0,0,0,0,0,0,0,0,0,0]
[]
[{"$f":"'A7-CFlow'!A23","v":"Decrease (increase) in non-current receivables"},null,null,null,null,null,null,null,null,null,null,null,0]
[{"$f":"'A7-CFlow'!A24","v":"Decrease (increase) in non-current investments"},0,0,0,0,0,0,0,0,0,0,0,0,0,0,0]
["Total Cash Receipts by Source",{"$f":"SUM(B20:B28)+SUM(B30:B31)","v":0},{"$f":"SUM(C20:C28)+SUM(C30:C31)","v":0},0,0,0,0,0,0,0,0,0,{"$f":"SUM(M20:M28)+SUM(M30:M31)","v":1643366627},{"$f":"SUM(N20:N28)+SUM(N30:N31)","v":1643366627},1741550950,1870880623]
[]
["Cash Payments by Type"]
["Employee related costs",0,0,0,0,0,0,0,0,0,0,0,{"$f":"N35-SUM(B35:L35)","v":109802139},109802139,114090618,148602444]
["Remuneration of councillors",null,null,null,null,null,null,null,null,null,null,null,0]
["Finance charges",null,null,null,null,null,null,null,null,null,null,null,0]
["Bulk purchases - electricity ",0,0,0,0,0,0,0,0,0,0,0,0,0,0,0]
["Acquisitions - water & other inventory",0,0,0,0,0,0,0,0,0,0,0,34850719,34850719,34850719,34850719]
[]
["Contracted services",0,0,0,0,0,0,0,0,0,0,0,284092332,284092332,133235347,135305267]
["Transfers and grants - other municipalities",null,null,null,null,null,null,null,null,null,null,null,0]
["Transfers and grants - other",null,null,null,null,null,null,null,null,null,null,null,0]
["Other expenditure",0,0,0,0,0,0,0,0,0,0,0,663916082,663916082,875219630,934751795]
["Cash Payments by Type",{"$f":"SUM(B35:B44)","v":0},0,0,0,0,0,0,0,0,0,0,1092661272,{"$f":"SUM(N35:N44)","v":1092661272},1157396314,{"$f":"SUM(P35:P44)","v":1253510225}]
[]
["Other Cash Flows/Payments by Type"]
[{"$f":"'A7-CFlow'!A26","v":"Capital assets"},0,0,0,0,0,0,0,0,0,0,0,{"$f":"N48-SUM(B48:L48)","v":489206441},489206441,511713530,520355239]
[{"$f":"'A7-CFlow'!A35","v":"Repayment of borrowing"},null,null,null,null,null,null,null,null,null,null,null,{"$f":"N49-SUM(B49:L49)","v":0}]
[{"$f":"LEFT(A47,25)","v":"Other Cash Flows/Payments"},null,null,null,null,null,null,null,null,null,null,null,{"$f":"N50-SUM(B50:L50)","v":0}]
["Total Cash Payments by Type",{"$f":"SUM(B45:B50)","v":0},{"$f":"SUM(C45:C50)","v":0},0,0,0,0,0,0,0,0,0,1581867713,1581867713,1669109844,1773865464,null,"Check"]
[]
["NET INCREASE/(DECREASE) IN CASH HELD",{"$f":"B32-B51","v":0},0,0,0,0,0,0,0,0,0,0,61498914,61498914,72441106,97015159]
["Cash/cash equivalents at the month/year begin:",218705003,{"$f":"B55","v":218705003},{"$f":"C55","v":218705003},218705003,218705003,218705003,218705003,218705003,218705003,218705003,218705003,218705003,{"$f":"B54","v":218705003},{"$f":"N55","v":280203917},{"$f":"O55","v":352645023}]
["Cash/cash equivalents at the month/year end:",{"$f":"B54+B53","v":218705003},{"$f":"C54+C53","v":218705003},{"$f":"D54+D53","v":218705003},218705003,218705003,218705003,218705003,218705003,218705003,218705003,218705003,280203917,280203917,352645023,449660182]
[{"$f":"head27a","v":"References"}]
["1. Note that this section of Table SA 30 is deliberately not linked to Table A4 because timing differences between the invoicing of clients and receiving the cash means that the cashflow will differ from budgeted revenue, and similarly for budgeted expenditure. However for the MTREF it is now directly linked to A7."]
["2. Bulk purchases - Electricity & Waste Water - use detail information from Table SA1"]
["3. Acquisition Inventory - Water & other inventory - use detail information from Table SA3"]
[]
[]
[null,null,null,null,{"$f":"E45+E61","v":0},0,0,0,0,0,0,0]
[null,null,null,null,{"$f":"E53-E61","v":0},0,0,0,0,0,0,0]

{"sheet":"SA31","index":52,"n_rows":41,"n_cols":11,"rows_kept":41,"cut":false,"hidden":false,"merged":[[1,5,1,7],[1,8,1,10],[1,1,2,1]]}
[{"$f":"muni&\" - \"& TableA31","v":"DC47 Sekhukhune - NOT REQUIRED - municipality does not have entities"}]
[{"$f":"desc","v":"Description"},{"$f":"head27","v":"Ref"},{"$f":"head1b","v":"2018/19"},{"$f":"head1A","v":"2019/20"},{"$f":"Head1","v":"2020/21"},{"$f":"Head2","v":"Current Year 2021/22"},null,null,{"$f":"Head3","v":"2022/23 Medium Term Revenue & Expenditure Framework"}]
["R million",null,{"$f":"Head5","v":"Audited Outcome"},{"$f":"Head5","v":"Audited Outcome"},{"$f":"Head5","v":"Audited Outcome"},{"$f":"Head6","v":"Original Budget"},{"$f":"Head7","v":"Adjusted Budget"},{"$f":"Head8","v":"Full Year Forecast"},{"$f":"Head9","v":"Budget Year 2022/23"},{"$f":"Head10","v":"Budget Year +1 2023/24"},{"$f":"Head11","v":"Budget Year +2 2024/25"}]
["Financial Performance"]
[{"$f":"'A1-Sum'!A5","v":"Property rates"}]
[{"$f":"'A1-Sum'!A6","v":"Service charges"}]
[{"$f":"'A1-Sum'!A7","v":"Investment revenue"}]
[{"$f":"'A1-Sum'!A8","v":"Transfers recognised - operational"}]
[{"$f":"'A1-Sum'!A9","v":"Other own revenue"}]
[{"$f":"'A1-Sum'!A21","v":"Transfers and subsidies - capital (monetary allocations) (National / Provincial Departmental Agencies, Households, Non-profit Institutions, Private Enterprises, Public Corporatons, Higher Educational Institutions) & Transfers and subsidies - capital (in-kind - all) "}]
[{"$f":"'A4-FinPerf RE'!A21","v":"Total Revenue (excluding capital transfers and contributions)"},null,{"$f":"SUM(C5:C10)","v":0},{"$f":"SUM(D5:D10)","v":0},{"$f":"SUM(E5:E10)","v":0},0,0,0,0,0,0]
[{"$f":"'A1-Sum'!A11","v":"Employee costs"}]
["Remuneration of Board Members"]
[{"$f":"'A1-Sum'!A13","v":"Depreciation & asset impairment"}]
[{"$f":"'A1-Sum'!A14","v":"Finance charges"}]
[{"$f":"'A1-Sum'!A15","v":"Inventory consumed and bulk purchases"}]
[{"$f":"'A1-Sum'!A16","v":"Transfers and grants"}]
[{"$f":"'A1-Sum'!A17","v":"Other expenditure"}]
[{"$f":"'A4-FinPerf RE'!A35","v":"Total Expenditure"},null,{"$f":"SUM(C12:C18)","v":0},{"$f":"SUM(D12:D18)","v":0},0,0,0,0,0,0,0]
[{"$f":"'A4-FinPerf RE'!A37","v":"Surplus/(Deficit)"},null,{"$f":"C11-C19","v":0},{"$f":"D11-D19","v":0},0,0,0,0,0,0,0]
[]
["Capital expenditure & funds sources"]
["Capital expenditure"]
[{"$f":"A8","v":"Transfers recognised - operational"}]
[]
[{"$f":"'A5-Capex'!A72","v":"Borrowing"}]
[{"$f":"'A5-Capex'!A73","v":"Internally generated funds"}]
["Total sources",null,{"$f":"+C24+C26+C27","v":0},{"$f":"+D24+D26+D27","v":0},0,0,0,0,0,0,0]
[]
["Financial position"]
[{"$f":"'A6-FinPos'!A12","v":"Total current assets"}]
[{"$f":"'A6-FinPos'!A24","v":"Total non current assets"}]
[{"$f":"'A6-FinPos'!A34","v":"Total current liabilities"}]
[{"$f":"'A6-FinPos'!A39","v":"Total non current liabilities"}]
["Equity"]
[]
["Cash flows"]
[{"$f":"'A1-Sum'!A42","v":"Net cash from (used) operating"}]
[{"$f":"'A1-Sum'!A43","v":"Net cash from (used) investing"}]
[{"$f":"'A1-Sum'!A44","v":"Net cash from (used) financing"}]
[{"$f":"'A1-Sum'!A45","v":"Cash/cash equivalents at the year end"}]

{"sheet":"SA32","index":53,"n_rows":8,"n_cols":6,"rows_kept":8,"cut":false,"hidden":false,"merged":[[1,3,2,3],[1,4,2,4],[1,1,2,1]]}
[{"$f":"muni&\" - \"&TableA32","v":"DC47 Sekhukhune - Supporting Table SA32 List of external mechanisms"}]
["External mechanism","Yrs/ Mths","Period of agreement 1.","Service provided","Expiry date of service delivery agreement or contract","Monetary value of agreement 2."]
["Name of organisation",null,"Number",null,null,"R thousand"]
[]
[]
[{"$f":"head27a","v":"References"}]
["1. Total agreement period from commencement until end"]
["2. Annual value"]

{"sheet":"SA33","index":54,"n_rows":48,"n_cols":15,"rows_kept":48,"cut":false,"hidden":false,"merged":[[1,4,1,6],[47,0,47,13]]}
[{"$f":"muni&\" - \"& TableA33","v":"DC47 Sekhukhune - Supporting Table SA33 Contracts having future budgetary implications"}]
[{"$f":"desc","v":"Description"},{"$f":"head27","v":"Ref"},"Preceding Years",{"$f":"Head2","v":"Current Year 2021/22"},{"$f":"Head3","v":"2022/23 Medium Term Revenue & Expenditure Framework"},null,null,{"$f":"Head12","v":"Forecast 2025/26"},{"$f":"Head13","v":"Forecast 2026/27"},{"$f":"Head14","v":"Forecast 2027/28"},{"$f":"Head15","v":"Forecast 2028/29"},{"$f":"Head16","v":"Forecast 2029/30"},{"$f":"Head17","v":"Forecast 2030/31"},{"$f":"Head18","v":"Forecast 2031/32"},"Total Contract Value"]
["R thousand","1,3","Total",{"$f":"Head6","v":"Original Budget"},{"$f":"Head9","v":"Budget Year 2022/23"},{"$f":"Head10","v":"Budget Year +1 2023/24"},{"$f":"Head11","v":"Budget Year +2 2024/25"},"Estimate","Estimate","Estimate","Estimate","Estimate","Estimate","Estimate","Estimate"]
["Parent Municipality:"]
["Revenue Obligation By Contract",2]
[" ",null,null,null,null,null,null,null,null,null,null,null,null,null,{"$f":"SUM(C6:N6)","v":0}]
[" ",null,null,null,null,null,null,null,null,null,null,null,null,null,{"$f":"SUM(C7:N7)","v":0}]
[" ",null,null,null,null,null,null,null,null,null,null,null,null,null,{"$f":"SUM(C8:N8)","v":0}]
["Total Operating Revenue Implication",null,{"$f":"SUM(C6:C8)","v":0},{"$f":"SUM(D6:D8)","v":0},0,0,0,0,0,0,0,0,0,0,{"$f":"SUM(C9:N9)","v":0}]
[]
["Expenditure Obligation By Contract",2]
[" ",null,null,null,null,null,null,null,null,null,null,null,null,null,{"$f":"SUM(C12:N12)","v":0}]
[" ",null,null,null,null,null,null,null,null,null,null,null,null,null,{"$f":"SUM(C13:N13)","v":0}]
[" ",null,null,null,null,null,null,null,null,null,null,null,null,null,{"$f":"SUM(C14:N14)","v":0}]
["Total Operating Expenditure Implication",null,{"$f":"SUM(C12:C14)","v":0},0,0,0,0,0,0,0,0,0,0,0,{"$f":"SUM(C15:N15)","v":0}]
[]
["Capital Expenditure Obligation By Contract",2]
[" ",null,null,null,null,null,null,null,null,null,null,null,null,null,{"$f":"SUM(C18:N18)","v":0}]
[" ",null,null,null,null,null,null,null,null,null,null,null,null,null,{"$f":"SUM(C19:N19)","v":0}]
[" ",null,null,null,null,null,null,null,null,null,null,null,null,null,{"$f":"SUM(C20:N20)","v":0}]
["Total Capital Expenditure Implication",null,{"$f":"SUM(C18:C20)","v":0},0,0,0,0,0,0,0,0,0,0,0,{"$f":"SUM(C21:N21)","v":0}]
[]
["Total Parent Expenditure Implication",null,{"$f":"C15+C21","v":0},{"$f":"D15+D21","v":0},0,0,0,0,0,0,0,0,0,0,0]
[]
["Entities:"]
["Revenue Obligation By Contract",2]
[" ",null,null,null,null,null,null,null,null,null,null,null,null,null,{"$f":"SUM(C27:N27)","v":0}]
[" ",null,null,null,null,null,null,null,null,null,null,null,null,null,{"$f":"SUM(C28:N28)","v":0}]
[" ",null,null,null,null,null,null,null,null,null,null,null,null,null,{"$f":"SUM(C29:N29)","v":0}]
["Total Operating Revenue Implication",null,{"$f":"SUM(C27:C29)","v":0},0,0,0,0,0,0,0,0,0,0,0,{"$f":"SUM(C30:N30)","v":0}]
[]
["Expenditure Obligation By Contract",2]
[" ",null,null,null,null,null,null,null,null,null,null,null,null,null,{"$f":"SUM(C33:N33)","v":0}]
[" ",null,null,null,null,null,null,null,null,null,null,null,null,null,{"$f":"SUM(C34:N34)","v":0}]
[" ",null,null,null,null,null,null,null,null,null,null,null,null,null,{"$f":"SUM(C35:N35)","v":0}]
["Total Operating Expenditure Implication",null,{"$f":"SUM(C33:C35)","v":0},0,0,0,0,0,0,0,0,0,0,0,{"$f":"SUM(C36:N36)","v":0}]
[]
["Capital Expenditure Obligation By Contract",2]
[" ",null,null,null,null,null,null,null,null,null,null,null,null,null,{"$f":"SUM(C39:N39)","v":0}]
[" ",null,null,null,null,null,null,null,null,null,null,null,null,null,{"$f":"SUM(C40:N40)","v":0}]
[" ",null,null,null,null,null,null,null,null,null,null,null,null,null,{"$f":"SUM(C41:N41)","v":0}]
["Total Capital Expenditure Implication",null,{"$f":"SUM(C39:C41)","v":0},0,0,0,0,0,0,0,0,0,0,0,{"$f":"SUM(C42:N42)","v":0}]
[]
["Total Entity Expenditure Implication",null,{"$f":"C36+C42","v":0},{"$f":"D36+D42","v":0},0,0,0,0,0,0,0,0,0,0,0]
[{"$f":"head27a","v":"References"}]
["1. Total implication for all preceding years to be summed and total stated in 'Preceding Years' column"]
["2. List all contracts with future financial obligations beyond the three years covered by the MTREF (MFMA s33)"]
["3. For municipalities with approved total revenue not exceeding R250 m - all contracts with an annual cost greater than R500 000. For municipalities with approved total revenue greater than R250 m - all contracts with an annual cost greater than R1million. For municipalities with approved total revenue greater than R500 m - all contracts with an annual cost greater than R5 million"]

{"sheet":"SA34a","index":55,"n_rows":173,"n_cols":11,"rows_kept":173,"cut":false,"hidden":false,"merged":[[1,5,1,7],[1,8,1,10]]}
[{"$f":"muni&\" - \"&TableA34a","v":"DC47 Sekhukhune - Supporting Table SA34a Capital expenditure on new assets by asset class"}]
[{"$f":"desc","v":"Description"},{"$f":"head27","v":"Ref"},{"$f":"head1b","v":"2018/19"},{"$f":"head1A","v":"2019/20"},{"$f":"Head1","v":"2020/21"},{"$f":"Head2","v":"Current Year 2021/22"},null,null,{"$f":"Head3","v":"2022/23 Medium Term Revenue & Expenditure Framework"}]
["R thousand",1,{"$f":"Head5","v":"Audited Outcome"},{"$f":"Head5","v":"Audited Outcome"},{"$f":"Head5","v":"Audited Outcome"},{"$f":"Head6","v":"Original Budget"},{"$f":"Head7","v":"Adjusted Budget"},{"$f":"Head8","v":"Full Year Forecast"},{"$f":"Head9","v":"Budget Year 2022/23"},{"$f":"Head10","v":"Budget Year +1 2023/24"},{"$f":"Head11","v":"Budget Year +2 2024/25"}]
["Capital expenditure on new assets by Asset Class/Sub-class"]
[]
["Infrastructure",null,{"$f":"C7+C12+C16+C26+C37+C44+C52+C62+C68","v":452267628.00999999},{"$f":"D7+D12+D16+D26+D37+D44+D52+D62+D68","v":284351182.56999999},287851895.38,387073171,366768135,366768135,479082838,500222010,509537000]
["Roads Infrastructure",null,{"$f":"SUM(C8:C11)","v":0},0,0,0,0,0,0,0,0]
["Roads"]
["Road Structures"]
["Road Furniture"]
["Capital Spares"]
["Storm water Infrastructure",null,{"$f":"SUM(C13:C15)","v":0},{"$f":"SUM(D13:D15)","v":0},0,0,0,0,0,0,0]
["Drainage Collection"]
["Storm water Conveyance"]
["Attenuation"]
["Electrical Infrastructure",null,{"$f":"SUM(C17:C25)","v":0},0,0,0,0,0,0,0,0]
["Power Plants"]
["HV Substations"]
["HV Switching Station"]
["HV Transmission Conductors"]
["MV Substations"]
["MV Switching Stations"]
["MV Networks"]
["LV Networks"]
["Capital Spares"]
["Water Supply Infrastructure",null,{"$f":"SUM(C27:C36)","v":57389831.020000003},{"$f":"SUM(D27:D36)","v":283703000.06999999},287789628.31999999,387073171,366268135,366268135,479082838,500222010,509537000]
["Dams and Weirs"]
["Boreholes",null,5784706.2599999998,0,0,0,0,0,0,0,0]
["Reservoirs",null,6220461.2699999996,0,0,0,0,0,0,0,0]
["Pump Stations"]
["Water Treatment Works"]
["Bulk Mains",null,21620795.890000001,818131.11,0,0,0,0,2000000,0,0]
["Distribution",null,23763867.600000001,282884868.95999998,287789628.31999999,387073171,366268135,366268135,477082838,500222010,509537000]
["Distribution Points"]
["PRV Stations"]
["Capital Spares"]
["Sanitation Infrastructure",null,{"$f":"SUM(C38:C43)","v":394877796.99000001},{"$f":"SUM(D38:D43)","v":648182.5},62267.06,0,500000,500000,0,0,0]
["Pump Station",null,0,648182.5,62267.06,0,500000,500000,0,0,0]
["Reticulation",null,394877796.99000001,0,0,0,0,0,0,0,0]
["Waste Water Treatment Works"]
["Outfall Sewers"]
["Toilet Facilities"]
["Capital Spares"]
["Solid Waste Infrastructure",null,{"$f":"SUM(C45:C51)","v":0},{"$f":"SUM(D45:D51)","v":0},0,0,0,0,0,0,0]
["Landfill Sites"]
["Waste Transfer Stations"]
["Waste Processing Facilities"]
["Waste Drop-off Points"]
["Waste Separation Facilities"]
["Electricity Generation Facilities"]
["Capital Spares"]
["Rail Infrastructure",null,{"$f":"SUM(C53:C61)","v":0},0,0,0,0,0,0,0,0]
["Rail Lines"]
["Rail Structures"]
["Rail Furniture"]
["Drainage Collection"]
["Storm water Conveyance"]
["Attenuation"]
["MV Substations"]
["LV Networks"]
["Capital Spares"]
["Coastal Infrastructure",null,{"$f":"SUM(C63:C67)","v":0},{"$f":"SUM(D63:D67)","v":0},0,0,0,0,0,0,0]
["Sand Pumps"]
["Piers"]
["Revetments"]
["Promenades"]
["Capital Spares"]
["Information and Communication Infrastructure",null,{"$f":"SUM(C69:C72)","v":0},{"$f":"SUM(D69:D72)","v":0},0,0,0,0,0,0,0]
["Data Centres"]
["Core Layers"]
["Distribution Layers"]
["Capital Spares"]
[]
["Community Assets",null,{"$f":"C75+C98","v":0},{"$f":"D75+D98","v":0},0,0,0,0,0,0,0]
["Community Facilities",null,{"$f":"SUM(C76:C97)","v":0},{"$f":"SUM(D76:D97)","v":0},0,0,0,0,0,0,0]
["Halls"]
["Centres"]
["Crèches"]
["Clinics/Care Centres"]
["Fire/Ambulance Stations"]
["Testing Stations"]
["Museums"]
["Galleries"]
["Theatres"]
["Libraries"]
["Cemeteries/Crematoria"]
["Police"]
["Parks"]
["Public Open Space"]
["Nature Reserves"]
["Public Ablution Facilities"]
["Markets"]
["Stalls"]
["Abattoirs"]
["Airports"]
["Taxi Ranks/Bus Terminals"]
["Capital Spares"]
["Sport and Recreation Facilities",null,{"$f":"SUM(C99:C101)","v":0},{"$f":"SUM(D99:D101)","v":0},0,0,0,0,0,0,0]
["Indoor Facilities"]
["Outdoor Facilities"]
["Capital Spares"]
[]
["Heritage assets",null,{"$f":"SUM(C104:C108)","v":0},{"$f":"SUM(D104:D108)","v":0},0,0,0,0,0,0,0]
["Monuments"]
["Historic Buildings"]
["Works of Art"]
["Conservation Areas"]
["Other Heritage"]
[]
["Investment properties",null,{"$f":"+C111+C114","v":0},{"$f":"+D111+D114","v":0},0,0,0,0,0,0,0]
["Revenue Generating",null,{"$f":"SUM(C112:C113)","v":0},0,0,0,0,0,0,0,0]
["Improved Property"]
["Unimproved Property"]
["Non-revenue Generating",null,{"$f":"SUM(C115:C116)","v":0},{"$f":"SUM(D115:D116)","v":0},0,0,0,0,0,0,0]
["Improved Property"]
["Unimproved Property"]
[]
["Other assets",null,{"$f":"+C119+C131","v":0},{"$f":"+D119+D131","v":0},0,0,0,0,0,0,0]
["Operational Buildings",null,{"$f":"SUM(C120:C130)","v":0},{"$f":"SUM(D120:D130)","v":0},0,0,0,0,0,0,0]
["Municipal Offices"]
["Pay/Enquiry Points"]
["Building Plan Offices"]
["Workshops"]
["Yards"]
["Stores"]
["Laboratories"]
["Training Centres"]
["Manufacturing Plant"]
["Depots"]
["Capital Spares"]
["Housing",null,{"$f":"SUM(C132:C134)","v":0},{"$f":"SUM(D132:D134)","v":0},0,0,0,0,0,0,0]
["Staff Housing"]
["Social Housing"]
["Capital Spares"]
[]
["Biological or Cultivated Assets",null,{"$f":"SUM(C137:C137)","v":0},0,0,0,0,0,0,0,0]
["Biological or Cultivated Assets"]
[]
["Intangible Assets",null,{"$f":"+C140+C141","v":0},{"$f":"+D140+D141","v":0},0,0,0,0,0,0,0]
["Servitudes"]
["Licences and Rights",null,{"$f":"SUM(C142:C147)","v":0},{"$f":"SUM(D142:D147)","v":0},0,0,0,0,0,0,0]
["Water Rights"]
["Effluent Licenses"]
["Solid Waste Licenses"]
["Computer Software and Applications"]
["Load Settlement Software Applications"]
["Unspecified"]
[]
["Computer Equipment",null,{"$f":"SUM(C150:C150)","v":0},163365.01,8600.34,2000000,3046708,3046708,2880000,2171520,2269239]
["Computer Equipment",null,0,163365.01,8600.34,2000000,3046708,3046708,2880000,2171520,2269239]
[]
["Furniture and Office Equipment",null,{"$f":"SUM(C153:C153)","v":139027.32999999999},0,0,0,920000,920000,750000,0,0]
["Furniture and Office Equipment",null,139027.32999999999,0,0,0,920000,920000,750000,0,0]
[]
["Machinery and Equipment",null,{"$f":"SUM(C156:C156)","v":0},0,0,0,0,0,0,0,0]
["Machinery and Equipment"]
[]
["Transport Assets",null,{"$f":"SUM(C159:C159)","v":0},0,0,0,0,0,0,0,0]
["Transport Assets"]
[]
["Land",null,{"$f":"SUM(C162:C162)","v":0},0,0,0,0,0,0,0,0]
["Land",null,0,0,0,0,0,0,0,0,0]
[]
["Zoo's, Marine and Non-biological Animals",null,{"$f":"SUM(C165:C165)","v":0},0,0,0,0,0,0,0,0]
["Zoo's, Marine and Non-biological Animals"]
[]
["Total Capital Expenditure on new assets ",1,{"$f":"C6+C74+C103+C110+C118+C136+C139+C149+C152+C155+C158+C161+C164","v":452406655.33999997},{"$f":"D6+D74+D103+D110+D118+D136+D139+D149+D152+D155+D158+D161+D164","v":284514547.57999998},287860495.71999997,389073171,370734843,370734843,482712838,502393530,511806239]
[]
[{"$f":"head27a","v":"References"}]
["1. Total Capital Expenditure on new assets (SA34a) plus Total Capital Expenditure on renewal of existing assets (SA34b) plus Total Capital Expenditure  on upgrading of existing assets (SA34e) must reconcile to total capital expenditure in Budgeted Capital Expenditure"]
[]
[]
["check balance",null,{"$f":"SUM(C167+SA34b!C167++SA34e!C167)-'A5-Capex'!C40","v":0},{"$f":"SUM(D167+SA34b!D167++SA34e!D167)-'A5-Capex'!D40","v":0},{"$f":"SUM(E167+SA34b!E167++SA34e!E167)-'A5-Capex'!E40","v":0},{"$f":"SUM(F167+SA34b!F167++SA34e!F167)-'A5-Capex'!F40","v":0},{"$f":"SUM(G167+SA34b!G167++SA34e!G167)-'A5-Capex'!G40","v":0},{"$f":"SUM(H167+SA34b!H167++SA34e!H167)-'A5-Capex'!H40","v":0},{"$f":"SUM(I167+SA34b!I167++SA34e!I167)-'A5-Capex'!J40","v":0},{"$f":"SUM(J167+SA34b!J167++SA34e!J167)-'A5-Capex'!K40","v":0},{"$f":"SUM(K167+SA34b!K167++SA34e!K167)-'A5-Capex'!L40","v":0}]

{"sheet":"SA34b","index":56,"n_rows":175,"n_cols":11,"rows_kept":175,"cut":false,"hidden":false,"merged":[[1,5,1,7],[1,8,1,10]]}
[{"$f":"muni&\" - \"&TableA34b","v":"DC47 Sekhukhune - Supporting Table SA34b Capital expenditure on the renewal of existing assets by asset class"}]
[{"$f":"desc","v":"Description"},{"$f":"head27","v":"Ref"},{"$f":"head1b","v":"2018/19"},{"$f":"head1A","v":"2019/20"},{"$f":"Head1","v":"2020/21"},{"$f":"Head2","v":"Current Year 2021/22"},null,null,{"$f":"Head3","v":"2022/23 Medium Term Revenue & Expenditure Framework"}]
["R thousand",1,{"$f":"Head5","v":"Audited Outcome"},{"$f":"Head5","v":"Audited Outcome"},{"$f":"Head5","v":"Audited Outcome"},{"$f":"Head6","v":"Original Budget"},{"$f":"Head7","v":"Adjusted Budget"},{"$f":"Head8","v":"Full Year Forecast"},{"$f":"Head9","v":"Budget Year 2022/23"},{"$f":"Head10","v":"Budget Year +1 2023/24"},{"$f":"Head11","v":"Budget Year +2 2024/25"}]
["Capital expenditure on renewal of existing assets by Asset Class/Sub-class"]
[]
["Infrastructure",null,{"$f":"C7+C12+C16+C26+C37+C44+C52+C62+C68","v":5086255.0299999993},{"$f":"D7+D12+D16+D26+D37+D44+D52+D62+D68","v":93985584.469999999},115457573.32000001,28686829,20221865,20221865,4042603,0,0]
["Roads Infrastructure",null,{"$f":"SUM(C8:C11)","v":0},0,0,0,0,0,0,0,0]
["Roads"]
["Road Structures"]
["Road Furniture"]
["Capital Spares"]
["Storm water Infrastructure",null,{"$f":"SUM(C13:C15)","v":0},{"$f":"SUM(D13:D15)","v":0},0,0,0,0,0,0,0]
["Drainage Collection"]
["Storm water Conveyance"]
["Attenuation"]
["Electrical Infrastructure",null,{"$f":"SUM(C17:C25)","v":0},0,0,0,0,0,0,0,0]
["Power Plants"]
["HV Substations"]
["HV Switching Station"]
["HV Transmission Conductors"]
["MV Substations"]
["MV Switching Stations"]
["MV Networks"]
["LV Networks"]
["Capital Spares"]
["Water Supply Infrastructure",null,{"$f":"SUM(C27:C36)","v":432405.72},{"$f":"SUM(D27:D36)","v":93985584.469999999},115457573.32000001,28686829,20221865,20221865,4042603,0,0]
["Dams and Weirs"]
["Boreholes",null,432405.72,6286698.6100000003,10406391.84,0,0,0,0,0,0]
["Reservoirs"]
["Pump Stations"]
["Water Treatment Works",null,0,87698885.859999999,104589270.31,28686829,19121865,19121865,4042603,0,0]
["Bulk Mains"]
["Distribution",null,0,0,461911.17,0,1100000,1100000,0,0,0]
["Distribution Points"]
["PRV Stations"]
["Capital Spares"]
["Sanitation Infrastructure",null,{"$f":"SUM(C38:C43)","v":4653849.3099999996},{"$f":"SUM(D38:D43)","v":0},0,0,0,0,0,0,0]
["Pump Station"]
["Reticulation",null,1830663.8,0,0,0,0,0,0,0,0]
["Waste Water Treatment Works",null,2823185.51,0,0,0,0,0,0,0,0]
["Outfall Sewers"]
["Toilet Facilities"]
["Capital Spares"]
["Solid Waste Infrastructure",null,{"$f":"SUM(C45:C51)","v":0},{"$f":"SUM(D45:D51)","v":0},0,0,0,0,0,0,0]
["Landfill Sites"]
["Waste Transfer Stations"]
["Waste Processing Facilities"]
["Waste Drop-off Points"]
["Waste Separation Facilities"]
["Electricity Generation Facilities"]
["Capital Spares"]
["Rail Infrastructure",null,{"$f":"SUM(C53:C61)","v":0},0,0,0,0,0,0,0,0]
["Rail Lines"]
["Rail Structures"]
["Rail Furniture"]
["Drainage Collection"]
["Storm water Conveyance"]
["Attenuation"]
["MV Substations"]
["LV Networks"]
["Capital Spares"]
["Coastal Infrastructure",null,{"$f":"SUM(C63:C67)","v":0},{"$f":"SUM(D63:D67)","v":0},0,0,0,0,0,0,0]
["Sand Pumps"]
["Piers"]
["Revetments"]
["Promenades"]
["Capital Spares"]
["Information and Communication Infrastructure",null,{"$f":"SUM(C69:C72)","v":0},{"$f":"SUM(D69:D72)","v":0},0,0,0,0,0,0,0]
["Data Centres"]
["Core Layers"]
["Distribution Layers"]
["Capital Spares"]
[]
["Community Assets",null,{"$f":"C75+C98","v":0},{"$f":"D75+D98","v":0},0,0,0,0,0,0,0]
["Community Facilities",null,{"$f":"SUM(C76:C97)","v":0},{"$f":"SUM(D76:D97)","v":0},0,0,0,0,0,0,0]
["Halls"]
["Centres"]
["Crèches"]
["Clinics/Care Centres"]
["Fire/Ambulance Stations"]
["Testing Stations"]
["Museums"]
["Galleries"]
["Theatres"]
["Libraries"]
["Cemeteries/Crematoria"]
["Police"]
["Parks"]
["Public Open Space"]
["Nature Reserves"]
["Public Ablution Facilities"]
["Markets"]
["Stalls"]
["Abattoirs"]
["Airports"]
["Taxi Ranks/Bus Terminals"]
["Capital Spares"]
["Sport and Recreation Facilities",null,{"$f":"SUM(C99:C101)","v":0},{"$f":"SUM(D99:D101)","v":0},0,0,0,0,0,0,0]
["Indoor Facilities"]
["Outdoor Facilities"]
["Capital Spares"]
[]
["Heritage assets",null,{"$f":"SUM(C104:C108)","v":0},{"$f":"SUM(D104:D108)","v":0},0,0,0,0,0,0,0]
["Monuments"]
["Historic Buildings"]
["Works of Art"]
["Conservation Areas"]
["Other Heritage"]
[]
["Investment properties",null,{"$f":"+C111+C114","v":0},{"$f":"+D111+D114","v":0},0,0,0,0,0,0,0]
["Revenue Generating",null,{"$f":"SUM(C112:C113)","v":0},0,0,0,0,0,0,0,0]
["Improved Property"]
["Unimproved Property"]
["Non-revenue Generating",null,{"$f":"SUM(C115:C116)","v":0},{"$f":"SUM(D115:D116)","v":0},0,0,0,0,0,0,0]
["Improved Property"]
["Unimproved Property"]
[]
["Other assets",null,{"$f":"+C119+C131","v":0},{"$f":"+D119+D131","v":0},0,0,0,0,0,0,0]
["Operational Buildings",null,{"$f":"SUM(C120:C130)","v":0},{"$f":"SUM(D120:D130)","v":0},0,0,0,0,0,0,0]
["Municipal Offices"]
["Pay/Enquiry Points"]
["Building Plan Offices"]
["Workshops"]
["Yards"]
["Stores"]
["Laboratories"]
["Training Centres"]
["Manufacturing Plant"]
["Depots"]
["Capital Spares"]
["Housing",null,{"$f":"SUM(C132:C134)","v":0},{"$f":"SUM(D132:D134)","v":0},0,0,0,0,0,0,0]
["Staff Housing"]
["Social Housing"]
["Capital Spares"]
[]
["Biological or Cultivated Assets",null,{"$f":"SUM(C137:C137)","v":0},0,0,0,0,0,0,0,0]
["Biological or Cultivated Assets"]
[]
["Intangible Assets",null,{"$f":"+C140+C141","v":0},{"$f":"+D140+D141","v":0},0,0,0,0,0,0,0]
["Servitudes"]
["Licences and Rights",null,{"$f":"SUM(C142:C147)","v":0},{"$f":"SUM(D142:D147)","v":0},0,0,0,0,0,0,0]
["Water Rights"]
["Effluent Licenses"]
["Solid Waste Licenses"]
["Computer Software and Applications"]
["Load Settlement Software Applications"]
["Unspecified"]
[]
["Computer Equipment",null,{"$f":"SUM(C150:C150)","v":0},0,0,0,0,0,0,0,0]
["Computer Equipment"]
[]
["Furniture and Office Equipment",null,{"$f":"SUM(C153:C153)","v":0},0,-615840.55000000005,0,0,0,0,0,0]
["Furniture and Office Equipment",null,0,0,-615840.55000000005,0,0,0,0,0,0]
[]
["Machinery and Equipment",null,{"$f":"SUM(C156:C156)","v":0},0,0,0,0,0,0,0,0]
["Machinery and Equipment"]
[]
["Transport Assets",null,{"$f":"SUM(C159:C159)","v":0},0,21916443.91,3900000,3900000,3900000,0,6860000,6000000]
["Transport Assets",null,0,0,21916443.91,3900000,3900000,3900000,0,6860000,6000000]
[]
["Land",null,{"$f":"SUM(C162:C162)","v":0},0,0,0,0,0,0,0,0]
["Land"]
[]
["Zoo's, Marine and Non-biological Animals",null,{"$f":"SUM(C165:C165)","v":0},0,0,0,0,0,0,0,0]
["Zoo's, Marine and Non-biological Animals"]
[]
["Total Capital Expenditure on renewal of existing assets ",1,{"$f":"C6+C74+C103+C110+C118+C136+C139+C149+C152+C155+C158+C161+C164","v":5086255.0299999993},{"$f":"D6+D74+D103+D110+D118+D136+D139+D149+D152+D155+D158+D161+D164","v":93985584.469999999},136758176.68000001,32586829,24121865,24121865,4042603,6860000,6000000]
[]
["Renewal of Existing Assets as % of total capex",null,{"$f":"IF(ISERROR(C167/'A9-Asset'!C69),0,(C167/'A9-Asset'!C69))","v":0},{"$f":"IF(ISERROR(D167/'A9-Asset'!D132),0,(D167/'A9-Asset'!D132))","v":0.24086633163759297},{"$f":"IF(ISERROR(E167/'A9-Asset'!E132),0,(E167/'A9-Asset'!E132))","v":0.3183850553690491},{"$f":"IF(ISERROR(F167/'A9-Asset'!F132),0,(F167/'A9-Asset'!F132))","v":7.6855547510501152E-2},{"$f":"IF(ISERROR(G167/'A9-Asset'!G132),0,(G167/'A9-Asset'!G132))","v":6.0699557431770593E-2},{"$f":"IF(ISERROR(H167/'A9-Asset'!H132),0,(H167/'A9-Asset'!H132))","v":6.0699557431770593E-2},{"$f":"IF(ISERROR(I167/'A9-Asset'!I132),0,(I167/'A9-Asset'!I132))","v":8.2635931606632306E-3},{"$f":"IF(ISERROR(J167/'A9-Asset'!J132),0,(J167/'A9-Asset'!J132))","v":1.3405938279568258E-2},{"$f":"IF(ISERROR(K167/'A9-Asset'!K132),0,(K167/'A9-Asset'!K132))","v":1.1530584397556148E-2}]
["Renewal of Existing Assets as % of deprecn\"",null,{"$f":"IF(ISERROR(C167/'A9-Asset'!C168),0,(C167/'A9-Asset'!C168))","v":5.0339040408381379E-2},{"$f":"IF(ISERROR(D167/'A9-Asset'!D168),0,(D167/'A9-Asset'!D168))","v":0.76892450852970051},{"$f":"IF(ISERROR(E167/'A9-Asset'!E168),0,(E167/'A9-Asset'!E168))","v":1.4497624874850619},{"$f":"IF(ISERROR(F167/'A9-Asset'!F168),0,(F167/'A9-Asset'!F168))","v":0.31787596016368136},{"$f":"IF(ISERROR(G167/'A9-Asset'!G168),0,(G167/'A9-Asset'!G168))","v":0.23521068235739953},{"$f":"IF(ISERROR(H167/'A9-Asset'!H168),0,(H167/'A9-Asset'!H168))","v":0.23521068235739953},{"$f":"IF(ISERROR(I167/'A9-Asset'!I168),0,(I167/'A9-Asset'!I168))","v":3.7822034371489684E-2},{"$f":"IF(ISERROR(J167/'A9-Asset'!J168),0,(J167/'A9-Asset'!J168))","v":6.1430277020640162E-2},{"$f":"IF(ISERROR(K167/'A9-Asset'!K168),0,(K167/'A9-Asset'!K168))","v":4.7097044905336824E-2}]
[{"$f":"head27a","v":"References"}]
["1. Total Capital Expenditure  on renewal of existing assets (SA34b) plus Total Capital Expenditure on new assets (SA34a) plus Total Capital Expenditure  on upgrading of existing assets (SA34e) must reconcile to total capital expenditure in Budgeted Capital Expenditure"]
[]
[]
["check balance",null,{"$f":"SUM(C167+SA34a!C167++SA34e!C167)-'A5-Capex'!C40","v":0},{"$f":"SUM(D167+SA34a!D167++SA34e!D167)-'A5-Capex'!D40","v":0},{"$f":"SUM(E167+SA34a!E167++SA34e!E167)-'A5-Capex'!E40","v":0},{"$f":"SUM(F167+SA34a!F167++SA34e!F167)-'A5-Capex'!F40","v":0},{"$f":"SUM(G167+SA34a!G167++SA34e!G167)-'A5-Capex'!G40","v":0},{"$f":"SUM(H167+SA34a!H167++SA34e!H167)-'A5-Capex'!H40","v":0},{"$f":"SUM(I167+SA34a!I167++SA34e!I167)-'A5-Capex'!J40","v":0},{"$f":"SUM(J167+SA34a!J167++SA34e!J167)-'A5-Capex'!K40","v":0},{"$f":"SUM(K167+SA34a!K167++SA34e!K167)-'A5-Capex'!L40","v":0}]

{"sheet":"SA34c","index":57,"n_rows":175,"n_cols":11,"rows_kept":175,"cut":false,"hidden":false,"merged":[[1,5,1,7],[1,8,1,10]]}
[{"$f":"muni&\" - \"&TableA34c","v":"DC47 Sekhukhune - Supporting Table SA34c Repairs and maintenance expenditure by asset class"}]
[{"$f":"desc","v":"Description"},{"$f":"head27","v":"Ref"},{"$f":"head1b","v":"2018/19"},{"$f":"head1A","v":"2019/20"},{"$f":"Head1","v":"2020/21"},{"$f":"Head2","v":"Current Year 2021/22"},null,null,{"$f":"Head3","v":"2022/23 Medium Term Revenue & Expenditure Framework"}]
["R thousand",1,{"$f":"Head5","v":"Audited Outcome"},{"$f":"Head5","v":"Audited Outcome"},{"$f":"Head5","v":"Audited Outcome"},{"$f":"Head6","v":"Original Budget"},{"$f":"Head7","v":"Adjusted Budget"},{"$f":"Head8","v":"Full Year Forecast"},{"$f":"Head9","v":"Budget Year 2022/23"},{"$f":"Head10","v":"Budget Year +1 2023/24"},{"$f":"Head11","v":"Budget Year +2 2024/25"}]
["Repairs and maintenance expenditure by Asset Class/Sub-class"]
[]
["Infrastructure",null,{"$f":"C7+C12+C16+C26+C37+C44+C52+C62+C68","v":117279312.07999998},{"$f":"D7+D12+D16+D26+D37+D44+D52+D62+D68","v":95652543.939999998},95681194.640000015,127310353,169410353,169410353,108102767,112681287,115373268]
["Roads Infrastructure",null,{"$f":"SUM(C8:C11)","v":0},0,0,0,0,0,0,0,0]
["Roads"]
["Road Structures"]
["Road Furniture"]
["Capital Spares"]
["Storm water Infrastructure",null,{"$f":"SUM(C13:C15)","v":0},{"$f":"SUM(D13:D15)","v":0},0,0,0,0,0,0,0]
["Drainage Collection"]
["Storm water Conveyance"]
["Attenuation"]
["Electrical Infrastructure",null,{"$f":"SUM(C17:C25)","v":0},0,0,0,0,0,0,0,0]
["Power Plants"]
["HV Substations"]
["HV Switching Station"]
["HV Transmission Conductors"]
["MV Substations"]
["MV Switching Stations"]
["MV Networks"]
["LV Networks"]
["Capital Spares"]
["Water Supply Infrastructure",null,{"$f":"SUM(C27:C36)","v":36099243.729999997},{"$f":"SUM(D27:D36)","v":19283635.640000001},18150853.420000002,45747429,42747429,42747429,43957326,46869447,48865706]
["Dams and Weirs"]
["Boreholes",null,25063988.489999998,15230871.09,9793158.1500000004,32637105,29637105,29637105,29822589,32178782,33594651]
["Reservoirs"]
["Pump Stations"]
["Water Treatment Works"]
["Bulk Mains"]
["Distribution",null,11035255.24,4052764.55,8357695.2699999996,13110324,13110324,13110324,14134737,14690665,15271055]
["Distribution Points"]
["PRV Stations"]
["Capital Spares"]
["Sanitation Infrastructure",null,{"$f":"SUM(C38:C43)","v":81180068.349999994},{"$f":"SUM(D38:D43)","v":76368908.299999997},77530341.220000014,81562924,126662924,126662924,64145441,65811840,66507562]
["Pump Station"]
["Reticulation",null,66260366,57787623.780000001,76422147.290000007,70000000,112100000,112100000,50000000,50000000,50000000]
["Waste Water Treatment Works"]
["Outfall Sewers",null,14919702.35,18581284.52,1108193.93,11562924,14562924,14562924,14145441,15811840,16507562]
["Toilet Facilities",null,0,0,0,0,0,0,0,0,0]
["Capital Spares"]
["Solid Waste Infrastructure",null,{"$f":"SUM(C45:C51)","v":0},{"$f":"SUM(D45:D51)","v":0},0,0,0,0,0,0,0]
["Landfill Sites"]
["Waste Transfer Stations"]
["Waste Processing Facilities"]
["Waste Drop-off Points"]
["Waste Separation Facilities"]
["Electricity Generation Facilities"]
["Capital Spares"]
["Rail Infrastructure",null,{"$f":"SUM(C53:C61)","v":0},0,0,0,0,0,0,0,0]
["Rail Lines"]
["Rail Structures"]
["Rail Furniture"]
["Drainage Collection"]
["Storm water Conveyance"]
["Attenuation"]
["MV Substations"]
["LV Networks"]
["Capital Spares"]
["Coastal Infrastructure",null,{"$f":"SUM(C63:C67)","v":0},{"$f":"SUM(D63:D67)","v":0},0,0,0,0,0,0,0]
["Sand Pumps"]
["Piers"]
["Revetments"]
["Promenades"]
["Capital Spares"]
["Information and Communication Infrastructure",null,{"$f":"SUM(C69:C72)","v":0},{"$f":"SUM(D69:D72)","v":0},0,0,0,0,0,0,0]
["Data Centres"]
["Core Layers"]
["Distribution Layers"]
["Capital Spares"]
[]
["Community Assets",null,{"$f":"C75+C98","v":0},{"$f":"D75+D98","v":0},0,0,0,0,0,0,0]
["Community Facilities",null,{"$f":"SUM(C76:C97)","v":0},{"$f":"SUM(D76:D97)","v":0},0,0,0,0,0,0,0]
["Halls"]
["Centres"]
["Crèches"]
["Clinics/Care Centres"]
["Fire/Ambulance Stations"]
["Testing Stations"]
["Museums"]
["Galleries"]
["Theatres"]
["Libraries"]
["Cemeteries/Crematoria"]
["Police"]
["Parks"]
["Public Open Space"]
["Nature Reserves"]
["Public Ablution Facilities"]
["Markets"]
["Stalls"]
["Abattoirs"]
["Airports"]
["Taxi Ranks/Bus Terminals"]
["Capital Spares"]
["Sport and Recreation Facilities",null,{"$f":"SUM(C99:C101)","v":0},{"$f":"SUM(D99:D101)","v":0},0,0,0,0,0,0,0]
["Indoor Facilities"]
["Outdoor Facilities"]
["Capital Spares"]
[null,null,1000,1000,1000,1000,1000,1000,1000,1000,1000]
["Heritage assets",null,{"$f":"SUM(C104:C108)","v":0},{"$f":"SUM(D104:D108)","v":0},0,0,0,0,400000,522000,545490]
["Monuments"]
["Historic Buildings"]
["Works of Art"]
["Conservation Areas"]
["Other Heritage",null,0,0,0,0,0,0,400000,522000,545490]
[]
["Investment properties",null,{"$f":"+C111+C114","v":0},{"$f":"+D111+D114","v":0},0,0,0,0,0,0,0]
["Revenue Generating",null,{"$f":"SUM(C112:C113)","v":0},0,0,0,0,0,0,0,0]
["Improved Property"]
["Unimproved Property"]
["Non-revenue Generating",null,{"$f":"SUM(C115:C116)","v":0},{"$f":"SUM(D115:D116)","v":0},0,0,0,0,0,0,0]
["Improved Property"]
["Unimproved Property"]
[]
["Other assets",null,{"$f":"+C119+C131","v":1438091.43},{"$f":"+D119+D131","v":280058.62},194835.04,800000,600000,600000,2080000,2484720,2596532]
["Operational Buildings",null,{"$f":"SUM(C120:C130)","v":1438091.43},{"$f":"SUM(D120:D130)","v":280058.62},194835.04,800000,600000,600000,2080000,2484720,2596532]
["Municipal Offices",null,1438091.43,280058.62,194835.04,800000,600000,600000,2080000,2484720,2596532]
["Pay/Enquiry Points"]
["Building Plan Offices"]
["Workshops"]
["Yards"]
["Stores"]
["Laboratories"]
["Training Centres"]
["Manufacturing Plant"]
["Depots"]
["Capital Spares"]
["Housing",null,{"$f":"SUM(C132:C134)","v":0},{"$f":"SUM(D132:D134)","v":0},0,0,0,0,0,0,0]
["Staff Housing"]
["Social Housing"]
["Capital Spares"]
[]
["Biological or Cultivated Assets",null,{"$f":"SUM(C137:C137)","v":0},0,0,0,0,0,0,0,0]
["Biological or Cultivated Assets"]
[]
["Intangible Assets",null,{"$f":"+C140+C141","v":0},{"$f":"+D140+D141","v":0},0,0,0,0,0,0,0]
["Servitudes"]
["Licences and Rights",null,{"$f":"SUM(C142:C147)","v":0},{"$f":"SUM(D142:D147)","v":0},0,0,0,0,0,0,0]
["Water Rights"]
["Effluent Licenses"]
["Solid Waste Licenses"]
["Computer Software and Applications"]
["Load Settlement Software Applications"]
["Unspecified"]
[]
["Computer Equipment",null,{"$f":"SUM(C150:C150)","v":0},0,0,0,100000,100000,104000,108576,113462]
["Computer Equipment",null,0,0,0,0,100000,100000,104000,108576,113462]
[]
["Furniture and Office Equipment",null,{"$f":"SUM(C153:C153)","v":0},0,0,0,0,0,0,0,0]
["Furniture and Office Equipment",null,0,0,0,0,0,0,0,0,0]
[]
["Machinery and Equipment",null,{"$f":"SUM(C156:C156)","v":72751.14},608.24,-589284.43999999994,63441,303441,303441,9065579,329464,344290]
["Machinery and Equipment",null,72751.14,608.24,-589284.43999999994,63441,303441,303441,9065579,329464,344290]
[]
["Transport Assets",null,{"$f":"SUM(C159:C159)","v":495304.31},3372723.04,1282737.8600000001,2000000,2706741,2706741,3300000,3445200,4600234]
["Transport Assets",null,495304.31,3372723.04,1282737.8600000001,2000000,2706741,2706741,3300000,3445200,4600234]
[]
["Land",null,{"$f":"SUM(C162:C162)","v":0},0,0,0,0,0,0,0,0]
["Land"]
[]
["Zoo's, Marine and Non-biological Animals",null,{"$f":"SUM(C165:C165)","v":0},0,0,0,0,0,0,0,0]
["Zoo's, Marine and Non-biological Animals"]
[]
["Total Repairs and Maintenance Expenditure",1,{"$f":"C6+C74+C103+C110+C118+C136+C139+C149+C152+C155+C158+C161+C164","v":119285458.95999999},{"$f":"D6+D74+D103+D110+D118+D136+D139+D149+D152+D155+D158+D161+D164","v":99305933.840000004},96569483.100000024,130173794,173120535,173120535,123052346,119571247,123573276]
[]
["R&M as a % of PPE",null,{"$f":"IF(ISERROR(ROUND(C167/'A6-FinPos'!C19,3)),0,(ROUND(C167/'A6-FinPos'!C19,3)))","v":3.5999999999999997E-2},{"$f":"IF(ISERROR(ROUND(D167/'A6-FinPos'!D19,3)),0,(ROUND(D167/'A6-FinPos'!D19,3)))","v":2.7E-2},{"$f":"IF(ISERROR(ROUND(E167/'A6-FinPos'!E19,3)),0,(ROUND(E167/'A6-FinPos'!E19,3)))","v":2.4E-2},{"$f":"IF(ISERROR(ROUND(F167/'A6-FinPos'!F19,3)),0,(ROUND(F167/'A6-FinPos'!F19,3)))","v":3.5000000000000003E-2},{"$f":"IF(ISERROR(ROUND(G167/'A6-FinPos'!G19,3)),0,(ROUND(G167/'A6-FinPos'!G19,3)))","v":4.7E-2},{"$f":"IF(ISERROR(ROUND(H167/'A6-FinPos'!H19,3)),0,(ROUND(H167/'A6-FinPos'!H19,3)))","v":4.7E-2},{"$f":"IF(ISERROR(ROUND(I167/'A6-FinPos'!I19,3)),0,(ROUND(I167/'A6-FinPos'!I19,3)))","v":2.9000000000000001E-2},{"$f":"IF(ISERROR(ROUND(J167/'A6-FinPos'!J19,3)),0,(ROUND(J167/'A6-FinPos'!J19,3)))","v":3.2000000000000001E-2},{"$f":"IF(ISERROR(ROUND(K167/'A6-FinPos'!K19,3)),0,(ROUND(K167/'A6-FinPos'!K19,3)))","v":3.3000000000000002E-2}]
["R&M as % Operating Expenditure",null,{"$f":"IF(ISERROR(ROUND(C167/'A1-Sum'!B18,3)),0,(ROUND(C167/'A1-Sum'!B18,3)))","v":0.13400000000000001},{"$f":"IF(ISERROR(ROUND(D167/'A1-Sum'!C18,3)),0,(ROUND(D167/'A1-Sum'!C18,3)))","v":0.106},{"$f":"IF(ISERROR(ROUND(E167/'A1-Sum'!D18,3)),0,(ROUND(E167/'A1-Sum'!D18,3)))","v":0.105},{"$f":"IF(ISERROR(ROUND(F167/'A1-Sum'!E18,3)),0,(ROUND(F167/'A1-Sum'!E18,3)))","v":0.11799999999999999},{"$f":"IF(ISERROR(ROUND(G167/'A1-Sum'!F18,3)),0,(ROUND(G167/'A1-Sum'!F18,3)))","v":0.15},{"$f":"IF(ISERROR(ROUND(H167/'A1-Sum'!G18,3)),0,(ROUND(H167/'A1-Sum'!G18,3)))","v":0.15},{"$f":"IF(ISERROR(ROUND(I167/'A1-Sum'!H18,3)),0,(ROUND(I167/'A1-Sum'!H18,3)))","v":0.18099999999999999},{"$f":"IF(ISERROR(ROUND(J167/'A1-Sum'!I18,3)),0,(ROUND(J167/'A1-Sum'!I18,3)))","v":9.9000000000000005E-2},{"$f":"IF(ISERROR(ROUND(K167/'A1-Sum'!J18,3)),0,(ROUND(K167/'A1-Sum'!J18,3)))","v":9.6000000000000002E-2}]
[{"$f":"head27a","v":"References"}]
["1. Total Repairs and Maintenance Expenditure by Asset Category must reconcile to total repairs and maintenance expenditure on Table SA1"]
[]
[]
["check balance",null,{"$f":"C167-'SA1'!C164","v":0},{"$f":"D167-'SA1'!D164","v":0},{"$f":"E167-'SA1'!E164","v":0},{"$f":"F167-'SA1'!F164","v":0},{"$f":"G167-'SA1'!G164","v":0},{"$f":"H167-'SA1'!H164","v":0},{"$f":"I167-'SA1'!J164","v":0},{"$f":"J167-'SA1'!K164","v":0},{"$f":"K167-'SA1'!L164","v":0}]

{"sheet":"SA34d","index":58,"n_rows":173,"n_cols":11,"rows_kept":173,"cut":false,"hidden":false,"merged":[[1,5,1,7],[1,8,1,10]]}
[{"$f":"muni&\" - \"&TableA34d","v":"DC47 Sekhukhune - Supporting Table SA34d Depreciation by asset class"}]
[{"$f":"desc","v":"Description"},{"$f":"head27","v":"Ref"},{"$f":"head1b","v":"2018/19"},{"$f":"head1A","v":"2019/20"},{"$f":"Head1","v":"2020/21"},{"$f":"Head2","v":"Current Year 2021/22"},null,null,{"$f":"Head3","v":"2022/23 Medium Term Revenue & Expenditure Framework"}]
["R thousand",1,{"$f":"Head5","v":"Audited Outcome"},{"$f":"Head5","v":"Audited Outcome"},{"$f":"Head5","v":"Audited Outcome"},{"$f":"Head6","v":"Original Budget"},{"$f":"Head7","v":"Adjusted Budget"},{"$f":"Head8","v":"Full Year Forecast"},{"$f":"Head9","v":"Budget Year 2022/23"},{"$f":"Head10","v":"Budget Year +1 2023/24"},{"$f":"Head11","v":"Budget Year +2 2024/25"}]
["Depreciation by Asset Class/Sub-class"]
[]
["Infrastructure",null,{"$f":"C7+C12+C16+C26+C37+C44+C52+C62+C68","v":81602980.61999999},{"$f":"D7+D12+D16+D26+D37+D44+D52+D62+D68","v":94694774.719999999},83979969.899999976,102514292,102514292,102514292,106614864,111305918,127014685]
["Roads Infrastructure",null,{"$f":"SUM(C8:C11)","v":4243622.91},3908450,1493619.71,5383264,5383264,5383264,5598595,5844933,8107955]
["Roads",null,4243622.91,3815619.25,1402837.55,5383264,5383264,5383264,5598595,5844933,8107955]
["Road Structures",null,0,90971.74,88979.44,0,0,0,0,0,0]
["Road Furniture",null,0,1859.01,1802.72,0,0,0,0,0,0]
["Capital Spares",null,0,0,0,0,0,0,0,0,0]
["Storm water Infrastructure",null,{"$f":"SUM(C13:C15)","v":0},{"$f":"SUM(D13:D15)","v":0},0,0,0,0,0,0,0]
["Drainage Collection",null,0,0,0,0,0,0,0,0,0]
["Storm water Conveyance",null,0,0,0,0,0,0,0,0,0]
["Attenuation",null,0,0,0,0,0,0,0,0,0]
["Electrical Infrastructure",null,{"$f":"SUM(C17:C25)","v":0},0,0,0,0,0,0,0,0]
["Power Plants"]
["HV Substations"]
["HV Switching Station"]
["HV Transmission Conductors"]
["MV Substations"]
["MV Switching Stations"]
["MV Networks"]
["LV Networks"]
["Capital Spares"]
["Water Supply Infrastructure",null,{"$f":"SUM(C27:C36)","v":73719276.969999999},{"$f":"SUM(D27:D36)","v":87633078.689999998},80959327.449999988,88987124,88987124,88987124,92546609,96618660,105166500]
["Dams and Weirs",null,0,0,0,21025000,21025000,21025000,21866000,22828104,27855369]
["Boreholes",null,0,1986880.32,1859620.22,0,0,0,0,0,0]
["Reservoirs",null,0,4309376.28,4183907.65,0,0,0,0,0,0]
["Pump Stations",null,0,2590232.94,2502372.5099999998,0,0,0,0,0,0]
["Water Treatment Works",null,0,4952175.0599999996,4708828.79,0,0,0,0,0,0]
["Bulk Mains",null,0,23193470.16,22589902.489999998,0,0,0,0,0,0]
["Distribution",null,73719276.969999999,50600943.93,45114695.789999999,67962124,67962124,67962124,70680609,73790556,77311131]
["Distribution Points",null,0,0,0,0,0,0,0,0,0]
["PRV Stations",null,0,0,0,0,0,0,0,0,0]
["Capital Spares",null,0,0,0,0,0,0,0,0,0]
["Sanitation Infrastructure",null,{"$f":"SUM(C38:C43)","v":2797641},{"$f":"SUM(D38:D43)","v":2739292.37},1527016.55,5205000,5205000,5205000,5413200,5651381,8405693]
["Pump Station",null,0,0,0,0,0,0,0,0,0]
["Reticulation",null,0,0,0,5205000,5205000,5205000,5413200,5651381,8405693]
["Waste Water Treatment Works",null,2797641,2739292.37,1527016.55,0,0,0,0,0,0]
["Outfall Sewers",null,0,0,0,0,0,0,0,0,0]
["Toilet Facilities",null,0,0,0,0,0,0,0,0,0]
["Capital Spares",null,0,0,0,0,0,0,0,0,0]
["Solid Waste Infrastructure",null,{"$f":"SUM(C45:C51)","v":842439.74},{"$f":"SUM(D45:D51)","v":413953.66},6.19,2938904,2938904,2938904,3056460,3190944,5334537]
["Landfill Sites",null,842439.74,413931.47,0,2938904,2938904,2938904,3056460,3190944,5334537]
["Waste Transfer Stations",null,0,0,0,0,0,0,0,0,0]
["Waste Processing Facilities",null,0,22.19,6.19,0,0,0,0,0,0]
["Waste Drop-off Points",null,0,0,0,0,0,0,0,0,0]
["Waste Separation Facilities",null,0,0,0,0,0,0,0,0,0]
["Electricity Generation Facilities",null,0,0,0,0,0,0,0,0,0]
["Capital Spares",null,0,0,0,0,0,0,0,0,0]
["Rail Infrastructure",null,{"$f":"SUM(C53:C61)","v":0},0,0,0,0,0,0,0,0]
["Rail Lines"]
["Rail Structures"]
["Rail Furniture"]
["Drainage Collection"]
["Storm water Conveyance"]
["Attenuation"]
["MV Substations"]
["LV Networks"]
["Capital Spares"]
["Coastal Infrastructure",null,{"$f":"SUM(C63:C67)","v":0},{"$f":"SUM(D63:D67)","v":0},0,0,0,0,0,0,0]
["Sand Pumps",null,0,0,0,0,0,0,0,0,0]
["Piers",null,0,0,0,0,0,0,0,0,0]
["Revetments",null,0,0,0,0,0,0,0,0,0]
["Promenades",null,0,0,0,0,0,0,0,0,0]
["Capital Spares",null,0,0,0,0,0,0,0,0,0]
["Information and Communication Infrastructure",null,{"$f":"SUM(C69:C72)","v":0},{"$f":"SUM(D69:D72)","v":0},0,0,0,0,0,0,0]
["Data Centres",null,0,0,0,0,0,0,0,0,0]
["Core Layers",null,0,0,0,0,0,0,0,0,0]
["Distribution Layers",null,0,0,0,0,0,0,0,0,0]
["Capital Spares",null,0,0,0,0,0,0,0,0,0]
[]
["Community Assets",null,{"$f":"C75+C98","v":0},{"$f":"D75+D98","v":298024.06},331144.59000000003,0,0,0,0,0,0]
["Community Facilities",null,{"$f":"SUM(C76:C97)","v":0},{"$f":"SUM(D76:D97)","v":297975.46999999997},331096,0,0,0,0,0,0]
["Halls",null,0,0,0,0,0,0,0,0,0]
["Centres",null,0,0,0,0,0,0,0,0,0]
["Crèches",null,0,0,0,0,0,0,0,0,0]
["Clinics/Care Centres",null,0,0,0,0,0,0,0,0,0]
["Fire/Ambulance Stations",null,0,238292.44,271413.02,0,0,0,0,0,0]
["Testing Stations",null,0,0,0,0,0,0,0,0,0]
["Museums",null,0,0,0,0,0,0,0,0,0]
["Galleries",null,0,0,0,0,0,0,0,0,0]
["Theatres",null,0,0,0,0,0,0,0,0,0]
["Libraries",null,0,0,0,0,0,0,0,0,0]
["Cemeteries/Crematoria",null,0,0,0,0,0,0,0,0,0]
["Police",null,0,0,0,0,0,0,0,0,0]
["Parks",null,0,0,0,0,0,0,0,0,0]
["Public Open Space",null,0,0,0,0,0,0,0,0,0]
["Nature Reserves",null,0,0,0,0,0,0,0,0,0]
["Public Ablution Facilities",null,0,0,0,0,0,0,0,0,0]
["Markets",null,0,0,0,0,0,0,0,0,0]
["Stalls",null,0,0,0,0,0,0,0,0,0]
["Abattoirs",null,0,0,0,0,0,0,0,0,0]
["Airports",null,0,0,0,0,0,0,0,0,0]
["Taxi Ranks/Bus Terminals",null,0,59683.03,59682.98,0,0,0,0,0,0]
["Capital Spares",null,0,0,0,0,0,0,0,0,0]
["Sport and Recreation Facilities",null,{"$f":"SUM(C99:C101)","v":0},{"$f":"SUM(D99:D101)","v":48.59},48.59,0,0,0,0,0,0]
["Indoor Facilities"]
["Outdoor Facilities",null,0,48.59,48.59,0,0,0,0,0,0]
["Capital Spares"]
[]
["Heritage assets",null,{"$f":"SUM(C104:C108)","v":0},{"$f":"SUM(D104:D108)","v":0},0,0,0,0,0,0,0]
["Monuments"]
["Historic Buildings"]
["Works of Art"]
["Conservation Areas"]
["Other Heritage",null,0,0,0,0,0,0,0,0,0]
[]
["Investment properties",null,{"$f":"+C111+C114","v":0},{"$f":"+D111+D114","v":0},0,0,0,0,0,0,0]
["Revenue Generating",null,{"$f":"SUM(C112:C113)","v":0},0,0,0,0,0,0,0,0]
["Improved Property",null,0,0,0,0,0,0,0,0,0]
["Unimproved Property",null,0,0,0,0,0,0,0,0,0]
["Non-revenue Generating",null,{"$f":"SUM(C115:C116)","v":0},{"$f":"SUM(D115:D116)","v":0},0,0,0,0,0,0,0]
["Improved Property"]
["Unimproved Property"]
[]
["Other assets",null,{"$f":"+C119+C131","v":0},{"$f":"+D119+D131","v":152042.97},196876.72,0,0,0,0,0,0]
["Operational Buildings",null,{"$f":"SUM(C120:C130)","v":0},{"$f":"SUM(D120:D130)","v":152042.97},196876.72,0,0,0,0,0,0]
["Municipal Offices",null,0,87848.44,132682.20000000001,0,0,0,0,0,0]
["Pay/Enquiry Points",null,0,0,0,0,0,0,0,0,0]
["Building Plan Offices",null,0,0,0,0,0,0,0,0,0]
["Workshops",null,0,0,0,0,0,0,0,0,0]
["Yards",null,0,0,0,0,0,0,0,0,0]
["Stores",null,0,0,0,0,0,0,0,0,0]
["Laboratories",null,0,0,0,0,0,0,0,0,0]
["Training Centres",null,0,0,0,0,0,0,0,0,0]
["Manufacturing Plant",null,0,0,0,0,0,0,0,0,0]
["Depots",null,0,64194.53,64194.52,0,0,0,0,0,0]
["Capital Spares",null,0,0,0,0,0,0,0,0,0]
["Housing",null,{"$f":"SUM(C132:C134)","v":0},{"$f":"SUM(D132:D134)","v":0},0,0,0,0,0,0,0]
["Staff Housing",null,0,0,0,0,0,0,0,0,0]
["Social Housing",null,0,0,0,0,0,0,0,0,0]
["Capital Spares",null,0,0,0,0,0,0,0,0,0]
[]
["Biological or Cultivated Assets",null,{"$f":"SUM(C137:C137)","v":15101117.119999999},21630741.239999998,-0.24,0,0,0,0,0,0]
["Biological or Cultivated Assets",null,15101117.119999999,21630741.239999998,-0.24,0,0,0,0,0,0]
[]
["Intangible Assets",null,{"$f":"+C140+C141","v":0},{"$f":"+D140+D141","v":0},0,0,0,0,0,0,0]
["Servitudes",null,0,0,0,0,0,0,0,0,0]
["Licences and Rights",null,{"$f":"SUM(C142:C147)","v":0},{"$f":"SUM(D142:D147)","v":0},0,0,0,0,0,0,0]
["Water Rights"]
["Effluent Licenses"]
["Solid Waste Licenses"]
["Computer Software and Applications",null,0,0,0,0,0,0,0,0,0]
["Load Settlement Software Applications"]
["Unspecified",null,0,0,0,0,0,0,0,0,0]
[]
["Computer Equipment",null,{"$f":"SUM(C150:C150)","v":1394412.5},1809447.31,2707061.97,0,40000,40000,270000,365400,381843]
["Computer Equipment",null,1394412.5,1809447.31,2707061.97,0,40000,40000,270000,365400,381843]
[]
["Furniture and Office Equipment",null,{"$f":"SUM(C153:C153)","v":1141691.52},1081970.3899999999,1084035.9099999999,0,0,0,0,0,0]
["Furniture and Office Equipment",null,1141691.52,1081970.3899999999,1084035.9099999999,0,0,0,0,0,0]
[]
["Machinery and Equipment",null,{"$f":"SUM(C156:C156)","v":557471.94999999995},694618.27,1099729.17,0,0,0,0,0,0]
["Machinery and Equipment",null,557471.94999999995,694618.27,1099729.17,0,0,0,0,0,0]
[]
["Transport Assets",null,{"$f":"SUM(C159:C159)","v":1242294.25},1868305.34,4932617.55,0,0,0,0,0,0]
["Transport Assets",null,1242294.25,1868305.34,4932617.55,0,0,0,0,0,0]
[]
["Land",null,{"$f":"SUM(C162:C162)","v":0},0,0,0,0,0,0,0,0]
["Land",null,0,0,0,0,0,0,0,0,0]
[]
["Zoo's, Marine and Non-biological Animals",null,{"$f":"SUM(C165:C165)","v":0},0,0,0,0,0,0,0,0]
["Zoo's, Marine and Non-biological Animals",null,0,0,0,0,0,0,0,0,0]
[]
["Total Depreciation",1,{"$f":"C6+C74+C103+C110+C118+C136+C139+C149+C152+C155+C158+C161+C164","v":101039967.95999999},{"$f":"D6+D74+D103+D110+D118+D136+D139+D149+D152+D155+D158+D161+D164","v":122229924.3},94331435.569999978,102514292,102554292,102554292,106884864,111671318,127396528]
[]
[{"$f":"head27a","v":"References"}]
["1. Depreciation based on write down values. Not including Depreciation resulting from revaluation."]
[]
[]
["Check",null,{"$f":"C$167-'A4-FinPerf RE'!C$27","v":0},{"$f":"D$167-'A4-FinPerf RE'!D$27","v":0},{"$f":"E$167-'A4-FinPerf RE'!E$27","v":0},{"$f":"F$167-'A4-FinPerf RE'!F$27","v":0},{"$f":"G$167-'A4-FinPerf RE'!G$27","v":0},{"$f":"H$167-'A4-FinPerf RE'!H$27","v":0},{"$f":"I$167-'A4-FinPerf RE'!J$27","v":0},{"$f":"J$167-'A4-FinPerf RE'!K$27","v":0},{"$f":"K$167-'A4-FinPerf RE'!L$27","v":0}]

{"sheet":"SA34e","index":59,"n_rows":175,"n_cols":11,"rows_kept":175,"cut":false,"hidden":false,"merged":[[1,5,1,7],[1,8,1,10]]}
[{"$f":"muni&\" - \"&TableA34e","v":"DC47 Sekhukhune - Supporting Table SA34e Capital expenditure on the upgrading of existing assets by asset class"}]
[{"$f":"desc","v":"Description"},{"$f":"head27","v":"Ref"},{"$f":"head1b","v":"2018/19"},{"$f":"head1A","v":"2019/20"},{"$f":"Head1","v":"2020/21"},{"$f":"Head2","v":"Current Year 2021/22"},null,null,{"$f":"Head3","v":"2022/23 Medium Term Revenue & Expenditure Framework"}]
["R thousand",1,{"$f":"Head5","v":"Audited Outcome"},{"$f":"Head5","v":"Audited Outcome"},{"$f":"Head5","v":"Audited Outcome"},{"$f":"Head6","v":"Original Budget"},{"$f":"Head7","v":"Adjusted Budget"},{"$f":"Head8","v":"Full Year Forecast"},{"$f":"Head9","v":"Budget Year 2022/23"},{"$f":"Head10","v":"Budget Year +1 2023/24"},{"$f":"Head11","v":"Budget Year +2 2024/25"}]
["Capital expenditure on upgrading of existing assets by Asset Class/Sub-class"]
[]
["Infrastructure",null,{"$f":"C7+C12+C16+C26+C37+C44+C52+C62+C68","v":0},{"$f":"D7+D12+D16+D26+D37+D44+D52+D62+D68","v":11697965.92},4918375.1900000004,2341000,2341000,2341000,2451000,2460000,2549000]
["Roads Infrastructure",null,{"$f":"SUM(C8:C11)","v":0},2091486.09,2008114.78,2341000,2341000,2341000,2451000,2460000,2549000]
["Roads"]
["Road Structures",null,0,2091486.09,2008114.78,2341000,2341000,2341000,2451000,2460000,2549000]
["Road Furniture"]
["Capital Spares"]
["Storm water Infrastructure",null,{"$f":"SUM(C13:C15)","v":0},{"$f":"SUM(D13:D15)","v":0},0,0,0,0,0,0,0]
["Drainage Collection"]
["Storm water Conveyance"]
["Attenuation"]
["Electrical Infrastructure",null,{"$f":"SUM(C17:C25)","v":0},0,0,0,0,0,0,0,0]
["Power Plants"]
["HV Substations"]
["HV Switching Station"]
["HV Transmission Conductors"]
["MV Substations"]
["MV Switching Stations"]
["MV Networks"]
["LV Networks"]
["Capital Spares"]
["Water Supply Infrastructure",null,{"$f":"SUM(C27:C36)","v":0},{"$f":"SUM(D27:D36)","v":9606479.8300000001},2910260.41,0,0,0,0,0,0]
["Dams and Weirs"]
["Boreholes"]
["Reservoirs"]
["Pump Stations"]
["Water Treatment Works",null,0,9606479.8300000001,2910260.41,0,0,0,0,0,0]
["Bulk Mains"]
["Distribution"]
["Distribution Points"]
["PRV Stations"]
["Capital Spares"]
["Sanitation Infrastructure",null,{"$f":"SUM(C38:C43)","v":0},{"$f":"SUM(D38:D43)","v":0},0,0,0,0,0,0,0]
["Pump Station"]
["Reticulation"]
["Waste Water Treatment Works"]
["Outfall Sewers"]
["Toilet Facilities"]
["Capital Spares"]
["Solid Waste Infrastructure",null,{"$f":"SUM(C45:C51)","v":0},{"$f":"SUM(D45:D51)","v":0},0,0,0,0,0,0,0]
["Landfill Sites"]
["Waste Transfer Stations"]
["Waste Processing Facilities"]
["Waste Drop-off Points"]
["Waste Separation Facilities"]
["Electricity Generation Facilities"]
["Capital Spares"]
["Rail Infrastructure",null,{"$f":"SUM(C53:C61)","v":0},0,0,0,0,0,0,0,0]
["Rail Lines"]
["Rail Structures"]
["Rail Furniture"]
["Drainage Collection"]
["Storm water Conveyance"]
["Attenuation"]
["MV Substations"]
["LV Networks"]
["Capital Spares"]
["Coastal Infrastructure",null,{"$f":"SUM(C63:C67)","v":0},{"$f":"SUM(D63:D67)","v":0},0,0,0,0,0,0,0]
["Sand Pumps"]
["Piers"]
["Revetments"]
["Promenades"]
["Capital Spares"]
["Information and Communication Infrastructure",null,{"$f":"SUM(C69:C72)","v":0},{"$f":"SUM(D69:D72)","v":0},0,0,0,0,0,0,0]
["Data Centres"]
["Core Layers"]
["Distribution Layers"]
["Capital Spares"]
[]
["Community Assets",null,{"$f":"C75+C98","v":0},{"$f":"D75+D98","v":0},0,0,0,0,0,0,0]
["Community Facilities",null,{"$f":"SUM(C76:C97)","v":0},{"$f":"SUM(D76:D97)","v":0},0,0,0,0,0,0,0]
["Halls"]
["Centres"]
["Crèches"]
["Clinics/Care Centres"]
["Fire/Ambulance Stations"]
["Testing Stations"]
["Museums"]
["Galleries"]
["Theatres"]
["Libraries"]
["Cemeteries/Crematoria"]
["Police"]
["Parks"]
["Public Open Space"]
["Nature Reserves"]
["Public Ablution Facilities"]
["Markets"]
["Stalls"]
["Abattoirs"]
["Airports"]
["Taxi Ranks/Bus Terminals"]
["Capital Spares"]
["Sport and Recreation Facilities",null,{"$f":"SUM(C99:C101)","v":0},{"$f":"SUM(D99:D101)","v":0},0,0,0,0,0,0,0]
["Indoor Facilities"]
["Outdoor Facilities"]
["Capital Spares"]
[]
["Heritage assets",null,{"$f":"SUM(C104:C108)","v":0},{"$f":"SUM(D104:D108)","v":0},0,0,0,0,0,0,0]
["Monuments"]
["Historic Buildings"]
["Works of Art"]
["Conservation Areas"]
["Other Heritage"]
[]
["Investment properties",null,{"$f":"+C111+C114","v":0},{"$f":"+D111+D114","v":0},0,0,0,0,0,0,0]
["Revenue Generating",null,{"$f":"SUM(C112:C113)","v":0},0,0,0,0,0,0,0,0]
["Improved Property"]
["Unimproved Property"]
["Non-revenue Generating",null,{"$f":"SUM(C115:C116)","v":0},{"$f":"SUM(D115:D116)","v":0},0,0,0,0,0,0,0]
["Improved Property"]
["Unimproved Property"]
[]
["Other assets",null,{"$f":"+C119+C131","v":0},{"$f":"+D119+D131","v":0},0,0,200000,200000,0,0,0]
["Operational Buildings",null,{"$f":"SUM(C120:C130)","v":0},{"$f":"SUM(D120:D130)","v":0},0,0,200000,200000,0,0,0]
["Municipal Offices"]
["Pay/Enquiry Points"]
["Building Plan Offices"]
["Workshops"]
["Yards"]
["Stores",null,0,0,0,0,200000,200000,0,0,0]
["Laboratories"]
["Training Centres"]
["Manufacturing Plant"]
["Depots"]
["Capital Spares"]
["Housing",null,{"$f":"SUM(C132:C134)","v":0},{"$f":"SUM(D132:D134)","v":0},0,0,0,0,0,0,0]
["Staff Housing"]
["Social Housing"]
["Capital Spares"]
[]
["Biological or Cultivated Assets",null,{"$f":"SUM(C137:C137)","v":0},0,0,0,0,0,0,0,0]
["Biological or Cultivated Assets"]
[]
["Intangible Assets",null,{"$f":"+C140+C141","v":0},{"$f":"+D140+D141","v":0},0,0,0,0,0,0,0]
["Servitudes"]
["Licences and Rights",null,{"$f":"SUM(C142:C147)","v":0},{"$f":"SUM(D142:D147)","v":0},0,0,0,0,0,0,0]
["Water Rights"]
["Effluent Licenses"]
["Solid Waste Licenses"]
["Computer Software and Applications"]
["Load Settlement Software Applications"]
["Unspecified"]
[]
["Computer Equipment",null,{"$f":"SUM(C150:C150)","v":0},0,0,0,0,0,0,0,0]
["Computer Equipment"]
[]
["Furniture and Office Equipment",null,{"$f":"SUM(C153:C153)","v":0},0,0,0,0,0,0,0,0]
["Furniture and Office Equipment"]
[]
["Machinery and Equipment",null,{"$f":"SUM(C156:C156)","v":0},0,0,0,0,0,0,0,0]
["Machinery and Equipment"]
[]
["Transport Assets",null,{"$f":"SUM(C159:C159)","v":0},0,0,0,0,0,0,0,0]
["Transport Assets"]
[]
["Land",null,{"$f":"SUM(C162:C162)","v":0},0,0,0,0,0,0,0,0]
["Land"]
[]
["Zoo's, Marine and Non-biological Animals",null,{"$f":"SUM(C165:C165)","v":0},0,0,0,0,0,0,0,0]
["Zoo's, Marine and Non-biological Animals"]
[]
["Total Capital Expenditure on upgrading of existing assets ",1,{"$f":"C6+C74+C103+C110+C118+C136+C139+C149+C152+C155+C158+C161+C164","v":0},{"$f":"D6+D74+D103+D110+D118+D136+D139+D149+D152+D155+D158+D161+D164","v":11697965.92},4918375.1900000004,2341000,2541000,2541000,2451000,2460000,2549000]
[]
["Upgrading of Existing Assets as % of total capex",null,{"$f":"IF(ISERROR(C167/'A9-Asset'!C67),0,(C167/'A9-Asset'!C67))","v":0},{"$f":"IF(ISERROR(D167/'A9-Asset'!D132),0,(D167/'A9-Asset'!D132))","v":2.9979556489020578E-2},{"$f":"IF(ISERROR(E167/'A9-Asset'!E132),0,(E167/'A9-Asset'!E132))","v":1.1450409732048698E-2},{"$f":"IF(ISERROR(F167/'A9-Asset'!F132),0,(F167/'A9-Asset'!F132))","v":5.5212133933646382E-3},{"$f":"IF(ISERROR(G167/'A9-Asset'!G132),0,(G167/'A9-Asset'!G132))","v":6.3940982769835203E-3},{"$f":"IF(ISERROR(H167/'A9-Asset'!H132),0,(H167/'A9-Asset'!H132))","v":6.3940982769835203E-3},{"$f":"IF(ISERROR(I167/'A9-Asset'!I132),0,(I167/'A9-Asset'!I132))","v":5.0101548029290975E-3},{"$f":"IF(ISERROR(J167/'A9-Asset'!J132),0,(J167/'A9-Asset'!J132))","v":4.8073772839268098E-3},{"$f":"IF(ISERROR(K167/'A9-Asset'!K132),0,(K167/'A9-Asset'!K132))","v":4.8985766048951036E-3}]
["Upgrading of Existing Assets as % of deprecn\"",null,{"$f":"IF(ISERROR(C167/'A9-Asset'!C168),0,(C167/'A9-Asset'!C168))","v":0},{"$f":"IF(ISERROR(D167/'A9-Asset'!D168),0,(D167/'A9-Asset'!D168))","v":9.5704599237815283E-2},{"$f":"IF(ISERROR(E167/'A9-Asset'!E168),0,(E167/'A9-Asset'!E168))","v":5.2139301816839734E-2},{"$f":"IF(ISERROR(F167/'A9-Asset'!F168),0,(F167/'A9-Asset'!F168))","v":2.283584029434647E-2},{"$f":"IF(ISERROR(G167/'A9-Asset'!G168),0,(G167/'A9-Asset'!G168))","v":2.477712000585992E-2},{"$f":"IF(ISERROR(H167/'A9-Asset'!H168),0,(H167/'A9-Asset'!H168))","v":2.477712000585992E-2},{"$f":"IF(ISERROR(I167/'A9-Asset'!I168),0,(I167/'A9-Asset'!I168))","v":2.2931216902703829E-2},{"$f":"IF(ISERROR(J167/'A9-Asset'!J168),0,(J167/'A9-Asset'!J168))","v":2.2028933159005074E-2},{"$f":"IF(ISERROR(K167/'A9-Asset'!K168),0,(K167/'A9-Asset'!K168))","v":2.0008394577283928E-2}]
[{"$f":"head27a","v":"References"}]
["1.  Total Capital Expenditure  on upgrading of existing assets (SA34e) plus Total Capital Expenditure on new assets (SA34a)  plus Total Capital Expenditure  on renewal of existing assets (SA34b) must reconcile to total capital expenditure in Budgeted Capital Expenditure"]
[]
[]
["check balance",null,{"$f":"SUM(C167+SA34a!C167++SA34b!C167)-'A5-Capex'!C40","v":0},{"$f":"SUM(D167+SA34a!D167++SA34b!D167)-'A5-Capex'!D40","v":0},{"$f":"SUM(E167+SA34a!E167++SA34b!E167)-'A5-Capex'!E40","v":0},{"$f":"SUM(F167+SA34a!F167++SA34b!F167)-'A5-Capex'!F40","v":0},{"$f":"SUM(G167+SA34a!G167++SA34b!G167)-'A5-Capex'!G40","v":0},{"$f":"SUM(H167+SA34a!H167++SA34b!H167)-'A5-Capex'!H40","v":0},{"$f":"SUM(I167+SA34a!I167++SA34b!I167)-'A5-Capex'!J40","v":0},{"$f":"SUM(J167+SA34a!J167++SA34b!J167)-'A5-Capex'!K40","v":0},{"$f":"SUM(K167+SA34a!K167++SA34b!K167)-'A5-Capex'!L40","v":0}]

{"sheet":"SA35","index":60,"n_rows":59,"n_cols":9,"rows_kept":59,"cut":false,"hidden":false,"merged":[[1,5,1,8],[1,2,1,4]]}
[{"$f":"muni&\" - \"&TableA35","v":"DC47 Sekhukhune - Supporting Table SA35 Future financial implications of the capital budget"}]
[{"$f":"Vdesc","v":"Vote Description"},{"$f":"head27","v":"Ref"},{"$f":"Head3","v":"2022/23 Medium Term Revenue & Expenditure Framework"},null,null,"Forecasts"]
["R thousand",null,{"$f":"Head9","v":"Budget Year 2022/23"},{"$f":"Head10","v":"Budget Year +1 2023/24"},{"$f":"Head11","v":"Budget Year +2 2024/25"},{"$f":"Head12","v":"Forecast 2025/26"},{"$f":"Head13","v":"Forecast 2026/27"},{"$f":"Head14","v":"Forecast 2027/28"},{"$f":"Head48","v":"Present value"}]
["Capital expenditure",1]
[{"$f":"'A5-Capex'!A6","v":"Vote 01 - Speakers Office"},null,{"$f":"'A5-Capex'!J6+'A5-Capex'!J24","v":0},{"$f":"'A5-Capex'!K6+'A5-Capex'!K24","v":0},{"$f":"'A5-Capex'!L6+'A5-Capex'!L24","v":0},0,0,0,0]
[{"$f":"'A5-Capex'!A7","v":"Vote 02 - Executive Mayor's Office"},null,{"$f":"'A5-Capex'!J7+'A5-Capex'!J25","v":0},{"$f":"'A5-Capex'!K7+'A5-Capex'!K25","v":0},{"$f":"'A5-Capex'!L7+'A5-Capex'!L25","v":0},0,0,0,0]
[{"$f":"'A5-Capex'!A8","v":"Vote 03 - Municipal Manager  Office"},null,{"$f":"'A5-Capex'!J8+'A5-Capex'!J26","v":0},{"$f":"'A5-Capex'!K8+'A5-Capex'!K26","v":0},{"$f":"'A5-Capex'!L8+'A5-Capex'!L26","v":0},0,0,0,0]
[{"$f":"'A5-Capex'!A9","v":"Vote 04 - Budget And Treasury"},null,{"$f":"'A5-Capex'!J9+'A5-Capex'!J27","v":0},{"$f":"'A5-Capex'!K9+'A5-Capex'!K27","v":0},{"$f":"'A5-Capex'!L9+'A5-Capex'!L27","v":0},0,0,0,0]
[{"$f":"'A5-Capex'!A10","v":"Vote 05 - Infrustracture And Water Services"},null,{"$f":"'A5-Capex'!J10+'A5-Capex'!J28","v":488656441},{"$f":"'A5-Capex'!K10+'A5-Capex'!K28","v":511713530},{"$f":"'A5-Capex'!L10+'A5-Capex'!L28","v":520355239},0,0,0,0]
[{"$f":"'A5-Capex'!A11","v":"Vote 06 - Planning And Economic Development"},null,{"$f":"'A5-Capex'!J11+'A5-Capex'!J29","v":0},{"$f":"'A5-Capex'!K11+'A5-Capex'!K29","v":0},{"$f":"'A5-Capex'!L11+'A5-Capex'!L29","v":0},0,0,0,0]
[{"$f":"'A5-Capex'!A12","v":"Vote 07 - Community Services"},null,{"$f":"'A5-Capex'!J12+'A5-Capex'!J30","v":0},{"$f":"'A5-Capex'!K12+'A5-Capex'!K30","v":0},{"$f":"'A5-Capex'!L12+'A5-Capex'!L30","v":0},0,0,0,0]
[{"$f":"'A5-Capex'!A13","v":"Vote 08 - Sekhukhune Development Angancy"},null,{"$f":"'A5-Capex'!J13+'A5-Capex'!J31","v":550000},{"$f":"'A5-Capex'!K13+'A5-Capex'!K31","v":0},{"$f":"'A5-Capex'!L13+'A5-Capex'!L31","v":0},0,0,0,0]
[{"$f":"'A5-Capex'!A14","v":"Vote 09 - Corporate Services"},null,{"$f":"'A5-Capex'!J14+'A5-Capex'!J32","v":0},{"$f":"'A5-Capex'!K14+'A5-Capex'!K32","v":0},{"$f":"'A5-Capex'!L14+'A5-Capex'!L32","v":0},0,0,0,0]
[{"$f":"'A5-Capex'!A15","v":"Vote 10 - "},null,{"$f":"'A5-Capex'!J15+'A5-Capex'!J33","v":0},{"$f":"'A5-Capex'!K15+'A5-Capex'!K33","v":0},{"$f":"'A5-Capex'!L15+'A5-Capex'!L33","v":0},0,0,0,0]
[{"$f":"'A5-Capex'!A16","v":"Vote 11 - "},null,{"$f":"'A5-Capex'!J16+'A5-Capex'!J34","v":0},{"$f":"'A5-Capex'!K16+'A5-Capex'!K34","v":0},{"$f":"'A5-Capex'!L16+'A5-Capex'!L34","v":0},0,0,0,0]
[{"$f":"'A5-Capex'!A17","v":"Vote 12 - "},null,{"$f":"'A5-Capex'!J17+'A5-Capex'!J35","v":0},{"$f":"'A5-Capex'!K17+'A5-Capex'!K35","v":0},{"$f":"'A5-Capex'!L17+'A5-Capex'!L35","v":0},0,0,0,0]
[{"$f":"'A5-Capex'!A18","v":"Vote 13 - "},null,{"$f":"'A5-Capex'!J18+'A5-Capex'!J36","v":0},{"$f":"'A5-Capex'!K18+'A5-Capex'!K36","v":0},{"$f":"'A5-Capex'!L18+'A5-Capex'!L36","v":0},0,0,0,0]
[{"$f":"'A5-Capex'!A19","v":"Vote 14 - "},null,{"$f":"'A5-Capex'!J19+'A5-Capex'!J37","v":0},{"$f":"'A5-Capex'!K19+'A5-Capex'!K37","v":0},{"$f":"'A5-Capex'!L19+'A5-Capex'!L37","v":0},0,0,0,0]
[{"$f":"'A5-Capex'!A20","v":"Vote 15 - Other"},null,{"$f":"'A5-Capex'!J20+'A5-Capex'!J38","v":0},{"$f":"'A5-Capex'!K20+'A5-Capex'!K38","v":0},{"$f":"'A5-Capex'!L20+'A5-Capex'!L38","v":0},0,0,0,0]
["List entity summary if applicable"]
["Total Capital Expenditure ",null,{"$f":"SUM(C5:C20)","v":489206441},{"$f":"SUM(D5:D20)","v":511713530},520355239,0,0,0,0]
[]
["Future operational costs by vote",2]
[{"$f":"'A5-Capex'!A6","v":"Vote 01 - Speakers Office"}]
[{"$f":"'A5-Capex'!A7","v":"Vote 02 - Executive Mayor's Office"}]
[{"$f":"'A5-Capex'!A8","v":"Vote 03 - Municipal Manager  Office"}]
[{"$f":"'A5-Capex'!A9","v":"Vote 04 - Budget And Treasury"}]
[{"$f":"'A5-Capex'!A10","v":"Vote 05 - Infrustracture And Water Services"}]
[{"$f":"'A5-Capex'!A11","v":"Vote 06 - Planning And Economic Development"}]
[{"$f":"'A5-Capex'!A12","v":"Vote 07 - Community Services"}]
[{"$f":"'A5-Capex'!A13","v":"Vote 08 - Sekhukhune Development Angancy"}]
[{"$f":"'A5-Capex'!A14","v":"Vote 09 - Corporate Services"}]
[{"$f":"'A5-Capex'!A15","v":"Vote 10 - "}]
[{"$f":"'A5-Capex'!A16","v":"Vote 11 - "}]
[{"$f":"'A5-Capex'!A17","v":"Vote 12 - "}]
[{"$f":"'A5-Capex'!A18","v":"Vote 13 - "}]
[{"$f":"'A5-Capex'!A19","v":"Vote 14 - "}]
[{"$f":"'A5-Capex'!A20","v":"Vote 15 - Other"}]
["List entity summary if applicable"]
["Total future operational costs",null,{"$f":"SUM(C24:C39)","v":0},{"$f":"SUM(D24:D39)","v":0},0,0,0,0,0]
[]
["Future revenue by source",3]
[{"$f":"'A4-FinPerf RE'!A5","v":"Property rates"}]
[{"$f":"'A4-FinPerf RE'!A6","v":"Service charges - electricity revenue"}]
[{"$f":"'A4-FinPerf RE'!A7","v":"Service charges - water revenue"}]
[{"$f":"'A4-FinPerf RE'!A8","v":"Service charges - sanitation revenue"}]
[{"$f":"'A4-FinPerf RE'!A9","v":"Service charges - refuse revenue"}]
[]
[{"$f":"'A4-FinPerf RE'!A11","v":"Rental of facilities and equipment"}]
["List other revenues sources if applicable"]
["List entity summary if applicable"]
["Total future revenue",null,{"$f":"SUM(C43:C47)+SUM(C49:C51)","v":0},{"$f":"SUM(D43:D47)+SUM(D49:D51)","v":0},0,0,0,0,0]
["Net Financial Implications",null,{"$f":"C21+C40-C52","v":489206441},511713530,520355239,0,0,0,0]
[{"$f":"head27a","v":"References"}]
["1. Summarise the total capital cost until capital project is operational (MFMA s19(2)(a))"]
["2. Summary of future operational costs from when projects operational (present value until the end of each asset's useful life) (MFMA s19(2)(b))"]
["3. Summarise the future revenue from when projects are operational, including municipal tax and tariff implications, (present value until the end of asset's useful life)"]
[]
["check",null,{"$f":"C21-('A5-Capex'!J21+'A5-Capex'!J39)","v":0},{"$f":"D21-('A5-Capex'!K21+'A5-Capex'!K39)","v":0},{"$f":"E21-('A5-Capex'!L21+'A5-Capex'!L39)","v":0}]

{"sheet":"SA36","index":61,"n_rows":94,"n_cols":17,"rows_kept":94,"cut":false,"hidden":false,"merged":[[1,12,1,13],[1,14,1,16]]}
[{"$f":"muni&\" - \"&TableA36","v":"DC47 Sekhukhune - Supporting Table SA36 Detailed capital budget"}]
["R thousand",null,null,null,null,null,null,null,null,null,null,null,null,null,{"$f":"Head3","v":"2022/23 Medium Term Revenue & Expenditure Framework"}]
["Function","Project Description","Project Number","Type","MTSF Service Outcome","IUDF","Own Strategic Objectives","Asset Class","Asset Sub-Class","Ward Location","GPS Longitude","GPS Lattitude",{"$f":"Head5&\"    \"&Head1","v":"Audited Outcome    2020/21"},{"$f":"Head2 & \"        \"&Head8","v":"Current Year 2021/22        Full Year Forecast"},{"$f":"Head9","v":"Budget Year 2022/23"},{"$f":"Head10","v":"Budget Year +1 2023/24"},{"$f":"Head11","v":"Budget Year +2 2024/25"}]
["Parent municipality:"]
["List all capital projects grouped by Function"]
[]
["Administrative And Corporate Support","Purchase Of Office","PC001002004007_00018","NEW","An efficient; competitive and responsive economic infrastructure network","Growth",null,"Water Supply Infrastructure","Distribution","R-WHOLE OF THE DISTRICT",0,0,0,200000,0,0,0]
["Finance","Office Equipment","PC002003005_00002","NEW","An efficient; effective and development-oriented public service","Growth",null,"Furniture And Office Equipment","Furniture And Office Equipment","R-WHOLE OF THE DISTRICT",0,0,0,600000,0,0,0]
["Finance","Scanners","PC002003005_00003","NEW","An efficient; effective and development-oriented public service","Growth",null,"Furniture And Office Equipment","Furniture And Office Equipment","R-WHOLE OF THE DISTRICT",0,0,0,200000,0,0,0]
["Finance","Storage Room (Warehouse)","PC002002002003001006_00001","UPGRADING","An efficient; effective and development-oriented public service","Governance",null,"Operational Buildings","Stores","R-ADMIN OR HEAD OFFICE",0,0,0,200000,0,0,0]
["Mayor And Council","Cameras","PC002003004_00004","NEW","An efficient; effective and development-oriented public service","Growth",null,"Computer Equipment","Computer Equipment","R-ADMIN OR HEAD OFFICE",0,0,0,530000,0,0,0]
["Support To Local Municipalities","Computer","PC002003004_00002","NEW","An efficient; effective and development-oriented public service","Growth",null,"Computer Equipment","Computer Equipment","R-WHOLE OF THE DISTRICT",0,0,0,0,300000,0,0]
["Support To Local Municipalities","Office Equipment","PC002003005_00002","NEW","An efficient; effective and development-oriented public service","Growth",null,"Furniture And Office Equipment","Furniture And Office Equipment","R-WHOLE OF THE DISTRICT",0,0,0,0,250000,0,0]
["Water Distribution","Wa At C - Boreholes: Acquisition","PC001001001004002_00003","RENEWAL","An efficient; competitive and responsive economic infrastructure network","Inclusion and Access",null,"Water Supply Infrastructure","Boreholes","R-GREATER TUBATSE/FETAKG",0,0,6133898.5800000001,0,0,0,0]
["Water Distribution","Wsig Tukakgomo Rdp Section Borehole","PC001001001004002_00013","RENEWAL","An efficient; competitive and responsive economic infrastructure network","Inclusion and Access",null,"Water Supply Infrastructure","Boreholes","R-WHOLE OF THE DISTRICT",0,0,4272493.26,0,0,0,0]
["Water Distribution","Covid-19 Nebo Ga Malekana To Jane Furse","PC001001001004005_00001","RENEWAL","An efficient; competitive and responsive economic infrastructure network","Inclusion and Access",null,"Water Supply Infrastructure","Water Treatment Works","R-WHOLE OF THE DISTRICT",0,0,-851740,0,0,0,0]
["Water Distribution","Mig-Nsd07 Region Water Schm Reserv","PC001001001004005_00013","RENEWAL","An efficient; competitive and responsive economic infrastructure network","Inclusion and Access",null,"Water Supply Infrastructure","Water Treatment Works","R-WHOLE OF THE DISTRICT",0,0,47256349.729999997,19121865,4042603,0,0]
["Water Distribution","Rbig-Emlm Moutse Bws-Pr7-12;13 & 14","PC001001001004005_00009","RENEWAL","An efficient; competitive and responsive economic infrastructure network","Inclusion and Access",null,"Water Supply Infrastructure","Water Treatment Works","R-WHOLE OF THE DISTRICT",0,0,616524.54,0,0,0,0]
["Water Distribution","Rbig-Gtml Ph4f Bulk","PC001001001004005_00004","RENEWAL","An efficient; competitive and responsive economic infrastructure network","Inclusion and Access",null,"Water Supply Infrastructure","Water Treatment Works","R-WHOLE OF THE DISTRICT",0,0,3846360.51,0,0,0,0]
["Water Distribution","Rbig-Gtml Phase 4e Bulk","PC001001001004005_00003","RENEWAL","An efficient; competitive and responsive economic infrastructure network","Inclusion and Access",null,"Water Supply Infrastructure","Water Treatment Works","R-WHOLE OF THE DISTRICT",0,0,2246782.8199999998,0,0,0,0]
["Water Distribution","Rbig-Gtml Phase 4g Bulk","PC001001001004005_00005","RENEWAL","An efficient; competitive and responsive economic infrastructure network","Inclusion and Access",null,"Water Supply Infrastructure","Water Treatment Works","R-WHOLE OF THE DISTRICT",0,0,35186548.390000001,0,0,0,0]
["Water Distribution","Rbig-Mklm Nebo Bws Makgeru To Schoonoor","PC001001001004005_00007","RENEWAL","An efficient; competitive and responsive economic infrastructure network","Inclusion and Access",null,"Water Supply Infrastructure","Water Treatment Works","R-WHOLE OF THE DISTRICT",0,0,16288444.32,0,0,0,0]
["Water Distribution","Wsig- Phiring Water Intervention Ph2","PC001001001004007_00002","RENEWAL","An efficient; competitive and responsive economic infrastructure network","Inclusion and Access",null,"Water Supply Infrastructure","Distribution","R-WHOLE OF THE DISTRICT",0,0,461911.17,1100000,0,0,0]
["Water Distribution","Water Reticulation Project","PC001001002004005_00001","UPGRADING","An efficient; competitive and responsive economic infrastructure network","Inclusion and Access",null,"Water Supply Infrastructure","Water Treatment Works","R-WHOLE OF THE DISTRICT",0,0,424745.01,0,0,0,0]
["Water Distribution","Wsig: Janefurse Rdp Package Plant","PC001001002004005_00002","UPGRADING","An efficient; competitive and responsive economic infrastructure network","Inclusion and Access",null,"Water Supply Infrastructure","Water Treatment Works","R-WHOLE OF THE DISTRICT",0,0,2485515.4,0,0,0,0]
["Water Distribution","Rrams Capital Acquisition","PC001001002006002_00001","UPGRADING","An efficient; competitive and responsive economic infrastructure network","Inclusion and Access",null,"Roads Infrastructure","Road Structures","R-ELIAS MOTSOALEDI",0,0,2008114.78,2341000,2451000,2460000,2549000]
["Water Distribution","Mig Nkadimeng Rws Ext 2( Ph 9-11)ftl","PC001002004006_00002","NEW","An efficient; competitive and responsive economic infrastructure network","Growth",null,"Water Supply Infrastructure","Bulk Mains","R-WHOLE OF THE DISTRICT",0,0,0,0,1600000,0,0]
["Water Distribution","Nkadimeng Phase5-10 (Ph 9c1)","PC001002004006_00003","NEW","An efficient; competitive and responsive economic infrastructure network","Growth",null,"Water Supply Infrastructure","Bulk Mains","R-EMPRAM MOGALE",0,0,0,0,400000,0,0]
["Water Distribution","Covid-19 Borehole Motetema Booster Pumps","PC001002004007_00039","NEW","An efficient; competitive and responsive economic infrastructure network","Growth",null,"Water Supply Infrastructure","Distribution","R-WHOLE OF THE DISTRICT",0,0,851740,0,0,0,0]
["Water Distribution","Covid-19 Equipment","PC001002004007_00054","NEW","An efficient; competitive and responsive economic infrastructure network","Growth",null,"Water Supply Infrastructure","Distribution","R-WHOLE OF THE DISTRICT",0,0,434221.25,0,0,0,0]
["Water Distribution","Covid-19 Mig - Covid 19 Projects","PC001002004007_00014","NEW","An efficient; competitive and responsive economic infrastructure network","Growth",null,"Water Supply Infrastructure","Distribution","R-WHOLE OF THE DISTRICT",0,0,2097212.6800000002,27284034,0,0,0]
["Water Distribution","Dehoop/Nebo Pla/Schonord Sch Vilgs Mkger","PC001002004007_00044","NEW","An efficient; competitive and responsive economic infrastructure network","Growth",null,"Water Supply Infrastructure","Distribution","R-WHOLE OF THE DISTRICT",0,0,8923662.1199999992,105472953,13554104,0,0]
["Water Distribution","Ga Maphopha Command Res","PC001002004007_00020","NEW","An efficient; competitive and responsive economic infrastructure network","Growth",null,"Water Supply Infrastructure","Distribution","R-GREATER TUBATSE/FETAKG",0,0,0,2700000,4000000,0,0]
["Water Distribution","Mig - Mampuru Bulk Water Scheme","PC001002004007_00056","NEW","An efficient; competitive and responsive economic infrastructure network","Growth",null,"Water Supply Infrastructure","Distribution","R-WHOLE OF THE DISTRICT",0,0,0,0,0,157404551,179038659]
["Water Distribution","Mig - Upgrading Of De Hoop Wtw","PC001002004007_00053","NEW","An efficient; competitive and responsive economic infrastructure network","Growth",null,"Water Supply Infrastructure","Distribution","R-WHOLE OF THE DISTRICT",0,0,0,0,90000000,31234088,0]
["Water Distribution","Mig - Upgrading Of Groblersdal-Luckau P1","PC001002004007_00054","NEW","An efficient; competitive and responsive economic infrastructure network","Growth",null,"Water Supply Infrastructure","Distribution","R-WHOLE OF THE DISTRICT",0,0,0,0,114702546,125654106,100000000]
["Water Distribution","Mig - Upgrading Of Groblersdal-Luckau P2","PC001002004007_00055","NEW","An efficient; competitive and responsive economic infrastructure network","Growth",null,"Water Supply Infrastructure","Distribution","R-WHOLE OF THE DISTRICT",0,0,0,0,0,0,73093790]
["Water Distribution","Mig Motlailana; Makgemeng & Taung Ws","PC001002004007_00024","NEW","An efficient; competitive and responsive economic infrastructure network","Growth",null,"Water Supply Infrastructure","Distribution","R-WHOLE OF THE DISTRICT",0,0,3773952.95,29409971,11314944,0,0]
["Water Distribution","Mig Zaaiplaas Village Reticul Phase - Co","PC001002004007_00019","NEW","An efficient; competitive and responsive economic infrastructure network","Growth",null,"Water Supply Infrastructure","Distribution","R-WHOLE OF THE DISTRICT",0,0,949528.66,8000000,16000000,0,0]
["Water Distribution","Mig- Mklm Ga-Mashabela Water Reticulat","PC001002004007_00040","NEW","An efficient; competitive and responsive economic infrastructure network","Growth",null,"Water Supply Infrastructure","Distribution","R-WHOLE OF THE DISTRICT",0,0,0,0,1500000,0,0]
["Water Distribution","Mig- Moutse East & West Water Retic","PC001002004007_00057","NEW","An efficient; competitive and responsive economic infrastructure network","Growth",null,"Water Supply Infrastructure","Distribution","R-WHOLE OF THE DISTRICT",0,0,0,0,37211212,114929265,157404551]
["Water Distribution","Mig-Gamogashwa(Sengapudi) & (Manamane)","PC001002004007_00043","NEW","An efficient; competitive and responsive economic infrastructure network","Growth",null,"Water Supply Infrastructure","Distribution","R-WHOLE OF THE DISTRICT",0,0,57398886.979999997,4762404,0,0,0]
["Water Distribution","Mig-Gtlm Ga-Malekane","PC001002004007_00001","NEW","An efficient; competitive and responsive economic infrastructure network","Growth",null,"Water Supply Infrastructure","Distribution","R-GREATER TUBATSE/FETAKG",0,0,1001770.85,400000,0,0,0]
["Water Distribution","Mig-Gtlm Lebalelo South Conn Pipes&Retic","PC001002004007_00042","NEW","An efficient; competitive and responsive economic infrastructure network","Growth",null,"Water Supply Infrastructure","Distribution","R-WHOLE OF THE DISTRICT",0,0,42234888.600000001,37748439,0,0,0]
["Water Distribution","Mig-Lebalelo South Ph3maroga & Motlolo","PC001002004007_00046","NEW","An efficient; competitive and responsive economic infrastructure network","Growth",null,"Water Supply Infrastructure","Distribution","R-WHOLE OF THE DISTRICT",0,0,61901012.780000001,76801860,67246489,0,0]
["Water Distribution","Mig-Malekana Wtw","PC001002004007_00007","NEW","An efficient; competitive and responsive economic infrastructure network","Growth",null,"Water Supply Infrastructure","Distribution","R-WHOLE OF THE DISTRICT",0,0,0,0,0,0,0]
["Water Distribution","Mig-Malekane Regional Water Scheme","PC001002004007_00045","NEW","An efficient; competitive and responsive economic infrastructure network","Growth",null,"Water Supply Infrastructure","Distribution","R-WHOLE OF THE DISTRICT",0,0,81973924.989999995,67458474,120553543,70000000,0]
["Water Distribution","Mig-Mampuru","PC001002004007_00008","NEW","An efficient; competitive and responsive economic infrastructure network","Growth",null,"Water Supply Infrastructure","Distribution","R-WHOLE OF THE DISTRICT",0,0,0,0,0,0,0]
["Water Distribution","Mig-Mklm Ga-Marishane Water Reticulation","PC001002004007_00041","NEW","An efficient; competitive and responsive economic infrastructure network","Growth",null,"Water Supply Infrastructure","Distribution","R-WHOLE OF THE DISTRICT",0,0,5795309.6299999999,0,0,0,0]
["Water Distribution","Olifantspoort South Rws","PC001002004007_00058","NEW","An efficient; competitive and responsive economic infrastructure network","Growth",null,"Water Supply Infrastructure","Distribution","R-WHOLE OF THE DISTRICT",0,0,0,0,500000,0,0]
["Water Distribution","Purchase Of Office","PC001002004007_00018","NEW","An efficient; competitive and responsive economic infrastructure network","Growth",null,"Water Supply Infrastructure","Distribution","R-WHOLE OF THE DISTRICT",0,0,0,2200000,0,1000000,0]
["Water Distribution","Sdm-Capital Replacement Reserve","PC001002004007_00037","NEW","An efficient; competitive and responsive economic infrastructure network","Growth",null,"Water Supply Infrastructure","Distribution","R-WHOLE OF THE DISTRICT",0,0,380000,0,0,0,0]
["Water Distribution","Sdm-Ems","PC001002004007_00029","NEW","An efficient; competitive and responsive economic infrastructure network","Growth",null,"Water Supply Infrastructure","Distribution","R-WHOLE OF THE DISTRICT",0,0,15822.01,130000,0,0,0]
["Water Distribution","Sdm-O&M Management Plan","PC001002004007_00033","NEW","An efficient; competitive and responsive economic infrastructure network","Growth",null,"Water Supply Infrastructure","Distribution","R-WHOLE OF THE DISTRICT",0,0,151820.43,0,0,0,0]
["Water Distribution","Settlement Of Vehicles","PC001002004007_00040","NEW","An efficient; competitive and responsive economic infrastructure network","Growth",null,"Water Supply Infrastructure","Distribution","R-ADMIN OR HEAD OFFICE",0,0,5642474.4299999997,0,0,0,0]
["Water Distribution","Wsig Flag Boshielo Water Consev & Wdm","PC001002004007_00013","NEW","An efficient; competitive and responsive economic infrastructure network","Growth",null,"Water Supply Infrastructure","Distribution","R-WHOLE OF THE DISTRICT",0,0,582794.42000000004,3700000,0,0,0]
["Water Distribution","Wsig Uitspanning Water Source Developmen","PC001002004007_00012","NEW","An efficient; competitive and responsive economic infrastructure network","Growth",null,"Water Supply Infrastructure","Distribution","R-WHOLE OF THE DISTRICT",0,0,4177712.72,0,0,0,0]
["Water Distribution","Wsig:Magoroane Water Supply","PC001002004007_00052","NEW","An efficient; competitive and responsive economic infrastructure network","Growth",null,"Water Supply Infrastructure","Distribution","R-WHOLE OF THE DISTRICT",0,0,5264737.05,0,0,0,0]
["Water Distribution","Wsig:Rutseng Water Intervention","PC001002004007_00038","NEW","An efficient; competitive and responsive economic infrastructure network","Growth",null,"Water Supply Infrastructure","Distribution","R-WHOLE OF THE DISTRICT",0,0,4238155.7699999996,0,0,0,0]
["Water Distribution","Zaaiplaas Village Tret- Technical Report","PC001002004007_00059","NEW","An efficient; competitive and responsive economic infrastructure network","Growth",null,"Water Supply Infrastructure","Distribution","R-WHOLE OF THE DISTRICT",0,0,0,0,500000,0,0]
["Water Distribution","Mig-Em Rossenekal Wwtw","PC001002005001_00003","NEW","An efficient; competitive and responsive economic infrastructure network","Growth",null,"Sanitation Infrastructure","Pump Station","R-WHOLE OF THE DISTRICT",0,0,62267.06,500000,0,0,0]
["Water Distribution","Sdm Council Chamber","PC002002001005_00001","RENEWAL","An efficient; effective and development-oriented public service","Governance",null,"Furniture And Office Equipment","Furniture And Office Equipment","R-WHOLE OF THE DISTRICT",0,0,-615840.55000000005,0,0,0,0]
["Water Distribution","Cherry Picker","PC002002001010_00001","RENEWAL",null,"Governance",null,"Transport Assets","Transport Assets","R-ADMIN OR HEAD OFFICE",0,0,0,0,0,260000,500000]
["Water Distribution","Crane Truck","PC002002001010_00002","RENEWAL",null,"Governance",null,"Transport Assets","Transport Assets","R-ADMIN OR HEAD OFFICE",0,0,0,0,0,1700000,1100000]
["Water Distribution","Moutse Water Tanker","PC002002001010_00002","RENEWAL",null,"Governance",null,"Transport Assets","Transport Assets","R-WHOLE OF THE DISTRICT",0,0,21980000,0,0,0,0]
["Water Distribution","Tipper Truck","PC002002001010_00003","RENEWAL",null,"Governance",null,"Transport Assets","Transport Assets","R-ADMIN OR HEAD OFFICE",0,0,0,0,0,600000,0]
["Water Distribution","Water Tankers","PC002002001010_00001","RENEWAL",null,"Governance",null,"Transport Assets","Transport Assets","R-ELIAS MOTSOALEDI",0,0,-63556.09,3900000,0,4300000,4400000]
["Water Distribution","Audio Visuals And Ccvt Equipment","PC002003004_00003","NEW","An efficient; effective and development-oriented public service","Growth",null,"Computer Equipment","Computer Equipment","R-ADMIN OR HEAD OFFICE",0,0,0,0,500000,0,0]
["Water Distribution","Computer","PC002003004_00002","NEW","An efficient; effective and development-oriented public service","Growth",null,"Computer Equipment","Computer Equipment","R-WHOLE OF THE DISTRICT",0,0,8600.34,2000000,2080000,2171520,2269239]
["Water Distribution","Computers (Epwp)","PC002003004_00002","NEW","An efficient; effective and development-oriented public service","Growth",null,"Computer Equipment","Computer Equipment","R-WHOLE OF THE DISTRICT",0,0,0,16708,0,0,0]
["Water Distribution","Computers (Fmg)","PC002003004_00003","NEW","An efficient; effective and development-oriented public service","Growth",null,"Computer Equipment","Computer Equipment","R-WHOLE OF THE DISTRICT",0,0,0,500000,0,0,0]
["Water Distribution","Mhs Equipment","PC002003005_00002","NEW","An efficient; effective and development-oriented public service","Growth",null,"Furniture And Office Equipment","Furniture And Office Equipment","R-WHOLE OF THE DISTRICT",0,0,0,0,500000,0,0]
["Water Distribution","Tv;Chairs; Headsets; Tablets And Router","PC002003005_00002","NEW","An efficient; effective and development-oriented public service","Growth",null,"Furniture And Office Equipment","Furniture And Office Equipment","R-WHOLE OF THE DISTRICT",0,0,0,120000,0,0,0]
["Parent Capital expenditure",null,null,null,null,null,null,null,null,null,null,null,{"$f":"SUM(M7:M73)","v":429537047.59000003},{"$f":"SUM(N7:N73)","v":397397708},{"$f":"SUM(O7:O73)","v":489206441},{"$f":"SUM(P7:P73)","v":511713530},{"$f":"SUM(Q7:Q73)","v":520355239}]
[]
["Entities:"]
["List all capital projects grouped by Entity"]
["Entity A"]
["Water project A"]
[]
["Entity B"]
["Electricity project B"]
[]
[]
[]
["Entity Capital expenditure",null,null,null,null,null,null,null,null,null,null,null,{"$f":"SUM(M78:M85)","v":0},{"$f":"SUM(N78:N85)","v":0},{"$f":"SUM(O78:O85)","v":0},{"$f":"SUM(P78:P85)","v":0},{"$f":"SUM(Q78:Q85)","v":0}]
["Total Capital expenditure",null,null,null,null,null,null,null,null,null,null,null,{"$f":"SUM(M7:M73)+SUM(M78:M85)","v":429537047.59000003},{"$f":"SUM(N7:N73)+SUM(N78:N85)","v":397397708},{"$f":"SUM(O7:O73)+SUM(O78:O85)","v":489206441},{"$f":"SUM(P7:P73)+SUM(P78:P85)","v":511713530},{"$f":"SUM(Q7:Q73)+SUM(Q78:Q85)","v":520355239}]
[{"$f":"head27a","v":"References"}]
["Must reconcile with Budgeted Capital Expenditure"]
["Projects that fall above the threshold values applicable to the municipality as identified in regulation 13 of the Municipal Budget and Reporting Regulations must be listed individually. Other projects by Function"]
["Asset class as per table A9 and asset sub-class as per table SA34"]
["GPS coordinates correct to seconds. Provide a logical starting point on networked infrastructure."]
["Distinguish projects approved in terms of MFMA section 19(1)(b) and MRRR Regulation 13",null,null,null,null,null,null,null,null,null,null,"check",{"$f":"SUM(SA34a!E167+SA34b!E167+SA34e!E167)-'SA36'!M87","v":0},{"$f":"SUM(SA34a!H167+SA34b!H167+SA34e!H167)-'SA36'!N87","v":0},{"$f":"SUM(SA34a!I167+SA34b!I167+SA34e!I167)-'SA36'!O87","v":0},{"$f":"SUM(SA34a!J167+SA34b!J167+SA34e!J167)-'SA36'!P87","v":0},{"$f":"SUM(SA34a!K167+SA34b!K167+SA34e!K167)-'SA36'!Q87","v":0}]
["Project Number consists of MSCOA Project Longcode and seq No (sample PC001002006002_00002)"]

{"sheet":"SA37","index":62,"n_rows":28,"n_cols":18,"rows_kept":28,"cut":false,"hidden":false,"merged":[[1,12,2,12],[1,13,1,14],[1,15,1,17]]}
[{"$f":"muni&\" - \"&TableA37","v":"DC47 Sekhukhune - Supporting Table SA37 Projects delayed from previous financial year/s"}]
["R thousand",null,null,null,null,null,null,null,null,null,null,null,{"$f":"Head47","v":"Previous target year to complete"},{"$f":"Head2","v":"Current Year 2021/22"},null,{"$f":"Head3","v":"2022/23 Medium Term Revenue & Expenditure Framework"}]
["Function","Project name","Project number","Type","MTSF Service Outcome","IUDF","Own Strategic Objectives","Asset Class","Asset Sub-Class","Ward Location","GPS Longitude","GPS Lattitude",null,{"$f":"Head6","v":"Original Budget"},{"$f":"Head8","v":"Full Year Forecast"},{"$f":"Head9","v":"Budget Year 2022/23"},{"$f":"Head10","v":"Budget Year +1 2023/24"},{"$f":"Head11","v":"Budget Year +2 2024/25"}]
["Parent municipality:"]
["List all capital projects grouped by Function"]
[]
[]
["Water Distribution","Covid-19 Nebo Ga Malekana To Jane Furse","PC001001001004005_00001","RENEWAL","An efficient; competitive and responsive economic infrastructure network","Inclusion and Access",null,"Water Supply Infrastructure","Water Treatment Works","R-WHOLE OF THE DISTRICT",0,0,2016,-851740,0,0,0,0]
["Water Distribution","Mig-Nsd07 Region Water Schm Reserv","PC001001001004005_00013","RENEWAL","An efficient; competitive and responsive economic infrastructure network","Inclusion and Access",null,"Water Supply Infrastructure","Water Treatment Works","R-WHOLE OF THE DISTRICT",0,0,2016,47256349.729999997,19121865,4042603,0,0]
["Water Distribution","Rbig-Emlm Moutse Bws-Pr7-12;13 & 14","PC001001001004005_00009","RENEWAL","An efficient; competitive and responsive economic infrastructure network","Inclusion and Access",null,"Water Supply Infrastructure","Water Treatment Works","R-WHOLE OF THE DISTRICT",0,0,2016,616524.54,0,0,0,0]
["Water Distribution","Rbig-Gtml Ph4f Bulk","PC001001001004005_00004","RENEWAL","An efficient; competitive and responsive economic infrastructure network","Inclusion and Access",null,"Water Supply Infrastructure","Water Treatment Works","R-WHOLE OF THE DISTRICT",0,0,2016,3846360.51,0,0,0,0]
["Water Distribution","Rbig-Gtml Phase 4e Bulk","PC001001001004005_00003","RENEWAL","An efficient; competitive and responsive economic infrastructure network","Inclusion and Access",null,"Water Supply Infrastructure","Water Treatment Works","R-WHOLE OF THE DISTRICT",0,0,2016,2246782.8199999998,0,0,0,0]
["Water Distribution","Rbig-Gtml Phase 4g Bulk","PC001001001004005_00005","RENEWAL","An efficient; competitive and responsive economic infrastructure network","Inclusion and Access",null,"Water Supply Infrastructure","Water Treatment Works","R-WHOLE OF THE DISTRICT",0,0,2016,35186548.390000001,0,0,0,0]
["Water Distribution","Rbig-Mklm Nebo Bws Makgeru To Schoonoor","PC001001001004005_00007","RENEWAL","An efficient; competitive and responsive economic infrastructure network","Inclusion and Access",null,"Water Supply Infrastructure","Water Treatment Works","R-WHOLE OF THE DISTRICT",0,0,2016,16288444.32,0,0,0,0]
[" "]
["List all capital projects grouped by Entity"]
[]
["Entity Name"]
["Project name"]
[]
[]
[]
[]
[{"$f":"head27a","v":"References"}]
["List all projects with planned completion dates in current year that have been re-budgeted in the MTREF"]
["Asset class as per table A9 and asset sub-class as per table SA34"]
["GPS coordinates correct to seconds. Provide a logical starting point on networked infrastructure."]
["Project Number consists of MSCOA Project Longcode and seq No (sample PC001002006002_00002)"]

{"sheet":"SA38","index":63,"n_rows":161,"n_cols":17,"rows_kept":161,"cut":false,"hidden":false,"merged":[[1,12,1,13],[1,14,1,16]]}
[{"$f":"muni&\" - \"&TableA38","v":"DC47 Sekhukhune - Supporting Table SA38 Consolidated detailed operational projects"}]
["R thousand",null,null,null,null,null,null,null,null,null,null,null,"Prior year outcomes",null,{"$f":"Head3","v":"2022/23 Medium Term Revenue & Expenditure Framework"}]
["Function","Project Description","Project Number","Type","MTSF Service Outcome","IUDF","Own Strategic Objectives","Asset Class","Asset Sub-Class","Ward Location","GPS Longitude","GPS Lattitude",{"$f":"Head5&\"    \"&Head1","v":"Audited Outcome    2020/21"},{"$f":"Head2 & \"        \"&Head8","v":"Current Year 2021/22        Full Year Forecast"},{"$f":"Head9","v":"Budget Year 2022/23"},{"$f":"Head10","v":"Budget Year +1 2023/24"},{"$f":"Head11","v":"Budget Year +2 2024/25"}]
["Parent municipality:"]
["List all operational projects grouped by Function"]
[]
["Administrative And Corporate Support","Operational:Municipal Running Cost","PO002_00000","Municipal Running Cost","Sustainable human settlements and improved quality of household life","Governance",null,null,null,"R-ADMIN OR HEAD OFFICE",0,0,140918177.47,161263610,179795007,190871013,207728980]
["Administrative And Corporate Support","Operational:Municipal Running Cost","PO002_00000","Municipal Running Cost","Sustainable human settlements and improved quality of household life","Governance",null,null,null,"R-ELIAS MOTSOALEDI",0,0,0,600000,630000,662130,696561]
["Administrative And Corporate Support","Operational:Municipal Running Cost","PO002_00000","Municipal Running Cost","Sustainable human settlements and improved quality of household life","Governance",null,null,null,"R-EMPRAM MOGALE",0,0,0,636000,667800,701858,738354]
["Administrative And Corporate Support","Operational:Municipal Running Cost","PO002_00000","Municipal Running Cost","Sustainable human settlements and improved quality of household life","Governance",null,null,null,"R-WHOLE OF THE DISTRICT",0,0,8471269.7799999993,967843,1006556,1050845,1098134]
["Administrative And Corporate Support","Awareness Campaign","PO003006001_00003","Work Streams","Sustainable human settlements and improved quality of household life","Inclusion and Access",null,null,null,"R-WHOLE OF THE DISTRICT",0,0,60898.12,280986,292225,305083,318812]
["Administrative And Corporate Support","Disaster Management","PO003014002_00001","Work Streams","A comprehensive; responsive and sustainable social protection system","Governance",null,null,null,"R-ADMIN OR HEAD OFFICE",0,0,197050,391480,500000,522000,545490]
["Administrative And Corporate Support","Disaster Management","PO003014002_00002","Work Streams","A comprehensive; responsive and sustainable social protection system","Governance",null,null,null,"R-ADMIN OR HEAD OFFICE",0,0,218473.2,1624600,889584,928725,970519]
["Administrative And Corporate Support","Disaster Management","PO003014002_00003","Work Streams","A comprehensive; responsive and sustainable social protection system","Governance",null,null,null,"R-ADMIN OR HEAD OFFICE",0,0,576061.23,328423,341560,356589,372635]
["Administrative And Corporate Support","Electrification","PO003054_00001","Work Streams","An efficient; effective and development-oriented public service","Inclusion and Access",null,null,null,"R-ADMIN OR HEAD OFFICE",0,0,0,0,600000,700000,800000]
["Administrative And Corporate Support","Feasibility Studies","PO003044006_00009","Work Streams","Responsive; accountable; effective and efficient local government","Inclusion and Access",null,null,null,"R-ADMIN OR HEAD OFFICE",0,0,0,0,2000000,0,0]
["Administrative And Corporate Support","Inter Governmental Relations (Igr) Programme","PO003044010_00002","Work Streams","Responsive; accountable; effective and efficient local government","Inclusion and Access",null,null,null,"R-ADMIN OR HEAD OFFICE",0,0,21984.97,22886,23801,24849,25967]
["Administrative And Corporate Support","Inter Governmental Relations (Igr) Programme","PO003044010_00003","Work Streams","Responsive; accountable; effective and efficient local government","Inclusion and Access",null,null,null,"R-ADMIN OR HEAD OFFICE",0,0,655.5,52050,60000,3302640,3240000]
["Administrative And Corporate Support","Occupational Health And Safety","PO003032_00001","Work Streams","Responsive; accountable; effective and efficient local government","Inclusion and Access",null,null,null,"R-ADMIN OR HEAD OFFICE",0,0,4362985.5999999996,3345587,2000000,3132000,8272940]
["Administrative And Corporate Support","Operational:Typical Work Streams:Capacity Building Training And Development:Workshops; Seminars And ","PO003004010_00003","Work Streams","A skilled and capable workforce to support an inclusive growth path","Governance",null,null,null,"R-WHOLE OF THE DISTRICT",0,0,139133.91,84469,87848,91713,95840]
["Administrative And Corporate Support","Public Participation Meeting","PO003006006_00002","Work Streams","Sustainable human settlements and improved quality of household life","Inclusion and Access",null,null,null,"R-ADMIN OR HEAD OFFICE",0,0,-63083.09,0,0,0,0]
["Administrative And Corporate Support","Vehicle Management System","PO003003001_00001","Work Streams","Sustainable human settlements and improved quality of household life","Governance",null,null,null,"R-ADMIN OR HEAD OFFICE",0,0,47742052.090000004,37460709,30959137,35453339,42048740]
["Administrative And Corporate Support","Computer Equipment","PO001002001001004_00001","Preventative Maintenance","An efficient; effective and development-oriented public service","Governance",null,"Computer Equipment","Computer Equipment","R-ADMIN OR HEAD OFFICE",0,0,0,100000,104000,108576,113462]
["Administrative And Corporate Support","Machinery And Equipment","PO001002001002009_00001","Preventative Maintenance",null,"Governance",null,"Machinery And Equipment","Machinery And Equipment","R-ADMIN OR HEAD OFFICE",0,0,-589284.43999999994,303441,315579,329464,344290]
["Administrative And Corporate Support","Buildings","PO001002002002003001001002_00001","Corrective Maintenance","An efficient; effective and development-oriented public service","Governance",null,"Operational Buildings","Municipal Offices","R-ADMIN OR HEAD OFFICE",0,0,194835.04,600000,1880000,1962720,2051042]
["Administrative And Corporate Support","Transport Assets","PO001002002001010_00001","Corrective Maintenance",null,"Governance",null,"Transport Assets","Transport Assets","R-ADMIN OR HEAD OFFICE",0,0,1282737.8600000001,2706741,3300000,3445200,4600234]
["Mayor And Council","Operational:Municipal Running Cost","PO002_00000","Municipal Running Cost","Sustainable human settlements and improved quality of household life","Governance",null,null,null,"R-ADMIN OR HEAD OFFICE",0,0,66797862.939999998,74692407,80035175,81228654,85240223]
["Mayor And Council","Administrative Strategy And Planning","PO003044001_00001","Work Streams","Responsive; accountable; effective and efficient local government","Spatial Integration",null,null,null,"R-ADMIN OR HEAD OFFICE",0,0,0,0,100000,104400,109098]
["Mayor And Council","Awareness Campaign","PO003006001_00005","Work Streams","Sustainable human settlements and improved quality of household life","Inclusion and Access",null,null,null,"R-ADMIN OR HEAD OFFICE",0,0,55000,94177,97944,102254,106855]
["Mayor And Council","Budget Road Show Public Participation","PO003006002_00001","Work Streams","Sustainable human settlements and improved quality of household life","Inclusion and Access",null,null,null,"R-WHOLE OF THE DISTRICT",0,0,0,300000,312000,325728,340386]
["Mayor And Council","Capacity Building Councillors","PO003004002_00002","Work Streams","A skilled and capable workforce to support an inclusive growth path","Governance",null,null,null,"R-ADMIN OR HEAD OFFICE",0,0,142263.84,333671,35018,36559,38204]
["Mayor And Council","Capacity Building Councillors","PO003004002_00003","Work Streams","A skilled and capable workforce to support an inclusive growth path","Governance",null,null,null,"R-ADMIN OR HEAD OFFICE",0,0,0,350000,208000,217152,226924]
["Mayor And Council","Capacity Building Councillors","PO003004002_00004","Work Streams","A skilled and capable workforce to support an inclusive growth path","Governance",null,null,null,"R-ADMIN OR HEAD OFFICE",0,0,0,150000,156000,162864,170193]
["Mayor And Council","Child Programmes","PO003007001_00001","Work Streams","A comprehensive; responsive and sustainable social protection system","Inclusion and Access",null,null,null,"R-WHOLE OF THE DISTRICT",0,0,0,100000,104000,108576,113462]
["Mayor And Council","Clinic Programmes","PO003019001_00001","Work Streams","A long and healthy life for all South Africans","Inclusion and Access",null,null,null,"R-ADMIN OR HEAD OFFICE",0,0,0,200000,208000,217152,226924]
["Mayor And Council","Community Initiatives","PO003007002_00001","Work Streams","A comprehensive; responsive and sustainable social protection system","Inclusion and Access",null,null,null,"R-WHOLE OF THE DISTRICT",0,0,3300,200000,260000,271440,283655]
["Mayor And Council","Community Initiatives","PO003007002_00002","Work Streams","A comprehensive; responsive and sustainable social protection system","Inclusion and Access",null,null,null,"R-WHOLE OF THE DISTRICT",0,0,0,100000,104000,108576,113462]
["Mayor And Council","Disability","PO003007004_00001","Work Streams","A comprehensive; responsive and sustainable social protection system","Inclusion and Access",null,null,null,"R-ADMIN OR HEAD OFFICE",0,0,7710,0,0,0,0]
["Mayor And Council","Disability","PO003007004_00001","Work Streams","A comprehensive; responsive and sustainable social protection system","Inclusion and Access",null,null,null,"R-WHOLE OF THE DISTRICT",0,0,0,200000,410000,425840,442753]
["Mayor And Council","Gender Development","PO003007011_00001","Work Streams","A comprehensive; responsive and sustainable social protection system","Inclusion and Access",null,null,null,"R-WHOLE OF THE DISTRICT",0,0,25390,150000,208000,217152,226924]
["Mayor And Council","Idp Planning And Revision","PO003044008_00001","Work Streams","Responsive; accountable; effective and efficient local government","Spatial Integration",null,null,null,"R-ADMIN OR HEAD OFFICE",0,0,0,378531,450000,469800,490941]
["Mayor And Council","Inter Governmental Relations (Igr) Programme","PO003044010_00002","Work Streams","Responsive; accountable; effective and efficient local government","Inclusion and Access",null,null,null,"R-ADMIN OR HEAD OFFICE",0,0,10850,133671,243018,253711,265128]
["Mayor And Council","Inter Governmental Relations (Igr) Programme","PO003044010_00004","Work Streams","Responsive; accountable; effective and efficient local government","Inclusion and Access",null,null,null,"R-ADMIN OR HEAD OFFICE",0,0,0,20000,104000,108576,113462]
["Mayor And Council","Inter Governmental Relations (Igr) Programme","PO003044010_00005","Work Streams","Responsive; accountable; effective and efficient local government","Inclusion and Access",null,null,null,"R-ADMIN OR HEAD OFFICE",0,0,0,25254,26264,27420,28654]
["Mayor And Council","Inter Governmental Relations (Igr) Programme","PO003044010_00006","Work Streams","Responsive; accountable; effective and efficient local government","Inclusion and Access",null,null,null,"R-ADMIN OR HEAD OFFICE",0,0,0,0,364000,380016,397117]
["Mayor And Council","Mayoral/Executive Mayor Campaigns","PO003006004_00002","Work Streams","Sustainable human settlements and improved quality of household life","Inclusion and Access",null,null,null,"R-WHOLE OF THE DISTRICT",0,0,461406.51,1225948,1274985,1331085,1390983]
["Mayor And Council","Mayoral/Executive Mayor Campaigns","PO003006004_00003","Work Streams","Sustainable human settlements and improved quality of household life","Inclusion and Access",null,null,null,"R-WHOLE OF THE DISTRICT",0,0,0,150000,260000,271440,283655]
["Mayor And Council","Mayoral/Executive Mayor Campaigns","PO003006004_00004","Work Streams","Sustainable human settlements and improved quality of household life","Inclusion and Access",null,null,null,"R-WHOLE OF THE DISTRICT",0,0,0,84266,160000,167040,174557]
["Mayor And Council","Mayoral/Executive Mayor Campaigns","PO003006004_00005","Work Streams","Sustainable human settlements and improved quality of household life","Inclusion and Access",null,null,null,"R-WHOLE OF THE DISTRICT",0,0,402514,1050000,1300000,1357200,1418275]
["Mayor And Council","Mayoral/Executive Mayor Campaigns","PO003006004_00006","Work Streams","Sustainable human settlements and improved quality of household life","Inclusion and Access",null,null,null,"R-ADMIN OR HEAD OFFICE",0,0,0,100000,208000,217152,226924]
["Mayor And Council","Mayoral/Executive Mayor Campaigns","PO003006004_00007","Work Streams","Sustainable human settlements and improved quality of household life","Inclusion and Access",null,null,null,"R-ADMIN OR HEAD OFFICE",0,0,0,150000,260000,271440,283655]
["Mayor And Council","Mayoral/Executive Mayor Campaigns","PO003006004_00008","Work Streams","Sustainable human settlements and improved quality of household life","Inclusion and Access",null,null,null,"R-ADMIN OR HEAD OFFICE",0,0,0,300000,312000,325728,340386]
["Mayor And Council","Mayoral/Executive Mayor Campaigns","PO003006004_00009","Work Streams","Sustainable human settlements and improved quality of household life","Inclusion and Access",null,null,null,"R-ADMIN OR HEAD OFFICE",0,0,0,500000,520000,542880,567310]
["Mayor And Council","Mayoral/Executive Mayor Campaigns","PO003006004_00010","Work Streams","Sustainable human settlements and improved quality of household life","Inclusion and Access",null,null,null,"R-ADMIN OR HEAD OFFICE",0,0,0,350000,520000,542880,567310]
["Mayor And Council","Operational:Typical Work Streams:Capacity Building Training And Development:Workshops; Seminars And ","PO003004010_00001","Work Streams","A skilled and capable workforce to support an inclusive growth path","Governance",null,null,null,"R-WHOLE OF THE DISTRICT",0,0,63160.2,139314,456887,476989,498454]
["Mayor And Council","Operational:Typical Work Streams:Capacity Building Training And Development:Workshops; Seminars And ","PO003004010_00002","Work Streams","A skilled and capable workforce to support an inclusive growth path","Governance",null,null,null,"R-ADMIN OR HEAD OFFICE",0,0,17804.66,200000,260000,271440,283655]
["Mayor And Council","Productions And Shows","PO003026003_00001","Work Streams","An efficient; effective and development-oriented public service","Inclusion and Access",null,null,null,"R-ADMIN OR HEAD OFFICE",0,0,20000,300000,312000,325728,340386]
["Mayor And Council","Productions And Shows","PO003026003_00001","Work Streams","An efficient; effective and development-oriented public service","Inclusion and Access",null,null,null,"R-WHOLE OF THE DISTRICT",0,0,30200,400000,624000,651456,680772]
["Mayor And Council","Ward Initiatives","PO003048001_00002","Work Streams","Responsive; accountable; effective and efficient local government","Inclusion and Access",null,null,null,"R-ADMIN OR HEAD OFFICE",0,0,163479.78,324258,497388,519274,542641]
["Mayor And Council","Workshops And Sessions","PO003044016001_00002","Work Streams","Responsive; accountable; effective and efficient local government","Inclusion and Access",null,null,null,"R-ADMIN OR HEAD OFFICE",0,0,18500,200000,260000,271440,283655]
["Mayor And Council","Youth Development","PO003007017002_00001","Work Streams","A comprehensive; responsive and sustainable social protection system","Inclusion and Access",null,null,null,"R-WHOLE OF THE DISTRICT",0,0,50496,400000,520000,542880,567310]
["Municipal Manager, Town Secretary And Chief Executive","Operational:Municipal Running Cost","PO002_00000","Municipal Running Cost","Sustainable human settlements and improved quality of household life","Governance",null,null,null,"R-ADMIN OR HEAD OFFICE",0,0,81123546.319999993,79542970,87443351,107196267,124416406]
["Municipal Manager, Town Secretary And Chief Executive","Operational:Municipal Running Cost","PO002_00000","Municipal Running Cost","Sustainable human settlements and improved quality of household life","Governance",null,null,null,"R-WHOLE OF THE DISTRICT",0,0,25014,105141,109347,114158,119295]
["Municipal Manager, Town Secretary And Chief Executive","Audit Outcomes","PO003050001_00003","Work Streams","Responsive; accountable; effective and efficient local government","Governance",null,null,null,"R-ADMIN OR HEAD OFFICE",0,0,0,0,120000,136000,150000]
["Municipal Manager, Town Secretary And Chief Executive","Operational:Typical Work Streams:Capacity Building Training And Development:Workshops; Seminars And ","PO003004010_00002","Work Streams","A skilled and capable workforce to support an inclusive growth path","Governance",null,null,null,"R-ADMIN OR HEAD OFFICE",0,0,0,400000,900000,1160000,1210980]
["Municipal Manager, Town Secretary And Chief Executive","Risk Management","PO003044015_00001","Work Streams","Responsive; accountable; effective and efficient local government","Inclusion and Access",null,null,null,"R-ADMIN OR HEAD OFFICE",0,0,0,0,90000,90000,90000]
["Municipal Manager, Town Secretary And Chief Executive","Transformation And Related Matters","PO003044016004_00002","Work Streams","Responsive; accountable; effective and efficient local government","Inclusion and Access",null,null,null,"R-ADMIN OR HEAD OFFICE",0,0,0,0,0,200000,200000]
["Finance","Operational:Municipal Running Cost","PO002_00000","Municipal Running Cost","Sustainable human settlements and improved quality of household life","Governance",null,null,null,"R-ADMIN OR HEAD OFFICE",0,0,52771412.920000002,163911258,174168589,180573822,199622020]
["Finance","Operational:Municipal Running Cost","PO002_00000","Municipal Running Cost","Sustainable human settlements and improved quality of household life","Governance",null,null,null,"R-WHOLE OF THE DISTRICT",0,0,4856017.4400000004,800,840,883,929]
["Finance","Audit Outcomes","PO003050001_00001","Work Streams","Responsive; accountable; effective and efficient local government","Governance",null,null,null,"R-ADMIN OR HEAD OFFICE",0,0,3926561.39,5103975,5308134,5541692,5791068]
["Finance","Audit Outcomes","PO003050001_00002","Work Streams","Responsive; accountable; effective and efficient local government","Governance",null,null,null,"R-ADMIN OR HEAD OFFICE",0,0,381730.35,1755197,1825405,1905723,1991480]
["Finance","Financial Systems","PO003050005_00001","Work Streams","Responsive; accountable; effective and efficient local government","Governance",null,null,null,"R-ADMIN OR HEAD OFFICE",0,0,1291431.67,7200733,2788762,10499442,10971916]
["Finance","Financial Systems","PO003050005_00002","Work Streams","Responsive; accountable; effective and efficient local government","Governance",null,null,null,"R-ADMIN OR HEAD OFFICE",0,0,0,800000,1040000,1085760,1134619]
["Finance","Inter Governmental Relations (Igr) Programme","PO003044010_00005","Work Streams","Responsive; accountable; effective and efficient local government","Inclusion and Access",null,null,null,"R-ADMIN OR HEAD OFFICE",0,0,0,400000,416000,434304,453848]
["Finance","Revenue Protection Program","PO003044016006_00001","Work Streams","Responsive; accountable; effective and efficient local government","Governance",null,null,null,"R-ADMIN OR HEAD OFFICE",0,0,1751591.97,2938904,3056460,3190944,3334537]
["Finance","Revenue Protection Program","PO003044016006_00003","Work Streams","Responsive; accountable; effective and efficient local government","Governance",null,null,null,"R-ADMIN OR HEAD OFFICE",0,0,8133602.9400000004,12756840,18267114,28850867,30149156]
["Finance","Training Minimum Competency","PO003050009_00002","Work Streams","Responsive; accountable; effective and efficient local government","Governance",null,null,null,"R-ADMIN OR HEAD OFFICE",0,0,1031035.72,0,0,0,0]
["Economic Development/Planning","Operational:Municipal Running Cost","PO002_00000","Municipal Running Cost","Sustainable human settlements and improved quality of household life","Governance",null,null,null,"R-ADMIN OR HEAD OFFICE",0,0,9589002.1999999993,11673676,13609092,12900506,13570995]
["Economic Development/Planning","Communication And Development","PO003044002_00001","Work Streams","Responsive; accountable; effective and efficient local government","Inclusion and Access",null,null,null,"R-ADMIN OR HEAD OFFICE",0,0,0,0,400000,917600,958892]
["Economic Development/Planning","Compilation Of Plan","PO003023001_00003","Work Streams","An efficient; effective and development-oriented public service","Spatial Integration",null,null,null,"R-WHOLE OF THE DISTRICT",0,0,0,100000,0,0,0]
["Economic Development/Planning","Compilation Of Plan","PO003023001_00010","Work Streams","An efficient; effective and development-oriented public service","Spatial Integration",null,null,null,"R-WHOLE OF THE DISTRICT",0,0,0,100000,104000,108576,113462]
["Economic Development/Planning","Development Of Field Operational Guide","PO003044004_00001","Work Streams","Responsive; accountable; effective and efficient local government","Inclusion and Access",null,null,null,"R-ADMIN OR HEAD OFFICE",0,0,0,0,300000,417600,436392]
["Economic Development/Planning","Entrepreneurial Support System","PO003007008_00001","Work Streams","A comprehensive; responsive and sustainable social protection system","Inclusion and Access",null,null,null,"R-ADMIN OR HEAD OFFICE",0,0,0,10000,10400,10858,11346]
["Economic Development/Planning","Idp Planning And Revision","PO003044008_00001","Work Streams","Responsive; accountable; effective and efficient local government","Spatial Integration",null,null,null,"R-ADMIN OR HEAD OFFICE",0,0,0,60000,62400,65146,68077]
["Economic Development/Planning","Master Plan","PO003044011_00001","Work Streams","Responsive; accountable; effective and efficient local government","Spatial Integration",null,null,null,"R-ADMIN OR HEAD OFFICE",0,0,0,1500000,1210400,2263658,2365522]
["Economic Development/Planning","Medium Term Strategy (Mts) Development","PO003044013_00001","Work Streams","Responsive; accountable; effective and efficient local government","Inclusion and Access",null,null,null,"R-ADMIN OR HEAD OFFICE",0,0,0,0,400000,1049600,1096832]
["Economic Development/Planning","Performance Management","PO003034_00001","Work Streams","Responsive; accountable; effective and efficient local government","Inclusion and Access",null,null,null,"R-ADMIN OR HEAD OFFICE",0,0,213248.21,117719,226428,236391,247028]
["Economic Development/Planning","Plan Development","PO003044016002_00001","Work Streams","Responsive; accountable; effective and efficient local government","Spatial Integration",null,null,null,"R-ADMIN OR HEAD OFFICE",0,0,0,400000,416000,590904,617494]
["Economic Development/Planning","Project Implementation","PO003023002_00001","Work Streams","An efficient; effective and development-oriented public service","Spatial Integration",null,null,null,"R-WHOLE OF THE DISTRICT",0,0,207915.7,60000,62400,65146,68077]
["Economic Development/Planning","Project Implementation","PO003023002_00002","Work Streams","An efficient; effective and development-oriented public service","Spatial Integration",null,null,null,"R-ADMIN OR HEAD OFFICE",0,0,67796.7,200000,300000,313200,327294]
["Economic Development/Planning","Project Implementation","PO003023002_00004","Work Streams","An efficient; effective and development-oriented public service","Spatial Integration",null,null,null,"R-ADMIN OR HEAD OFFICE",0,0,0,100000,200000,208800,218196]
["Economic Development/Planning","Project Implementation","PO003023002_00006","Work Streams","An efficient; effective and development-oriented public service","Spatial Integration",null,null,null,"R-ADMIN OR HEAD OFFICE",0,0,0,1000000,0,0,0]
["Economic Development/Planning","Project Implementation","PO003023002_00008","Work Streams","An efficient; effective and development-oriented public service","Spatial Integration",null,null,null,"R-ADMIN OR HEAD OFFICE",0,0,0,90000,93600,97718,102116]
["Economic Development/Planning","Public Participation","PO003023003_00001","Work Streams","An efficient; effective and development-oriented public service","Spatial Integration",null,null,null,"R-WHOLE OF THE DISTRICT",0,0,925,0,0,0,0]
["Economic Development/Planning","Tourism Development","PO003046003_00001","Work Streams","An efficient; effective and development-oriented public service","Growth",null,null,null,"R-ADMIN OR HEAD OFFICE",0,0,0,500000,810400,2159258,2256424]
["Economic Development/Planning","Tourism Projects","PO003046004_00001","Work Streams","An efficient; effective and development-oriented public service","Growth",null,null,null,"R-ADMIN OR HEAD OFFICE",0,0,0,0,100000,104400,109098]
["Economic Development/Planning","Tourism Skills Development","PO003046006_00001","Work Streams","An efficient; effective and development-oriented public service","Growth",null,null,null,"R-ADMIN OR HEAD OFFICE",0,0,0,0,400000,417600,436392]
["Economic Development/Planning","Transformation And Related Matters","PO003044016004_00001","Work Streams","Responsive; accountable; effective and efficient local government","Inclusion and Access",null,null,null,"R-ADMIN OR HEAD OFFICE",0,0,29059.9,100000,104000,108576,113462]
["Economic Development/Planning","Other Heritage","PO001002001002006005_00001",null,"Create a better South Africa and contribute to a better Africa and a better world","Governance",null,"Heritage Assets","Other Heritage","R-ADMIN OR HEAD OFFICE",0,0,0,0,400000,522000,545490]
["Support To Local Municipalities","Operational:Municipal Running Cost","PO002_00000","Municipal Running Cost","Sustainable human settlements and improved quality of household life","Governance",null,null,null,"R-ADMIN OR HEAD OFFICE",0,0,0,4629628,7148059,10527360,14285195]
["Support To Local Municipalities","Operational:Municipal Running Cost","PO002_00000","Municipal Running Cost","Sustainable human settlements and improved quality of household life","Governance",null,null,null,"R-WHOLE OF THE DISTRICT",0,0,0,62000,360000,459360,480031]
["Support To Local Municipalities","Development Agency Establishment","PO003009_00001","Work Streams","An efficient; effective and development-oriented public service","Governance",null,null,null,"R-ADMIN OR HEAD OFFICE",0,0,2556298.0299999998,796171,0,0,0]
["Support To Local Municipalities","Buildings","PO001002002002003001001002_00002","Corrective Maintenance","An efficient; effective and development-oriented public service","Governance",null,"Operational Buildings","Municipal Offices","R-ADMIN OR HEAD OFFICE",0,0,0,0,200000,522000,545490]
["Water Distribution","Operational:Municipal Running Cost","PO002_00000","Municipal Running Cost","Sustainable human settlements and improved quality of household life","Governance",null,null,null,"R-ADMIN OR HEAD OFFICE",0,0,79174070.680000007,171276781,176835637,183269841,192497988]
["Water Distribution","Operational:Municipal Running Cost","PO002_00000","Municipal Running Cost","Sustainable human settlements and improved quality of household life","Governance",null,null,null,"R-ELIAS MOTSOALEDI",0,0,34928099.259999998,6350148,6686706,7027727,7393170]
["Water Distribution","Operational:Municipal Running Cost","PO002_00000","Municipal Running Cost","Sustainable human settlements and improved quality of household life","Governance",null,null,null,"R-GREATER TUBATSE/FETAKG",0,0,27386898.719999999,4318109,4546969,4778864,5027366]
["Water Distribution","Operational:Municipal Running Cost","PO002_00000","Municipal Running Cost","Sustainable human settlements and improved quality of household life","Governance",null,null,null,"R-MAKHUDUTHAMAGA",0,0,5100872.45,792836,834856,877434,923060]
["Water Distribution","Operational:Municipal Running Cost","PO002_00000","Municipal Running Cost","Sustainable human settlements and improved quality of household life","Governance",null,null,null,"R-WHOLE OF THE DISTRICT",0,0,413805940.63,204630899,237282226,222887218,243910993]
["Water Distribution","By-Laws Promulgation","PO003006003_00001","Work Streams","Sustainable human settlements and improved quality of household life","Inclusion and Access",null,null,null,"R-WHOLE OF THE DISTRICT",0,0,0,182175,189462,197798,206501]
["Water Distribution","Development Of Field Operational Guide","PO003044004_00002","Work Streams","Responsive; accountable; effective and efficient local government","Inclusion and Access",null,null,null,"R-WHOLE OF THE DISTRICT",0,0,0,0,1000000,1500000,1500000]
["Water Distribution","Drinking Water Quality","PO003011_00001","Work Streams","A long and healthy life for all South Africans","Inclusion and Access",null,null,null,"R-WHOLE OF THE DISTRICT",0,0,0,0,3935990,10000000,10000000]
["Water Distribution","Drinking Water Quality","PO003011_00002","Work Streams","A long and healthy life for all South Africans","Inclusion and Access",null,null,null,"R-ADMIN OR HEAD OFFICE",0,0,0,0,4000000,10000000,10000000]
["Water Distribution","Feasibility Studies","PO003044006_00001","Work Streams","Responsive; accountable; effective and efficient local government","Inclusion and Access",null,null,null,"R-WHOLE OF THE DISTRICT",0,0,0,0,1000000,1500000,1500000]
["Water Distribution","Feasibility Studies","PO003044006_00002","Work Streams","Responsive; accountable; effective and efficient local government","Inclusion and Access",null,null,null,"R-WHOLE OF THE DISTRICT",0,0,0,0,1000000,1500000,1500000]
["Water Distribution","Feasibility Studies","PO003044006_00003","Work Streams","Responsive; accountable; effective and efficient local government","Inclusion and Access",null,null,null,"R-WHOLE OF THE DISTRICT",0,0,0,0,1000000,1500000,1500000]
["Water Distribution","Feasibility Studies","PO003044006_00004","Work Streams","Responsive; accountable; effective and efficient local government","Inclusion and Access",null,null,null,"R-WHOLE OF THE DISTRICT",0,0,0,0,1000000,1500000,1500000]
["Water Distribution","Feasibility Studies","PO003044006_00005","Work Streams","Responsive; accountable; effective and efficient local government","Inclusion and Access",null,null,null,"R-WHOLE OF THE DISTRICT",0,0,0,0,1000000,1500000,1500000]
["Water Distribution","Feasibility Studies","PO003044006_00006","Work Streams","Responsive; accountable; effective and efficient local government","Inclusion and Access",null,null,null,"R-WHOLE OF THE DISTRICT",0,0,0,0,1000000,1500000,1500000]
["Water Distribution","Inter Governmental Relations (Igr) Programme","PO003044010_00002","Work Streams","Responsive; accountable; effective and efficient local government","Inclusion and Access",null,null,null,"R-ADMIN OR HEAD OFFICE",0,0,1983608.42,7312300,9604792,10027403,10468608]
["Water Distribution","Master Plan","PO003044011_00001","Work Streams","Responsive; accountable; effective and efficient local government","Spatial Integration",null,null,null,"R-WHOLE OF THE DISTRICT",0,0,0,182175,189462,197798,206501]
["Water Distribution","Water Rights","PO005003007002001_00001","NEW","An efficient; effective and development-oriented public service","Growth",null,"Licences And Rights","Water Rights","R-ADMIN OR HEAD OFFICE",0,0,0,0,2000000,3000000,3000000]
["Water Distribution","Machinery And Equipment","PO001002001002009_00002","Preventative Maintenance",null,"Governance",null,"Machinery And Equipment","Machinery And Equipment","R-ADMIN OR HEAD OFFICE",0,0,0,0,8750000,0,0]
["Water Distribution","Pipe Work","PO001001001002008004002_00001","Preventative Maintenance","An efficient; competitive and responsive economic infrastructure network","Inclusion and Access",null,"Sanitation Infrastructure","Outfall Sewers","R-WHOLE OF THE DISTRICT",0,0,-388359.07,10001424,9401481,10859146,11336949]
["Water Distribution","Pipe Work","PO001001001002008004002_00002","Preventative Maintenance","An efficient; competitive and responsive economic infrastructure network","Inclusion and Access",null,"Sanitation Infrastructure","Outfall Sewers","R-WHOLE OF THE DISTRICT",0,0,1496553,4561500,4743960,4952694,5170613]
["Water Distribution","Civil Structures","PO001001001001008002001_00001","Preventative Maintenance","An efficient; competitive and responsive economic infrastructure network","Inclusion and Access",null,"Sanitation Infrastructure","Reticulation","R-ADMIN OR HEAD OFFICE",0,0,9361936.75,13000000,10000000,10000000,10000000]
["Water Distribution","Civil Structures","PO001001001001008002001_00002","Preventative Maintenance","An efficient; competitive and responsive economic infrastructure network","Inclusion and Access",null,"Sanitation Infrastructure","Reticulation","R-ADMIN OR HEAD OFFICE",0,0,16641885.9,32500000,10000000,10000000,10000000]
["Water Distribution","Civil Structures","PO001001001001008002001_00003","Preventative Maintenance","An efficient; competitive and responsive economic infrastructure network","Inclusion and Access",null,"Sanitation Infrastructure","Reticulation","R-ADMIN OR HEAD OFFICE",0,0,2296365.67,8100000,10000000,10000000,10000000]
["Water Distribution","Civil Structures","PO001001001001008002001_00004","Preventative Maintenance","An efficient; competitive and responsive economic infrastructure network","Inclusion and Access",null,"Sanitation Infrastructure","Reticulation","R-ADMIN OR HEAD OFFICE",0,0,24467694.75,28000000,10000000,10000000,10000000]
["Water Distribution","Civil Structures","PO001001001001008002001_00005","Preventative Maintenance","An efficient; competitive and responsive economic infrastructure network","Inclusion and Access",null,"Sanitation Infrastructure","Reticulation","R-ADMIN OR HEAD OFFICE",0,0,23654264.219999999,30500000,10000000,10000000,10000000]
["Water Distribution","Civil Structures","PO001001001002007002002_00001","Preventative Maintenance","An efficient; competitive and responsive economic infrastructure network","Inclusion and Access",null,"Water Supply Infrastructure","Boreholes","R-WHOLE OF THE DISTRICT",0,0,5080399.57,1796424,1868281,1950485,2036307]
["Water Distribution","Earthworks","PO001001001002007002003_00001","Preventative Maintenance","An efficient; competitive and responsive economic infrastructure network","Inclusion and Access",null,"Water Supply Infrastructure","Boreholes","R-WHOLE OF THE DISTRICT",0,0,903855.74,10757257,10187547,11679799,12193711]
["Water Distribution","Electrical Equipment","PO001001001002007002004_00001","Preventative Maintenance","An efficient; competitive and responsive economic infrastructure network","Inclusion and Access",null,"Water Supply Infrastructure","Boreholes","R-WHOLE OF THE DISTRICT",0,0,-476233.17,2602500,2706600,2825690,2950021]
["Water Distribution","Mechanical Equipment","PO001001001002007002006_00001","Preventative Maintenance","An efficient; competitive and responsive economic infrastructure network","Inclusion and Access",null,"Water Supply Infrastructure","Boreholes","R-WHOLE OF THE DISTRICT",0,0,3562358.82,12398924,12894881,13462256,14054595]
["Water Distribution","Pipe Work","PO001001001002007002008_00001","Preventative Maintenance","An efficient; competitive and responsive economic infrastructure network","Inclusion and Access",null,"Water Supply Infrastructure","Boreholes","R-WHOLE OF THE DISTRICT",0,0,722777.19,2082000,2165280,2260552,2360017]
["Water Distribution","Municipal Service Connections","PO001001001002007004001_00001","Preventative Maintenance","An efficient; competitive and responsive economic infrastructure network","Inclusion and Access",null,"Water Supply Infrastructure","Distribution","R-WHOLE OF THE DISTRICT",0,0,8357695.2699999996,13110324,12634737,13190665,13771055]
["Water Distribution","Pipe Work","PO001001001001007004002_00001","Preventative Maintenance","An efficient; competitive and responsive economic infrastructure network","Inclusion and Access",null,"Water Supply Infrastructure","Distribution","R-WHOLE OF THE DISTRICT",0,0,0,0,1500000,1500000,1500000]
["Waste Water Treatment","Operational:Municipal Running Cost","PO002_00000","Municipal Running Cost","Sustainable human settlements and improved quality of household life","Governance",null,null,null,"R-ADMIN OR HEAD OFFICE",0,0,2509024.89,20000,21060,22176,23352]
["Waste Water Treatment","Operational:Municipal Running Cost","PO002_00000","Municipal Running Cost","Sustainable human settlements and improved quality of household life","Governance",null,null,null,"R-ELIAS MOTSOALEDI",0,0,5519330.1799999997,42000,44226,46570,49038]
["Waste Water Treatment","Operational:Municipal Running Cost","PO002_00000","Municipal Running Cost","Sustainable human settlements and improved quality of household life","Governance",null,null,null,"R-GREATER TUBATSE/FETAKG",0,0,2948807.49,82000,86346,90923,95741]
["Waste Water Treatment","Operational:Municipal Running Cost","PO002_00000","Municipal Running Cost","Sustainable human settlements and improved quality of household life","Governance",null,null,null,"R-MAKHUDUTHAMAGA",0,0,872857.8,1800,1895,1996,2102]
["Waste Water Treatment","Operational:Municipal Running Cost","PO002_00000","Municipal Running Cost","Sustainable human settlements and improved quality of household life","Governance",null,null,null,"R-WHOLE OF THE DISTRICT",0,0,6902528.8700000001,1328000,1398384,1472499,1550540]
["Parent Operational expenditure",null,null,null,null,null,null,null,null,null,{"$f":"SUM(K7:K141)","v":0},0,1116573309.6599996,1156414910,1210585735,1288926319,1401284080]
[]
["Entities:"]
["List all Operational projects grouped by Entity"]
[]
["Entity A"]
["Water project A"]
[]
["Entity B"]
["Electricity project B"]
[]
[]
[]
["Entity Operational expenditure",null,null,null,null,null,null,null,null,null,null,null,{"$f":"SUM(M147:M154)","v":0},{"$f":"SUM(N147:N154)","v":0},{"$f":"SUM(O147:O154)","v":0},{"$f":"SUM(P147:P154)","v":0},{"$f":"SUM(Q147:Q154)","v":0}]
["Total Operational expenditure",null,null,null,null,null,null,null,null,null,null,null,{"$f":"SUM(M7:M141)+SUM(M147:M154)","v":1116573309.6599996},{"$f":"SUM(N7:N141)+SUM(N147:N154)","v":1156414910},{"$f":"SUM(O7:O141)+SUM(O147:O154)","v":1210585735},{"$f":"SUM(P7:P141)+SUM(P147:P154)","v":1288926319},{"$f":"SUM(Q7:Q141)+SUM(Q147:Q154)","v":1401284080}]
[{"$f":"head27a","v":"References"}]
["Must reconcile with Budgeted Operating Expenditure"]
["Asset class as per table A9 and asset sub-class as per table SA34"]
["GPS coordinates correct to seconds. Provide a logical starting point on networked infrastructure."]
["Project Number consists of MSCOA Project Longcode and seq No (sample PO001001002001002001002_00066)",null,null,null,null,null,null,null,null,null,null,"check",{"$f":"+'A4-FinPerf RE'!E35-'SA38'!M156","v":-194692421.31999969},{"$f":"+'A4-FinPerf RE'!H35-'SA38'!N156","v":-5486901},{"$f":"+'A4-FinPerf RE'!J35-'SA38'!O156","v":1},{"$f":"+'A4-FinPerf RE'!K35-'SA38'!P156","v":-11},{"$f":"+'A4-FinPerf RE'!L35-'SA38'!Q156","v":-10}]

{"sheet":"LGDB_EXPORT","index":64,"n_rows":2876,"n_cols":23,"rows_kept":2876,"cut":false,"hidden":false,"merged":[]}
["FORM","YEAR END","MUNCDE","ITEMCODE","SEQ","DESCRIPTION",null,null,null,null,null,null,null,null,null,null,null,null,null,null,null,null,"~"]
["BSD",{"$f":"+MTREF","v":2022},{"$f":"LEFT(muni,(FIND(\" \",muni,1)-1))","v":"DC47"},"1000",1,"Household service targets (000)",null,null,null,null,null,null,null,null,null,null,null,null,null,null,null,null,"~"]
["BSD",2022,"DC47","1100",2,"Water:",null,null,null,null,null,null,null,null,null,null,null,null,null,null,null,null,"~"]
["BSD",2022,"DC47","1101",3,"Piped water inside dwelling",null,null,null,null,null,null,null,null,null,null,null,null,null,null,null,null,"~"]
["BSD",2022,"DC47","1102",4,"Piped water inside yard (but not in dwelling)",null,null,null,null,null,null,null,null,null,null,null,null,null,null,null,null,"~"]
["BSD",2022,"DC47","1103",5,"Using public tap (at least min.service level)",null,null,null,null,null,null,null,null,null,null,null,null,null,null,null,null,"~"]
["BSD",2022,"DC47","1104",6,"Other water supply (at least min.service level)",null,null,null,null,null,null,null,null,null,null,null,null,null,null,null,null,"~"]
["BSD",2022,"DC47","1105",7,"Minimum Service Level and Above sub-total",null,null,null,null,null,null,null,null,null,null,null,null,null,null,null,null,"~"]
["BSD",2022,"DC47","1106",8,"Using public tap (< min.service level)",null,null,null,null,null,null,null,null,null,null,null,null,null,null,null,null,"~"]
["BSD",2022,"DC47","1107",9,"Other water supply (< min.service level)",null,null,null,null,null,null,null,null,null,null,null,null,null,null,null,null,"~"]
["BSD",2022,"DC47","1108",10,"No water supply",null,null,null,null,null,null,null,null,null,null,null,null,null,null,null,null,"~"]
["BSD",2022,"DC47","1109",11,"Below Minimum Service Level sub-total",null,null,null,null,null,null,null,null,null,null,null,null,null,null,null,null,"~"]
["BSD",2022,"DC47","1110",12,"Total number of households",null,null,null,null,null,null,null,null,null,null,null,null,null,null,null,null,"~"]
["BSD",2022,"DC47","1200",13,"Sanitation/sewerage:",null,null,null,null,null,null,null,null,null,null,null,null,null,null,null,null,"~"]
["BSD",2022,"DC47","1201",14,"Flush toilet (connected to sewerage)",null,null,null,null,null,null,null,null,null,null,null,null,null,null,null,null,"~"]
["BSD",2022,"DC47","1202",15,"Flush toilet (with septic tank)",null,null,null,null,null,null,null,null,null,null,null,null,null,null,null,null,"~"]
["BSD",2022,"DC47","1203",16,"Chemical toilet",null,null,null,null,null,null,null,null,null,null,null,null,null,null,null,null,"~"]
["BSD",2022,"DC47","1204",17,"Pit toilet (ventilated)",null,null,null,null,null,null,null,null,null,null,null,null,null,null,null,null,"~"]
["BSD",2022,"DC47","1205",18,"Other toilet provisions (> min.service level)",null,null,null,null,null,null,null,null,null,null,null,null,null,null,null,null,"~"]
["BSD",2022,"DC47","1206",19,"Minimum Service Level and Above sub-total",null,null,null,null,null,null,null,null,null,null,null,null,null,null,null,null,"~"]
["BSD",2022,"DC47","1207",20,"Bucket toilet",null,null,null,null,null,null,null,null,null,null,null,null,null,null,null,null,"~"]
["BSD",2022,"DC47","1208",21,"Other toilet provisions (< min.service level)",null,null,null,null,null,null,null,null,null,null,null,null,null,null,null,null,"~"]
["BSD",2022,"DC47","1209",22,"No toilet provisions",null,null,null,null,null,null,null,null,null,null,null,null,null,null,null,null,"~"]
["BSD",2022,"DC47","1210",23,"Below Minimum Service Level sub-total",null,null,null,null,null,null,null,null,null,null,null,null,null,null,null,null,"~"]
["BSD",2022,"DC47","1211",24,"Total number of households",null,null,null,null,null,null,null,null,null,null,null,null,null,null,null,null,"~"]
["BSD",2022,"DC47","1300",25,"Energy:",null,null,null,null,null,null,null,null,null,null,null,null,null,null,null,null,"~"]
["BSD",2022,"DC47","1301",26,"Electricity (at least min.service level)",null,null,null,null,null,null,null,null,null,null,null,null,null,null,null,null,"~"]
["BSD",2022,"DC47","1302",27,"Electricity - prepaid (min.service level)",null,null,null,null,null,null,null,null,null,null,null,null,null,null,null,null,"~"]
["BSD",2022,"DC47","1303",28,"Minimum Service Level and Above sub-total",null,null,null,null,null,null,null,null,null,null,null,null,null,null,null,null,"~"]
["BSD",2022,"DC47","1304",29,"Electricity (< min.service level)",null,null,null,null,null,null,null,null,null,null,null,null,null,null,null,null,"~"]
["BSD",2022,"DC47","1305",30,"Electricity - prepaid (< min. service level)",null,null,null,null,null,null,null,null,null,null,null,null,null,null,null,null,"~"]
["BSD",2022,"DC47","1306",31,"Other energy sources",null,null,null,null,null,null,null,null,null,null,null,null,null,null,null,null,"~"]
["BSD",2022,"DC47","1307",32,"Below Minimum Service Level sub-total",null,null,null,null,null,null,null,null,null,null,null,null,null,null,null,null,"~"]
["BSD",2022,"DC47","1308",33,"Total number of households",null,null,null,null,null,null,null,null,null,null,null,null,null,null,null,null,"~"]
["BSD",2022,"DC47","1400",34,"Refuse:",null,null,null,null,null,null,null,null,null,null,null,null,null,null,null,null,"~"]
["BSD",2022,"DC47","1401",35,"Removed at least once a week",null,null,null,null,null,null,null,null,null,null,null,null,null,null,null,null,"~"]
["BSD",2022,"DC47","1402",36,"Minimum Service Level and Above sub-total",null,null,null,null,null,null,null,null,null,null,null,null,null,null,null,null,"~"]
["BSD",2022,"DC47","1403",37,"Removed less frequently than once a week",null,null,null,null,null,null,null,null,null,null,null,null,null,null,null,null,"~"]
["BSD",2022,"DC47","1404",38,"Using communal refuse dump",null,null,null,null,null,null,null,null,null,null,null,null,null,null,null,null,"~"]
["BSD",2022,"DC47","1405",39,"Using own refuse dump",null,null,null,null,null,null,null,null,null,null,null,null,null,null,null,null,"~"]
["BSD",2022,"DC47","1406",40,"Other rubbish disposal",null,null,null,null,null,null,null,null,null,null,null,null,null,null,null,null,"~"]
["BSD",2022,"DC47","1407",41,"No rubbish disposal",null,null,null,null,null,null,null,null,null,null,null,null,null,null,null,null,"~"]
["BSD",2022,"DC47","1408",42,"Below Minimum Service Level sub-total",null,null,null,null,null,null,null,null,null,null,null,null,null,null,null,null,"~"]
["BSD",2022,"DC47","1409",43,"Total number of households",null,null,null,null,null,null,null,null,null,null,null,null,null,null,null,null,"~"]
["BSD",2022,"DC47",null,null,null,null,null,null,null,null,null,null,null,null,null,null,null,null,null,null,null,"~"]
["BSD",2022,"DC47","1500",45,"Households receiving Free Basic Service",null,null,null,null,null,null,null,null,null,null,null,null,null,null,null,null,"~"]
["BSD",2022,"DC47","1501",46,"Water (6 kilolitres per household per month)",null,null,null,null,null,null,null,null,null,null,null,null,null,null,null,null,"~"]
["BSD",2022,"DC47","1502",47,"Sanitation (free minimum level service)",null,null,null,null,null,null,null,null,null,null,null,null,null,null,null,null,"~"]
["BSD",2022,"DC47","1503",48,"Electricity/other energy (50kwh per household per month)",null,null,null,null,null,null,null,null,null,null,null,null,null,null,null,null,"~"]
["BSD",2022,"DC47","1504",49,"Refuse (removed at least once a week)",null,null,null,null,null,null,null,null,null,null,null,null,null,null,null,null,"~"]
["BSD",2022,"DC47",null,null,null,null,null,null,null,null,null,null,null,null,null,null,null,null,null,null,null,"~"]
["BSD",2022,"DC47","1600",51,"Cost of Free Basic Services provided - Formal Settlements (R'000)",null,null,null,null,null,null,null,null,null,null,null,null,null,null,null,null,"~"]
["BSD",2022,"DC47","1601",52,"Water (6 kilolitres per indigent household per month)",null,null,null,null,null,null,null,null,null,null,null,null,null,null,null,null,"~"]
["BSD",2022,"DC47","1602",53,"Sanitation (free sanitation service to indigent households)",null,null,null,null,null,null,null,null,null,null,null,null,null,null,null,null,"~"]
["BSD",2022,"DC47","1603",54,"Electricity/other energy (50kwh per indigent household per month)",null,null,null,null,null,null,null,null,null,null,null,null,null,null,null,null,"~"]
["BSD",2022,"DC47","1604",55,"Refuse (removed once a week for indigent households)",null,null,null,null,null,null,null,null,null,null,null,null,null,null,null,null,"~"]
["BSD",2022,"DC47",1606,56,"Cost of Free Basic Services provided - Informal Formal Settlements (R'000)",null,null,null,null,null,null,null,null,null,null,null,null,null,null,null,null,"~"]
["BSD",2022,"DC47",1607,57,"Total cost of FBS provided  ",null,null,null,null,null,null,null,null,null,null,null,null,null,null,null,null,"~"]
["BSD",2022,"DC47",null,null,null,null,null,null,null,null,null,null,null,null,null,null,null,null,null,null,null,"~"]
["BSD",2022,"DC47","1700",58,"Highest level of free service provided per household",null,null,null,null,null,null,null,null,null,null,null,null,null,null,null,null,"~"]
["BSD",2022,"DC47","1701",59,"Property rates (R value threshold)",null,null,null,null,null,null,null,null,null,null,null,null,null,null,null,null,"~"]
["BSD",2022,"DC47","1702",60,"Water (kilolitres per household per month)",null,null,null,null,null,null,null,null,null,null,null,null,null,null,null,null,"~"]
["BSD",2022,"DC47","1703",61,"Sanitation (kilolitres per household per month)",null,null,null,null,null,null,null,null,null,null,null,null,null,null,null,null,"~"]
["BSD",2022,"DC47","1704",62,"Sanitation (Rand per household per month)",null,null,null,null,null,null,null,null,null,null,null,null,null,null,null,null,"~"]
["BSD",2022,"DC47","1705",63,"Electricity (kwh per household per month)",null,null,null,null,null,null,null,null,null,null,null,null,null,null,null,null,"~"]
["BSD",{"$f":"+MTREF","v":2022},{"$f":"LEFT(muni,(FIND(\" \",muni,1)-1))","v":"DC47"},"1706",64,"Refuse (average litres per week)",null,null,null,null,null,null,null,null,null,null,null,null,null,null,null,null,"~"]
["BSD",2022,"DC47","1707",65,"Revenue  cost of subsidised services provided (R'000)",null,null,null,null,null,null,null,null,null,null,null,null,null,null,null,null,"~"]
["BSD",2022,"DC47","1708",66,"Property rates (tariff adjustment) ( impermissable values per section 17 of MPRA)",null,null,null,null,null,null,null,null,null,null,null,null,null,null,null,null,"~"]
["BSD",2022,"DC47","1709",67,"Property rates  exemptions, reductions and rebates and impermissable values in excess of section 17 of MPRA)",null,null,null,null,null,null,null,null,null,null,null,null,null,null,null,null,"~"]
["BSD",2022,"DC47","1710",68,"Water (in excess of 6 kilolitres per indigent household per month)",null,null,null,null,null,null,null,null,null,null,null,null,null,null,null,null,"~"]
["BSD",2022,"DC47","1711",69,"Sanitation (in excess of free sanitation service to indigent households)",null,null,null,null,null,null,null,null,null,null,null,null,null,null,null,null,"~"]
["BSD",2022,"DC47","1712",70,"Electricity/other energy (in excess of 50 kwh per indigent household per month)",null,null,null,null,null,null,null,null,null,null,null,null,null,null,null,null,"~"]
["BSD",2022,"DC47","1713",71,"Refuse (in excess of one removal a week for indigent households)",null,null,null,null,null,null,null,null,null,null,null,null,null,null,null,null,"~"]
["BSD",2022,"DC47","1714",72,"Municipal Housing - rental rebates",null,null,null,null,null,null,null,null,null,null,null,null,null,null,null,null,"~"]
["BSD",2022,"DC47","1715",73,"Housing - top structure subsidies",null,null,null,null,null,null,null,null,null,null,null,null,null,null,null,null,"~"]
["BSD",2022,"DC47","1716",74,"Other",null,null,null,null,null,null,null,null,null,null,null,null,null,null,null,null,"~"]
["BSD",2022,"DC47","1717",75,"Total revenue cost of subsidised services provided ",null,null,null,null,null,null,null,null,null,null,null,null,null,null,null,null,"~"]
["SA11",2022,"DC47",1000,"T","Valuation:",null,null,null,null,null,null,null,null,null,null,null,null,null,null,null,null,"~"]
["SA11",2022,"DC47",1001,"T","Date of valuation:",null,null,null,null,null,null,null,null,null,null,null,null,null,null,null,null,"~"]
["SA11",2022,"DC47",1002,"T","Financial year valuation used",null,null,null,null,null,null,null,null,null,null,null,null,null,null,null,null,"~"]
["SA11",2022,"DC47",1003,"T","Municipal by-laws s6 in place? (Y/N)",null,null,null,null,null,null,null,null,null,null,null,null,null,null,null,null,"~"]
["SA11",2022,"DC47",1004,"T","Municipal/assistant valuer appointed? (Y/N)",null,null,null,null,null,null,null,null,null,null,null,null,null,null,null,null,"~"]
["SA11",2022,"DC47",1005,"T","Municipal partnership s38 used? (Y/N)",null,null,null,null,null,null,null,null,null,null,null,null,null,null,null,null,"~"]
["SA11",2022,"DC47",1006,"V","No. of assistant valuers (FTE)",null,null,null,null,null,null,null,null,null,null,null,null,null,null,null,null,"~"]
["SA11",2022,"DC47",1007,"V","No. of data collectors (FTE)",null,null,null,null,null,null,null,null,null,null,null,null,null,null,null,null,"~"]
["SA11",2022,"DC47",1008,"V","No. of internal valuers (FTE)",null,null,null,null,null,null,null,null,null,null,null,null,null,null,null,null,"~"]
["SA11",2022,"DC47",1009,"V","No. of external valuers (FTE)",null,null,null,null,null,null,null,null,null,null,null,null,null,null,null,null,"~"]
["SA11",2022,"DC47",1010,"V","No. of additional valuers (FTE)",null,null,null,null,null,null,null,null,null,null,null,null,null,null,null,null,"~"]
["SA11",2022,"DC47",1011,"T","Valuation appeal board established? (Y/N)",null,null,null,null,null,null,null,null,null,null,null,null,null,null,null,null,"~"]
["SA11",2022,"DC47",1012,"V","Implementation time of new valuation roll (mths)",null,null,null,null,null,null,null,null,null,null,null,null,null,null,null,null,"~"]
["SA11",2022,"DC47",1020,"V","No. of properties",null,null,null,null,null,null,null,null,null,null,null,null,null,null,null,null,"~"]
["SA11",2022,"DC47",1021,"V","No. of sectional title values",null,null,null,null,null,null,null,null,null,null,null,null,null,null,null,null,"~"]
["SA11",2022,"DC47",1022,"V","No. of unreasonably difficult properties s7(2)",null,null,null,null,null,null,null,null,null,null,null,null,null,null,null,null,"~"]
["SA11",2022,"DC47",1023,"V","No. of supplementary valuations",null,null,null,null,null,null,null,null,null,null,null,null,null,null,null,null,"~"]
["SA11",2022,"DC47",1024,"V","No. of valuation roll amendments",null,null,null,null,null,null,null,null,null,null,null,null,null,null,null,null,"~"]
["SA11",2022,"DC47",1025,"V","No. of objections by rate payers",null,null,null,null,null,null,null,null,null,null,null,null,null,null,null,null,"~"]
["SA11",2022,"DC47",1026,"V","No. of appeals by rate payers",null,null,null,null,null,null,null,null,null,null,null,null,null,null,null,null,"~"]
["SA11",2022,"DC47",1028,"V","No. of successful objections",null,null,null,null,null,null,null,null,null,null,null,null,null,null,null,null,"~"]
["SA11",2022,"DC47",1029,"V","No. of successful objections > 10%",null,null,null,null,null,null,null,null,null,null,null,null,null,null,null,null,"~"]
["SA11",2022,"DC47",1030,"V","Supplementary valuation",null,null,null,null,null,null,null,null,null,null,null,null,null,null,null,null,"~"]
["SA11",2022,"DC47",1031,"V","Public service infrastructure value ",null,null,null,null,null,null,null,null,null,null,null,null,null,null,null,null,"~"]
["SA11",2022,"DC47",1032,"V","Municipality owned property value ",null,null,null,null,null,null,null,null,null,null,null,null,null,null,null,null,"~"]
["SA11",2022,"DC47",1100,"T","Valuation reductions:",null,null,null,null,null,null,null,null,null,null,null,null,null,null,null,null,"~"]
["SA11",2022,"DC47",1101,"V","Valuation reductions-public infrastructure",null,null,null,null,null,null,null,null,null,null,null,null,null,null,null,null,"~"]
["SA11",2022,"DC47",1102,"V","Valuation reductions-nature reserves/park",null,null,null,null,null,null,null,null,null,null,null,null,null,null,null,null,"~"]
["SA11",2022,"DC47",1103,"V","Valuation reductions-mineral rights",null,null,null,null,null,null,null,null,null,null,null,null,null,null,null,null,"~"]
["SA11",2022,"DC47",1104,"V","Valuation reductions-R15,000 threshold",null,null,null,null,null,null,null,null,null,null,null,null,null,null,null,null,"~"]
["SA11",2022,"DC47",1105,"V","Valuation reductions-public worship ",null,null,null,null,null,null,null,null,null,null,null,null,null,null,null,null,"~"]
["SA11",2022,"DC47",1106,"V","Valuation reductions-other",null,null,null,null,null,null,null,null,null,null,null,null,null,null,null,null,"~"]
["SA11",2022,"DC47",1107,"V","Total valuation reductions:",null,null,null,null,null,null,null,null,null,null,null,null,null,null,null,null,"~"]
["SA11",2022,"DC47",1108,"V","Total value used for rating",null,null,null,null,null,null,null,null,null,null,null,null,null,null,null,null,"~"]
["SA11",2022,"DC47",1109,"V","Total land value ",null,null,null,null,null,null,null,null,null,null,null,null,null,null,null,null,"~"]
["SA11",2022,"DC47",1110,"V","Total value of improvements",null,null,null,null,null,null,null,null,null,null,null,null,null,null,null,null,"~"]
["SA11",2022,"DC47",1111,"V","Total market value",null,null,null,null,null,null,null,null,null,null,null,null,null,null,null,null,"~"]
["SA11",2022,"DC47",null,null,null,null,null,null,null,null,null,null,null,null,null,null,null,null,null,null,null,"~"]
["SA11",2022,"DC47",1200,"T","Rating:",null,null,null,null,null,null,null,null,null,null,null,null,null,null,null,null,"~"]
["SA11",2022,"DC47",1202,"T","Residential rate used to determine rate for other categories? (Y/N)",null,null,null,null,null,null,null,null,null,null,null,null,null,null,null,null,"~"]
["SA11",2022,"DC47",1203,"T","Differential rates used? (Y/N)",null,null,null,null,null,null,null,null,null,null,null,null,null,null,null,null,"~"]
["SA11",2022,"DC47",1204,"T","Limit on annual rate increase (s20)? (Y/N)",null,null,null,null,null,null,null,null,null,null,null,null,null,null,null,null,"~"]
["SA11",2022,"DC47",1205,"T","Special rating area used? (Y/N)",null,null,null,null,null,null,null,null,null,null,null,null,null,null,null,null,"~"]
["SA11",2022,"DC47",1206,"V","Phasing-in properties s21 (number)",null,null,null,null,null,null,null,null,null,null,null,null,null,null,null,null,"~"]
["SA11",2022,"DC47",1207,"T","Rates policy accompanying budget? (Y/N)",null,null,null,null,null,null,null,null,null,null,null,null,null,null,null,null,"~"]
["SA11",2022,"DC47",1208,"V","Fixed amount minimum value",null,null,null,null,null,null,null,null,null,null,null,null,null,null,null,null,"~"]
["SA11",2022,"DC47",1209,"P","Non-residential prescribed ratio s19? (%)",null,null,null,null,null,null,null,null,null,null,null,null,null,null,null,null,"~"]
["SA11",2022,"DC47",null,null,null,null,null,null,null,null,null,null,null,null,null,null,null,null,null,null,null,"~"]
["SA11",2022,"DC47",1300,"T","Rate revenue:",null,null,null,null,null,null,null,null,null,null,null,null,null,null,null,null,"~"]
["SA11",2022,"DC47",1301,"V","Rate revenue budget ",null,null,null,null,null,null,null,null,null,null,null,null,null,null,null,null,"~"]
["SA11",2022,"DC47",1302,"V","Rate revenue expected to collect",null,null,null,null,null,null,null,null,null,null,null,null,null,null,null,null,"~"]
["SA11",2022,"DC47",1303,"P","Expected cash collection rate (%)",null,null,null,null,null,null,null,null,null,null,null,null,null,null,null,null,"~"]
["SA11",{"$f":"+MTREF","v":2022},{"$f":"LEFT(muni,(FIND(\" \",muni,1)-1))","v":"DC47"},1304,"V","Special rating areas",null,null,null,null,null,null,null,null,null,null,null,null,null,null,null,null,"~"]
["SA11",2022,"DC47",1305,"V","Rebates, exemptions - indigent",null,null,null,null,null,null,null,null,null,null,null,null,null,null,null,null,"~"]
["SA11",2022,"DC47",1306,"V","Rebates, exemptions - pensioners",null,null,null,null,null,null,null,null,null,null,null,null,null,null,null,null,"~"]
["SA11",2022,"DC47",1307,"V","Rebates, exemptions - bona fide farm",null,null,null,null,null,null,null,null,null,null,null,null,null,null,null,null,"~"]
["SA11",2022,"DC47",1308,"V","Rebates, exemptions - other",null,null,null,null,null,null,null,null,null,null,null,null,null,null,null,null,"~"]
["SA11",2022,"DC47",1309,"V","Phase-in reductions/discounts",null,null,null,null,null,null,null,null,null,null,null,null,null,null,null,null,"~"]
["SA11",2022,"DC47",1310,"V","Total rebates,exemptns,reductns,discs",null,null,null,null,null,null,null,null,null,null,null,null,null,null,null,null,"~"]
["SA12",2022,"DC47",1000,"T","Valuation:",null,null,null,null,null,null,null,null,null,null,null,null,null,null,null,null,"~"]
["SA12",2022,"DC47",1020,"V","No. of properties",null,null,null,null,null,null,null,null,null,null,null,null,null,null,null,null,"~"]
["SA12",2022,"DC47",1021,"V","No. of sectional title property values",null,null,null,null,null,null,null,null,null,null,null,null,null,null,null,null,"~"]
["SA12",2022,"DC47",1022,"V","No. of unreasonably difficult properties s7(2)",null,null,null,null,null,null,null,null,null,null,null,null,null,null,null,null,"~"]
["SA12",2022,"DC47",1023,"V","No. of supplementary valuations",null,null,null,null,null,null,null,null,null,null,null,null,null,null,null,null,"~"]
["SA12",2022,"DC47",1030,"V","Supplementary valuation ",null,null,null,null,null,null,null,null,null,null,null,null,null,null,null,null,"~"]
["SA12",2022,"DC47",1024,"V","No. of valuation roll amendments",null,null,null,null,null,null,null,null,null,null,null,null,null,null,null,null,"~"]
["SA12",2022,"DC47",1025,"V","No. of objections by rate-payers",null,null,null,null,null,null,null,null,null,null,null,null,null,null,null,null,"~"]
["SA12",2022,"DC47",1026,"V","No. of appeals by rate-payers",null,null,null,null,null,null,null,null,null,null,null,null,null,null,null,null,"~"]
["SA12",2022,"DC47",1027,"V","No. of appeals by rate-payers finalised",null,null,null,null,null,null,null,null,null,null,null,null,null,null,null,null,"~"]
["SA12",2022,"DC47",1028,"V","No. of successful objections",null,null,null,null,null,null,null,null,null,null,null,null,null,null,null,null,"~"]
["SA12",2022,"DC47",1029,"V","No. of successful objections > 10%",null,null,null,null,null,null,null,null,null,null,null,null,null,null,null,null,"~"]
["SA12",2022,"DC47",1040,"V","Estimated no. of properties not valued",null,null,null,null,null,null,null,null,null,null,null,null,null,null,null,null,"~"]
["SA12",2022,"DC47",1041,"T","Years since last valuation",null,null,null,null,null,null,null,null,null,null,null,null,null,null,null,null,"~"]
["SA12",2022,"DC47",1042,"T","Frequency of valuation ",null,null,null,null,null,null,null,null,null,null,null,null,null,null,null,null,"~"]
["SA12",2022,"DC47",1043,"T","Method of valuation used",null,null,null,null,null,null,null,null,null,null,null,null,null,null,null,null,"~"]
["SA12",2022,"DC47",1044,"T","Base of valuation",null,null,null,null,null,null,null,null,null,null,null,null,null,null,null,null,"~"]
["SA12",2022,"DC47",1206,"V","Phasing-in properties s21 (number)",null,null,null,null,null,null,null,null,null,null,null,null,null,null,null,null,"~"]
["SA12",2022,"DC47",1046,"T","Combination of rating types used? (Y/N)",null,null,null,null,null,null,null,null,null,null,null,null,null,null,null,null,"~"]
["SA12",2022,"DC47",1047,"T","Flat rate used? (Y/N)",null,null,null,null,null,null,null,null,null,null,null,null,null,null,null,null,"~"]
["SA12",2022,"DC47",1048,"T","Is balance rated by uniform rate/variable rate?",null,null,null,null,null,null,null,null,null,null,null,null,null,null,null,null,"~"]
["SA12",2022,"DC47",1100,"T","Valuation reductions:",null,null,null,null,null,null,null,null,null,null,null,null,null,null,null,null,"~"]
["SA12",2022,"DC47",1101,"V","Valuation reductions-public infrastructure",null,null,null,null,null,null,null,null,null,null,null,null,null,null,null,null,"~"]
["SA12",2022,"DC47",1102,"V","Valuation reductions-nature reserves/park",null,null,null,null,null,null,null,null,null,null,null,null,null,null,null,null,"~"]
["SA12",2022,"DC47",1103,"V","Valuation reductions-mineral rights",null,null,null,null,null,null,null,null,null,null,null,null,null,null,null,null,"~"]
["SA12",2022,"DC47",1104,"V","Valuation reductions-R15,000 threshold ",null,null,null,null,null,null,null,null,null,null,null,null,null,null,null,null,"~"]
["SA12",2022,"DC47",1105,"V","Valuation reductions-public worship",null,null,null,null,null,null,null,null,null,null,null,null,null,null,null,null,"~"]
["SA12",2022,"DC47",1106,"V","Valuation reductions-other",null,null,null,null,null,null,null,null,null,null,null,null,null,null,null,null,"~"]
["SA12",2022,"DC47",1107,"V","Total valuation reductions:",null,null,null,null,null,null,null,null,null,null,null,null,null,null,null,null,"~"]
["SA12",2022,"DC47",1108,"V","Total value used for rating",null,null,null,null,null,null,null,null,null,null,null,null,null,null,null,null,"~"]
["SA12",2022,"DC47",1109,"V","Total land value ",null,null,null,null,null,null,null,null,null,null,null,null,null,null,null,null,"~"]
["SA12",2022,"DC47",1110,"V","Total value of improvements",null,null,null,null,null,null,null,null,null,null,null,null,null,null,null,null,"~"]
["SA12",2022,"DC47",1111,"V","Total market value ",null,null,null,null,null,null,null,null,null,null,null,null,null,null,null,null,"~"]
["SA12",2022,"DC47",1200,"T","Rating:",null,null,null,null,null,null,null,null,null,null,null,null,null,null,null,null,"~"]
["SA12",2022,"DC47",1201,"V","Average rate",null,null,null,null,null,null,null,null,null,null,null,null,null,null,null,null,"~"]
["SA12",2022,"DC47",1301,"V","Rate revenue budget ",null,null,null,null,null,null,null,null,null,null,null,null,null,null,null,null,"~"]
["SA12",2022,"DC47",1302,"V","Rate revenue expected to collect",null,null,null,null,null,null,null,null,null,null,null,null,null,null,null,null,"~"]
["SA12",2022,"DC47",1303,"P","Expected cash collection rate (%)",null,null,null,null,null,null,null,null,null,null,null,null,null,null,null,null,"~"]
["SA12",2022,"DC47",1304,"V","Special rating areas",null,null,null,null,null,null,null,null,null,null,null,null,null,null,null,null,"~"]
["SA12",2022,"DC47",1305,"V","Rebates, exemptions - indigent",null,null,null,null,null,null,null,null,null,null,null,null,null,null,null,null,"~"]
["SA12",2022,"DC47",1306,"V","Rebates, exemptions - pensioners",null,null,null,null,null,null,null,null,null,null,null,null,null,null,null,null,"~"]
["SA12",2022,"DC47",1307,"V","Rebates, exemptions - bona fide farm. ",null,null,null,null,null,null,null,null,null,null,null,null,null,null,null,null,"~"]
["SA12",2022,"DC47",1308,"V","Rebates, exemptions - other ",null,null,null,null,null,null,null,null,null,null,null,null,null,null,null,null,"~"]
["SA12",2022,"DC47",1309,"V","Phase-in reductions/discounts ",null,null,null,null,null,null,null,null,null,null,null,null,null,null,null,null,"~"]
["SA12",2022,"DC47",1310,"V","Total rebates,exemptns,reductns,discs",null,null,null,null,null,null,null,null,null,null,null,null,null,null,null,null,"~"]
["SA12",2022,"DC47",null,null,null,null,null,null,null,null,null,null,null,null,null,null,null,null,null,null,null,"~"]
["SA12",2022,"DC47",null,null,null,null,null,null,null,null,null,null,null,null,null,null,null,null,null,null,null,"~"]
["SA12",2022,"DC47",null,null,null,null,null,null,null,null,null,null,null,null,null,null,null,null,null,null,null,"~"]
["SA12",2022,"DC47",null,null,null,null,null,null,null,null,null,null,null,null,null,null,null,null,null,null,null,"~"]
["SA12",2022,"DC47",1000,"T","Valuation:",null,null,null,null,null,null,null,null,null,null,null,null,null,null,null,null,"~"]
["SA12",2022,"DC47",1020,"V","No. of properties",null,null,null,null,null,null,null,null,null,null,null,null,null,null,null,null,"~"]
["SA12",2022,"DC47",1021,"V","No. of sectional title property values",null,null,null,null,null,null,null,null,null,null,null,null,null,null,null,null,"~"]
["SA12",2022,"DC47",1022,"V","No. of unreasonably difficult properties s7(2)",null,null,null,null,null,null,null,null,null,null,null,null,null,null,null,null,"~"]
["SA12",2022,"DC47",1023,"V","No. of supplementary valuations",null,null,null,null,null,null,null,null,null,null,null,null,null,null,null,null,"~"]
["SA12",2022,"DC47",1030,"V","Supplementary valuation ",null,null,null,null,null,null,null,null,null,null,null,null,null,null,null,null,"~"]
["SA12",2022,"DC47",1024,"V","No. of valuation roll amendments",null,null,null,null,null,null,null,null,null,null,null,null,null,null,null,null,"~"]
["SA12",2022,"DC47",1025,"V","No. of objections by rate-payers",null,null,null,null,null,null,null,null,null,null,null,null,null,null,null,null,"~"]
["SA12",{"$f":"+MTREF","v":2022},{"$f":"LEFT(muni,(FIND(\" \",muni,1)-1))","v":"DC47"},1026,"V","No. of appeals by rate-payers",null,null,null,null,null,null,null,null,null,null,null,null,null,null,null,null,"~"]
["SA12",2022,"DC47",1027,"V","No. of appeals by rate-payers finalised",null,null,null,null,null,null,null,null,null,null,null,null,null,null,null,null,"~"]
["SA12",2022,"DC47",1028,"V","No. of successful objections",null,null,null,null,null,null,null,null,null,null,null,null,null,null,null,null,"~"]
["SA12",2022,"DC47",1029,"V","No. of successful objections > 10%",null,null,null,null,null,null,null,null,null,null,null,null,null,null,null,null,"~"]
["SA12",2022,"DC47",1040,"V","Estimated no. of properties not valued",null,null,null,null,null,null,null,null,null,null,null,null,null,null,null,null,"~"]
["SA12",2022,"DC47",1041,"T","Years since last valuation",null,null,null,null,null,null,null,null,null,null,null,null,null,null,null,null,"~"]
["SA12",2022,"DC47",1042,"T","Frequency of valuation ",null,null,null,null,null,null,null,null,null,null,null,null,null,null,null,null,"~"]
["SA12",2022,"DC47",1043,"T","Method of valuation used",null,null,null,null,null,null,null,null,null,null,null,null,null,null,null,null,"~"]
["SA12",2022,"DC47",1044,"T","Base of valuation",null,null,null,null,null,null,null,null,null,null,null,null,null,null,null,null,"~"]
["SA12",2022,"DC47",1206,"V","Phasing-in properties s21 (number)",null,null,null,null,null,null,null,null,null,null,null,null,null,null,null,null,"~"]
["SA12",2022,"DC47",1046,"T","Combination of rating types used? (Y/N)",null,null,null,null,null,null,null,null,null,null,null,null,null,null,null,null,"~"]
["SA12",2022,"DC47",1047,"T","Flat rate used? (Y/N)",null,null,null,null,null,null,null,null,null,null,null,null,null,null,null,null,"~"]
["SA12",2022,"DC47",1048,"T","Is balance rated by uniform rate/variable rate?",null,null,null,null,null,null,null,null,null,null,null,null,null,null,null,null,"~"]
["SA12",2022,"DC47",1100,"T","Valuation reductions:",null,null,null,null,null,null,null,null,null,null,null,null,null,null,null,null,"~"]
["SA12",2022,"DC47",1101,"V","Valuation reductions-public infrastructure",null,null,null,null,null,null,null,null,null,null,null,null,null,null,null,null,"~"]
["SA12",2022,"DC47",1102,"V","Valuation reductions-nature reserves/park",null,null,null,null,null,null,null,null,null,null,null,null,null,null,null,null,"~"]
["SA12",2022,"DC47",1103,"V","Valuation reductions-mineral rights",null,null,null,null,null,null,null,null,null,null,null,null,null,null,null,null,"~"]
["SA12",2022,"DC47",1104,"V","Valuation reductions-R15,000 threshold ",null,null,null,null,null,null,null,null,null,null,null,null,null,null,null,null,"~"]
["SA12",2022,"DC47",1105,"V","Valuation reductions-public worship",null,null,null,null,null,null,null,null,null,null,null,null,null,null,null,null,"~"]
["SA12",2022,"DC47",1106,"V","Valuation reductions-other",null,null,null,null,null,null,null,null,null,null,null,null,null,null,null,null,"~"]
["SA12",2022,"DC47",1107,"V","Total valuation reductions:",null,null,null,null,null,null,null,null,null,null,null,null,null,null,null,null,"~"]
["SA12",2022,"DC47",1108,"V","Total value used for rating",null,null,null,null,null,null,null,null,null,null,null,null,null,null,null,null,"~"]
["SA12",2022,"DC47",1109,"V","Total land value ",null,null,null,null,null,null,null,null,null,null,null,null,null,null,null,null,"~"]
["SA12",2022,"DC47",1110,"V","Total value of improvements",null,null,null,null,null,null,null,null,null,null,null,null,null,null,null,null,"~"]
["SA12",2022,"DC47",1111,"V","Total market value ",null,null,null,null,null,null,null,null,null,null,null,null,null,null,null,null,"~"]
["SA12",2022,"DC47",1200,"T","Rating:",null,null,null,null,null,null,null,null,null,null,null,null,null,null,null,null,"~"]
["SA12",2022,"DC47",1201,"V","Average rate",null,null,null,null,null,null,null,null,null,null,null,null,null,null,null,null,"~"]
["SA12",2022,"DC47",1301,"V","Rate revenue budget ",null,null,null,null,null,null,null,null,null,null,null,null,null,null,null,null,"~"]
["SA12",2022,"DC47",1302,"V","Rate revenue expected to collect",null,null,null,null,null,null,null,null,null,null,null,null,null,null,null,null,"~"]
["SA12",2022,"DC47",1303,"P","Expected cash collection rate (%)",null,null,null,null,null,null,null,null,null,null,null,null,null,null,null,null,"~"]
["SA12",2022,"DC47",1304,"V","Special rating areas",null,null,null,null,null,null,null,null,null,null,null,null,null,null,null,null,"~"]
["SA12",2022,"DC47",1305,"V","Rebates, exemptions - indigent",null,null,null,null,null,null,null,null,null,null,null,null,null,null,null,null,"~"]
["SA12",2022,"DC47",1306,"V","Rebates, exemptions - pensioners",null,null,null,null,null,null,null,null,null,null,null,null,null,null,null,null,"~"]
["SA12",2022,"DC47",1307,"V","Rebates, exemptions - bona fide farm. ",null,null,null,null,null,null,null,null,null,null,null,null,null,null,null,null,"~"]
["SA12",2022,"DC47",1308,"V","Rebates, exemptions - other ",null,null,null,null,null,null,null,null,null,null,null,null,null,null,null,null,"~"]
["SA12",2022,"DC47",1309,"V","Phase-in reductions/discounts ",null,null,null,null,null,null,null,null,null,null,null,null,null,null,null,null,"~"]
["SA12",2022,"DC47",1310,"V","Total rebates,exemptns,reductns,discs",null,null,null,null,null,null,null,null,null,null,null,null,null,null,null,null,"~"]
["SA13",2022,"DC47",1000,1,"Property rates (rate in the Rand)",null,null,null,null,null,null,null,null,null,null,null,null,null,null,null,null,"~"]
["SA13",2022,"DC47",1001,2,"Residential properties",null,null,null,null,null,null,null,null,null,null,null,null,null,null,null,null,"~"]
["SA13",2022,"DC47",1002,3,"Residential properties - vacant land",null,null,null,null,null,null,null,null,null,null,null,null,null,null,null,null,"~"]
["SA13",2022,"DC47",1003,4,"Formal/informal settlements",null,null,null,null,null,null,null,null,null,null,null,null,null,null,null,null,"~"]
["SA13",2022,"DC47",1004,5,"Small holdings",null,null,null,null,null,null,null,null,null,null,null,null,null,null,null,null,"~"]
["SA13",2022,"DC47",1005,6,"Farm properties - used",null,null,null,null,null,null,null,null,null,null,null,null,null,null,null,null,"~"]
["SA13",2022,"DC47",1006,7,"Farm properties - not used",null,null,null,null,null,null,null,null,null,null,null,null,null,null,null,null,"~"]
["SA13",2022,"DC47",1007,8,"Industrial properties",null,null,null,null,null,null,null,null,null,null,null,null,null,null,null,null,"~"]
["SA13",2022,"DC47",1008,9,"Business and commercial properties",null,null,null,null,null,null,null,null,null,null,null,null,null,null,null,null,"~"]
["SA13",2022,"DC47",1009,10,"Communal land - residential",null,null,null,null,null,null,null,null,null,null,null,null,null,null,null,null,"~"]
["SA13",2022,"DC47",1010,11,"Communal land - small holdings",null,null,null,null,null,null,null,null,null,null,null,null,null,null,null,null,"~"]
["SA13",2022,"DC47",1011,12,"Communal land - farm property",null,null,null,null,null,null,null,null,null,null,null,null,null,null,null,null,"~"]
["SA13",2022,"DC47",1012,13,"Communal land - business and commercial",null,null,null,null,null,null,null,null,null,null,null,null,null,null,null,null,"~"]
["SA13",2022,"DC47",1013,14,"Communal land - other",null,null,null,null,null,null,null,null,null,null,null,null,null,null,null,null,"~"]
["SA13",2022,"DC47",1014,15,"State-owned properties",null,null,null,null,null,null,null,null,null,null,null,null,null,null,null,null,"~"]
["SA13",2022,"DC47",1015,16,"Municipal properties",null,null,null,null,null,null,null,null,null,null,null,null,null,null,null,null,"~"]
["SA13",2022,"DC47",1016,17,"Public service infrastructure",null,null,null,null,null,null,null,null,null,null,null,null,null,null,null,null,"~"]
["SA13",2022,"DC47",1017,18,"Privately owned towns serviced by the owner",null,null,null,null,null,null,null,null,null,null,null,null,null,null,null,null,"~"]
["SA13",2022,"DC47",1018,19,"State trust land",null,null,null,null,null,null,null,null,null,null,null,null,null,null,null,null,"~"]
["SA13",2022,"DC47",1019,20,"Restitution and redistribution properties",null,null,null,null,null,null,null,null,null,null,null,null,null,null,null,null,"~"]
["SA13",2022,"DC47",1020,21,"Protected areas",null,null,null,null,null,null,null,null,null,null,null,null,null,null,null,null,"~"]
["SA13",2022,"DC47",1021,22,"National monuments properties",null,null,null,null,null,null,null,null,null,null,null,null,null,null,null,null,"~"]
["SA13",2022,"DC47",null,null,null,null,null,null,null,null,null,null,null,null,null,null,null,null,null,null,null,"~"]
["SA13",2022,"DC47",1030,23,"Exemptions, reductions and rebates (Rands)",null,null,null,null,null,null,null,null,null,null,null,null,null,null,null,null,"~"]
["SA13",2022,"DC47",1031,24,"Residential properties",null,null,null,null,null,null,null,null,null,null,null,null,null,null,null,null,"~"]
["SA13",2022,"DC47",1032,25,"R15 000 threshhold rebate",null,null,null,null,null,null,null,null,null,null,null,null,null,null,null,null,"~"]
["SA13",2022,"DC47",1033,26,"General residential rebate",null,null,null,null,null,null,null,null,null,null,null,null,null,null,null,null,"~"]
["SA13",{"$f":"+MTREF","v":2022},{"$f":"LEFT(muni,(FIND(\" \",muni,1)-1))","v":"DC47"},1034,27,"Indigent rebate or exemption",null,null,null,null,null,null,null,null,null,null,null,null,null,null,null,null,"~"]
["SA13",2022,"DC47",1035,28,"Pensioners/social grants rebate or exemption ",null,null,null,null,null,null,null,null,null,null,null,null,null,null,null,null,"~"]
["SA13",2022,"DC47",1036,29,"Temporary relief rebate or exemption",null,null,null,null,null,null,null,null,null,null,null,null,null,null,null,null,"~"]
["SA13",2022,"DC47",1037,30," Bona fide farmers rebate or exemption",null,null,null,null,null,null,null,null,null,null,null,null,null,null,null,null,"~"]
["SA13",2022,"DC47",1038,31,"Other rebates or exemptions",null,null,null,null,null,null,null,null,null,null,null,null,null,null,null,null,"~"]
["SA13",2022,"DC47",null,null,null,null,null,null,null,null,null,null,null,null,null,null,null,null,null,null,null,"~"]
["SA13",2022,"DC47",1100,32,"Water tariffs",null,null,null,null,null,null,null,null,null,null,null,null,null,null,null,null,"~"]
["SA13",2022,"DC47",1101,33,"Domestic",null,null,null,null,null,null,null,null,null,null,null,null,null,null,null,null,"~"]
["SA13",2022,"DC47",1102,34,"Basic charge/fixed fee (Rands/month)",null,null,null,null,null,null,null,null,null,null,null,null,null,null,null,null,"~"]
["SA13",2022,"DC47",1103,35,"Service point - vacant land (Rands/month)",null,null,null,null,null,null,null,null,null,null,null,null,null,null,null,null,"~"]
["SA13",2022,"DC47",1104,36,"Water usage - flat rate tariff (c/kl)",null,null,null,null,null,null,null,null,null,null,null,null,null,null,null,null,"~"]
["SA13",2022,"DC47",1105,37,"Water usage - life line tariff",null,null,null,null,null,null,null,null,null,null,null,null,null,null,null,null,"~"]
["SA13",2022,"DC47",1106,38,"Water usage - Block 1 (c/kl)",null,null,null,null,null,null,null,null,null,null,null,null,null,null,null,null,"~"]
["SA13",2022,"DC47",1107,39,"Water usage - Block 2 (c/kl)",null,null,null,null,null,null,null,null,null,null,null,null,null,null,null,null,"~"]
["SA13",2022,"DC47",1108,40,"Water usage - Block 3 (c/kl)",null,null,null,null,null,null,null,null,null,null,null,null,null,null,null,null,"~"]
["SA13",2022,"DC47",1109,41,"Water usage - Block 4 (c/kl)",null,null,null,null,null,null,null,null,null,null,null,null,null,null,null,null,"~"]
["SA13",2022,"DC47",1110,42,"Other",null,null,null,null,null,null,null,null,null,null,null,null,null,null,null,null,"~"]
["SA13",2022,"DC47",null,null,null,null,null,null,null,null,null,null,null,null,null,null,null,null,null,null,null,"~"]
["SA13",2022,"DC47",1200,43,"Waste water tariffs",null,null,null,null,null,null,null,null,null,null,null,null,null,null,null,null,"~"]
["SA13",2022,"DC47",1201,44,"Domestic",null,null,null,null,null,null,null,null,null,null,null,null,null,null,null,null,"~"]
["SA13",2022,"DC47",1202,45,"Basic charge/fixed fee (Rands/month)",null,null,null,null,null,null,null,null,null,null,null,null,null,null,null,null,"~"]
["SA13",2022,"DC47",1203,46,"Service point - vacant land (Rands/month)",null,null,null,null,null,null,null,null,null,null,null,null,null,null,null,null,"~"]
["SA13",2022,"DC47",1204,47,"Waste water - flat rate tariff (c/kl)",null,null,null,null,null,null,null,null,null,null,null,null,null,null,null,null,"~"]
["SA13",2022,"DC47",1205,48,"Volumetric charge - Block 1 (c/kl)",null,null,null,null,null,null,null,null,null,null,null,null,null,null,null,null,"~"]
["SA13",2022,"DC47",1206,49,"Volumetric charge - Block 2 (c/kl)",null,null,null,null,null,null,null,null,null,null,null,null,null,null,null,null,"~"]
["SA13",2022,"DC47",1207,50,"Volumetric charge - Block 3 (c/kl)",null,null,null,null,null,null,null,null,null,null,null,null,null,null,null,null,"~"]
["SA13",2022,"DC47",1208,51,"Volumetric charge - Block 4 (c/kl)",null,null,null,null,null,null,null,null,null,null,null,null,null,null,null,null,"~"]
["SA13",2022,"DC47",1209,52,"Other",null,null,null,null,null,null,null,null,null,null,null,null,null,null,null,null,"~"]
["SA13",2022,"DC47",null,null,null,null,null,null,null,null,null,null,null,null,null,null,null,null,null,null,null,"~"]
["SA13",2022,"DC47",1300,53,"Electricity tariffs",null,null,null,null,null,null,null,null,null,null,null,null,null,null,null,null,"~"]
["SA13",2022,"DC47",1301,54,"Domestic",null,null,null,null,null,null,null,null,null,null,null,null,null,null,null,null,"~"]
["SA13",2022,"DC47",1302,55,"Basic charge/fixed fee (Rands/month)",null,null,null,null,null,null,null,null,null,null,null,null,null,null,null,null,"~"]
["SA13",2022,"DC47",1303,56,"Service point - vacant land (Rands/month)",null,null,null,null,null,null,null,null,null,null,null,null,null,null,null,null,"~"]
["SA13",2022,"DC47",1304,57,"FBE",null,null,null,null,null,null,null,null,null,null,null,null,null,null,null,null,"~"]
["SA13",2022,"DC47",1305,58,"Life-line tariff - meter",null,null,null,null,null,null,null,null,null,null,null,null,null,null,null,null,"~"]
["SA13",2022,"DC47",1306,59,"Life-line tariff - prepaid",null,null,null,null,null,null,null,null,null,null,null,null,null,null,null,null,"~"]
["SA13",2022,"DC47",1307,60,"Flat rate tariff - meter (c/kwh)",null,null,null,null,null,null,null,null,null,null,null,null,null,null,null,null,"~"]
["SA13",2022,"DC47",1308,61,"Flat rate tariff - prepaid(c/kwh)",null,null,null,null,null,null,null,null,null,null,null,null,null,null,null,null,"~"]
["SA13",2022,"DC47",1309,62,"Meter - IBT Block 1 (c/kwh)",null,null,null,null,null,null,null,null,null,null,null,null,null,null,null,null,"~"]
["SA13",2022,"DC47",1310,63,"Meter - IBT Block 2 (c/kwh)",null,null,null,null,null,null,null,null,null,null,null,null,null,null,null,null,"~"]
["SA13",2022,"DC47",1311,64,"Meter - IBT Block 3 (c/kwh)",null,null,null,null,null,null,null,null,null,null,null,null,null,null,null,null,"~"]
["SA13",2022,"DC47",1312,65,"Meter - IBT Block 4 (c/kwh)",null,null,null,null,null,null,null,null,null,null,null,null,null,null,null,null,"~"]
["SA13",2022,"DC47",1313,66,"Meter - IBT Block 5 (c/kwh)",null,null,null,null,null,null,null,null,null,null,null,null,null,null,null,null,"~"]
["SA13",2022,"DC47",1314,67,"Prepaid - IBT Block 1 (c/kwh)",null,null,null,null,null,null,null,null,null,null,null,null,null,null,null,null,"~"]
["SA13",2022,"DC47",1315,68,"Prepaid - IBT Block 2 (c/kwh)",null,null,null,null,null,null,null,null,null,null,null,null,null,null,null,null,"~"]
["SA13",2022,"DC47",1316,69,"Prepaid - IBT Block 3 (c/kwh)",null,null,null,null,null,null,null,null,null,null,null,null,null,null,null,null,"~"]
["SA13",2022,"DC47",1317,70,"Prepaid - IBT Block 4 (c/kwh)",null,null,null,null,null,null,null,null,null,null,null,null,null,null,null,null,"~"]
["SA13",2022,"DC47",1318,71,"Prepaid - IBT Block 5 (c/kwh)",null,null,null,null,null,null,null,null,null,null,null,null,null,null,null,null,"~"]
["SA13",2022,"DC47",1319,72,"Other",null,null,null,null,null,null,null,null,null,null,null,null,null,null,null,null,"~"]
["SA13",2022,"DC47",null,null,null,null,null,null,null,null,null,null,null,null,null,null,null,null,null,null,null,"~"]
["SA13",2022,"DC47",1400,73,"Waste management tariffs",null,null,null,null,null,null,null,null,null,null,null,null,null,null,null,null,"~"]
["SA13",2022,"DC47",1401,74,"Domestic",null,null,null,null,null,null,null,null,null,null,null,null,null,null,null,null,"~"]
["SA13",2022,"DC47",1402,75,"Street cleaning charge",null,null,null,null,null,null,null,null,null,null,null,null,null,null,null,null,"~"]
["SA13",2022,"DC47",1403,76,"Basic charge/fixed fee",null,null,null,null,null,null,null,null,null,null,null,null,null,null,null,null,"~"]
["SA13",2022,"DC47",1404,77,"80l bin - once a week",null,null,null,null,null,null,null,null,null,null,null,null,null,null,null,null,"~"]
["SA13",2022,"DC47",1405,78,"250l bin - once a week",null,null,null,null,null,null,null,null,null,null,null,null,null,null,null,null,"~"]
["SA14",2022,"DC47",1000,1,"Monthly Account for Household - 'Middle Income Range'",null,null,null,null,null,null,null,null,null,null,null,null,null,null,null,null,"~"]
["SA14",2022,"DC47",1001,2,"Rates and services charges:",null,null,null,null,null,null,null,null,null,null,null,null,null,null,null,null,"~"]
["SA14",2022,"DC47",1002,3,"Property rates",null,null,null,null,null,null,null,null,null,null,null,null,null,null,null,null,"~"]
["SA14",2022,"DC47",1003,4,"Electricity: Basic levy",null,null,null,null,null,null,null,null,null,null,null,null,null,null,null,null,"~"]
["SA14",2022,"DC47",1004,5,"Electricity: Consumption",null,null,null,null,null,null,null,null,null,null,null,null,null,null,null,null,"~"]
["SA14",2022,"DC47",1005,6,"Water: Basic levy",null,null,null,null,null,null,null,null,null,null,null,null,null,null,null,null,"~"]
["SA14",2022,"DC47",1006,7,"Water: Consumption",null,null,null,null,null,null,null,null,null,null,null,null,null,null,null,null,"~"]
["SA14",2022,"DC47",1007,8,"Sanitation",null,null,null,null,null,null,null,null,null,null,null,null,null,null,null,null,"~"]
["SA14",{"$f":"+MTREF","v":2022},{"$f":"LEFT(muni,(FIND(\" \",muni,1)-1))","v":"DC47"},1008,9,"Refuse removal",null,null,null,null,null,null,null,null,null,null,null,null,null,null,null,null,"~"]
["SA14",2022,"DC47",1009,10,"Other",null,null,null,null,null,null,null,null,null,null,null,null,null,null,null,null,"~"]
["SA14",2022,"DC47",1090,11,"sub-total",null,null,null,null,null,null,null,null,null,null,null,null,null,null,null,null,"~"]
["SA14",2022,"DC47",1091,12,"VAT on Services",null,null,null,null,null,null,null,null,null,null,null,null,null,null,null,null,"~"]
["SA14",2022,"DC47",1095,13,"Total large household bill:",null,null,null,null,null,null,null,null,null,null,null,null,null,null,null,null,"~"]
["SA14",2022,"DC47",1096,14,"% increase/-decrease",null,null,null,null,null,null,null,null,null,null,null,null,null,null,null,null,"~"]
["SA14",2022,"DC47",null,null,null,null,null,null,null,null,null,null,null,null,null,null,null,null,null,null,null,"~"]
["SA14",2022,"DC47",1100,15,"Monthly Account for Household - 'Affordable Range' ",null,null,null,null,null,null,null,null,null,null,null,null,null,null,null,null,"~"]
["SA14",2022,"DC47",1101,16,"Rates and services charges:",null,null,null,null,null,null,null,null,null,null,null,null,null,null,null,null,"~"]
["SA14",2022,"DC47",1102,17,"Property rates",null,null,null,null,null,null,null,null,null,null,null,null,null,null,null,null,"~"]
["SA14",2022,"DC47",1103,18,"Electricity: Basic levy",null,null,null,null,null,null,null,null,null,null,null,null,null,null,null,null,"~"]
["SA14",2022,"DC47",1110,19,"Electricity: Consumption",null,null,null,null,null,null,null,null,null,null,null,null,null,null,null,null,"~"]
["SA14",2022,"DC47",1107,20,"Water: Basic levy",null,null,null,null,null,null,null,null,null,null,null,null,null,null,null,null,"~"]
["SA14",2022,"DC47",1104,21,"Water: Consumption",null,null,null,null,null,null,null,null,null,null,null,null,null,null,null,null,"~"]
["SA14",2022,"DC47",1105,22,"Sanitation",null,null,null,null,null,null,null,null,null,null,null,null,null,null,null,null,"~"]
["SA14",2022,"DC47",1106,23,"Refuse removal",null,null,null,null,null,null,null,null,null,null,null,null,null,null,null,null,"~"]
["SA14",2022,"DC47",1108,24,"Other",null,null,null,null,null,null,null,null,null,null,null,null,null,null,null,null,"~"]
["SA14",2022,"DC47",1190,25,"sub-total",null,null,null,null,null,null,null,null,null,null,null,null,null,null,null,null,"~"]
["SA14",2022,"DC47",1191,26,"VAT on Services",null,null,null,null,null,null,null,null,null,null,null,null,null,null,null,null,"~"]
["SA14",2022,"DC47",1195,27,"Total small household bill:",null,null,null,null,null,null,null,null,null,null,null,null,null,null,null,null,"~"]
["SA14",2022,"DC47",1196,28,"% increase/-decrease",null,null,null,null,null,null,null,null,null,null,null,null,null,null,null,null,"~"]
["SA14",2022,"DC47",null,null,null,null,null,null,null,null,null,null,null,null,null,null,null,null,null,null,null,"~"]
["SA14",2022,"DC47",1200,29,"Monthly Account for Household - 'Indigent' HH receiving FBS",null,null,null,null,null,null,null,null,null,null,null,null,null,null,null,null,"~"]
["SA14",2022,"DC47",1201,30,"Rates and services charges:",null,null,null,null,null,null,null,null,null,null,null,null,null,null,null,null,"~"]
["SA14",2022,"DC47",1202,31,"Property rates",null,null,null,null,null,null,null,null,null,null,null,null,null,null,null,null,"~"]
["SA14",2022,"DC47",1203,32,"Electricity: Basic levy",null,null,null,null,null,null,null,null,null,null,null,null,null,null,null,null,"~"]
["SA14",2022,"DC47",1207,33,"Electricity: Consumption",null,null,null,null,null,null,null,null,null,null,null,null,null,null,null,null,"~"]
["SA14",2022,"DC47",1208,34,"Water: Basic levy",null,null,null,null,null,null,null,null,null,null,null,null,null,null,null,null,"~"]
["SA14",2022,"DC47",1204,35,"Water: Consumption",null,null,null,null,null,null,null,null,null,null,null,null,null,null,null,null,"~"]
["SA14",2022,"DC47",1205,36,"Sanitation",null,null,null,null,null,null,null,null,null,null,null,null,null,null,null,null,"~"]
["SA14",2022,"DC47",1206,37,"Refuse removal",null,null,null,null,null,null,null,null,null,null,null,null,null,null,null,null,"~"]
["SA14",2022,"DC47",1209,38,"Other",null,null,null,null,null,null,null,null,null,null,null,null,null,null,null,null,"~"]
["SA14",2022,"DC47",1290,39,"sub-total",null,null,null,null,null,null,null,null,null,null,null,null,null,null,null,null,"~"]
["SA14",2022,"DC47",1291,40,"VAT on Services",null,null,null,null,null,null,null,null,null,null,null,null,null,null,null,null,"~"]
["SA14",2022,"DC47",1295,41,"Total small household bill:",null,null,null,null,null,null,null,null,null,null,null,null,null,null,null,null,"~"]
["SA14",2022,"DC47",1296,42,"% increase/-decrease",null,null,null,null,null,null,null,null,null,null,null,null,null,null,null,null,"~"]
["SA22",2022,"DC47",1000,1,"Councillors (Political Office Bearers plus Other)",null,null,null,null,null,null,null,null,null,null,null,null,null,null,null,null,"~"]
["SA22",2022,"DC47",1001,2,"Basic Salaries and Wages",null,null,null,null,null,null,null,null,null,null,null,null,null,null,null,null,"~"]
["SA22",2022,"DC47",1002,3,"Pension and UIF Contributions",null,null,null,null,null,null,null,null,null,null,null,null,null,null,null,null,"~"]
["SA22",2022,"DC47",1003,4,"Medical Aid Contributions",null,null,null,null,null,null,null,null,null,null,null,null,null,null,null,null,"~"]
["SA22",2022,"DC47",1004,5,"Motor Vehicle Allowance",null,null,null,null,null,null,null,null,null,null,null,null,null,null,null,null,"~"]
["SA22",2022,"DC47",1005,6,"Cellphone Allowance",null,null,null,null,null,null,null,null,null,null,null,null,null,null,null,null,"~"]
["SA22",2022,"DC47",1006,7,"Housing Allowances",null,null,null,null,null,null,null,null,null,null,null,null,null,null,null,null,"~"]
["SA22",2022,"DC47",1007,8,"Other benefits and allowances",null,null,null,null,null,null,null,null,null,null,null,null,null,null,null,null,"~"]
["SA22",2022,"DC47",1090,9,"Sub Total - Councillors",null,null,null,null,null,null,null,null,null,null,null,null,null,null,null,null,"~"]
["SA22",2022,"DC47",1091,10,"% increase",null,null,null,null,null,null,null,null,null,null,null,null,null,null,null,null,"~"]
["SA22",2022,"DC47",null,null,null,null,null,null,null,null,null,null,null,null,null,null,null,null,null,null,null,"~"]
["SA22",2022,"DC47",1100,11,"Senior Managers of the Municipality",null,null,null,null,null,null,null,null,null,null,null,null,null,null,null,null,"~"]
["SA22",2022,"DC47",1101,12,"Basic Salaries and Wages",null,null,null,null,null,null,null,null,null,null,null,null,null,null,null,null,"~"]
["SA22",2022,"DC47",1102,13,"Pension and UIF Contributions",null,null,null,null,null,null,null,null,null,null,null,null,null,null,null,null,"~"]
["SA22",2022,"DC47",1103,14,"Medical Aid Contributions",null,null,null,null,null,null,null,null,null,null,null,null,null,null,null,null,"~"]
["SA22",2022,"DC47",1110,15,"Overtime",null,null,null,null,null,null,null,null,null,null,null,null,null,null,null,null,"~"]
["SA22",2022,"DC47",1107,16,"Performance Bonus",null,null,null,null,null,null,null,null,null,null,null,null,null,null,null,null,"~"]
["SA22",2022,"DC47",1104,17,"Motor Vehicle Allowance",null,null,null,null,null,null,null,null,null,null,null,null,null,null,null,null,"~"]
["SA22",2022,"DC47",1105,18,"Cellphone Allowance",null,null,null,null,null,null,null,null,null,null,null,null,null,null,null,null,"~"]
["SA22",2022,"DC47",1106,19,"Housing Allowances",null,null,null,null,null,null,null,null,null,null,null,null,null,null,null,null,"~"]
["SA22",2022,"DC47",1108,20,"Other benefits and allowances",null,null,null,null,null,null,null,null,null,null,null,null,null,null,null,null,"~"]
["SA22",2022,"DC47",1111,21,"Payments in lieu of leave",null,null,null,null,null,null,null,null,null,null,null,null,null,null,null,null,"~"]
["SA22",2022,"DC47",1112,22,"Long service awards",null,null,null,null,null,null,null,null,null,null,null,null,null,null,null,null,"~"]
["SA22",2022,"DC47",1113,23,"Post-retirement benefit obligations",null,null,null,null,null,null,null,null,null,null,null,null,null,null,null,null,"~"]
["SA22",2022,"DC47",1190,24,"Sub Total - Senior Managers of Municipality",null,null,null,null,null,null,null,null,null,null,null,null,null,null,null,null,"~"]
["SA22",2022,"DC47",1191,25,"% increase",null,null,null,null,null,null,null,null,null,null,null,null,null,null,null,null,"~"]
["SA22",2022,"DC47",null,null,null,null,null,null,null,null,null,null,null,null,null,null,null,null,null,null,null,"~"]
["SA22",2022,"DC47",1200,26,"Other Municipal Staff",null,null,null,null,null,null,null,null,null,null,null,null,null,null,null,null,"~"]
["SA22",{"$f":"+MTREF","v":2022},{"$f":"LEFT(muni,(FIND(\" \",muni,1)-1))","v":"DC47"},1201,27,"Basic Salaries and Wages",null,null,null,null,null,null,null,null,null,null,null,null,null,null,null,null,"~"]
["SA22",2022,"DC47",1202,28,"Pension and UIF Contributions",null,null,null,null,null,null,null,null,null,null,null,null,null,null,null,null,"~"]
["SA22",2022,"DC47",1203,29,"Medical Aid Contributions",null,null,null,null,null,null,null,null,null,null,null,null,null,null,null,null,"~"]
["SA22",2022,"DC47",1207,30,"Overtime",null,null,null,null,null,null,null,null,null,null,null,null,null,null,null,null,"~"]
["SA22",2022,"DC47",1208,31,"Performance Bonus",null,null,null,null,null,null,null,null,null,null,null,null,null,null,null,null,"~"]
["SA22",2022,"DC47",1204,32,"Motor Vehicle Allowance",null,null,null,null,null,null,null,null,null,null,null,null,null,null,null,null,"~"]
["SA22",2022,"DC47",1205,33,"Cellphone Allowance",null,null,null,null,null,null,null,null,null,null,null,null,null,null,null,null,"~"]
["SA22",2022,"DC47",1206,34,"Housing Allowances",null,null,null,null,null,null,null,null,null,null,null,null,null,null,null,null,"~"]
["SA22",2022,"DC47",1209,35,"Other benefits and allowances",null,null,null,null,null,null,null,null,null,null,null,null,null,null,null,null,"~"]
["SA22",2022,"DC47",1211,36,"Payments in lieu of leave",null,null,null,null,null,null,null,null,null,null,null,null,null,null,null,null,"~"]
["SA22",2022,"DC47",1212,37,"Long service awards",null,null,null,null,null,null,null,null,null,null,null,null,null,null,null,null,"~"]
["SA22",2022,"DC47",1213,38,"Post-retirement benefit obligations",null,null,null,null,null,null,null,null,null,null,null,null,null,null,null,null,"~"]
["SA22",2022,"DC47",1290,39,"Sub Total - Other Municipal Staff",null,null,null,null,null,null,null,null,null,null,null,null,null,null,null,null,"~"]
["SA22",2022,"DC47",1291,40,"% increase",null,null,null,null,null,null,null,null,null,null,null,null,null,null,null,null,"~"]
["SA22",2022,"DC47",null,null,null,null,null,null,null,null,null,null,null,null,null,null,null,null,null,null,null,"~"]
["SA22",2022,"DC47",1295,41,"Total Parent Municipality",null,null,null,null,null,null,null,null,null,null,null,null,null,null,null,null,"~"]
["SA22",2022,"DC47",1297,42,"% increase",null,null,null,null,null,null,null,null,null,null,null,null,null,null,null,null,"~"]
["SA22",2022,"DC47",null,null,null,null,null,null,null,null,null,null,null,null,null,null,null,null,null,null,null,"~"]
["SA22",2022,"DC47",2000,43,"Board Members of Entities",null,null,null,null,null,null,null,null,null,null,null,null,null,null,null,null,"~"]
["SA22",2022,"DC47",2001,44,"Basic Salaries and Wages",null,null,null,null,null,null,null,null,null,null,null,null,null,null,null,null,"~"]
["SA22",2022,"DC47",2002,45,"Pension and UIF Contributions",null,null,null,null,null,null,null,null,null,null,null,null,null,null,null,null,"~"]
["SA22",2022,"DC47",2003,46,"Medical Aid Contributions",null,null,null,null,null,null,null,null,null,null,null,null,null,null,null,null,"~"]
["SA22",2022,"DC47",2010,47,"Overtime",null,null,null,null,null,null,null,null,null,null,null,null,null,null,null,null,"~"]
["SA22",2022,"DC47",2011,48,"Performance Bonus",null,null,null,null,null,null,null,null,null,null,null,null,null,null,null,null,"~"]
["SA22",2022,"DC47",2004,49,"Motor Vehicle Allowance",null,null,null,null,null,null,null,null,null,null,null,null,null,null,null,null,"~"]
["SA22",2022,"DC47",2005,50,"Cellphone Allowance",null,null,null,null,null,null,null,null,null,null,null,null,null,null,null,null,"~"]
["SA22",2022,"DC47",2006,51,"Housing Allowances",null,null,null,null,null,null,null,null,null,null,null,null,null,null,null,null,"~"]
["SA22",2022,"DC47",2008,52,"Other benefits and allowances",null,null,null,null,null,null,null,null,null,null,null,null,null,null,null,null,"~"]
["SA22",2022,"DC47",2007,53,"Board Fees",null,null,null,null,null,null,null,null,null,null,null,null,null,null,null,null,"~"]
["SA22",2022,"DC47",2012,54,"Payments in lieu of leave",null,null,null,null,null,null,null,null,null,null,null,null,null,null,null,null,"~"]
["SA22",2022,"DC47",2013,55,"Long service awards",null,null,null,null,null,null,null,null,null,null,null,null,null,null,null,null,"~"]
["SA22",2022,"DC47",2014,56,"Post-retirement benefit obligations",null,null,null,null,null,null,null,null,null,null,null,null,null,null,null,null,"~"]
["SA22",2022,"DC47",2090,57,"Sub Total - Board Members of Entities",null,null,null,null,null,null,null,null,null,null,null,null,null,null,null,null,"~"]
["SA22",2022,"DC47",2091,58,"% increase",null,null,null,null,null,null,null,null,null,null,null,null,null,null,null,null,"~"]
["SA22",2022,"DC47",null,null,null,null,null,null,null,null,null,null,null,null,null,null,null,null,null,null,null,"~"]
["SA22",2022,"DC47",2100,59,"Senior Managers of Entities",null,null,null,null,null,null,null,null,null,null,null,null,null,null,null,null,"~"]
["SA22",2022,"DC47",2101,60,"Basic Salaries and Wages",null,null,null,null,null,null,null,null,null,null,null,null,null,null,null,null,"~"]
["SA22",2022,"DC47",2102,61,"Pension and UIF Contributions",null,null,null,null,null,null,null,null,null,null,null,null,null,null,null,null,"~"]
["SA22",2022,"DC47",2103,62,"Medical Aid Contributions",null,null,null,null,null,null,null,null,null,null,null,null,null,null,null,null,"~"]
["SA22",2022,"DC47",2110,63,"Overtime",null,null,null,null,null,null,null,null,null,null,null,null,null,null,null,null,"~"]
["SA22",2022,"DC47",2107,64,"Performance Bonus",null,null,null,null,null,null,null,null,null,null,null,null,null,null,null,null,"~"]
["SA22",2022,"DC47",2104,65,"Motor Vehicle Allowance",null,null,null,null,null,null,null,null,null,null,null,null,null,null,null,null,"~"]
["SA22",2022,"DC47",2105,66,"Cellphone Allowance",null,null,null,null,null,null,null,null,null,null,null,null,null,null,null,null,"~"]
["SA22",2022,"DC47",2106,67,"Housing Allowances",null,null,null,null,null,null,null,null,null,null,null,null,null,null,null,null,"~"]
["SA22",2022,"DC47",2108,68,"Other benefits and allowances",null,null,null,null,null,null,null,null,null,null,null,null,null,null,null,null,"~"]
["SA22",2022,"DC47",2111,69,"Payments in lieu of leave",null,null,null,null,null,null,null,null,null,null,null,null,null,null,null,null,"~"]
["SA22",2022,"DC47",2112,70,"Long service awards",null,null,null,null,null,null,null,null,null,null,null,null,null,null,null,null,"~"]
["SA22",2022,"DC47",2113,71,"Post-retirement benefit obligations",null,null,null,null,null,null,null,null,null,null,null,null,null,null,null,null,"~"]
["SA22",2022,"DC47",2190,72,"Sub Total - Senior Managers of Entities",null,null,null,null,null,null,null,null,null,null,null,null,null,null,null,null,"~"]
["SA22",2022,"DC47",2191,73,"% increase",null,null,null,null,null,null,null,null,null,null,null,null,null,null,null,null,"~"]
["SA22",2022,"DC47",null,null,null,null,null,null,null,null,null,null,null,null,null,null,null,null,null,null,null,"~"]
["SA22",2022,"DC47",2200,74,"Other Staff of Entities",null,null,null,null,null,null,null,null,null,null,null,null,null,null,null,null,"~"]
["SA22",2022,"DC47",2201,75,"Basic Salaries and Wages",null,null,null,null,null,null,null,null,null,null,null,null,null,null,null,null,"~"]
["SA22",2022,"DC47",2202,76,"Pension and UIF Contributions",null,null,null,null,null,null,null,null,null,null,null,null,null,null,null,null,"~"]
["SA22",2022,"DC47",2203,77,"Medical Aid Contributions",null,null,null,null,null,null,null,null,null,null,null,null,null,null,null,null,"~"]
["SA22",2022,"DC47",2207,78,"Overtime",null,null,null,null,null,null,null,null,null,null,null,null,null,null,null,null,"~"]
["SA22",2022,"DC47",2208,79,"Performance Bonus",null,null,null,null,null,null,null,null,null,null,null,null,null,null,null,null,"~"]
["SA22",2022,"DC47",2204,80,"Motor Vehicle Allowance",null,null,null,null,null,null,null,null,null,null,null,null,null,null,null,null,"~"]
["SA22",2022,"DC47",2205,81,"Cellphone Allowance",null,null,null,null,null,null,null,null,null,null,null,null,null,null,null,null,"~"]
["SA22",2022,"DC47",2206,82,"Housing Allowances",null,null,null,null,null,null,null,null,null,null,null,null,null,null,null,null,"~"]
["SA22",2022,"DC47",2209,83,"Other benefits and allowances",null,null,null,null,null,null,null,null,null,null,null,null,null,null,null,null,"~"]
["SA22",2022,"DC47",2211,84,"Payments in lieu of leave",null,null,null,null,null,null,null,null,null,null,null,null,null,null,null,null,"~"]
["SA22",2022,"DC47",2212,85,"Long service awards",null,null,null,null,null,null,null,null,null,null,null,null,null,null,null,null,"~"]
["SA22",2022,"DC47",2213,86,"Post-retirement benefit obligations",null,null,null,null,null,null,null,null,null,null,null,null,null,null,null,null,"~"]
["SA22",{"$f":"+MTREF","v":2022},{"$f":"LEFT(muni,(FIND(\" \",muni,1)-1))","v":"DC47"},2290,87,"Sub Total - Other Staff of Entities",null,null,null,null,null,null,null,null,null,null,null,null,null,null,null,null,"~"]
["SA22",2022,"DC47",2291,89,"% increase",null,null,null,null,null,null,null,null,null,null,null,null,null,null,null,null,"~"]
["SA22",2022,"DC47",null,null,null,null,null,null,null,null,null,null,null,null,null,null,null,null,null,null,null,"~"]
["SA22",2022,"DC47",2295,90,"Total Municipal Entities",null,null,null,null,null,null,null,null,null,null,null,null,null,null,null,null,"~"]
["SA22",2022,"DC47",null,null,null,null,null,null,null,null,null,null,null,null,null,null,null,null,null,null,null,"~"]
["SA22",2022,"DC47",2296,91,"TOTAL SALARY, ALLOWANCES & BENEFITS",null,null,null,null,null,null,null,null,null,null,null,null,null,null,null,null,"~"]
["SA22",2022,"DC47",2297,92,"% increase",null,null,null,null,null,null,null,null,null,null,null,null,null,null,null,null,"~"]
["SA22",2022,"DC47",2298,93,"TOTAL MANAGERS AND STAFF",null,null,null,null,null,null,null,null,null,null,null,null,null,null,null,null,"~"]
["SA23",2022,"DC47",1000,1,null,null,null,null,null,null,null,null,null,null,null,null,null,null,null,null,null,"~"]
["SA23",2022,"DC47",1001,2,null,null,null,null,null,null,null,null,null,null,null,null,null,null,null,null,null,"~"]
["SA23",2022,"DC47",1002,3,null,null,null,null,null,null,null,null,null,null,null,null,null,null,null,null,null,"~"]
["SA23",2022,"DC47",1003,4,null,null,null,null,null,null,null,null,null,null,null,null,null,null,null,null,null,"~"]
["SA23",2022,"DC47",1004,5,null,null,null,null,null,null,null,null,null,null,null,null,null,null,null,null,null,"~"]
["SA23",2022,"DC47",1005,6,null,null,null,null,null,null,null,null,null,null,null,null,null,null,null,null,null,"~"]
["SA23",2022,"DC47",1006,7,null,null,null,null,null,null,null,null,null,null,null,null,null,null,null,null,null,"~"]
["SA23",2022,"DC47",1090,8,null,null,null,null,null,null,null,null,null,null,null,null,null,null,null,null,null,"~"]
["SA23",2022,"DC47",null,null,null,null,null,null,null,null,null,null,null,null,null,null,null,null,null,null,null,"~"]
["SA23",2022,"DC47",null,null,null,null,null,null,null,null,null,null,null,null,null,null,null,null,null,null,null,"~"]
["SA23",2022,"DC47",null,null,null,null,null,null,null,null,null,null,null,null,null,null,null,null,null,null,null,"~"]
["SA23",2022,"DC47",null,null,null,null,null,null,null,null,null,null,null,null,null,null,null,null,null,null,null,"~"]
["SA23",2022,"DC47",null,null,null,null,null,null,null,null,null,null,null,null,null,null,null,null,null,null,null,"~"]
["SA23",2022,"DC47",null,null,null,null,null,null,null,null,null,null,null,null,null,null,null,null,null,null,null,"~"]
["SA23",2022,"DC47",null,null,null,null,null,null,null,null,null,null,null,null,null,null,null,null,null,null,null,"~"]
["SA23",2022,"DC47",null,null,null,null,null,null,null,null,null,null,null,null,null,null,null,null,null,null,null,"~"]
["SA23",2022,"DC47",null,null,null,null,null,null,null,null,null,null,null,null,null,null,null,null,null,null,null,"~"]
["SA23",2022,"DC47",null,null,null,null,null,null,null,null,null,null,null,null,null,null,null,null,null,null,null,"~"]
["SA23",2022,"DC47",null,null,null,null,null,null,null,null,null,null,null,null,null,null,null,null,null,null,null,"~"]
["SA23",2022,"DC47",null,null,null,null,null,null,null,null,null,null,null,null,null,null,null,null,null,null,null,"~"]
["SA23",2022,"DC47",null,null,null,null,null,null,null,null,null,null,null,null,null,null,null,null,null,null,null,"~"]
["SA23",2022,"DC47",null,null,null,null,null,null,null,null,null,null,null,null,null,null,null,null,null,null,null,"~"]
["SA23",2022,"DC47",null,null,null,null,null,null,null,null,null,null,null,null,null,null,null,null,null,null,null,"~"]
["SA23",2022,"DC47",null,null,null,null,null,null,null,null,null,null,null,null,null,null,null,null,null,null,null,"~"]
["SA23",2022,"DC47",null,null,null,null,null,null,null,null,null,null,null,null,null,null,null,null,null,null,null,"~"]
["SA23",2022,"DC47",null,null,null,null,null,null,null,null,null,null,null,null,null,null,null,null,null,null,null,"~"]
["SA23",2022,"DC47",null,null,null,null,null,null,null,null,null,null,null,null,null,null,null,null,null,null,null,"~"]
["SA23",2022,"DC47",null,null,null,null,null,null,null,null,null,null,null,null,null,null,null,null,null,null,null,"~"]
["SA23",2022,"DC47",null,null,null,null,null,null,null,null,null,null,null,null,null,null,null,null,null,null,null,"~"]
["SA23",2022,"DC47",null,null,null,null,null,null,null,null,null,null,null,null,null,null,null,null,null,null,null,"~"]
["SA23",2022,"DC47",null,null,null,null,null,null,null,null,null,null,null,null,null,null,null,null,null,null,null,"~"]
["SA23",2022,"DC47",null,null,null,null,null,null,null,null,null,null,null,null,null,null,null,null,null,null,null,"~"]
["SA23",2022,"DC47",null,null,null,null,null,null,null,null,null,null,null,null,null,null,null,null,null,null,null,"~"]
["SA23",2022,"DC47",null,null,null,null,null,null,null,null,null,null,null,null,null,null,null,null,null,null,null,"~"]
["SA23",2022,"DC47",null,null,null,null,null,null,null,null,null,null,null,null,null,null,null,null,null,null,null,"~"]
["SA23",2022,"DC47",null,null,null,null,null,null,null,null,null,null,null,null,null,null,null,null,null,null,null,"~"]
["SA23",2022,"DC47",null,null,null,null,null,null,null,null,null,null,null,null,null,null,null,null,null,null,null,"~"]
["SA23",2022,"DC47",null,null,null,null,null,null,null,null,null,null,null,null,null,null,null,null,null,null,null,"~"]
["SA23",2022,"DC47",null,null,null,null,null,null,null,null,null,null,null,null,null,null,null,null,null,null,null,"~"]
["SA23",2022,"DC47",null,null,null,null,null,null,null,null,null,null,null,null,null,null,null,null,null,null,null,"~"]
["SA23",2022,"DC47",null,null,null,null,null,null,null,null,null,null,null,null,null,null,null,null,null,null,null,"~"]
["SA23",2022,"DC47",null,null,null,null,null,null,null,null,null,null,null,null,null,null,null,null,null,null,null,"~"]
["SA23",2022,"DC47",null,null,null,null,null,null,null,null,null,null,null,null,null,null,null,null,null,null,null,"~"]
["SA23",2022,"DC47",null,null,null,null,null,null,null,null,null,null,null,null,null,null,null,null,null,null,null,"~"]
["SA23",2022,"DC47",null,null,null,null,null,null,null,null,null,null,null,null,null,null,null,null,null,null,null,"~"]
["SA23",2022,"DC47",null,null,null,null,null,null,null,null,null,null,null,null,null,null,null,null,null,null,null,"~"]
["SA23",2022,"DC47",null,null,null,null,null,null,null,null,null,null,null,null,null,null,null,null,null,null,null,"~"]
["SA23",2022,"DC47",null,null,null,null,null,null,null,null,null,null,null,null,null,null,null,null,null,null,null,"~"]
["SA23",2022,"DC47",null,null,null,null,null,null,null,null,null,null,null,null,null,null,null,null,null,null,null,"~"]
["SA23",2022,"DC47",null,null,null,null,null,null,null,null,null,null,null,null,null,null,null,null,null,null,null,"~"]
["SA23",2022,"DC47",null,null,null,null,null,null,null,null,null,null,null,null,null,null,null,null,null,null,null,"~"]
["SA23",2022,"DC47",null,null,null,null,null,null,null,null,null,null,null,null,null,null,null,null,null,null,null,"~"]
["SA23",2022,"DC47",null,null,null,null,null,null,null,null,null,null,null,null,null,null,null,null,null,null,null,"~"]
["SA23",2022,"DC47",null,null,null,null,null,null,null,null,null,null,null,null,null,null,null,null,null,null,null,"~"]
["SA23",2022,"DC47",null,null,null,null,null,null,null,null,null,null,null,null,null,null,null,null,null,null,null,"~"]
["SA23",2022,"DC47",null,null,null,null,null,null,null,null,null,null,null,null,null,null,null,null,null,null,null,"~"]
["SA23",{"$f":"+MTREF","v":2022},{"$f":"LEFT(muni,(FIND(\" \",muni,1)-1))","v":"DC47"},null,null,null,null,null,null,null,null,null,null,null,null,null,null,null,null,null,null,null,"~"]
["SA23",2022,"DC47",null,null,null,null,null,null,null,null,null,null,null,null,null,null,null,null,null,null,null,"~"]
["SA23",2022,"DC47",null,null,null,null,null,null,null,null,null,null,null,null,null,null,null,null,null,null,null,"~"]
["SA23",2022,"DC47",null,null,null,null,null,null,null,null,null,null,null,null,null,null,null,null,null,null,null,"~"]
["SA23",2022,"DC47",null,null,null,null,null,null,null,null,null,null,null,null,null,null,null,null,null,null,null,"~"]
["SA23",2022,"DC47",null,null,null,null,null,null,null,null,null,null,null,null,null,null,null,null,null,null,null,"~"]
["SA23",2022,"DC47",null,null,null,null,null,null,null,null,null,null,null,null,null,null,null,null,null,null,null,"~"]
["SA23",2022,"DC47",null,null,null,null,null,null,null,null,null,null,null,null,null,null,null,null,null,null,null,"~"]
["SA23",2022,"DC47",null,null,null,null,null,null,null,null,null,null,null,null,null,null,null,null,null,null,null,"~"]
["SA23",2022,"DC47",null,null,null,null,null,null,null,null,null,null,null,null,null,null,null,null,null,null,null,"~"]
["SA23",2022,"DC47",null,null,null,null,null,null,null,null,null,null,null,null,null,null,null,null,null,null,null,"~"]
["SA23",2022,"DC47",null,null,null,null,null,null,null,null,null,null,null,null,null,null,null,null,null,null,null,"~"]
["SA23",2022,"DC47",null,null,null,null,null,null,null,null,null,null,null,null,null,null,null,null,null,null,null,"~"]
["SA23",2022,"DC47",null,null,null,null,null,null,null,null,null,null,null,null,null,null,null,null,null,null,null,"~"]
["SA23",2022,"DC47",null,null,null,null,null,null,null,null,null,null,null,null,null,null,null,null,null,null,null,"~"]
["SA23",2022,"DC47",null,null,null,null,null,null,null,null,null,null,null,null,null,null,null,null,null,null,null,"~"]
["SA23",2022,"DC47",null,null,null,null,null,null,null,null,null,null,null,null,null,null,null,null,null,null,null,"~"]
["SA23",2022,"DC47",null,null,null,null,null,null,null,null,null,null,null,null,null,null,null,null,null,null,null,"~"]
["SA23",2022,"DC47",null,null,null,null,null,null,null,null,null,null,null,null,null,null,null,null,null,null,null,"~"]
["SA23",2022,"DC47",null,null,null,null,null,null,null,null,null,null,null,null,null,null,null,null,null,null,null,"~"]
["SA23",2022,"DC47",null,null,null,null,null,null,null,null,null,null,null,null,null,null,null,null,null,null,null,"~"]
["SA23",2022,"DC47",null,null,null,null,null,null,null,null,null,null,null,null,null,null,null,null,null,null,null,"~"]
["SA23",2022,"DC47",null,null,null,null,null,null,null,null,null,null,null,null,null,null,null,null,null,null,null,"~"]
["SA23",2022,"DC47",null,null,null,null,null,null,null,null,null,null,null,null,null,null,null,null,null,null,null,"~"]
["SA23",2022,"DC47",null,null,null,null,null,null,null,null,null,null,null,null,null,null,null,null,null,null,null,"~"]
["SA23",2022,"DC47",null,null,null,null,null,null,null,null,null,null,null,null,null,null,null,null,null,null,null,"~"]
["SA23",2022,"DC47",null,null,null,null,null,null,null,null,null,null,null,null,null,null,null,null,null,null,null,"~"]
["SA23",2022,"DC47",null,null,null,null,null,null,null,null,null,null,null,null,null,null,null,null,null,null,null,"~"]
["SA23",2022,"DC47",null,null,null,null,null,null,null,null,null,null,null,null,null,null,null,null,null,null,null,"~"]
["SA23",2022,"DC47",null,null,null,null,null,null,null,null,null,null,null,null,null,null,null,null,null,null,null,"~"]
["SA23",2022,"DC47",null,null,null,null,null,null,null,null,null,null,null,null,null,null,null,null,null,null,null,"~"]
["SA23",2022,"DC47",null,null,null,null,null,null,null,null,null,null,null,null,null,null,null,null,null,null,null,"~"]
["SA23",2022,"DC47",null,null,null,null,null,null,null,null,null,null,null,null,null,null,null,null,null,null,null,"~"]
["SA23",2022,"DC47",null,null,null,null,null,null,null,null,null,null,null,null,null,null,null,null,null,null,null,"~"]
["SA23",2022,"DC47",null,null,null,null,null,null,null,null,null,null,null,null,null,null,null,null,null,null,null,"~"]
["SA23",2022,"DC47",null,null,null,null,null,null,null,null,null,null,null,null,null,null,null,null,null,null,null,"~"]
["SA23",2022,"DC47",null,null,null,null,null,null,null,null,null,null,null,null,null,null,null,null,null,null,null,"~"]
["SA23",2022,"DC47",null,null,null,null,null,null,null,null,null,null,null,null,null,null,null,null,null,null,null,"~"]
["SA23",2022,"DC47",null,null,null,null,null,null,null,null,null,null,null,null,null,null,null,null,null,null,null,"~"]
["SA23",2022,"DC47",null,null,null,null,null,null,null,null,null,null,null,null,null,null,null,null,null,null,null,"~"]
["SA23",2022,"DC47",null,null,null,null,null,null,null,null,null,null,null,null,null,null,null,null,null,null,null,"~"]
["SA23",2022,"DC47",null,null,null,null,null,null,null,null,null,null,null,null,null,null,null,null,null,null,null,"~"]
["SA23",2022,"DC47",null,null,null,null,null,null,null,null,null,null,null,null,null,null,null,null,null,null,null,"~"]
["SA24",2022,"DC47",1000,1,"Municipal Council and Boards of Municipal Entities",null,null,null,null,null,null,null,null,null,null,null,null,null,null,null,null,"~"]
["SA24",2022,"DC47",1001,2,"Councillors (Political Office Bearers and Other Councillors)",null,null,null,null,null,null,null,null,null,null,null,null,null,null,null,null,"~"]
["SA24",2022,"DC47",1002,3,"Board Members of municipal entities",null,null,null,null,null,null,null,null,null,null,null,null,null,null,null,null,"~"]
["SA24",2022,"DC47",1100,4,"Municipal employees",null,null,null,null,null,null,null,null,null,null,null,null,null,null,null,null,"~"]
["SA24",2022,"DC47",1101,5,"Municipal Manager and Senior Managers",null,null,null,null,null,null,null,null,null,null,null,null,null,null,null,null,"~"]
["SA24",2022,"DC47",1102,6,"Other Managers",null,null,null,null,null,null,null,null,null,null,null,null,null,null,null,null,"~"]
["SA24",2022,"DC47",1103,7,"Professionals",null,null,null,null,null,null,null,null,null,null,null,null,null,null,null,null,"~"]
["SA24",2022,"DC47",1104,8,"Finance",null,null,null,null,null,null,null,null,null,null,null,null,null,null,null,null,"~"]
["SA24",2022,"DC47",1105,9,"Spatial/town planning",null,null,null,null,null,null,null,null,null,null,null,null,null,null,null,null,"~"]
["SA24",2022,"DC47",1106,10,"Information Technology",null,null,null,null,null,null,null,null,null,null,null,null,null,null,null,null,"~"]
["SA24",2022,"DC47",1107,11,"Roads",null,null,null,null,null,null,null,null,null,null,null,null,null,null,null,null,"~"]
["SA24",2022,"DC47",1108,12,"Electricity",null,null,null,null,null,null,null,null,null,null,null,null,null,null,null,null,"~"]
["SA24",2022,"DC47",1109,13,"Water",null,null,null,null,null,null,null,null,null,null,null,null,null,null,null,null,"~"]
["SA24",2022,"DC47",1110,14,"Sanitation",null,null,null,null,null,null,null,null,null,null,null,null,null,null,null,null,"~"]
["SA24",2022,"DC47",1111,15,"Refuse",null,null,null,null,null,null,null,null,null,null,null,null,null,null,null,null,"~"]
["SA24",2022,"DC47",1112,16,"Other",null,null,null,null,null,null,null,null,null,null,null,null,null,null,null,null,"~"]
["SA24",2022,"DC47",1113,17,"Technicians",null,null,null,null,null,null,null,null,null,null,null,null,null,null,null,null,"~"]
["SA24",2022,"DC47",1114,18,"Finance",null,null,null,null,null,null,null,null,null,null,null,null,null,null,null,null,"~"]
["SA24",2022,"DC47",1115,19,"Spatial/town planning",null,null,null,null,null,null,null,null,null,null,null,null,null,null,null,null,"~"]
["SA24",2022,"DC47",1116,20,"Information Technology",null,null,null,null,null,null,null,null,null,null,null,null,null,null,null,null,"~"]
["SA24",2022,"DC47",1117,21,"Roads",null,null,null,null,null,null,null,null,null,null,null,null,null,null,null,null,"~"]
["SA24",{"$f":"+MTREF","v":2022},{"$f":"LEFT(muni,(FIND(\" \",muni,1)-1))","v":"DC47"},1118,22,"Electricity",null,null,null,null,null,null,null,null,null,null,null,null,null,null,null,null,"~"]
["SA24",2022,"DC47",1119,23,"Water",null,null,null,null,null,null,null,null,null,null,null,null,null,null,null,null,"~"]
["SA24",2022,"DC47",1120,24,"Sanitation",null,null,null,null,null,null,null,null,null,null,null,null,null,null,null,null,"~"]
["SA24",2022,"DC47",1121,25,"Refuse",null,null,null,null,null,null,null,null,null,null,null,null,null,null,null,null,"~"]
["SA24",2022,"DC47",1122,26,"Other",null,null,null,null,null,null,null,null,null,null,null,null,null,null,null,null,"~"]
["SA24",2022,"DC47",1123,27,"Clerks (Clerical and administrative)",null,null,null,null,null,null,null,null,null,null,null,null,null,null,null,null,"~"]
["SA24",2022,"DC47",1124,28,"Service and sales workers",null,null,null,null,null,null,null,null,null,null,null,null,null,null,null,null,"~"]
["SA24",2022,"DC47",1125,29,"Skilled agricultural and fishery workers",null,null,null,null,null,null,null,null,null,null,null,null,null,null,null,null,"~"]
["SA24",2022,"DC47",1126,30,"Craft and related trades",null,null,null,null,null,null,null,null,null,null,null,null,null,null,null,null,"~"]
["SA24",2022,"DC47",1127,31,"Plant and Machine Operators",null,null,null,null,null,null,null,null,null,null,null,null,null,null,null,null,"~"]
["SA24",2022,"DC47",1128,32,"Elementary Occupations",null,null,null,null,null,null,null,null,null,null,null,null,null,null,null,null,"~"]
["SA24",2022,"DC47",1190,33,"TOTAL PERSONNEL NUMBERS",null,null,null,null,null,null,null,null,null,null,null,null,null,null,null,null,"~"]
["SA24",2022,"DC47",1191,34,"% increase",null,null,null,null,null,null,null,null,null,null,null,null,null,null,null,null,"~"]
["SA24",2022,"DC47",null,null,null,null,null,null,null,null,null,null,null,null,null,null,null,null,null,null,null,"~"]
["SA24",2022,"DC47",1200,35,"Total municipal employees headcount",null,null,null,null,null,null,null,null,null,null,null,null,null,null,null,null,"~"]
["SA24",2022,"DC47",1201,36,"Finance personnel headcount",null,null,null,null,null,null,null,null,null,null,null,null,null,null,null,null,"~"]
["SA24",2022,"DC47",1202,37,"Human Resources personnel headcount",null,null,null,null,null,null,null,null,null,null,null,null,null,null,null,null,"~"]
["OTHER",2022,"DC47","1001",1,"Unspent conditional transfers",null,null,null,null,null,null,null,null,null,null,null,null,null,null,null,null,"~"]
["OTHER",2022,"DC47","1002",2,"Unspent borrowing",null,null,null,null,null,null,null,null,null,null,null,null,null,null,null,null,"~"]
["OTHER",2022,"DC47","1003",3,"Statutory requirements",null,null,null,null,null,null,null,null,null,null,null,null,null,null,null,null,"~"]
["OTHER",2022,"DC47","1005",5,"Other provisions",null,null,null,null,null,null,null,null,null,null,null,null,null,null,null,null,"~"]
["OTHER",2022,"DC47","1006",6,"Long term investments committed",null,null,null,null,null,null,null,null,null,null,null,null,null,null,null,null,"~"]
["OTHER",2022,"DC47","1007",7,"Reserves to be backed by cash/investments",null,null,null,null,null,null,null,null,null,null,null,null,null,null,null,null,"~"]
["OTHER",2022,"DC47","1008",8,"Estimate of other debtors > 90 days",null,null,null,null,null,null,null,null,null,null,null,null,null,null,null,null,"~"]
["OTHER",2022,"DC47",2001,9,"Contributions recognised - capital",null,null,null,null,null,null,null,null,null,null,null,null,null,null,null,null,"~"]
["OTHER",2022,"DC47","3001",10,"Depreciation offsets",null,null,null,null,null,null,null,null,null,null,null,null,null,null,null,null,"~"]
["OTHER",2022,"DC47","4001",11,"Fixed operational expenditure % assumption",null,null,null,null,null,null,null,null,null,null,null,null,null,null,null,null,"~"]
["OTHER",2022,"DC47",5000,50,"Repairs and Maintenance by Expenditure Item",null,null,null,null,null,null,null,null,null,null,null,null,null,null,null,null,"~"]
["OTHER",2022,"DC47",5001,51,"Employee related costs",null,null,null,null,null,null,null,null,null,null,null,null,null,null,null,null,"~"]
["OTHER",2022,"DC47",5002,52,"Other materials",null,null,null,null,null,null,null,null,null,null,null,null,null,null,null,null,"~"]
["OTHER",2022,"DC47",5003,53,"Contracted Services",null,null,null,null,null,null,null,null,null,null,null,null,null,null,null,null,"~"]
["OTHER",2022,"DC47",5004,54,"Other Expenditure",null,null,null,null,null,null,null,null,null,null,null,null,null,null,null,null,"~"]
["OTHER",2022,"DC47",5005,55,"Total Repairs and Maintenance Expenditure",null,null,null,null,null,null,null,null,null,null,null,null,null,null,null,null,"~"]
["OTHER",2022,"DC47",6001,61,"Volume Electricity Distribution Losses",null,null,null,null,null,null,null,null,null,null,null,null,null,null,null,null,"~"]
["OTHER",2022,"DC47",6002,62,"Cost Electiricty Distribution Losses",null,null,null,null,null,null,null,null,null,null,null,null,null,null,null,null,"~"]
["OTHER",2022,"DC47",null,null,null,null,null,null,null,null,null,null,null,null,null,null,null,null,null,null,null,"~"]
["OTHER",2022,"DC47",6003,63,"Volume Water Distribution Losses",null,null,null,null,null,null,null,null,null,null,null,null,null,null,null,null,"~"]
["OTHER",2022,"DC47",6004,64,"Cost Water Distribution Losses",null,null,null,null,null,null,null,null,null,null,null,null,null,null,null,null,"~"]
["OTHER",2022,"DC47",null,null,null,null,null,null,null,null,null,null,null,null,null,null,null,null,null,null,null,"~"]
["OTHER",2022,"DC47",7001,71,"Consultant Fees",null,null,null,null,null,null,null,null,null,null,null,null,null,null,null,null,"~"]
["OTHER",2022,"DC47",7002,72,"Audit Fees",null,null,null,null,null,null,null,null,null,null,null,null,null,null,null,null,"~"]
["SA36",2022,"DC47",1,null,null,null,null,null,null,null,null,null,null,null,null,null,null,null,null,null,null,"~"]
["SA36",2022,"DC47",2,null,null,null,null,null,null,null,null,null,null,null,null,null,null,null,null,null,null,"~"]
["SA36",2022,"DC47",3,null,null,null,null,null,null,null,null,null,null,null,null,null,null,null,null,null,null,"~"]
["SA36",2022,"DC47",4,null,null,null,null,null,null,null,null,null,null,null,null,null,null,null,null,null,null,"~"]
["SA36",2022,"DC47",5,null,null,null,null,null,null,null,null,null,null,null,null,null,null,null,null,null,null,"~"]
["SA36",2022,"DC47",6,null,null,null,null,null,null,null,null,null,null,null,null,null,null,null,null,null,null,"~"]
["SA36",2022,"DC47",7,null,null,null,null,null,null,null,null,null,null,null,null,null,null,null,null,null,null,"~"]
["SA36",2022,"DC47",8,null,null,null,null,null,null,null,null,null,null,null,null,null,null,null,null,null,null,"~"]
["SA36",2022,"DC47",9,null,null,null,null,null,null,null,null,null,null,null,null,null,null,null,null,null,null,"~"]
["SA36",2022,"DC47",10,null,null,null,null,null,null,null,null,null,null,null,null,null,null,null,null,null,null,"~"]
["SA36",2022,"DC47",11,null,null,null,null,null,null,null,null,null,null,null,null,null,null,null,null,null,null,"~"]
["SA36",2022,"DC47",12,null,null,null,null,null,null,null,null,null,null,null,null,null,null,null,null,null,null,"~"]
["SA36",2022,"DC47",13,null,null,null,null,null,null,null,null,null,null,null,null,null,null,null,null,null,null,"~"]
["SA36",2022,"DC47",14,null,null,null,null,null,null,null,null,null,null,null,null,null,null,null,null,null,null,"~"]
["SA36",2022,"DC47",15,null,null,null,null,null,null,null,null,null,null,null,null,null,null,null,null,null,null,"~"]
["SA36",2022,"DC47",16,null,null,null,null,null,null,null,null,null,null,null,null,null,null,null,null,null,null,"~"]
["SA36",2022,"DC47",17,null,null,null,null,null,null,null,null,null,null,null,0,0,null,null,0,null,null,"~"]
["SA36",2022,"DC47",18,null,null,null,null,null,null,null,null,null,null,null,null,null,null,null,null,null,null,"~"]
["SA36",2022,"DC47",19,null,null,null,null,null,null,null,null,null,null,null,null,null,null,null,null,null,null,"~"]
["SA36",2022,"DC47",20,null,null,null,null,null,null,null,null,null,null,null,null,null,null,null,null,null,null,"~"]
["SA36",2022,"DC47",21,null,null,null,null,null,null,null,null,null,null,null,null,null,null,null,null,null,null,"~"]
["SA36",2022,"DC47",22,null,null,null,null,null,null,null,null,null,null,null,null,null,null,null,null,null,null,"~"]
["SA36",2022,"DC47",23,null,null,null,null,null,null,null,null,null,null,null,null,null,null,null,null,null,null,"~"]
["SA36",{"$f":"+MTREF","v":2022},{"$f":"LEFT(muni,(FIND(\" \",muni,1)-1))","v":"DC47"},24,null,null,null,null,null,null,null,null,null,null,null,null,null,null,null,null,null,null,"~"]
["SA36",2022,"DC47",25,null,null,null,null,null,null,null,null,null,null,null,null,null,null,null,null,null,null,"~"]
["SA36",2022,"DC47",26,null,null,null,null,null,null,null,null,null,null,null,null,null,null,null,null,null,null,"~"]
["SA36",2022,"DC47",27,null,null,null,null,null,null,null,null,null,null,null,null,null,null,null,null,null,null,"~"]
["SA36",2022,"DC47",28,null,null,null,null,null,null,null,null,null,null,null,null,null,null,null,null,null,null,"~"]
["SA36",2022,"DC47",29,null,null,null,null,null,null,null,null,null,null,null,null,null,null,null,null,null,null,"~"]
["SA36",2022,"DC47",30,null,null,null,null,null,null,null,null,null,0,0,0,0,null,null,null,null,null,"~"]
["SA36",2022,"DC47",31,null,null,null,null,null,null,null,null,null,0,0,0,0,null,null,null,null,null,"~"]
["SA36",2022,"DC47",32,null,null,null,null,null,null,null,null,null,null,null,null,null,null,null,null,null,null,"~"]
["SA36",2022,"DC47",33,null,null,null,null,null,null,null,null,null,null,null,null,null,null,null,null,null,null,"~"]
["SA36",2022,"DC47",34,null,null,null,null,null,null,null,null,null,null,null,null,null,null,null,null,null,null,"~"]
["SA36",2022,"DC47",35,null,null,null,null,null,null,null,null,null,null,null,null,null,null,null,null,null,null,"~"]
["SA36",2022,"DC47",36,null,null,null,null,null,null,null,null,null,null,null,null,null,null,null,null,null,null,"~"]
["SA36",2022,"DC47",37,null,null,null,null,null,null,null,null,null,null,null,null,null,null,null,null,null,null,"~"]
["SA36",2022,"DC47",38,null,null,null,null,null,null,null,null,"Check",0,null,null,null,null,null,null,null,null,"~"]
["SA36",2022,"DC47",39,null,null,null,null,null,null,null,null,null,null,null,null,null,null,null,null,null,null,"~"]
["SA36",2022,"DC47",40,null,null,null,null,null,null,null,null,null,null,null,null,null,null,null,null,null,null,"~"]
["SA36",2022,"DC47",41,null,null,null,null,null,null,null,null,null,null,null,null,null,null,null,null,null,null,"~"]
["SA36",2022,"DC47",42,null,null,null,null,null,null,null,null,null,null,null,null,null,null,null,null,null,null,"~"]
["SA36",2022,"DC47",43,null,null,null,null,null,null,null,null,null,null,null,null,null,null,null,null,null,null,"~"]
["SA36",2022,"DC47",44,null,null,null,null,null,null,null,null,null,null,null,null,null,null,null,null,null,null,"~"]
["SA36",2022,"DC47",45,null,null,null,null,null,null,null,null,null,null,null,null,null,null,null,null,null,null,"~"]
["SA36",2022,"DC47",46,null,null,null,null,null,null,null,null,null,null,null,null,null,null,null,null,null,null,"~"]
["SA36",2022,"DC47",47,null,null,null,null,null,null,null,null,null,null,null,null,null,null,null,null,null,null,"~"]
["SA36",2022,"DC47",48,null,null,null,null,null,null,null,null,null,null,null,null,null,null,null,null,null,null,"~"]
["SA36",2022,"DC47",49,null,null,null,null,null,null,null,null,null,null,null,null,null,null,null,null,null,null,"~"]
["SA36",2022,"DC47",50,null,null,null,null,null,null,null,null,null,null,null,null,null,null,null,null,null,null,"~"]
["SA36",2022,"DC47",51,null,null,null,null,null,null,null,null,null,null,null,null,null,null,null,null,null,null,"~"]
["SA36",2022,"DC47",52,null,null,null,null,null,null,null,null,null,null,null,null,null,null,null,null,null,null,"~"]
["SA36",2022,"DC47",53,null,null,null,null,null,null,null,null,null,null,null,null,null,null,null,null,null,null,"~"]
["SA36",2022,"DC47",54,null,null,null,null,null,null,null,null,null,null,null,null,null,null,null,null,null,null,"~"]
["SA36",2022,"DC47",55,null,null,null,null,null,null,null,null,null,null,null,null,null,null,null,null,null,null,"~"]
["SA36",2022,"DC47",56,null,null,null,null,null,null,null,null,null,null,null,null,null,null,null,null,null,null,"~"]
["SA36",2022,"DC47",57,null,null,null,null,null,null,null,null,null,null,null,null,null,null,null,null,null,null,"~"]
["SA36",2022,"DC47",58,null,null,null,null,null,null,null,null,null,null,null,null,null,null,null,null,null,null,"~"]
["SA36",2022,"DC47",59,null,null,null,null,null,null,null,null,null,null,null,null,null,null,null,null,null,null,"~"]
["SA36",2022,"DC47",60,null,null,null,null,null,null,null,null,null,null,null,null,null,null,null,null,null,null,"~"]
["SA36",2022,"DC47",61,null,null,null,null,null,null,null,null,null,null,null,null,null,null,null,null,null,null,"~"]
["SA36",2022,"DC47",62,null,null,null,null,null,null,null,null,null,null,null,null,null,null,null,null,null,null,"~"]
["SA36",2022,"DC47",63,null,null,null,null,null,null,null,null,null,null,null,null,null,null,null,null,null,null,"~"]
["SA36",2022,"DC47",64,null,null,null,null,null,null,null,null,null,null,null,null,null,null,null,null,null,null,"~"]
["SA36",2022,"DC47",65,null,null,null,null,null,null,null,null,null,null,null,null,null,null,null,null,null,null,"~"]
["SA36",2022,"DC47",66,null,null,null,null,null,null,null,null,null,null,null,null,null,null,null,null,null,null,"~"]
["SA36",2022,"DC47",67,null,null,null,null,null,null,null,null,null,null,null,null,null,null,null,null,null,null,"~"]
["SA36",2022,"DC47",68,null,null,null,null,null,null,null,null,null,null,null,null,null,null,null,null,null,null,"~"]
["SA36",2022,"DC47",69,null,null,null,null,null,null,null,null,null,null,null,null,null,null,null,null,null,null,"~"]
["SA36",2022,"DC47",70,null,null,null,null,null,null,null,null,null,null,null,null,null,null,null,null,null,null,"~"]
["SA36",2022,"DC47",71,null,null,null,null,null,null,null,null,null,null,null,null,null,null,null,null,null,null,"~"]
["SA36",2022,"DC47",72,null,null,null,null,null,null,null,null,null,null,null,null,null,null,null,null,null,null,"~"]
["SA36",2022,"DC47",73,null,null,null,null,null,null,null,null,null,null,null,null,null,null,null,null,null,null,"~"]
["SA36",2022,"DC47",74,null,null,null,null,null,null,null,null,null,null,null,null,null,null,null,null,null,null,"~"]
["SA36",2022,"DC47",75,null,null,null,null,null,null,null,null,null,null,null,null,null,null,null,null,null,null,"~"]
["SA36",2022,"DC47",76,null,null,null,null,null,null,null,null,null,null,null,null,null,null,null,null,null,null,"~"]
["SA36",2022,"DC47",77,null,null,null,null,null,null,null,null,null,null,null,null,null,null,null,null,null,null,"~"]
["SA36",2022,"DC47",78,null,null,null,null,null,null,null,null,null,null,null,null,null,null,null,null,null,null,"~"]
["SA36",2022,"DC47",79,null,null,null,null,null,null,null,null,null,null,null,null,null,null,null,null,null,null,"~"]
["SA36",2022,"DC47",80,null,null,null,null,null,null,null,null,null,null,null,null,null,null,null,null,null,null,"~"]
["SA36",2022,"DC47",81,null,null,null,null,null,null,null,null,null,null,null,null,null,null,null,null,null,null,"~"]
["SA36",2022,"DC47",82,null,null,null,null,null,null,null,null,null,null,null,null,null,null,null,null,null,null,"~"]
["SA36",2022,"DC47",83,null,null,null,null,null,null,null,null,null,null,null,null,null,null,null,null,null,null,"~"]
["SA36",2022,"DC47",84,null,null,null,null,null,null,null,null,null,null,null,null,null,null,null,null,null,null,"~"]
["SA36",2022,"DC47",85,null,null,null,null,null,null,null,null,null,null,null,null,null,null,null,null,null,null,"~"]
["SA36",2022,"DC47",86,null,null,null,null,null,null,null,null,null,null,null,null,null,null,null,null,null,null,"~"]
["SA36",2022,"DC47",87,null,null,null,null,null,null,null,null,null,null,null,null,null,null,null,null,null,null,"~"]
["SA36",{"$f":"+MTREF","v":2022},{"$f":"LEFT(muni,(FIND(\" \",muni,1)-1))","v":"DC47"},88,null,null,null,null,null,null,null,null,null,null,null,null,null,null,null,null,null,null,"~"]
["SA36",2022,"DC47",89,null,null,null,null,null,null,null,null,null,null,null,null,null,null,null,null,null,null,"~"]
["SA36",2022,"DC47",90,null,null,null,null,null,null,null,null,null,null,null,null,null,null,null,null,null,null,"~"]
["SA36",2022,"DC47",91,null,null,null,null,null,null,null,null,null,null,null,null,null,null,null,null,null,null,"~"]
["SA36",2022,"DC47",92,null,null,null,null,null,null,null,null,null,null,null,null,null,null,null,null,null,null,"~"]
["SA36",2022,"DC47",93,null,null,null,null,null,null,null,null,null,null,null,null,null,null,null,null,null,null,"~"]
["SA36",2022,"DC47",94,null,null,null,null,null,null,null,null,null,null,null,null,null,null,null,null,null,null,"~"]
["SA36",2022,"DC47",95,null,null,null,null,null,null,null,null,null,null,null,null,null,null,null,null,null,null,"~"]
["SA36",2022,"DC47",96,null,null,null,null,null,null,null,null,null,null,null,null,null,null,null,null,null,null,"~"]
["SA36",2022,"DC47",97,null,null,null,null,null,null,null,null,null,null,null,null,null,null,null,null,null,null,"~"]
["SA36",2022,"DC47",98,null,null,null,null,null,null,null,null,null,null,null,null,null,null,null,null,null,null,"~"]
["SA36",2022,"DC47",99,null,null,null,null,null,null,null,null,null,null,null,null,null,null,null,null,null,null,"~"]
["SA36",2022,"DC47",100,null,null,null,null,null,null,null,null,null,null,null,null,null,null,null,null,null,null,"~"]
["SA36",2022,"DC47",101,null,null,null,null,null,null,null,null,null,null,null,null,null,null,null,null,null,null,"~"]
["SA36",2022,"DC47",102,null,null,null,null,null,null,null,null,null,null,null,null,null,null,null,null,null,null,"~"]
["SA36",2022,"DC47",103,null,null,null,null,null,null,null,null,null,null,null,null,null,null,null,null,null,null,"~"]
["SA36",2022,"DC47",104,null,null,null,null,null,null,null,null,null,null,null,null,null,null,null,null,null,null,"~"]
["SA36",2022,"DC47",105,null,null,null,null,null,null,null,null,null,null,null,null,null,null,null,null,null,null,"~"]
["SA36",2022,"DC47",106,null,null,null,null,null,null,null,null,null,null,null,null,null,null,null,null,null,null,"~"]
["SA36",2022,"DC47",107,null,null,null,null,null,null,null,null,null,null,null,null,null,null,null,null,null,null,"~"]
["SA36",2022,"DC47",108,null,null,null,null,null,null,null,null,null,null,null,null,null,null,null,null,null,null,"~"]
["SA36",2022,"DC47",109,null,null,null,null,null,null,null,null,null,null,null,null,null,null,null,null,null,null,"~"]
["SA36",2022,"DC47",110,null,null,null,null,null,null,null,null,null,null,null,null,null,null,null,null,null,null,"~"]
["SA36",2022,"DC47",111,null,null,null,null,null,null,null,null,null,null,null,null,null,null,null,null,null,null,"~"]
["SA36",2022,"DC47",112,null,null,null,null,null,null,null,null,null,null,null,null,null,null,null,null,null,null,"~"]
["SA36",2022,"DC47",113,null,null,null,null,null,null,null,null,null,null,null,null,null,null,null,null,null,null,"~"]
["SA36",2022,"DC47",114,null,null,null,null,null,null,null,null,null,null,null,null,null,null,null,null,null,null,"~"]
["SA36",2022,"DC47",115,null,null,null,null,null,null,null,null,null,null,null,null,null,null,null,null,null,null,"~"]
["SA36",2022,"DC47",116,null,null,null,null,null,null,null,null,null,null,null,null,null,null,null,null,null,null,"~"]
["SA36",2022,"DC47",117,null,null,null,null,null,null,null,null,null,null,null,null,null,null,null,null,null,null,"~"]
["SA36",2022,"DC47",118,null,null,null,null,null,null,null,null,null,null,null,null,null,null,null,null,null,null,"~"]
["SA36",2022,"DC47",119,null,null,null,null,null,null,null,null,null,null,null,null,null,null,null,null,null,null,"~"]
["SA36",2022,"DC47",120,null,null,null,null,null,null,null,null,null,null,null,null,null,null,null,null,null,null,"~"]
["SA36",2022,"DC47",121,null,null,null,null,null,null,null,null,null,null,null,null,null,null,null,null,null,null,"~"]
["SA36",2022,"DC47",122,null,null,null,null,null,null,null,null,null,null,null,null,null,null,null,null,null,null,"~"]
["SA36",2022,"DC47",123,null,null,null,null,null,null,null,null,null,null,null,null,null,null,null,null,null,null,"~"]
["SA36",2022,"DC47",124,null,null,null,null,null,null,null,null,null,null,null,null,null,null,null,null,null,null,"~"]
["SA36",2022,"DC47",125,null,null,null,null,null,null,null,null,null,null,null,null,null,null,null,null,null,null,"~"]
["SA36",2022,"DC47",126,null,null,null,null,null,null,null,null,null,null,null,null,null,null,null,null,null,null,"~"]
["SA36",2022,"DC47",127,null,null,null,null,null,null,null,null,null,null,null,null,null,null,null,null,null,null,"~"]
["SA36",2022,"DC47",128,null,null,null,null,null,null,null,null,null,null,null,null,null,null,null,null,null,null,"~"]
["SA36",2022,"DC47",129,null,null,null,null,null,null,null,null,null,null,null,null,null,null,null,null,null,null,"~"]
["SA36",2022,"DC47",130,null,null,null,null,null,null,null,null,null,null,null,null,null,null,null,null,null,null,"~"]
["SA36",2022,"DC47",131,null,null,null,null,null,null,null,null,null,null,null,null,null,null,null,null,null,null,"~"]
["SA36",2022,"DC47",132,null,null,null,null,null,null,null,null,null,null,null,null,null,null,null,null,null,null,"~"]
["SA36",2022,"DC47",133,null,null,null,null,null,null,null,null,null,null,null,null,null,null,null,null,null,null,"~"]
["SA36",2022,"DC47",134,null,null,null,null,null,null,null,null,null,null,null,null,null,null,null,null,null,null,"~"]
["SA36",2022,"DC47",135,null,null,null,null,null,null,null,null,null,null,null,null,null,null,null,null,null,null,"~"]
["SA36",2022,"DC47",136,null,null,null,null,null,null,null,null,null,null,null,null,null,null,null,null,null,null,"~"]
["SA36",2022,"DC47",137,null,null,null,null,null,null,null,null,null,null,null,null,null,null,null,null,null,null,"~"]
["SA36",2022,"DC47",138,null,null,null,null,null,null,null,null,null,null,null,null,null,null,null,null,null,null,"~"]
["SA36",2022,"DC47",139,null,null,null,null,null,null,null,null,null,null,null,null,null,null,null,null,null,null,"~"]
["SA36",2022,"DC47",140,null,null,null,null,null,null,null,null,null,null,null,null,null,null,null,null,null,null,"~"]
["SA36",2022,"DC47",141,null,null,null,null,null,null,null,null,null,null,null,null,null,null,null,null,null,null,"~"]
["SA36",2022,"DC47",142,null,null,null,null,null,null,null,null,null,null,null,null,null,null,null,null,null,null,"~"]
["SA36",2022,"DC47",143,null,null,null,null,null,null,null,null,null,null,null,null,null,null,null,null,null,null,"~"]
["SA36",2022,"DC47",144,null,null,null,null,null,null,null,null,null,null,null,null,null,null,null,null,null,null,"~"]
["SA36",2022,"DC47",145,null,null,null,null,null,null,null,null,null,null,null,null,null,null,null,null,null,null,"~"]
["SA36",2022,"DC47",146,null,null,null,null,null,null,null,null,null,null,null,null,null,null,null,null,null,null,"~"]
["SA36",2022,"DC47",147,null,null,null,null,null,null,null,null,null,null,null,null,null,null,null,null,null,null,"~"]
["SA36",2022,"DC47",148,null,null,null,null,null,null,null,null,null,null,null,null,null,null,null,null,null,null,"~"]
["SA36",2022,"DC47",149,null,null,null,null,null,null,null,null,null,null,null,null,null,null,null,null,null,null,"~"]
["SA36",2022,"DC47",150,null,null,null,null,null,null,null,null,null,null,null,null,null,null,null,null,null,null,"~"]
["SA36",2022,"DC47",151,null,null,null,null,null,null,null,null,null,null,null,null,null,null,null,null,null,null,"~"]
["SA36",{"$f":"+MTREF","v":2022},{"$f":"LEFT(muni,(FIND(\" \",muni,1)-1))","v":"DC47"},152,null,null,null,null,null,null,null,null,null,null,null,null,null,null,null,null,null,null,"~"]
["SA36",2022,"DC47",153,null,null,null,null,null,null,null,null,null,null,null,null,null,null,null,null,null,null,"~"]
["SA36",2022,"DC47",154,null,null,null,null,null,null,null,null,null,null,null,null,null,null,null,null,null,null,"~"]
["SA36",2022,"DC47",155,null,null,null,null,null,null,null,null,null,null,null,null,null,null,null,null,null,null,"~"]
["SA36",2022,"DC47",156,null,null,null,null,null,null,null,null,null,null,null,null,null,null,null,null,null,null,"~"]
["SA36",2022,"DC47",157,null,null,null,null,null,null,null,null,null,null,null,null,null,null,null,null,null,null,"~"]
["SA36",2022,"DC47",158,null,null,null,null,null,null,null,null,null,null,null,null,null,null,null,null,null,null,"~"]
["SA36",2022,"DC47",159,null,null,null,null,null,null,null,null,null,null,null,null,null,null,null,null,null,null,"~"]
["SA36",2022,"DC47",160,null,null,null,null,null,null,null,null,null,null,null,null,null,null,null,null,null,null,"~"]
["SA36",2022,"DC47",161,null,null,null,null,null,null,null,null,null,null,null,null,null,null,null,null,null,null,"~"]
["SA36",2022,"DC47",162,null,null,null,null,null,null,null,null,null,null,null,null,null,null,null,null,null,null,"~"]
["SA36",2022,"DC47",163,null,null,null,null,null,null,null,null,null,null,null,null,null,null,null,null,null,null,"~"]
["SA36",2022,"DC47",164,null,null,null,null,null,null,null,null,null,null,null,null,null,null,null,null,null,null,"~"]
["SA36",2022,"DC47",165,null,null,null,null,null,null,null,null,null,null,null,null,null,null,null,null,null,null,"~"]
["SA36",2022,"DC47",166,null,null,null,null,null,null,null,null,null,null,null,null,null,null,null,null,null,null,"~"]
["SA36",2022,"DC47",167,null,null,null,null,null,null,null,null,null,null,null,null,null,null,null,null,null,null,"~"]
["SA36",2022,"DC47",168,null,null,null,null,null,null,null,null,null,null,null,null,null,null,null,null,null,null,"~"]
["SA36",2022,"DC47",169,null,null,null,null,null,null,null,null,null,null,null,null,null,null,null,null,null,null,"~"]
["SA36",2022,"DC47",170,null,null,null,null,null,null,null,null,null,null,null,null,null,null,null,null,null,null,"~"]
["SA36",2022,"DC47",171,null,null,null,null,null,null,null,null,null,null,null,null,null,null,null,null,null,null,"~"]
["SA36",2022,"DC47",172,null,null,null,null,null,null,null,null,null,null,null,null,null,null,null,null,null,null,"~"]
["SA36",2022,"DC47",173,null,null,null,null,null,null,null,null,null,null,null,null,null,null,null,null,null,null,"~"]
["SA36",2022,"DC47",174,null,null,null,null,null,null,null,null,null,null,null,null,null,null,null,null,null,null,"~"]
["SA36",2022,"DC47",175,null,null,null,null,null,null,null,null,null,null,null,null,null,null,null,null,null,null,"~"]
["SA36",2022,"DC47",176,null,null,null,null,null,null,null,null,null,null,null,null,null,null,null,null,null,null,"~"]
["SA36",2022,"DC47",177,null,null,null,null,null,null,null,null,null,null,null,null,null,null,null,null,null,null,"~"]
["SA36",2022,"DC47",178,null,null,null,null,null,null,null,null,null,null,null,null,null,null,null,null,null,null,"~"]
["SA36",2022,"DC47",179,null,null,null,null,null,null,null,null,null,null,null,null,null,null,null,null,null,null,"~"]
["SA36",2022,"DC47",180,null,null,null,null,null,null,null,null,null,null,null,null,null,null,null,null,null,null,"~"]
["SA36",2022,"DC47",181,null,null,null,null,null,null,null,null,null,null,null,null,null,null,null,null,null,null,"~"]
["SA36",2022,"DC47",182,null,null,null,null,null,null,null,null,null,null,null,null,null,null,null,null,null,null,"~"]
["SA36",2022,"DC47",183,null,null,null,null,null,null,null,null,null,null,null,null,null,null,null,null,null,null,"~"]
["SA36",2022,"DC47",184,null,null,null,null,null,null,null,null,null,null,null,null,null,null,null,null,null,null,"~"]
["SA36",2022,"DC47",185,null,null,null,null,null,null,null,null,null,null,null,null,null,null,null,null,null,null,"~"]
["SA36",2022,"DC47",186,null,null,null,null,null,null,null,null,null,null,null,null,null,null,null,null,null,null,"~"]
["SA36",2022,"DC47",187,null,null,null,null,null,null,null,null,null,null,null,null,null,null,null,null,null,null,"~"]
["SA36",2022,"DC47",188,null,null,null,null,null,null,null,null,null,null,null,null,null,null,null,null,null,null,"~"]
["SA36",2022,"DC47",189,null,null,null,null,null,null,null,null,null,null,null,null,null,null,null,null,null,null,"~"]
["SA36",2022,"DC47",190,null,null,null,null,null,null,null,null,null,null,null,null,null,null,null,null,null,null,"~"]
["SA36",2022,"DC47",191,null,null,null,null,null,null,null,null,null,null,null,null,null,null,null,null,null,null,"~"]
["SA36",2022,"DC47",192,null,null,null,null,null,null,null,null,null,null,null,null,null,null,null,null,null,null,"~"]
["SA36",2022,"DC47",193,null,null,null,null,null,null,null,null,null,null,null,null,null,null,null,null,null,null,"~"]
["SA36",2022,"DC47",194,null,null,null,null,null,null,null,null,null,null,null,null,null,null,null,null,null,null,"~"]
["SA36",2022,"DC47",195,null,null,null,null,null,null,null,null,null,null,null,null,null,null,null,null,null,null,"~"]
["SA36",2022,"DC47",196,null,null,null,null,null,null,null,null,null,null,null,null,null,null,null,null,null,null,"~"]
["SA36",2022,"DC47",197,null,null,null,null,null,null,null,null,null,null,null,null,null,null,null,null,null,null,"~"]
["SA36",2022,"DC47",198,null,null,null,null,null,null,null,null,null,null,null,null,null,null,null,null,null,null,"~"]
["SA36",2022,"DC47",199,null,null,null,null,null,null,null,null,null,null,null,null,null,null,null,null,null,null,"~"]
["SA36",2022,"DC47",200,null,null,null,null,null,null,null,null,null,null,null,null,null,null,null,null,null,null,"~"]
["SA36",2022,"DC47",201,null,null,null,null,null,null,null,null,null,null,null,null,null,null,null,null,null,null,"~"]
["SA36",2022,"DC47",202,null,null,null,null,null,null,null,null,null,null,null,null,null,null,null,null,null,null,"~"]
["SA36",2022,"DC47",203,null,null,null,null,null,null,null,null,null,null,null,null,null,null,null,null,null,null,"~"]
["SA36",2022,"DC47",204,null,null,null,null,null,null,null,null,null,null,null,null,null,null,null,null,null,null,"~"]
["SA36",2022,"DC47",205,null,null,null,null,null,null,null,null,null,null,null,null,null,null,null,null,null,null,"~"]
["SA36",2022,"DC47",206,null,null,null,null,null,null,null,null,null,null,null,null,null,null,null,null,null,null,"~"]
["SA36",2022,"DC47",207,null,null,null,null,null,null,null,null,null,null,null,null,null,null,null,null,null,null,"~"]
["SA36",2022,"DC47",208,null,null,null,null,null,null,null,null,null,null,null,null,null,null,null,null,null,null,"~"]
["SA36",2022,"DC47",209,null,null,null,null,null,null,null,null,null,null,null,null,null,null,null,null,null,null,"~"]
["SA36",2022,"DC47",210,null,null,null,null,null,null,null,null,null,null,null,null,null,null,null,null,null,null,"~"]
["SA36",2022,"DC47",211,null,null,null,null,null,null,null,null,null,null,null,null,null,null,null,null,null,null,"~"]
["SA36",2022,"DC47",212,null,null,null,null,null,null,null,null,null,null,null,null,null,null,null,null,null,null,"~"]
["SA36",2022,"DC47",213,null,null,null,null,null,null,null,null,null,null,null,null,null,null,null,null,null,null,"~"]
["SA36",2022,"DC47",214,null,null,null,null,null,null,null,null,null,null,null,null,null,null,null,null,null,null,"~"]
["SA36",2022,"DC47",215,null,null,null,null,null,null,null,null,null,null,null,null,null,null,null,null,null,null,"~"]
["SA36",{"$f":"+MTREF","v":2022},{"$f":"LEFT(muni,(FIND(\" \",muni,1)-1))","v":"DC47"},216,null,null,null,null,null,null,null,null,null,null,null,null,null,null,null,null,null,null,"~"]
["SA36",2022,"DC47",217,null,null,null,null,null,null,null,null,null,null,null,null,null,null,null,null,null,null,"~"]
["SA36",2022,"DC47",218,null,null,null,null,null,null,null,null,null,null,null,null,null,null,null,null,null,null,"~"]
["SA36",2022,"DC47",219,null,null,null,null,null,null,null,null,null,null,null,null,null,null,null,null,null,null,"~"]
["SA36",2022,"DC47",220,null,null,null,null,null,null,null,null,null,null,null,null,null,null,null,null,null,null,"~"]
["SA36",2022,"DC47",221,null,null,null,null,null,null,null,null,null,null,null,null,null,null,null,null,null,null,"~"]
["SA36",2022,"DC47",222,null,null,null,null,null,null,null,null,null,null,null,null,null,null,null,null,null,null,"~"]
["SA36",2022,"DC47",223,null,null,null,null,null,null,null,null,null,null,null,null,null,null,null,null,null,null,"~"]
["SA36",2022,"DC47",224,null,null,null,null,null,null,null,null,null,null,null,null,null,null,null,null,null,null,"~"]
["SA36",2022,"DC47",225,null,null,null,null,null,null,null,null,null,null,null,null,null,null,null,null,null,null,"~"]
["SA36",2022,"DC47",226,null,null,null,null,null,null,null,null,null,null,null,null,null,null,null,null,null,null,"~"]
["SA36",2022,"DC47",227,null,null,null,null,null,null,null,null,null,null,null,null,null,null,null,null,null,null,"~"]
["SA36",2022,"DC47",228,null,null,null,null,null,null,null,null,null,null,null,null,null,null,null,null,null,null,"~"]
["SA36",2022,"DC47",229,null,null,null,null,null,null,null,null,null,null,null,null,null,null,null,null,null,null,"~"]
["SA36",2022,"DC47",230,null,null,null,null,null,null,null,null,null,null,null,null,null,null,null,null,null,null,"~"]
["SA36",2022,"DC47",231,null,null,null,null,null,null,null,null,null,null,null,null,null,null,null,null,null,null,"~"]
["SA36",2022,"DC47",232,null,null,null,null,null,null,null,null,null,null,null,null,null,null,null,null,null,null,"~"]
["SA36",2022,"DC47",233,null,null,null,null,null,null,null,null,null,null,null,null,null,null,null,null,null,null,"~"]
["SA36",2022,"DC47",234,null,null,null,null,null,null,null,null,null,null,null,null,null,null,null,null,null,null,"~"]
["SA36",2022,"DC47",235,null,null,null,null,null,null,null,null,null,null,null,null,null,null,null,null,null,null,"~"]
["SA36",2022,"DC47",236,null,null,null,null,null,null,null,null,null,null,null,null,null,null,null,null,null,null,"~"]
["SA36",2022,"DC47",237,null,null,null,null,null,null,null,null,null,null,null,null,null,null,null,null,null,null,"~"]
["SA36",2022,"DC47",238,null,null,null,null,null,null,null,null,null,null,null,null,null,null,null,null,null,null,"~"]
["SA36",2022,"DC47",239,null,null,null,null,null,null,null,null,null,null,null,null,null,null,null,null,null,null,"~"]
["SA36",2022,"DC47",240,null,null,null,null,null,null,null,null,null,null,null,null,null,null,null,null,null,null,"~"]
["SA36",2022,"DC47",241,null,null,null,null,null,null,null,null,null,null,null,null,null,null,null,null,null,null,"~"]
["SA36",2022,"DC47",242,null,null,null,null,null,null,null,null,null,null,null,null,null,null,null,null,null,null,"~"]
["SA36",2022,"DC47",243,null,null,null,null,null,null,null,null,null,null,null,null,null,null,null,null,null,null,"~"]
["SA36",2022,"DC47",244,null,null,null,null,null,null,null,null,null,null,null,null,null,null,null,null,null,null,"~"]
["SA36",2022,"DC47",245,null,null,null,null,null,null,null,null,null,null,null,null,null,null,null,null,null,null,"~"]
["SA36",2022,"DC47",246,null,null,null,null,null,null,null,null,null,null,null,null,null,null,null,null,null,null,"~"]
["SA36",2022,"DC47",247,null,null,null,null,null,null,null,null,null,null,null,null,null,null,null,null,null,null,"~"]
["SA36",2022,"DC47",248,null,null,null,null,null,null,null,null,null,null,null,null,null,null,null,null,null,null,"~"]
["SA36",2022,"DC47",249,null,null,null,null,null,null,null,null,null,null,null,null,null,null,null,null,null,null,"~"]
["SA36",2022,"DC47",250,null,null,null,null,null,null,null,null,null,null,null,null,null,null,null,null,null,null,"~"]
["SA36",2022,"DC47",251,null,null,null,null,null,null,null,null,null,null,null,null,null,null,null,null,null,null,"~"]
["SA36",2022,"DC47",252,null,null,null,null,null,null,null,null,null,null,null,null,null,null,null,null,null,null,"~"]
["SA36",2022,"DC47",253,null,null,null,null,null,null,null,null,null,null,null,null,null,null,null,null,null,null,"~"]
["SA36",2022,"DC47",254,null,null,null,null,null,null,null,null,null,null,null,null,null,null,null,null,null,null,"~"]
["SA36",2022,"DC47",255,null,null,null,null,null,null,null,null,null,null,null,null,null,null,null,null,null,null,"~"]
["SA36",2022,"DC47",256,null,null,null,null,null,null,null,null,null,null,null,null,null,null,null,null,null,null,"~"]
["SA36",2022,"DC47",257,null,null,null,null,null,null,null,null,null,null,null,null,null,null,null,null,null,null,"~"]
["SA36",2022,"DC47",258,null,null,null,null,null,null,null,null,null,null,null,null,null,null,null,null,null,null,"~"]
["SA36",2022,"DC47",259,null,null,null,null,null,null,null,null,null,null,null,null,null,null,null,null,null,null,"~"]
["SA36",2022,"DC47",260,null,null,null,null,null,null,null,null,null,null,null,null,null,null,null,null,null,null,"~"]
["SA36",2022,"DC47",261,null,null,null,null,null,null,null,null,null,null,null,null,null,null,null,null,null,null,"~"]
["SA36",2022,"DC47",262,null,null,null,null,null,null,null,null,null,null,null,null,null,null,null,null,null,null,"~"]
["SA36",2022,"DC47",263,null,null,null,null,null,null,null,null,null,null,null,null,null,null,null,null,null,null,"~"]
["SA36",2022,"DC47",264,null,null,null,null,null,null,null,null,null,null,null,null,null,null,null,null,null,null,"~"]
["SA36",2022,"DC47",265,null,null,null,null,null,null,null,null,null,null,null,null,null,null,null,null,null,null,"~"]
["SA36",2022,"DC47",266,null,null,null,null,null,null,null,null,null,null,null,null,null,null,null,null,null,null,"~"]
["SA36",2022,"DC47",267,null,null,null,null,null,null,null,null,null,null,null,null,null,null,null,null,null,null,"~"]
["SA36",2022,"DC47",268,null,null,null,null,null,null,null,null,null,null,null,null,null,null,null,null,null,null,"~"]
["SA36",2022,"DC47",269,null,null,null,null,null,null,null,null,null,null,null,null,null,null,null,null,null,null,"~"]
["SA36",2022,"DC47",270,null,null,null,null,null,null,null,null,null,null,null,null,null,null,null,null,null,null,"~"]
["SA36",2022,"DC47",271,null,null,null,null,null,null,null,null,null,null,null,null,null,null,null,null,null,null,"~"]
["SA36",2022,"DC47",272,null,null,null,null,null,null,null,null,null,null,null,null,null,null,null,null,null,null,"~"]
["SA36",2022,"DC47",273,null,null,null,null,null,null,null,null,null,null,null,null,null,null,null,null,null,null,"~"]
["SA36",2022,"DC47",274,null,null,null,null,null,null,null,null,null,null,null,null,null,null,null,null,null,null,"~"]
["SA36",2022,"DC47",275,null,null,null,null,null,null,null,null,null,null,null,null,null,null,null,null,null,null,"~"]
["SA36",2022,"DC47",276,null,null,null,null,null,null,null,null,null,null,null,null,null,null,null,null,null,null,"~"]
["SA36",2022,"DC47",277,null,null,null,null,null,null,null,null,null,null,null,null,null,null,null,null,null,null,"~"]
["SA36",2022,"DC47",278,null,null,null,null,null,null,null,null,null,null,null,null,null,null,null,null,null,null,"~"]
["SA36",2022,"DC47",279,null,null,null,null,null,null,null,null,null,null,null,null,null,null,null,null,null,null,"~"]
["SA36",{"$f":"+MTREF","v":2022},{"$f":"LEFT(muni,(FIND(\" \",muni,1)-1))","v":"DC47"},280,null,null,null,null,null,null,null,null,null,null,null,null,null,null,null,null,null,null,"~"]
["SA36",2022,"DC47",281,null,null,null,null,null,null,null,null,null,null,null,null,null,null,null,null,null,null,"~"]
["SA36",2022,"DC47",282,null,null,null,null,null,null,null,null,null,null,null,null,null,null,null,null,null,null,"~"]
["SA36",2022,"DC47",283,null,null,null,null,null,null,null,null,null,null,null,null,null,null,null,null,null,null,"~"]
["SA36",2022,"DC47",284,null,null,null,null,null,null,null,null,null,null,null,null,null,null,null,null,null,null,"~"]
["SA36",2022,"DC47",285,null,null,null,null,null,null,null,null,null,null,null,null,null,null,null,null,null,null,"~"]
["SA36",2022,"DC47",286,null,null,null,null,null,null,null,null,null,null,null,null,null,null,null,null,null,null,"~"]
["SA36",2022,"DC47",287,null,null,null,null,null,null,null,null,null,null,null,null,null,null,null,null,null,null,"~"]
["SA36",2022,"DC47",288,null,null,null,null,null,null,null,null,null,null,null,null,null,null,null,null,null,null,"~"]
["SA36",2022,"DC47",289,null,null,null,null,null,null,null,null,null,null,null,null,null,null,null,null,null,null,"~"]
["SA36",2022,"DC47",290,null,null,null,null,null,null,null,null,null,null,null,null,null,null,null,null,null,null,"~"]
["SA36",2022,"DC47",291,null,null,null,null,null,null,null,null,null,null,null,null,null,null,null,null,null,null,"~"]
["SA36",2022,"DC47",292,null,null,null,null,null,null,null,null,null,null,null,null,null,null,null,null,null,null,"~"]
["SA36",2022,"DC47",293,null,null,null,null,null,null,null,null,null,null,null,null,null,null,null,null,null,null,"~"]
["SA36",2022,"DC47",294,null,null,null,null,null,null,null,null,null,null,null,null,null,null,null,null,null,null,"~"]
["SA36",2022,"DC47",295,null,null,null,null,null,null,null,null,null,null,null,null,null,null,null,null,null,null,"~"]
["SA36",2022,"DC47",296,null,null,null,null,null,null,null,null,null,null,null,null,null,null,null,null,null,null,"~"]
["SA36",2022,"DC47",297,null,null,null,null,null,null,null,null,null,null,null,null,null,null,null,null,null,null,"~"]
["SA36",2022,"DC47",298,null,null,null,null,null,null,null,null,null,null,null,null,null,null,null,null,null,null,"~"]
["SA36",2022,"DC47",299,null,null,null,null,null,null,null,null,null,null,null,null,null,null,null,null,null,null,"~"]
["SA36",2022,"DC47",300,null,null,null,null,null,null,null,null,null,null,null,null,null,null,null,null,null,null,"~"]
["SA36",2022,"DC47",301,null,null,null,null,null,null,null,null,null,null,null,null,null,null,null,null,null,null,"~"]
["SA36",2022,"DC47",302,null,null,null,null,null,null,null,null,null,null,null,null,null,null,null,null,null,null,"~"]
["SA36",2022,"DC47",303,null,null,null,null,null,null,null,null,null,null,null,null,null,null,null,null,null,null,"~"]
["SA36",2022,"DC47",304,null,null,null,null,null,null,null,null,null,null,null,null,null,null,null,null,null,null,"~"]
["SA36",2022,"DC47",305,null,null,null,null,null,null,null,null,null,null,null,null,null,null,null,null,null,null,"~"]
["SA36",2022,"DC47",306,null,null,null,null,null,null,null,null,null,null,null,null,null,null,null,null,null,null,"~"]
["SA36",2022,"DC47",307,null,null,null,null,null,null,null,null,null,null,null,null,null,null,null,null,null,null,"~"]
["SA36",2022,"DC47",308,null,null,null,null,null,null,null,null,null,null,null,null,null,null,null,null,null,null,"~"]
["SA36",2022,"DC47",309,null,null,null,null,null,null,null,null,null,null,null,null,null,null,null,null,null,null,"~"]
["SA36",2022,"DC47",310,null,null,null,null,null,null,null,null,null,null,null,null,null,null,null,null,null,null,"~"]
["SA36",2022,"DC47",311,null,null,null,null,null,null,null,null,null,null,null,null,null,null,null,null,null,null,"~"]
["SA36",2022,"DC47",312,null,null,null,null,null,null,null,null,null,null,null,null,null,null,null,null,null,null,"~"]
["SA36",2022,"DC47",313,null,null,null,null,null,null,null,null,null,null,null,null,null,null,null,null,null,null,"~"]
["SA36",2022,"DC47",314,null,null,null,null,null,null,null,null,null,null,null,null,null,null,null,null,null,null,"~"]
["SA36",2022,"DC47",315,null,null,null,null,null,null,null,null,null,null,null,null,null,null,null,null,null,null,"~"]
["SA36",2022,"DC47",316,null,null,null,null,null,null,null,null,null,null,null,null,null,null,null,null,null,null,"~"]
["SA36",2022,"DC47",317,null,null,null,null,null,null,null,null,null,null,null,null,null,null,null,null,null,null,"~"]
["SA36",2022,"DC47",318,null,null,null,null,null,null,null,null,null,null,null,null,null,null,null,null,null,null,"~"]
["SA36",2022,"DC47",319,null,null,null,null,null,null,null,null,null,null,null,null,null,null,null,null,null,null,"~"]
["SA36",2022,"DC47",320,null,null,null,null,null,null,null,null,null,null,null,null,null,null,null,null,null,null,"~"]
["SA36",2022,"DC47",321,null,null,null,null,null,null,null,null,null,null,null,null,null,null,null,null,null,null,"~"]
["SA36",2022,"DC47",322,null,null,null,null,null,null,null,null,null,null,null,null,null,null,null,null,null,null,"~"]
["SA36",2022,"DC47",323,null,null,null,null,null,null,null,null,null,null,null,null,null,null,null,null,null,null,"~"]
["SA36",2022,"DC47",324,null,null,null,null,null,null,null,null,null,null,null,null,null,null,null,null,null,null,"~"]
["SA36",2022,"DC47",325,null,null,null,null,null,null,null,null,null,null,null,null,null,null,null,null,null,null,"~"]
["SA36",2022,"DC47",326,null,null,null,null,null,null,null,null,null,null,null,null,null,null,null,null,null,null,"~"]
["SA36",2022,"DC47",327,null,null,null,null,null,null,null,null,null,null,null,null,null,null,null,null,null,null,"~"]
["SA36",2022,"DC47",328,null,null,null,null,null,null,null,null,null,null,null,null,null,null,null,null,null,null,"~"]
["SA36",2022,"DC47",329,null,null,null,null,null,null,null,null,null,null,null,null,null,null,null,null,null,null,"~"]
["SA36",2022,"DC47",330,null,null,null,null,null,null,null,null,null,null,null,null,null,null,null,null,null,null,"~"]
["SA36",2022,"DC47",331,null,null,null,null,null,null,null,null,null,null,null,null,null,null,null,null,null,null,"~"]
["SA36",2022,"DC47",332,null,null,null,null,null,null,null,null,null,null,null,null,null,null,null,null,null,null,"~"]
["SA36",2022,"DC47",333,null,null,null,null,null,null,null,null,null,null,null,null,null,null,null,null,null,null,"~"]
["SA36",2022,"DC47",334,null,null,null,null,null,null,null,null,null,null,null,null,null,null,null,null,null,null,"~"]
["SA36",2022,"DC47",335,null,null,null,null,null,null,null,null,null,null,null,null,null,null,null,null,null,null,"~"]
["SA36",2022,"DC47",336,null,null,null,null,null,null,null,null,null,null,null,null,null,null,null,null,null,null,"~"]
["SA36",2022,"DC47",337,null,null,null,null,null,null,null,null,null,null,null,null,null,null,null,null,null,null,"~"]
["SA36",2022,"DC47",338,null,null,null,null,null,null,null,null,null,null,null,null,null,null,null,null,null,null,"~"]
["SA36",2022,"DC47",339,null,null,null,null,null,null,null,null,null,null,null,null,null,null,null,null,null,null,"~"]
["SA36",2022,"DC47",340,null,null,null,null,null,null,null,null,null,null,null,null,null,null,null,null,null,null,"~"]
["SA36",2022,"DC47",341,null,null,null,null,null,null,null,null,null,null,null,null,null,null,null,null,null,null,"~"]
["SA36",2022,"DC47",342,null,null,null,null,null,null,null,null,null,null,null,null,null,null,null,null,null,null,"~"]
["SA36",2022,"DC47",343,null,null,null,null,null,null,null,null,null,null,null,null,null,null,null,null,null,null,"~"]
["SA36",{"$f":"+MTREF","v":2022},{"$f":"LEFT(muni,(FIND(\" \",muni,1)-1))","v":"DC47"},344,null,null,null,null,null,null,null,null,null,null,null,null,null,null,null,null,null,null,"~"]
["SA36",2022,"DC47",345,null,null,null,null,null,null,null,null,null,null,null,null,null,null,null,null,null,null,"~"]
["SA36",2022,"DC47",346,null,null,null,null,null,null,null,null,null,null,null,null,null,null,null,null,null,null,"~"]
["SA36",2022,"DC47",347,null,null,null,null,null,null,null,null,null,null,null,null,null,null,null,null,null,null,"~"]
["SA36",2022,"DC47",348,null,null,null,null,null,null,null,null,null,null,null,null,null,null,null,null,null,null,"~"]
["SA36",2022,"DC47",349,null,null,null,null,null,null,null,null,null,null,null,null,null,null,null,null,null,null,"~"]
["SA36",2022,"DC47",350,null,null,null,null,null,null,null,null,null,null,null,null,null,null,null,null,null,null,"~"]
["SA36",2022,"DC47",351,null,null,null,null,null,null,null,null,null,null,null,null,null,null,null,null,null,null,"~"]
["SA36",2022,"DC47",352,null,null,null,null,null,null,null,null,null,null,null,null,null,null,null,null,null,null,"~"]
["SA36",2022,"DC47",353,null,null,null,null,null,null,null,null,null,null,null,null,null,null,null,null,null,null,"~"]
["SA36",2022,"DC47",354,null,null,null,null,null,null,null,null,null,null,null,null,null,null,null,null,null,null,"~"]
["SA36",2022,"DC47",355,null,null,null,null,null,null,null,null,null,null,null,null,null,null,null,null,null,null,"~"]
["SA36",2022,"DC47",356,null,null,null,null,null,null,null,null,null,null,null,null,null,null,null,null,null,null,"~"]
["SA36",2022,"DC47",357,null,null,null,null,null,null,null,null,null,null,null,null,null,null,null,null,null,null,"~"]
["SA36",2022,"DC47",358,null,null,null,null,null,null,null,null,null,null,null,null,null,null,null,null,null,null,"~"]
["SA36",2022,"DC47",359,null,null,null,null,null,null,null,null,null,null,null,null,null,null,null,null,null,null,"~"]
["SA36",2022,"DC47",360,null,null,null,null,null,null,null,null,null,null,null,null,null,null,null,null,null,null,"~"]
["SA36",2022,"DC47",361,null,null,null,null,null,null,null,null,null,null,null,null,null,null,null,null,null,null,"~"]
["SA36",2022,"DC47",362,null,null,null,null,null,null,null,null,null,null,null,null,null,null,null,null,null,null,"~"]
["SA36",2022,"DC47",363,null,null,null,null,null,null,null,null,null,null,null,null,null,null,null,null,null,null,"~"]
["SA36",2022,"DC47",364,null,null,null,null,null,null,null,null,null,null,null,null,null,null,null,null,null,null,"~"]
["SA36",2022,"DC47",365,null,null,null,null,null,null,null,null,null,null,null,null,null,null,null,null,null,null,"~"]
["SA36",2022,"DC47",366,null,null,null,null,null,null,null,null,null,null,null,null,null,null,null,null,null,null,"~"]
["SA36",2022,"DC47",367,null,null,null,null,null,null,null,null,null,null,null,null,null,null,null,null,null,null,"~"]
["SA36",2022,"DC47",368,null,null,null,null,null,null,null,null,null,null,null,null,null,null,null,null,null,null,"~"]
["SA36",2022,"DC47",369,null,null,null,null,null,null,null,null,null,null,null,null,null,null,null,null,null,null,"~"]
["SA36",2022,"DC47",370,null,null,null,null,null,null,null,null,null,null,null,null,null,null,null,null,null,null,"~"]
["SA36",2022,"DC47",371,null,null,null,null,null,null,null,null,null,null,null,null,null,null,null,null,null,null,"~"]
["SA36",2022,"DC47",372,null,null,null,null,null,null,null,null,null,null,null,null,null,null,null,null,null,null,"~"]
["SA36",2022,"DC47",373,null,null,null,null,null,null,null,null,null,null,null,null,null,null,null,null,null,null,"~"]
["SA36",2022,"DC47",374,null,null,null,null,null,null,null,null,null,null,null,null,null,null,null,null,null,null,"~"]
["SA36",2022,"DC47",375,null,null,null,null,null,null,null,null,null,null,null,null,null,null,null,null,null,null,"~"]
["SA36",2022,"DC47",376,null,null,null,null,null,null,null,null,null,null,null,null,null,null,null,null,null,null,"~"]
["SA36",2022,"DC47",377,null,null,null,null,null,null,null,null,null,null,null,null,null,null,null,null,null,null,"~"]
["SA36",2022,"DC47",378,null,null,null,null,null,null,null,null,null,null,null,null,null,null,null,null,null,null,"~"]
["SA36",2022,"DC47",379,null,null,null,null,null,null,null,null,null,null,null,null,null,null,null,null,null,null,"~"]
["SA36",2022,"DC47",380,null,null,null,null,null,null,null,null,null,null,null,null,null,null,null,null,null,null,"~"]
["SA36",2022,"DC47",381,null,null,null,null,null,null,null,null,null,null,null,null,null,null,null,null,null,null,"~"]
["SA36",2022,"DC47",382,null,null,null,null,null,null,null,null,null,null,null,null,null,null,null,null,null,null,"~"]
["SA36",2022,"DC47",383,null,null,null,null,null,null,null,null,null,null,null,null,null,null,null,null,null,null,"~"]
["SA36",2022,"DC47",384,null,null,null,null,null,null,null,null,null,null,null,null,null,null,null,null,null,null,"~"]
["SA36",2022,"DC47",385,null,null,null,null,null,null,null,null,null,null,null,null,null,null,null,null,null,null,"~"]
["SA36",2022,"DC47",386,null,null,null,null,null,null,null,null,null,null,null,null,null,null,null,null,null,null,"~"]
["SA36",2022,"DC47",387,null,null,null,null,null,null,null,null,null,null,null,null,null,null,null,null,null,null,"~"]
["SA36",2022,"DC47",388,null,null,null,null,null,null,null,null,null,null,null,null,null,null,null,null,null,null,"~"]
["SA36",2022,"DC47",389,null,null,null,null,null,null,null,null,null,null,null,null,null,null,null,null,null,null,"~"]
["SA36",2022,"DC47",390,null,null,null,null,null,null,null,null,null,null,null,null,null,null,null,null,null,null,"~"]
["SA36",2022,"DC47",391,null,null,null,null,null,null,null,null,null,null,null,null,null,null,null,null,null,null,"~"]
["SA36",2022,"DC47",392,null,null,null,null,null,null,null,null,null,null,null,null,null,null,null,null,null,null,"~"]
["SA36",2022,"DC47",393,null,null,null,null,null,null,null,null,null,null,null,null,null,null,null,null,null,null,"~"]
["SA36",2022,"DC47",394,null,null,null,null,null,null,null,null,null,null,null,null,null,null,null,null,null,null,"~"]
["SA36",2022,"DC47",395,null,null,null,null,null,null,null,null,null,null,null,null,null,null,null,null,null,null,"~"]
["SA36",2022,"DC47",396,null,null,null,null,null,null,null,null,null,null,null,null,null,null,null,null,null,null,"~"]
["SA36",2022,"DC47",397,null,null,null,null,null,null,null,null,null,null,null,null,null,null,null,null,null,null,"~"]
["SA36",2022,"DC47",398,null,null,null,null,null,null,null,null,null,null,null,null,null,null,null,null,null,null,"~"]
["SA36",2022,"DC47",399,null,null,null,null,null,null,null,null,null,null,null,null,null,null,null,null,null,null,"~"]
["SA36",2022,"DC47",400,null,null,null,null,null,null,null,null,null,null,null,null,null,null,null,null,null,null,"~"]
["SA36",2022,"DC47",401,null,null,null,null,null,null,null,null,null,null,null,null,null,null,null,null,null,null,"~"]
["SA36",2022,"DC47",402,null,null,null,null,null,null,null,null,null,null,null,null,null,null,null,null,null,null,"~"]
["SA36",2022,"DC47",403,null,null,null,null,null,null,null,null,null,null,null,null,null,null,null,null,null,null,"~"]
["SA36",2022,"DC47",404,null,null,null,null,null,null,null,null,null,null,null,null,null,null,null,null,null,null,"~"]
["SA36",2022,"DC47",405,null,null,null,null,null,null,null,null,null,null,null,null,null,null,null,null,null,null,"~"]
["SA36",2022,"DC47",406,null,null,null,null,null,null,null,null,null,null,null,null,null,null,null,null,null,null,"~"]
["SA36",2022,"DC47",407,null,null,null,null,null,null,null,null,null,null,null,null,null,null,null,null,null,null,"~"]
["SA36",{"$f":"+MTREF","v":2022},{"$f":"LEFT(muni,(FIND(\" \",muni,1)-1))","v":"DC47"},408,null,null,null,null,null,null,null,null,null,null,null,null,null,null,null,null,null,null,"~"]
["SA36",2022,"DC47",409,null,null,null,null,null,null,null,null,null,null,null,null,null,null,null,null,null,null,"~"]
["SA36",2022,"DC47",410,null,null,null,null,null,null,null,null,null,null,null,null,null,null,null,null,null,null,"~"]
["SA36",2022,"DC47",411,null,null,null,null,null,null,null,null,null,null,null,null,null,null,null,null,null,null,"~"]
["SA36",2022,"DC47",412,null,null,null,null,null,null,null,null,null,null,null,null,null,null,null,null,null,null,"~"]
["SA36",2022,"DC47",413,null,null,null,null,null,null,null,null,null,null,null,null,null,null,null,null,null,null,"~"]
["SA36",2022,"DC47",414,null,null,null,null,null,null,null,null,null,null,null,null,null,null,null,null,null,null,"~"]
["SA36",2022,"DC47",415,null,null,null,null,null,null,null,null,null,null,null,null,null,null,null,null,null,null,"~"]
["SA36",2022,"DC47",416,null,null,null,null,null,null,null,null,null,null,null,null,null,null,null,null,null,null,"~"]
["SA36",2022,"DC47",417,null,null,null,null,null,null,null,null,null,null,null,null,null,null,null,null,null,null,"~"]
["SA36",2022,"DC47",418,null,null,null,null,null,null,null,null,null,null,null,null,null,null,null,null,null,null,"~"]
["SA36",2022,"DC47",419,null,null,null,null,null,null,null,null,null,null,null,null,null,null,null,null,null,null,"~"]
["SA36",2022,"DC47",420,null,null,null,null,null,null,null,null,null,null,null,null,null,null,null,null,null,null,"~"]
["SA36",2022,"DC47",421,null,null,null,null,null,null,null,null,null,null,null,null,null,null,null,null,null,null,"~"]
["SA36",2022,"DC47",422,null,null,null,null,null,null,null,null,null,null,null,null,null,null,null,null,null,null,"~"]
["SA36",2022,"DC47",423,null,null,null,null,null,null,null,null,null,null,null,null,null,null,null,null,null,null,"~"]
["SA36",2022,"DC47",424,null,null,null,null,null,null,null,null,null,null,null,null,null,null,null,null,null,null,"~"]
["SA36",2022,"DC47",425,null,null,null,null,null,null,null,null,null,null,null,null,null,null,null,null,null,null,"~"]
["SA36",2022,"DC47",426,null,null,null,null,null,null,null,null,null,null,null,null,null,null,null,null,null,null,"~"]
["SA36",2022,"DC47",427,null,null,null,null,null,null,null,null,null,null,null,null,null,null,null,null,null,null,"~"]
["SA36",2022,"DC47",428,null,null,null,null,null,null,null,null,null,null,null,null,null,null,null,null,null,null,"~"]
["SA36",2022,"DC47",429,null,null,null,null,null,null,null,null,null,null,null,null,null,null,null,null,null,null,"~"]
["SA36",2022,"DC47",430,null,null,null,null,null,null,null,null,null,null,null,null,null,null,null,null,null,null,"~"]
["SA36",2022,"DC47",431,null,null,null,null,null,null,null,null,null,null,null,null,null,null,null,null,null,null,"~"]
["SA36",2022,"DC47",432,null,null,null,null,null,null,null,null,null,null,null,null,null,null,null,null,null,null,"~"]
["SA36",2022,"DC47",433,null,null,null,null,null,null,null,null,null,null,null,null,null,null,null,null,null,null,"~"]
["SA36",2022,"DC47",434,null,null,null,null,null,null,null,null,null,null,null,null,null,null,null,null,null,null,"~"]
["SA36",2022,"DC47",435,null,null,null,null,null,null,null,null,null,null,null,null,null,null,null,null,null,null,"~"]
["SA36",2022,"DC47",436,null,null,null,null,null,null,null,null,null,null,null,null,null,null,null,null,null,null,"~"]
["SA36",2022,"DC47",437,null,null,null,null,null,null,null,null,null,null,null,null,null,null,null,null,null,null,"~"]
["SA36",2022,"DC47",438,null,null,null,null,null,null,null,null,null,null,null,null,null,null,null,null,null,null,"~"]
["SA36",2022,"DC47",439,null,null,null,null,null,null,null,null,null,null,null,null,null,null,null,null,null,null,"~"]
["SA36",2022,"DC47",440,null,null,null,null,null,null,null,null,null,null,null,null,null,null,null,null,null,null,"~"]
["SA36",2022,"DC47",441,null,null,null,null,null,null,null,null,null,null,null,null,null,null,null,null,null,null,"~"]
["SA36",2022,"DC47",442,null,null,null,null,null,null,null,null,null,null,null,null,null,null,null,null,null,null,"~"]
["SA36",2022,"DC47",443,null,null,null,null,null,null,null,null,null,null,null,null,null,null,null,null,null,null,"~"]
["SA36",2022,"DC47",444,null,null,null,null,null,null,null,null,null,null,null,null,null,null,null,null,null,null,"~"]
["SA36",2022,"DC47",445,null,null,null,null,null,null,null,null,null,null,null,null,null,null,null,null,null,null,"~"]
["SA36",2022,"DC47",446,null,null,null,null,null,null,null,null,null,null,null,null,null,null,null,null,null,null,"~"]
["SA36",2022,"DC47",447,null,null,null,null,null,null,null,null,null,null,null,null,null,null,null,null,null,null,"~"]
["SA36",2022,"DC47",448,null,null,null,null,null,null,null,null,null,null,null,null,null,null,null,null,null,null,"~"]
["SA36",2022,"DC47",449,null,null,null,null,null,null,null,null,null,null,null,null,null,null,null,null,null,null,"~"]
["SA36",2022,"DC47",450,null,null,null,null,null,null,null,null,null,null,null,null,null,null,null,null,null,null,"~"]
["SA36",2022,"DC47",451,null,null,null,null,null,null,null,null,null,null,null,null,null,null,null,null,null,null,"~"]
["SA36",2022,"DC47",452,null,null,null,null,null,null,null,null,null,null,null,null,null,null,null,null,null,null,"~"]
["SA36",2022,"DC47",453,null,null,null,null,null,null,null,null,null,null,null,null,null,null,null,null,null,null,"~"]
["SA36",2022,"DC47",454,null,null,null,null,null,null,null,null,null,null,null,null,null,null,null,null,null,null,"~"]
["SA36",2022,"DC47",455,null,null,null,null,null,null,null,null,null,null,null,null,null,null,null,null,null,null,"~"]
["SA36",2022,"DC47",456,null,null,null,null,null,null,null,null,null,null,null,null,null,null,null,null,null,null,"~"]
["SA36",2022,"DC47",457,null,null,null,null,null,null,null,null,null,null,null,null,null,null,null,null,null,null,"~"]
["SA36",2022,"DC47",458,null,null,null,null,null,null,null,null,null,null,null,null,null,null,null,null,null,null,"~"]
["SA36",2022,"DC47",459,null,null,null,null,null,null,null,null,null,null,null,null,null,null,null,null,null,null,"~"]
["SA36",2022,"DC47",460,null,null,null,null,null,null,null,null,null,null,null,null,null,null,null,null,null,null,"~"]
["SA36",2022,"DC47",461,null,null,null,null,null,null,null,null,null,null,null,null,null,null,null,null,null,null,"~"]
["SA36",2022,"DC47",462,null,null,null,null,null,null,null,null,null,null,null,null,null,null,null,null,null,null,"~"]
["SA36",2022,"DC47",463,null,null,null,null,null,null,null,null,null,null,null,null,null,null,null,null,null,null,"~"]
["SA36",2022,"DC47",464,null,null,null,null,null,null,null,null,null,null,null,null,null,null,null,null,null,null,"~"]
["SA36",2022,"DC47",465,null,null,null,null,null,null,null,null,null,null,null,null,null,null,null,null,null,null,"~"]
["SA36",2022,"DC47",466,null,null,null,null,null,null,null,null,null,null,null,null,null,null,null,null,null,null,"~"]
["SA36",2022,"DC47",467,null,null,null,null,null,null,null,null,null,null,null,null,null,null,null,null,null,null,"~"]
["SA36",2022,"DC47",468,null,null,null,null,null,null,null,null,null,null,null,null,null,null,null,null,null,null,"~"]
["SA36",2022,"DC47",469,null,null,null,null,null,null,null,null,null,null,null,null,null,null,null,null,null,null,"~"]
["SA36",2022,"DC47",470,null,null,null,null,null,null,null,null,null,null,null,null,null,null,null,null,null,null,"~"]
["SA36",2022,"DC47",471,null,null,null,null,null,null,null,null,null,null,null,null,null,null,null,null,null,null,"~"]
["SA36",{"$f":"+MTREF","v":2022},{"$f":"LEFT(muni,(FIND(\" \",muni,1)-1))","v":"DC47"},472,null,null,null,null,null,null,null,null,null,null,null,null,null,null,null,null,null,null,"~"]
["SA36",2022,"DC47",473,null,null,null,null,null,null,null,null,null,null,null,null,null,null,null,null,null,null,"~"]
["SA36",2022,"DC47",474,null,null,null,null,null,null,null,null,null,null,null,null,null,null,null,null,null,null,"~"]
["SA36",2022,"DC47",475,null,null,null,null,null,null,null,null,null,null,null,null,null,null,null,null,null,null,"~"]
["SA36",2022,"DC47",476,null,null,null,null,null,null,null,null,null,null,null,null,null,null,null,null,null,null,"~"]
["SA36",2022,"DC47",477,null,null,null,null,null,null,null,null,null,null,null,null,null,null,null,null,null,null,"~"]
["SA36",2022,"DC47",478,null,null,null,null,null,null,null,null,null,null,null,null,null,null,null,null,null,null,"~"]
["SA36",2022,"DC47",479,null,null,null,null,null,null,null,null,null,null,null,null,null,null,null,null,null,null,"~"]
["SA36",2022,"DC47",480,null,null,null,null,null,null,null,null,null,null,null,null,null,null,null,null,null,null,"~"]
["SA36",2022,"DC47",481,null,null,null,null,null,null,null,null,null,null,null,null,null,null,null,null,null,null,"~"]
["SA36",2022,"DC47",482,null,null,null,null,null,null,null,null,null,null,null,null,null,null,null,null,null,null,"~"]
["SA36",2022,"DC47",483,null,null,null,null,null,null,null,null,null,null,null,null,null,null,null,null,null,null,"~"]
["SA36",2022,"DC47",484,null,null,null,null,null,null,null,null,null,null,null,null,null,null,null,null,null,null,"~"]
["SA36",2022,"DC47",485,null,null,null,null,null,null,null,null,null,null,null,null,null,null,null,null,null,null,"~"]
["SA36",2022,"DC47",486,null,null,null,null,null,null,null,null,null,null,null,null,null,null,null,null,null,null,"~"]
["SA36",2022,"DC47",487,null,null,null,null,null,null,null,null,null,null,null,null,null,null,null,null,null,null,"~"]
["SA36",2022,"DC47",488,null,null,null,null,null,null,null,null,null,null,null,null,null,null,null,null,null,null,"~"]
["SA36",2022,"DC47",489,null,null,null,null,null,null,null,null,null,null,null,null,null,null,null,null,null,null,"~"]
["SA36",2022,"DC47",490,null,null,null,null,null,null,null,null,null,null,null,null,null,null,null,null,null,null,"~"]
["SA36",2022,"DC47",491,null,null,null,null,null,null,null,null,null,null,null,null,null,null,null,null,null,null,"~"]
["SA36",2022,"DC47",492,null,null,null,null,null,null,null,null,null,null,null,null,null,null,null,null,null,null,"~"]
["SA36",2022,"DC47",493,null,null,null,null,null,null,null,null,null,null,null,null,null,null,null,null,null,null,"~"]
["SA36",2022,"DC47",494,null,null,null,null,null,null,null,null,null,null,null,null,null,null,null,null,null,null,"~"]
["SA36",2022,"DC47",495,null,null,null,null,null,null,null,null,null,null,null,null,null,null,null,null,null,null,"~"]
["SA36",2022,"DC47",496,null,null,null,null,null,null,null,null,null,null,null,null,null,null,null,null,null,null,"~"]
["SA36",2022,"DC47",497,null,null,null,null,null,null,null,null,null,null,null,null,null,null,null,null,null,null,"~"]
["SA36",2022,"DC47",498,null,null,null,null,null,null,null,null,null,null,null,null,null,null,null,null,null,null,"~"]
["SA36",2022,"DC47",499,null,null,null,null,null,null,null,null,null,null,null,null,null,null,null,null,null,null,"~"]
["SA36",2022,"DC47",500,null,null,null,null,null,null,null,null,null,null,null,null,null,null,null,null,null,null,"~"]
["SA36",2022,"DC47",501,null,null,null,null,null,null,null,null,null,null,null,null,null,null,null,null,null,null,"~"]
["SA36",2022,"DC47",502,null,null,null,null,null,null,null,null,null,null,null,null,null,null,null,null,null,null,"~"]
["SA36",2022,"DC47",503,null,null,null,null,null,null,null,null,null,null,null,null,null,null,null,null,null,null,"~"]
["SA36",2022,"DC47",504,null,null,null,null,null,null,null,null,null,null,null,null,null,null,null,null,null,null,"~"]
["SA36",2022,"DC47",505,null,null,null,null,null,null,null,null,null,null,null,null,null,null,null,null,null,null,"~"]
["SA36",2022,"DC47",506,null,null,null,null,null,null,null,null,null,null,null,null,null,null,null,null,null,null,"~"]
["SA36",2022,"DC47",507,null,null,null,null,null,null,null,null,null,null,null,null,null,null,null,null,null,null,"~"]
["SA36",2022,"DC47",508,null,null,null,null,null,null,null,null,null,null,null,null,null,null,null,null,null,null,"~"]
["SA36",2022,"DC47",509,null,null,null,null,null,null,null,null,null,null,null,null,null,null,null,null,null,null,"~"]
["SA36",2022,"DC47",510,null,null,null,null,null,null,null,null,null,null,null,null,null,null,null,null,null,null,"~"]
["SA36",2022,"DC47",511,null,null,null,null,null,null,null,null,null,null,null,null,null,null,null,null,null,null,"~"]
["SA36",2022,"DC47",512,null,null,null,null,null,null,null,null,null,null,null,null,null,null,null,null,null,null,"~"]
["SA36",2022,"DC47",513,null,null,null,null,null,null,null,null,null,null,null,null,null,null,null,null,null,null,"~"]
["SA36",2022,"DC47",514,null,null,null,null,null,null,null,null,null,null,null,null,null,null,null,null,null,null,"~"]
["SA36",2022,"DC47",515,null,null,null,null,null,null,null,null,null,null,null,null,null,null,null,null,null,null,"~"]
["SA36",2022,"DC47",516,null,null,null,null,null,null,null,null,null,null,null,null,null,null,null,null,null,null,"~"]
["SA36",2022,"DC47",517,null,null,null,null,null,null,null,null,null,null,null,null,null,null,null,null,null,null,"~"]
["SA36",2022,"DC47",518,null,null,null,null,null,null,null,null,null,null,null,null,null,null,null,null,null,null,"~"]
["SA36",2022,"DC47",519,null,null,null,null,null,null,null,null,null,null,null,null,null,null,null,null,null,null,"~"]
["SA36",2022,"DC47",520,null,null,null,null,null,null,null,null,null,null,null,null,null,null,null,null,null,null,"~"]
["SA36",2022,"DC47",521,null,null,null,null,null,null,null,null,null,null,null,null,null,null,null,null,null,null,"~"]
["SA36",2022,"DC47",522,null,null,null,null,null,null,null,null,null,null,null,null,null,null,null,null,null,null,"~"]
["SA36",2022,"DC47",523,null,null,null,null,null,null,null,null,null,null,null,null,null,null,null,null,null,null,"~"]
["SA36",2022,"DC47",524,null,null,null,null,null,null,null,null,null,null,null,null,null,null,null,null,null,null,"~"]
["SA36",2022,"DC47",525,null,null,null,null,null,null,null,null,null,null,null,null,null,null,null,null,null,null,"~"]
["SA36",2022,"DC47",526,null,null,null,null,null,null,null,null,null,null,null,null,null,null,null,null,null,null,"~"]
["SA36",2022,"DC47",527,null,null,null,null,null,null,null,null,null,null,null,null,null,null,null,null,null,null,"~"]
["SA36",2022,"DC47",528,null,null,null,null,null,null,null,null,null,null,null,null,null,null,null,null,null,null,"~"]
["SA36",2022,"DC47",529,null,null,null,null,null,null,null,null,null,null,null,null,null,null,null,null,null,null,"~"]
["SA36",2022,"DC47",530,null,null,null,null,null,null,null,null,null,null,null,null,null,null,null,null,null,null,"~"]
["SA36",2022,"DC47",531,null,null,null,null,null,null,null,null,null,null,null,null,null,null,null,null,null,null,"~"]
["SA36",2022,"DC47",532,null,null,null,null,null,null,null,null,null,null,null,null,null,null,null,null,null,null,"~"]
["SA36",2022,"DC47",533,null,null,null,null,null,null,null,null,null,null,null,null,null,null,null,null,null,null,"~"]
["SA36",2022,"DC47",534,null,null,null,null,null,null,null,null,null,null,null,null,null,null,null,null,null,null,"~"]
["SA36",2022,"DC47",535,null,null,null,null,null,null,null,null,null,null,null,null,null,null,null,null,null,null,"~"]
["SA36",{"$f":"+MTREF","v":2022},{"$f":"LEFT(muni,(FIND(\" \",muni,1)-1))","v":"DC47"},536,null,null,null,null,null,null,null,null,null,null,null,null,null,null,null,null,null,null,"~"]
["SA36",2022,"DC47",537,null,null,null,null,null,null,null,null,null,null,null,null,null,null,null,null,null,null,"~"]
["SA36",2022,"DC47",538,null,null,null,null,null,null,null,null,null,null,null,null,null,null,null,null,null,null,"~"]
["SA36",2022,"DC47",539,null,null,null,null,null,null,null,null,null,null,null,null,null,null,null,null,null,null,"~"]
["SA36",2022,"DC47",540,null,null,null,null,null,null,null,null,null,null,null,null,null,null,null,null,null,null,"~"]
["SA36",2022,"DC47",541,null,null,null,null,null,null,null,null,null,null,null,null,null,null,null,null,null,null,"~"]
["SA36",2022,"DC47",542,null,null,null,null,null,null,null,null,null,null,null,null,null,null,null,null,null,null,"~"]
["SA36",2022,"DC47",543,null,null,null,null,null,null,null,null,null,null,null,null,null,null,null,null,null,null,"~"]
["SA36",2022,"DC47",544,null,null,null,null,null,null,null,null,null,null,null,null,null,null,null,null,null,null,"~"]
["SA36",2022,"DC47",545,null,null,null,null,null,null,null,null,null,null,null,null,null,null,null,null,null,null,"~"]
["SA36",2022,"DC47",546,null,null,null,null,null,null,null,null,null,null,null,null,null,null,null,null,null,null,"~"]
["SA36",2022,"DC47",547,null,null,null,null,null,null,null,null,null,null,null,null,null,null,null,null,null,null,"~"]
["SA36",2022,"DC47",548,null,null,null,null,null,null,null,null,null,null,null,null,null,null,null,null,null,null,"~"]
["SA36",2022,"DC47",549,null,null,null,null,null,null,null,null,null,null,null,null,null,null,null,null,null,null,"~"]
["SA36",2022,"DC47",550,null,null,null,null,null,null,null,null,null,null,null,null,null,null,null,null,null,null,"~"]
["SA36",2022,"DC47",551,null,null,null,null,null,null,null,null,null,null,null,null,null,null,null,null,null,null,"~"]
["SA36",2022,"DC47",552,null,null,null,null,null,null,null,null,null,null,null,null,null,null,null,null,null,null,"~"]
["SA36",2022,"DC47",553,null,null,null,null,null,null,null,null,null,null,null,null,null,null,null,null,null,null,"~"]
["SA36",2022,"DC47",554,null,null,null,null,null,null,null,null,null,null,null,null,null,null,null,null,null,null,"~"]
["SA36",2022,"DC47",555,null,null,null,null,null,null,null,null,null,null,null,null,null,null,null,null,null,null,"~"]
["SA36",2022,"DC47",556,null,null,null,null,null,null,null,null,null,null,null,null,null,null,null,null,null,null,"~"]
["SA36",2022,"DC47",557,null,null,null,null,null,null,null,null,null,null,null,null,null,null,null,null,null,null,"~"]
["SA36",2022,"DC47",558,null,null,null,null,null,null,null,null,null,null,null,null,null,null,null,null,null,null,"~"]
["SA36",2022,"DC47",559,null,null,null,null,null,null,null,null,null,null,null,null,null,null,null,null,null,null,"~"]
["SA36",2022,"DC47",560,null,null,null,null,null,null,null,null,null,null,null,null,null,null,null,null,null,null,"~"]
["SA36",2022,"DC47",561,null,null,null,null,null,null,null,null,null,null,null,null,null,null,null,null,null,null,"~"]
["SA36",2022,"DC47",562,null,null,null,null,null,null,null,null,null,null,null,null,null,null,null,null,null,null,"~"]
["SA36",2022,"DC47",563,null,null,null,null,null,null,null,null,null,null,null,null,null,null,null,null,null,null,"~"]
["SA36",2022,"DC47",564,null,null,null,null,null,null,null,null,null,null,null,null,null,null,null,null,null,null,"~"]
["SA36",2022,"DC47",565,null,null,null,null,null,null,null,null,null,null,null,null,null,null,null,null,null,null,"~"]
["SA36",2022,"DC47",566,null,null,null,null,null,null,null,null,null,null,null,null,null,null,null,null,null,null,"~"]
["SA36",2022,"DC47",567,null,null,null,null,null,null,null,null,null,null,null,null,null,null,null,null,null,null,"~"]
["SA36",2022,"DC47",568,null,null,null,null,null,null,null,null,null,null,null,null,null,null,null,null,null,null,"~"]
["SA36",2022,"DC47",569,null,null,null,null,null,null,null,null,null,null,null,null,null,null,null,null,null,null,"~"]
["SA36",2022,"DC47",570,null,null,null,null,null,null,null,null,null,null,null,null,null,null,null,null,null,null,"~"]
["SA36",2022,"DC47",571,null,null,null,null,null,null,null,null,null,null,null,null,null,null,null,null,null,null,"~"]
["SA36",2022,"DC47",572,null,null,null,null,null,null,null,null,null,null,null,null,null,null,null,null,null,null,"~"]
["SA36",2022,"DC47",573,null,null,null,null,null,null,null,null,null,null,null,null,null,null,null,null,null,null,"~"]
["SA36",2022,"DC47",574,null,null,null,null,null,null,null,null,null,null,null,null,null,null,null,null,null,null,"~"]
["SA36",2022,"DC47",575,null,null,null,null,null,null,null,null,null,null,null,null,null,null,null,null,null,null,"~"]
["SA36",2022,"DC47",576,null,null,null,null,null,null,null,null,null,null,null,null,null,null,null,null,null,null,"~"]
["SA36",2022,"DC47",577,null,null,null,null,null,null,null,null,null,null,null,null,null,null,null,null,null,null,"~"]
["SA36",2022,"DC47",578,null,null,null,null,null,null,null,null,null,null,null,null,null,null,null,null,null,null,"~"]
["SA36",2022,"DC47",579,null,null,null,null,null,null,null,null,null,null,null,null,null,null,null,null,null,null,"~"]
["SA36",2022,"DC47",580,null,null,null,null,null,null,null,null,null,null,null,null,null,null,null,null,null,null,"~"]
["SA36",2022,"DC47",581,null,null,null,null,null,null,null,null,null,null,null,null,null,null,null,null,null,null,"~"]
["SA36",2022,"DC47",582,null,null,null,null,null,null,null,null,null,null,null,null,null,null,null,null,null,null,"~"]
["SA36",2022,"DC47",583,null,null,null,null,null,null,null,null,null,null,null,null,null,null,null,null,null,null,"~"]
["SA36",2022,"DC47",584,null,null,null,null,null,null,null,null,null,null,null,null,null,null,null,null,null,null,"~"]
["SA36",2022,"DC47",585,null,null,null,null,null,null,null,null,null,null,null,null,null,null,null,null,null,null,"~"]
["SA36",2022,"DC47",586,null,null,null,null,null,null,null,null,null,null,null,null,null,null,null,null,null,null,"~"]
["SA36",2022,"DC47",587,null,null,null,null,null,null,null,null,null,null,null,null,null,null,null,null,null,null,"~"]
["SA36",2022,"DC47",588,null,null,null,null,null,null,null,null,null,null,null,null,null,null,null,null,null,null,"~"]
["SA36",2022,"DC47",589,null,null,null,null,null,null,null,null,null,null,null,null,null,null,null,null,null,null,"~"]
["SA36",2022,"DC47",590,null,null,null,null,null,null,null,null,null,null,null,null,null,null,null,null,null,null,"~"]
["SA36",2022,"DC47",591,null,null,null,null,null,null,null,null,null,null,null,null,null,null,null,null,null,null,"~"]
["SA36",2022,"DC47",592,null,null,null,null,null,null,null,null,null,null,null,null,null,null,null,null,null,null,"~"]
["SA36",2022,"DC47",593,null,null,null,null,null,null,null,null,null,null,null,null,null,null,null,null,null,null,"~"]
["SA36",2022,"DC47",594,null,null,null,null,null,null,null,null,null,null,null,null,null,null,null,null,null,null,"~"]
["SA36",2022,"DC47",595,null,null,null,null,null,null,null,null,null,null,null,null,null,null,null,null,null,null,"~"]
["SA36",2022,"DC47",596,null,null,null,null,null,null,null,null,null,null,null,null,null,null,null,null,null,null,"~"]
["SA36",2022,"DC47",597,null,null,null,null,null,null,null,null,null,null,null,null,null,null,null,null,null,null,"~"]
["SA36",2022,"DC47",598,null,null,null,null,null,null,null,null,null,null,null,null,null,null,null,null,null,null,"~"]
["SA36",2022,"DC47",599,null,null,null,null,null,null,null,null,null,null,null,null,null,null,null,null,null,null,"~"]
["SA36",{"$f":"+MTREF","v":2022},{"$f":"LEFT(muni,(FIND(\" \",muni,1)-1))","v":"DC47"},600,null,null,null,null,null,null,null,null,null,null,null,null,null,null,null,null,null,null,"~"]
["SA36",2022,"DC47",601,null,null,null,null,null,null,null,null,null,null,null,null,null,null,null,null,null,null,"~"]
["SA36",2022,"DC47",602,null,null,null,null,null,null,null,null,null,null,null,null,null,null,null,null,null,null,"~"]
["SA36",2022,"DC47",603,null,null,null,null,null,null,null,null,null,null,null,null,null,null,null,null,null,null,"~"]
["SA36",2022,"DC47",604,null,null,null,null,null,null,null,null,null,null,null,null,null,null,null,null,null,null,"~"]
["SA36",2022,"DC47",605,null,null,null,null,null,null,null,null,null,null,null,null,null,null,null,null,null,null,"~"]
["SA36",2022,"DC47",606,null,null,null,null,null,null,null,null,null,null,null,null,null,null,null,null,null,null,"~"]
["SA36",2022,"DC47",607,null,null,null,null,null,null,null,null,null,null,null,null,null,null,null,null,null,null,"~"]
["SA36",2022,"DC47",608,null,null,null,null,null,null,null,null,null,null,null,null,null,null,null,null,null,null,"~"]
["SA36",2022,"DC47",609,null,null,null,null,null,null,null,null,null,null,null,null,null,null,null,null,null,null,"~"]
["SA36",2022,"DC47",610,null,null,null,null,null,null,null,null,null,null,null,null,null,null,null,null,null,null,"~"]
["SA36",2022,"DC47",611,null,null,null,null,null,null,null,null,null,null,null,null,null,null,null,null,null,null,"~"]
["SA36",2022,"DC47",612,null,null,null,null,null,null,null,null,null,null,null,null,null,null,null,null,null,null,"~"]
["SA36",2022,"DC47",613,null,null,null,null,null,null,null,null,null,null,null,null,null,null,null,null,null,null,"~"]
["SA36",2022,"DC47",614,null,null,null,null,null,null,null,null,null,null,null,null,null,null,null,null,null,null,"~"]
["SA36",2022,"DC47",615,null,null,null,null,null,null,null,null,null,null,null,null,null,null,null,null,null,null,"~"]
["SA36",2022,"DC47",616,null,null,null,null,null,null,null,null,null,null,null,null,null,null,null,null,null,null,"~"]
["SA36",2022,"DC47",617,null,null,null,null,null,null,null,null,null,null,null,null,null,null,null,null,null,null,"~"]
["SA36",2022,"DC47",618,null,null,null,null,null,null,null,null,null,null,null,null,null,null,null,null,null,null,"~"]
["SA36",2022,"DC47",619,null,null,null,null,null,null,null,null,null,null,null,null,null,null,null,null,null,null,"~"]
["SA36",2022,"DC47",620,null,null,null,null,null,null,null,null,null,null,null,null,null,null,null,null,null,null,"~"]
["SA36",2022,"DC47",621,null,null,null,null,null,null,null,null,null,null,null,null,null,null,null,null,null,null,"~"]
["SA36",2022,"DC47",622,null,null,null,null,null,null,null,null,null,null,null,null,null,null,null,null,null,null,"~"]
["SA36",2022,"DC47",623,null,null,null,null,null,null,null,null,null,null,null,null,null,null,null,null,null,null,"~"]
["SA36",2022,"DC47",624,null,null,null,null,null,null,null,null,null,null,null,null,null,null,null,null,null,null,"~"]
["SA36",2022,"DC47",625,null,null,null,null,null,null,null,null,null,null,null,null,null,null,null,null,null,null,"~"]
["SA36",2022,"DC47",626,null,null,null,null,null,null,null,null,null,null,null,null,null,null,null,null,null,null,"~"]
["SA36",2022,"DC47",627,null,null,null,null,null,null,null,null,null,null,null,null,null,null,null,null,null,null,"~"]
["SA36",2022,"DC47",628,null,null,null,null,null,null,null,null,null,null,null,null,null,null,null,null,null,null,"~"]
["SA36",2022,"DC47",629,null,null,null,null,null,null,null,null,null,null,null,null,null,null,null,null,null,null,"~"]
["SA36",2022,"DC47",630,null,null,null,null,null,null,null,null,null,null,null,null,null,null,null,null,null,null,"~"]
["SA36",2022,"DC47",631,null,null,null,null,null,null,null,null,null,null,null,null,null,null,null,null,null,null,"~"]
["SA36",2022,"DC47",632,null,null,null,null,null,null,null,null,null,null,null,null,null,null,null,null,null,null,"~"]
["SA36",2022,"DC47",633,null,null,null,null,null,null,null,null,null,null,null,null,null,null,null,null,null,null,"~"]
["SA36",2022,"DC47",634,null,null,null,null,null,null,null,null,null,null,null,null,null,null,null,null,null,null,"~"]
["SA36",2022,"DC47",635,null,null,null,null,null,null,null,null,null,null,null,null,null,null,null,null,null,null,"~"]
["SA36",2022,"DC47",636,null,null,null,null,null,null,null,null,null,null,null,null,null,null,null,null,null,null,"~"]
["SA36",2022,"DC47",637,null,null,null,null,null,null,null,null,null,null,null,null,null,null,null,null,null,null,"~"]
["SA36",2022,"DC47",638,null,null,null,null,null,null,null,null,null,null,null,null,null,null,null,null,null,null,"~"]
["SA36",2022,"DC47",639,null,null,null,null,null,null,null,null,null,null,null,null,null,null,null,null,null,null,"~"]
["SA36",2022,"DC47",640,null,null,null,null,null,null,null,null,null,null,null,null,null,null,null,null,null,null,"~"]
["SA36",2022,"DC47",641,null,null,null,null,null,null,null,null,null,null,null,null,null,null,null,null,null,null,"~"]
["SA36",2022,"DC47",642,null,null,null,null,null,null,null,null,null,null,null,null,null,null,null,null,null,null,"~"]
["SA36",2022,"DC47",643,null,null,null,null,null,null,null,null,null,null,null,null,null,null,null,null,null,null,"~"]
["SA36",2022,"DC47",644,null,null,null,null,null,null,null,null,null,null,null,null,null,null,null,null,null,null,"~"]
["SA36",2022,"DC47",645,null,null,null,null,null,null,null,null,null,null,null,null,null,null,null,null,null,null,"~"]
["SA36",2022,"DC47",646,null,null,null,null,null,null,null,null,null,null,null,null,null,null,null,null,null,null,"~"]
["SA36",2022,"DC47",647,null,null,null,null,null,null,null,null,null,null,null,null,null,null,null,null,null,null,"~"]
["SA36",2022,"DC47",648,null,null,null,null,null,null,null,null,null,null,null,null,null,null,null,null,null,null,"~"]
["SA36",2022,"DC47",649,null,null,null,null,null,null,null,null,null,null,null,null,null,null,null,null,null,null,"~"]
["SA36",2022,"DC47",650,null,null,null,null,null,null,null,null,null,null,null,null,null,null,null,null,null,null,"~"]
["SA36",2022,"DC47",651,null,null,null,null,null,null,null,null,null,null,null,null,null,null,null,null,null,null,"~"]
["SA36",2022,"DC47",652,null,null,null,null,null,null,null,null,null,null,null,null,null,null,null,null,null,null,"~"]
["SA36",2022,"DC47",653,null,null,null,null,null,null,null,null,null,null,null,null,null,null,null,null,null,null,"~"]
["SA36",2022,"DC47",654,null,null,null,null,null,null,null,null,null,null,null,null,null,null,null,null,null,null,"~"]
["SA36",2022,"DC47",655,null,null,null,null,null,null,null,null,null,null,null,null,null,null,null,null,null,null,"~"]
["SA36",2022,"DC47",656,null,null,null,null,null,null,null,null,null,null,null,null,null,null,null,null,null,null,"~"]
["SA36",2022,"DC47",657,null,null,null,null,null,null,null,null,null,null,null,null,null,null,null,null,null,null,"~"]
["SA36",2022,"DC47",658,null,null,null,null,null,null,null,null,null,null,null,null,null,null,null,null,null,null,"~"]
["SA36",2022,"DC47",659,null,null,null,null,null,null,null,null,null,null,null,null,null,null,null,null,null,null,"~"]
["SA36",2022,"DC47",660,null,null,null,null,null,null,null,null,null,null,null,null,null,null,null,null,null,null,"~"]
["SA36",2022,"DC47",661,null,null,null,null,null,null,null,null,null,null,null,null,null,null,null,null,null,null,"~"]
["SA36",2022,"DC47",662,null,null,null,null,null,null,null,null,null,null,null,null,null,null,null,null,null,null,"~"]
["SA36",2022,"DC47",663,null,null,null,null,null,null,null,null,null,null,null,null,null,null,null,null,null,null,"~"]
["SA36",{"$f":"+MTREF","v":2022},{"$f":"LEFT(muni,(FIND(\" \",muni,1)-1))","v":"DC47"},664,null,null,null,null,null,null,null,null,null,null,null,null,null,null,null,null,null,null,"~"]
["SA36",2022,"DC47",665,null,null,null,null,null,null,null,null,null,null,null,null,null,null,null,null,null,null,"~"]
["SA36",2022,"DC47",666,null,null,null,null,null,null,null,null,null,null,null,null,null,null,null,null,null,null,"~"]
["SA36",2022,"DC47",667,null,null,null,null,null,null,null,null,null,null,null,null,null,null,null,null,null,null,"~"]
["SA36",2022,"DC47",668,null,null,null,null,null,null,null,null,null,null,null,null,null,null,null,null,null,null,"~"]
["SA36",2022,"DC47",669,null,null,null,null,null,null,null,null,null,null,null,null,null,null,null,null,null,null,"~"]
["SA36",2022,"DC47",670,null,null,null,null,null,null,null,null,null,null,null,null,null,null,null,null,null,null,"~"]
["SA36",2022,"DC47",671,null,null,null,null,null,null,null,null,null,null,null,null,null,null,null,null,null,null,"~"]
["SA36",2022,"DC47",672,null,null,null,null,null,null,null,null,null,null,null,null,null,null,null,null,null,null,"~"]
["SA36",2022,"DC47",673,null,null,null,null,null,null,null,null,null,null,null,null,null,null,null,null,null,null,"~"]
["SA36",2022,"DC47",674,null,null,null,null,null,null,null,null,null,null,null,null,null,null,null,null,null,null,"~"]
["SA36",2022,"DC47",675,null,null,null,null,null,null,null,null,null,null,null,null,null,null,null,null,null,null,"~"]
["SA36",2022,"DC47",676,null,null,null,null,null,null,null,null,null,null,null,null,null,null,null,null,null,null,"~"]
["SA36",2022,"DC47",677,null,null,null,null,null,null,null,null,null,null,null,null,null,null,null,null,null,null,"~"]
["SA36",2022,"DC47",678,null,null,null,null,null,null,null,null,null,null,null,null,null,null,null,null,null,null,"~"]
["SA36",2022,"DC47",679,null,null,null,null,null,null,null,null,null,null,null,null,null,null,null,null,null,null,"~"]
["SA36",2022,"DC47",680,null,null,null,null,null,null,null,null,null,null,null,null,null,null,null,null,null,null,"~"]
["SA36",2022,"DC47",681,null,null,null,null,null,null,null,null,null,null,null,null,null,null,null,null,null,null,"~"]
["SA36",2022,"DC47",682,null,null,null,null,null,null,null,null,null,null,null,null,null,null,null,null,null,null,"~"]
["SA36",2022,"DC47",683,null,null,null,null,null,null,null,null,null,null,null,null,null,null,null,null,null,null,"~"]
["SA36",2022,"DC47",684,null,null,null,null,null,null,null,null,null,null,null,null,null,null,null,null,null,null,"~"]
["SA36",2022,"DC47",685,null,null,null,null,null,null,null,null,null,null,null,null,null,null,null,null,null,null,"~"]
["SA36",2022,"DC47",686,null,null,null,null,null,null,null,null,null,null,null,null,null,null,null,null,null,null,"~"]
["SA36",2022,"DC47",687,null,null,null,null,null,null,null,null,null,null,null,null,null,null,null,null,null,null,"~"]
["SA36",2022,"DC47",688,null,null,null,null,null,null,null,null,null,null,null,null,null,null,null,null,null,null,"~"]
["SA36",2022,"DC47",689,null,null,null,null,null,null,null,null,null,null,null,null,null,null,null,null,null,null,"~"]
["SA36",2022,"DC47",690,null,null,null,null,null,null,null,null,null,null,null,null,null,null,null,null,null,null,"~"]
["SA36",2022,"DC47",691,null,null,null,null,null,null,null,null,null,null,null,null,null,null,null,null,null,null,"~"]
["SA36",2022,"DC47",692,null,null,null,null,null,null,null,null,null,null,null,null,null,null,null,null,null,null,"~"]
["SA36",2022,"DC47",693,null,null,null,null,null,null,null,null,null,null,null,null,null,null,null,null,null,null,"~"]
["SA36",2022,"DC47",694,null,null,null,null,null,null,null,null,null,null,null,null,null,null,null,null,null,null,"~"]
["SA36",2022,"DC47",695,null,null,null,null,null,null,null,null,null,null,null,null,null,null,null,null,null,null,"~"]
["SA36",2022,"DC47",696,null,null,null,null,null,null,null,null,null,null,null,null,null,null,null,null,null,null,"~"]
["SA36",2022,"DC47",697,null,null,null,null,null,null,null,null,null,null,null,null,null,null,null,null,null,null,"~"]
["SA36",2022,"DC47",698,null,null,null,null,null,null,null,null,null,null,null,null,null,null,null,null,null,null,"~"]
["SA36",2022,"DC47",699,null,null,null,null,null,null,null,null,null,null,null,null,null,null,null,null,null,null,"~"]
["SA36",2022,"DC47",700,null,null,null,null,null,null,null,null,null,null,null,null,null,null,null,null,null,null,"~"]
["SA36",2022,"DC47",701,null,null,null,null,null,null,null,null,null,null,null,null,null,null,null,null,null,null,"~"]
["SA36",2022,"DC47",702,null,null,null,null,null,null,null,null,null,null,null,null,null,null,null,null,null,null,"~"]
["SA36",2022,"DC47",703,null,null,null,null,null,null,null,null,null,null,null,null,null,null,null,null,null,null,"~"]
["SA36",2022,"DC47",704,null,null,null,null,null,null,null,null,null,null,null,null,null,null,null,null,null,null,"~"]
["SA36",2022,"DC47",705,null,null,null,null,null,null,null,null,null,null,null,null,null,null,null,null,null,null,"~"]
["SA36",2022,"DC47",706,null,null,null,null,null,null,null,null,null,null,null,null,null,null,null,null,null,null,"~"]
["SA36",2022,"DC47",707,null,null,null,null,null,null,null,null,null,null,null,null,null,null,null,null,null,null,"~"]
["SA36",2022,"DC47",708,null,null,null,null,null,null,null,null,null,null,null,null,null,null,null,null,null,null,"~"]
["SA36",2022,"DC47",709,null,null,null,null,null,null,null,null,null,null,null,null,null,null,null,null,null,null,"~"]
["SA36",2022,"DC47",710,null,null,null,null,null,null,null,null,null,null,null,null,null,null,null,null,null,null,"~"]
["SA36",2022,"DC47",711,null,null,null,null,null,null,null,null,null,null,null,null,null,null,null,null,null,null,"~"]
["SA36",2022,"DC47",712,null,null,null,null,null,null,null,null,null,null,null,null,null,null,null,null,null,null,"~"]
["SA36",2022,"DC47",713,null,null,null,null,null,null,null,null,null,null,null,null,null,null,null,null,null,null,"~"]
["SA36",2022,"DC47",714,null,null,null,null,null,null,null,null,null,null,null,null,null,null,null,null,null,null,"~"]
["SA36",2022,"DC47",715,null,null,null,null,null,null,null,null,null,null,null,null,null,null,null,null,null,null,"~"]
["SA36",2022,"DC47",716,null,null,null,null,null,null,null,null,null,null,null,null,null,null,null,null,null,null,"~"]
["SA36",2022,"DC47",717,null,null,null,null,null,null,null,null,null,null,null,null,null,null,null,null,null,null,"~"]
["SA36",2022,"DC47",718,null,null,null,null,null,null,null,null,null,null,null,null,null,null,null,null,null,null,"~"]
["SA36",2022,"DC47",719,null,null,null,null,null,null,null,null,null,null,null,null,null,null,null,null,null,null,"~"]
["SA36",2022,"DC47",720,null,null,null,null,null,null,null,null,null,null,null,null,null,null,null,null,null,null,"~"]
["SA36",2022,"DC47",721,null,null,null,null,null,null,null,null,null,null,null,null,null,null,null,null,null,null,"~"]
["SA36",2022,"DC47",722,null,null,null,null,null,null,null,null,null,null,null,null,null,null,null,null,null,null,"~"]
["SA36",2022,"DC47",723,null,null,null,null,null,null,null,null,null,null,null,null,null,null,null,null,null,null,"~"]
["SA36",2022,"DC47",724,null,null,null,null,null,null,null,null,null,null,null,null,null,null,null,null,null,null,"~"]
["SA36",2022,"DC47",725,null,null,null,null,null,null,null,null,null,null,null,null,null,null,null,null,null,null,"~"]
["SA36",2022,"DC47",726,null,null,null,null,null,null,null,null,null,null,null,null,null,null,null,null,null,null,"~"]
["SA36",2022,"DC47",727,null,null,null,null,null,null,null,null,null,null,null,null,null,null,null,null,null,null,"~"]
["SA36",{"$f":"+MTREF","v":2022},{"$f":"LEFT(muni,(FIND(\" \",muni,1)-1))","v":"DC47"},728,null,null,null,null,null,null,null,null,null,null,null,null,null,null,null,null,null,null,"~"]
["SA36",2022,"DC47",729,null,null,null,null,null,null,null,null,null,null,null,null,null,null,null,null,null,null,"~"]
["SA36",2022,"DC47",730,null,null,null,null,null,null,null,null,null,null,null,null,null,null,null,null,null,null,"~"]
["SA36",2022,"DC47",731,null,null,null,null,null,null,null,null,null,null,null,null,null,null,null,null,null,null,"~"]
["SA36",2022,"DC47",732,null,null,null,null,null,null,null,null,null,null,null,null,null,null,null,null,null,null,"~"]
["SA36",2022,"DC47",733,null,null,null,null,null,null,null,null,null,null,null,null,null,null,null,null,null,null,"~"]
["SA36",2022,"DC47",734,null,null,null,null,null,null,null,null,null,null,null,null,null,null,null,null,null,null,"~"]
["SA36",2022,"DC47",735,null,null,null,null,null,null,null,null,null,null,null,null,null,null,null,null,null,null,"~"]
["SA36",2022,"DC47",736,null,null,null,null,null,null,null,null,null,null,null,null,null,null,null,null,null,null,"~"]
["SA36",2022,"DC47",737,null,null,null,null,null,null,null,null,null,null,null,null,null,null,null,null,null,null,"~"]
["SA36",2022,"DC47",738,null,null,null,null,null,null,null,null,null,null,null,null,null,null,null,null,null,null,"~"]
["SA36",2022,"DC47",739,null,null,null,null,null,null,null,null,null,null,null,null,null,null,null,null,null,null,"~"]
["SA36",2022,"DC47",740,null,null,null,null,null,null,null,null,null,null,null,null,null,null,null,null,null,null,"~"]
["SA36",2022,"DC47",741,null,null,null,null,null,null,null,null,null,null,null,null,null,null,null,null,null,null,"~"]
["SA36",2022,"DC47",742,null,null,null,null,null,null,null,null,null,null,null,null,null,null,null,null,null,null,"~"]
["SA36",2022,"DC47",743,null,null,null,null,null,null,null,null,null,null,null,null,null,null,null,null,null,null,"~"]
["SA36",2022,"DC47",744,null,null,null,null,null,null,null,null,null,null,null,null,null,null,null,null,null,null,"~"]
["SA36",2022,"DC47",745,null,null,null,null,null,null,null,null,null,null,null,null,null,null,null,null,null,null,"~"]
["SA36",2022,"DC47",746,null,null,null,null,null,null,null,null,null,null,null,null,null,null,null,null,null,null,"~"]
["SA36",2022,"DC47",747,null,null,null,null,null,null,null,null,null,null,null,null,null,null,null,null,null,null,"~"]
["SA36",2022,"DC47",748,null,null,null,null,null,null,null,null,null,null,null,null,null,null,null,null,null,null,"~"]
["SA36",2022,"DC47",749,null,null,null,null,null,null,null,null,null,null,null,null,null,null,null,null,null,null,"~"]
["SA36",2022,"DC47",750,null,null,null,null,null,null,null,null,null,null,null,null,null,null,null,null,null,null,"~"]
["SA36",2022,"DC47",751,null,null,null,null,null,null,null,null,null,null,null,null,null,null,null,null,null,null,"~"]
["SA36",2022,"DC47",752,null,null,null,null,null,null,null,null,null,null,null,null,null,null,null,null,null,null,"~"]
["SA36",2022,"DC47",753,null,null,null,null,null,null,null,null,null,null,null,null,null,null,null,null,null,null,"~"]
["SA36",2022,"DC47",754,null,null,null,null,null,null,null,null,null,null,null,null,null,null,null,null,null,null,"~"]
["SA36",2022,"DC47",755,null,null,null,null,null,null,null,null,null,null,null,null,null,null,null,null,null,null,"~"]
["SA36",2022,"DC47",756,null,null,null,null,null,null,null,null,null,null,null,null,null,null,null,null,null,null,"~"]
["SA36",2022,"DC47",757,null,null,null,null,null,null,null,null,null,null,null,null,null,null,null,null,null,null,"~"]
["SA36",2022,"DC47",758,null,null,null,null,null,null,null,null,null,null,null,null,null,null,null,null,null,null,"~"]
["SA36",2022,"DC47",759,null,null,null,null,null,null,null,null,null,null,null,null,null,null,null,null,null,null,"~"]
["SA36",2022,"DC47",760,null,null,null,null,null,null,null,null,null,null,null,null,null,null,null,null,null,null,"~"]
["SA36",2022,"DC47",761,null,null,null,null,null,null,null,null,null,null,null,null,null,null,null,null,null,null,"~"]
["SA36",2022,"DC47",762,null,null,null,null,null,null,null,null,null,null,null,null,null,null,null,null,null,null,"~"]
["SA36",2022,"DC47",763,null,null,null,null,null,null,null,null,null,null,null,null,null,null,null,null,null,null,"~"]
["SA36",2022,"DC47",764,null,null,null,null,null,null,null,null,null,null,null,null,null,null,null,null,null,null,"~"]
["SA36",2022,"DC47",765,null,null,null,null,null,null,null,null,null,null,null,null,null,null,null,null,null,null,"~"]
["SA36",2022,"DC47",766,null,null,null,null,null,null,null,null,null,null,null,null,null,null,null,null,null,null,"~"]
["SA36",2022,"DC47",767,null,null,null,null,null,null,null,null,null,null,null,null,null,null,null,null,null,null,"~"]
["SA36",2022,"DC47",768,null,null,null,null,null,null,null,null,null,null,null,null,null,null,null,null,null,null,"~"]
["SA36",2022,"DC47",769,null,null,null,null,null,null,null,null,null,null,null,null,null,null,null,null,null,null,"~"]
["SA36",2022,"DC47",770,null,null,null,null,null,null,null,null,null,null,null,null,null,null,null,null,null,null,"~"]
["SA36",2022,"DC47",771,null,null,null,null,null,null,null,null,null,null,null,null,null,null,null,null,null,null,"~"]
["SA36",2022,"DC47",772,null,null,null,null,null,null,null,null,null,null,null,null,null,null,null,null,null,null,"~"]
["SA36",2022,"DC47",773,null,null,null,null,null,null,null,null,null,null,null,null,null,null,null,null,null,null,"~"]
["SA36",2022,"DC47",774,null,null,null,null,null,null,null,null,null,null,null,null,null,null,null,null,null,null,"~"]
["SA36",2022,"DC47",775,null,null,null,null,null,null,null,null,null,null,null,null,null,null,null,null,null,null,"~"]
["SA36",2022,"DC47",776,null,null,null,null,null,null,null,null,null,null,null,null,null,null,null,null,null,null,"~"]
["SA36",2022,"DC47",777,null,null,null,null,null,null,null,null,null,null,null,null,null,null,null,null,null,null,"~"]
["SA36",2022,"DC47",778,null,null,null,null,null,null,null,null,null,null,null,null,null,null,null,null,null,null,"~"]
["SA36",2022,"DC47",779,null,null,null,null,null,null,null,null,null,null,null,null,null,null,null,null,null,null,"~"]
["SA36",2022,"DC47",780,null,null,null,null,null,null,null,null,null,null,null,null,null,null,null,null,null,null,"~"]
["SA36",2022,"DC47",781,null,null,null,null,null,null,null,null,null,null,null,null,null,null,null,null,null,null,"~"]
["SA36",2022,"DC47",782,null,null,null,null,null,null,null,null,null,null,null,null,null,null,null,null,null,null,"~"]
["SA36",2022,"DC47",783,null,null,null,null,null,null,null,null,null,null,null,null,null,null,null,null,null,null,"~"]
["SA36",2022,"DC47",784,null,null,null,null,null,null,null,null,null,null,null,null,null,null,null,null,null,null,"~"]
["SA36",2022,"DC47",785,null,null,null,null,null,null,null,null,null,null,null,null,null,null,null,null,null,null,"~"]
["SA36",2022,"DC47",786,null,null,null,null,null,null,null,null,null,null,null,null,null,null,null,null,null,null,"~"]
["SA36",2022,"DC47",787,null,null,null,null,null,null,null,null,null,null,null,null,null,null,null,null,null,null,"~"]
["SA36",2022,"DC47",788,null,null,null,null,null,null,null,null,null,null,null,null,null,null,null,null,null,null,"~"]
["SA36",2022,"DC47",789,null,null,null,null,null,null,null,null,null,null,null,null,null,null,null,null,null,null,"~"]
["SA36",2022,"DC47",790,null,null,null,null,null,null,null,null,null,null,null,null,null,null,null,null,null,null,"~"]
["SA36",2022,"DC47",791,null,null,null,null,null,null,null,null,null,null,null,null,null,null,null,null,null,null,"~"]
["SA36",{"$f":"+MTREF","v":2022},{"$f":"LEFT(muni,(FIND(\" \",muni,1)-1))","v":"DC47"},792,null,null,null,null,null,null,null,null,null,null,null,null,null,null,null,null,null,null,"~"]
["SA36",2022,"DC47",793,null,null,null,null,null,null,null,null,null,null,null,null,null,null,null,null,null,null,"~"]
["SA36",2022,"DC47",794,null,null,null,null,null,null,null,null,null,null,null,null,null,null,null,null,null,null,"~"]
["SA36",2022,"DC47",795,null,null,null,null,null,null,null,null,null,null,null,null,null,null,null,null,null,null,"~"]
["SA36",2022,"DC47",796,null,null,null,null,null,null,null,null,null,null,null,null,null,null,null,null,null,null,"~"]
["SA36",2022,"DC47",797,null,null,null,null,null,null,null,null,null,null,null,null,null,null,null,null,null,null,"~"]
["SA36",2022,"DC47",798,null,null,null,null,null,null,null,null,null,null,null,null,null,null,null,null,null,null,"~"]
["SA36",2022,"DC47",799,null,null,null,null,null,null,null,null,null,null,null,null,null,null,null,null,null,null,"~"]
["SA36",2022,"DC47",800,null,null,null,null,null,null,null,null,null,null,null,null,null,null,null,null,null,null,"~"]
["SA36",2022,"DC47",801,null,null,null,null,null,null,null,null,null,null,null,null,null,null,null,null,null,null,"~"]
["SA36",2022,"DC47",802,null,null,null,null,null,null,null,null,null,null,null,null,null,null,null,null,null,null,"~"]
["SA36",2022,"DC47",803,null,null,null,null,null,null,null,null,null,null,null,null,null,null,null,null,null,null,"~"]
["SA36",2022,"DC47",804,null,null,null,null,null,null,null,null,null,null,null,null,null,null,null,null,null,null,"~"]
["SA36",2022,"DC47",805,null,null,null,null,null,null,null,null,null,null,null,null,null,null,null,null,null,null,"~"]
["SA36",2022,"DC47",806,null,null,null,null,null,null,null,null,null,null,null,null,null,null,null,null,null,null,"~"]
["SA36",2022,"DC47",807,null,null,null,null,null,null,null,null,null,null,null,null,null,null,null,null,null,null,"~"]
["SA36",2022,"DC47",808,null,null,null,null,null,null,null,null,null,null,null,null,null,null,null,null,null,null,"~"]
["SA36",2022,"DC47",809,null,null,null,null,null,null,null,null,null,null,null,null,null,null,null,null,null,null,"~"]
["SA36",2022,"DC47",810,null,null,null,null,null,null,null,null,null,null,null,null,null,null,null,null,null,null,"~"]
["SA36",2022,"DC47",811,null,null,null,null,null,null,null,null,null,null,null,null,null,null,null,null,null,null,"~"]
["SA36",2022,"DC47",812,null,null,null,null,null,null,null,null,null,null,null,null,null,null,null,null,null,null,"~"]
["SA36",2022,"DC47",813,null,null,null,null,null,null,null,null,null,null,null,null,null,null,null,null,null,null,"~"]
["SA36",2022,"DC47",814,null,null,null,null,null,null,null,null,null,null,null,null,null,null,null,null,null,null,"~"]
["SA36",2022,"DC47",815,null,null,null,null,null,null,null,null,null,null,null,null,null,null,null,null,null,null,"~"]
["SA36",2022,"DC47",816,null,null,null,null,null,null,null,null,null,null,null,null,null,null,null,null,null,null,"~"]
["SA36",2022,"DC47",817,null,null,null,null,null,null,null,null,null,null,null,null,null,null,null,null,null,null,"~"]
["SA36",2022,"DC47",818,null,null,null,null,null,null,null,null,null,null,null,null,null,null,null,null,null,null,"~"]
["SA36",2022,"DC47",819,null,null,null,null,null,null,null,null,null,null,null,null,null,null,null,null,null,null,"~"]
["SA36",2022,"DC47",820,null,null,null,null,null,null,null,null,null,null,null,null,null,null,null,null,null,null,"~"]
["SA36",2022,"DC47",821,null,null,null,null,null,null,null,null,null,null,null,null,null,null,null,null,null,null,"~"]
["SA36",2022,"DC47",822,null,null,null,null,null,null,null,null,null,null,null,null,null,null,null,null,null,null,"~"]
["SA36",2022,"DC47",823,null,null,null,null,null,null,null,null,null,null,null,null,null,null,null,null,null,null,"~"]
["SA36",2022,"DC47",824,null,null,null,null,null,null,null,null,null,null,null,null,null,null,null,null,null,null,"~"]
["SA36",2022,"DC47",825,null,null,null,null,null,null,null,null,null,null,null,null,null,null,null,null,null,null,"~"]
["SA36",2022,"DC47",826,null,null,null,null,null,null,null,null,null,null,null,null,null,null,null,null,null,null,"~"]
["SA36",2022,"DC47",827,null,null,null,null,null,null,null,null,null,null,null,null,null,null,null,null,null,null,"~"]
["SA36",2022,"DC47",828,null,null,null,null,null,null,null,null,null,null,null,null,null,null,null,null,null,null,"~"]
["SA36",2022,"DC47",829,null,null,null,null,null,null,null,null,null,null,null,null,null,null,null,null,null,null,"~"]
["SA36",2022,"DC47",830,null,null,null,null,null,null,null,null,null,null,null,null,null,null,null,null,null,null,"~"]
["SA36",2022,"DC47",831,null,null,null,null,null,null,null,null,null,null,null,null,null,null,null,null,null,null,"~"]
["SA36",2022,"DC47",832,null,null,null,null,null,null,null,null,null,null,null,null,null,null,null,null,null,null,"~"]
["SA36",2022,"DC47",833,null,null,null,null,null,null,null,null,null,null,null,null,null,null,null,null,null,null,"~"]
["SA36",2022,"DC47",834,null,null,null,null,null,null,null,null,null,null,null,null,null,null,null,null,null,null,"~"]
["SA36",2022,"DC47",835,null,null,null,null,null,null,null,null,null,null,null,null,null,null,null,null,null,null,"~"]
["SA36",2022,"DC47",836,null,null,null,null,null,null,null,null,null,null,null,null,null,null,null,null,null,null,"~"]
["SA36",2022,"DC47",837,null,null,null,null,null,null,null,null,null,null,null,null,null,null,null,null,null,null,"~"]
["SA36",2022,"DC47",838,null,null,null,null,null,null,null,null,null,null,null,null,null,null,null,null,null,null,"~"]
["SA36",2022,"DC47",839,null,null,null,null,null,null,null,null,null,null,null,null,null,null,null,null,null,null,"~"]
["SA36",2022,"DC47",840,null,null,null,null,null,null,null,null,null,null,null,null,null,null,null,null,null,null,"~"]
["SA36",2022,"DC47",841,null,null,null,null,null,null,null,null,null,null,null,null,null,null,null,null,null,null,"~"]
["SA36",2022,"DC47",842,null,null,null,null,null,null,null,null,null,null,null,null,null,null,null,null,null,null,"~"]
["SA36",2022,"DC47",843,null,null,null,null,null,null,null,null,null,null,null,null,null,null,null,null,null,null,"~"]
["SA36",2022,"DC47",844,null,null,null,null,null,null,null,null,null,null,null,null,null,null,null,null,null,null,"~"]
["SA36",2022,"DC47",845,null,null,null,null,null,null,null,null,null,null,null,null,null,null,null,null,null,null,"~"]
["SA36",2022,"DC47",846,null,null,null,null,null,null,null,null,null,null,null,null,null,null,null,null,null,null,"~"]
["SA36",2022,"DC47",847,null,null,null,null,null,null,null,null,null,null,null,null,null,null,null,null,null,null,"~"]
["SA36",2022,"DC47",848,null,null,null,null,null,null,null,null,null,null,null,null,null,null,null,null,null,null,"~"]
["SA36",2022,"DC47",849,null,null,null,null,null,null,null,null,null,null,null,null,null,null,null,null,null,null,"~"]
["SA36",2022,"DC47",850,null,null,null,null,null,null,null,null,null,null,null,null,null,null,null,null,null,null,"~"]
["SA36",2022,"DC47",851,null,null,null,null,null,null,null,null,null,null,null,null,null,null,null,null,null,null,"~"]
["SA36",2022,"DC47",852,null,null,null,null,null,null,null,null,null,null,null,null,null,null,null,null,null,null,"~"]
["SA36",2022,"DC47",853,null,null,null,null,null,null,null,null,null,null,null,null,null,null,null,null,null,null,"~"]
["SA36",2022,"DC47",854,null,null,null,null,null,null,null,null,null,null,null,null,null,null,null,null,null,null,"~"]
["SA36",2022,"DC47",855,null,null,null,null,null,null,null,null,null,null,null,null,null,null,null,null,null,null,"~"]
["SA36",{"$f":"+MTREF","v":2022},{"$f":"LEFT(muni,(FIND(\" \",muni,1)-1))","v":"DC47"},856,null,null,null,null,null,null,null,null,null,null,null,null,null,null,null,null,null,null,"~"]
["SA36",2022,"DC47",857,null,null,null,null,null,null,null,null,null,null,null,null,null,null,null,null,null,null,"~"]
["SA36",2022,"DC47",858,null,null,null,null,null,null,null,null,null,null,null,null,null,null,null,null,null,null,"~"]
["SA36",2022,"DC47",859,null,null,null,null,null,null,null,null,null,null,null,null,null,null,null,null,null,null,"~"]
["SA36",2022,"DC47",860,null,null,null,null,null,null,null,null,null,null,null,null,null,null,null,null,null,null,"~"]
["SA36",2022,"DC47",861,null,null,null,null,null,null,null,null,null,null,null,null,null,null,null,null,null,null,"~"]
["SA36",2022,"DC47",862,null,null,null,null,null,null,null,null,null,null,null,null,null,null,null,null,null,null,"~"]
["SA36",2022,"DC47",863,null,null,null,null,null,null,null,null,null,null,null,null,null,null,null,null,null,null,"~"]
["SA36",2022,"DC47",864,null,null,null,null,null,null,null,null,null,null,null,null,null,null,null,null,null,null,"~"]
["SA36",2022,"DC47",865,null,null,null,null,null,null,null,null,null,null,null,null,null,null,null,null,null,null,"~"]
["SA36",2022,"DC47",866,null,null,null,null,null,null,null,null,null,null,null,null,null,null,null,null,null,null,"~"]
["SA36",2022,"DC47",867,null,null,null,null,null,null,null,null,null,null,null,null,null,null,null,null,null,null,"~"]
["SA36",2022,"DC47",868,null,null,null,null,null,null,null,null,null,null,null,null,null,null,null,null,null,null,"~"]
["SA36",2022,"DC47",869,null,null,null,null,null,null,null,null,null,null,null,null,null,null,null,null,null,null,"~"]
["SA36",2022,"DC47",870,null,null,null,null,null,null,null,null,null,null,null,null,null,null,null,null,null,null,"~"]
["SA36",2022,"DC47",871,null,null,null,null,null,null,null,null,null,null,null,null,null,null,null,null,null,null,"~"]
["SA36",2022,"DC47",872,null,null,null,null,null,null,null,null,null,null,null,null,null,null,null,null,null,null,"~"]
["SA36",2022,"DC47",873,null,null,null,null,null,null,null,null,null,null,null,null,null,null,null,null,null,null,"~"]
["SA36",2022,"DC47",874,null,null,null,null,null,null,null,null,null,null,null,null,null,null,null,null,null,null,"~"]
["SA36",2022,"DC47",875,null,null,null,null,null,null,null,null,null,null,null,null,null,null,null,null,null,null,"~"]
["SA36",2022,"DC47",876,null,null,null,null,null,null,null,null,null,null,null,null,null,null,null,null,null,null,"~"]
["SA36",2022,"DC47",877,null,null,null,null,null,null,null,null,null,null,null,null,null,null,null,null,null,null,"~"]
["SA36",2022,"DC47",878,null,null,null,null,null,null,null,null,null,null,null,null,null,null,null,null,null,null,"~"]
["SA36",2022,"DC47",879,null,null,null,null,null,null,null,null,null,null,null,null,null,null,null,null,null,null,"~"]
["SA36",2022,"DC47",880,null,null,null,null,null,null,null,null,null,null,null,null,null,null,null,null,null,null,"~"]
["SA36",2022,"DC47",881,null,null,null,null,null,null,null,null,null,null,null,null,null,null,null,null,null,null,"~"]
["SA36",2022,"DC47",882,null,null,null,null,null,null,null,null,null,null,null,null,null,null,null,null,null,null,"~"]
["SA36",2022,"DC47",883,null,null,null,null,null,null,null,null,null,null,null,null,null,null,null,null,null,null,"~"]
["SA36",2022,"DC47",884,null,null,null,null,null,null,null,null,null,null,null,null,null,null,null,null,null,null,"~"]
["SA36",2022,"DC47",885,null,null,null,null,null,null,null,null,null,null,null,null,null,null,null,null,null,null,"~"]
["SA36",2022,"DC47",886,null,null,null,null,null,null,null,null,null,null,null,null,null,null,null,null,null,null,"~"]
["SA36",2022,"DC47",887,null,null,null,null,null,null,null,null,null,null,null,null,null,null,null,null,null,null,"~"]
["SA36",2022,"DC47",888,null,null,null,null,null,null,null,null,null,null,null,null,null,null,null,null,null,null,"~"]
["SA36",2022,"DC47",889,null,null,null,null,null,null,null,null,null,null,null,null,null,null,null,null,null,null,"~"]
["SA36",2022,"DC47",890,null,null,null,null,null,null,null,null,null,null,null,null,null,null,null,null,null,null,"~"]
["SA36",2022,"DC47",891,null,null,null,null,null,null,null,null,null,null,null,null,null,null,null,null,null,null,"~"]
["SA36",2022,"DC47",892,null,null,null,null,null,null,null,null,null,null,null,null,null,null,null,null,null,null,"~"]
["SA36",2022,"DC47",893,null,null,null,null,null,null,null,null,null,null,null,null,null,null,null,null,null,null,"~"]
["SA36",2022,"DC47",894,null,null,null,null,null,null,null,null,null,null,null,null,null,null,null,null,null,null,"~"]
["SA36",2022,"DC47",895,null,null,null,null,null,null,null,null,null,null,null,null,null,null,null,null,null,null,"~"]
["SA36",2022,"DC47",896,null,null,null,null,null,null,null,null,null,null,null,null,null,null,null,null,null,null,"~"]
["SA36",2022,"DC47",897,null,null,null,null,null,null,null,null,null,null,null,null,null,null,null,null,null,null,"~"]
["SA36",2022,"DC47",898,null,null,null,null,null,null,null,null,null,null,null,null,null,null,null,null,null,null,"~"]
["SA36",2022,"DC47",899,null,null,null,null,null,null,null,null,null,null,null,null,null,null,null,null,null,null,"~"]
["SA36",2022,"DC47",900,null,null,null,null,null,null,null,null,null,null,null,null,null,null,null,null,null,null,"~"]
["SA36",2022,"DC47",901,null,null,null,null,null,null,null,null,null,null,null,null,null,null,null,null,null,null,"~"]
["SA36",2022,"DC47",902,null,null,null,null,null,null,null,null,null,null,null,null,null,null,null,null,null,null,"~"]
["SA36",2022,"DC47",903,null,null,null,null,null,null,null,null,null,null,null,null,null,null,null,null,null,null,"~"]
["SA36",2022,"DC47",904,null,null,null,null,null,null,null,null,null,null,null,null,null,null,null,null,null,null,"~"]
["SA36",2022,"DC47",905,null,null,null,null,null,null,null,null,null,null,null,null,null,null,null,null,null,null,"~"]
["SA36",2022,"DC47",906,null,null,null,null,null,null,null,null,null,null,null,null,null,null,null,null,null,null,"~"]
["SA36",2022,"DC47",907,null,null,null,null,null,null,null,null,null,null,null,null,null,null,null,null,null,null,"~"]
["SA36",2022,"DC47",908,null,null,null,null,null,null,null,null,null,null,null,null,null,null,null,null,null,null,"~"]
["SA36",2022,"DC47",909,null,null,null,null,null,null,null,null,null,null,null,null,null,null,null,null,null,null,"~"]
["SA36",2022,"DC47",910,null,null,null,null,null,null,null,null,null,null,null,null,null,null,null,null,null,null,"~"]
["SA36",2022,"DC47",911,null,null,null,null,null,null,null,null,null,null,null,null,null,null,null,null,null,null,"~"]
["SA36",2022,"DC47",912,null,null,null,null,null,null,null,null,null,null,null,null,null,null,null,null,null,null,"~"]
["SA36",2022,"DC47",913,null,null,null,null,null,null,null,null,null,null,null,null,null,null,null,null,null,null,"~"]
["SA36",2022,"DC47",914,null,null,null,null,null,null,null,null,null,null,null,null,null,null,null,null,null,null,"~"]
["SA36",2022,"DC47",915,null,null,null,null,null,null,null,null,null,null,null,null,null,null,null,null,null,null,"~"]
["SA36",2022,"DC47",916,null,null,null,null,null,null,null,null,null,null,null,null,null,null,null,null,null,null,"~"]
["SA36",2022,"DC47",917,null,null,null,null,null,null,null,null,null,null,null,null,null,null,null,null,null,null,"~"]
["SA36",2022,"DC47",918,null,null,null,null,null,null,null,null,null,null,null,null,null,null,null,null,null,null,"~"]
["SA36",2022,"DC47",919,null,null,null,null,null,null,null,null,null,null,null,null,null,null,null,null,null,null,"~"]
["SA36",{"$f":"+MTREF","v":2022},{"$f":"LEFT(muni,(FIND(\" \",muni,1)-1))","v":"DC47"},920,null,null,null,null,null,null,null,null,null,null,null,null,null,null,null,null,null,null,"~"]
["SA36",2022,"DC47",921,null,null,null,null,null,null,null,null,null,null,null,null,null,null,null,null,null,null,"~"]
["SA36",2022,"DC47",922,null,null,null,null,null,null,null,null,null,null,null,null,null,null,null,null,null,null,"~"]
["SA36",2022,"DC47",923,null,null,null,null,null,null,null,null,null,null,null,null,null,null,null,null,null,null,"~"]
["SA36",2022,"DC47",924,null,null,null,null,null,null,null,null,null,null,null,null,null,null,null,null,null,null,"~"]
["SA36",2022,"DC47",925,null,null,null,null,null,null,null,null,null,null,null,null,null,null,null,null,null,null,"~"]
["SA36",2022,"DC47",926,null,null,null,null,null,null,null,null,null,null,null,null,null,null,null,null,null,null,"~"]
["SA36",2022,"DC47",927,null,null,null,null,null,null,null,null,null,null,null,null,null,null,null,null,null,null,"~"]
["SA36",2022,"DC47",928,null,null,null,null,null,null,null,null,null,null,null,null,null,null,null,null,null,null,"~"]
["SA36",2022,"DC47",929,null,null,null,null,null,null,null,null,null,null,null,null,null,null,null,null,null,null,"~"]
["SA36",2022,"DC47",930,null,null,null,null,null,null,null,null,null,null,null,null,null,null,null,null,null,null,"~"]
["SA36",2022,"DC47",931,null,null,null,null,null,null,null,null,null,null,null,null,null,null,null,null,null,null,"~"]
["SA36",2022,"DC47",932,null,null,null,null,null,null,null,null,null,null,null,null,null,null,null,null,null,null,"~"]
["SA36",2022,"DC47",933,null,null,null,null,null,null,null,null,null,null,null,null,null,null,null,null,null,null,"~"]
["SA36",2022,"DC47",934,null,null,null,null,null,null,null,null,null,null,null,null,null,null,null,null,null,null,"~"]
["SA36",2022,"DC47",935,null,null,null,null,null,null,null,null,null,null,null,null,null,null,null,null,null,null,"~"]
["SA36",2022,"DC47",936,null,null,null,null,null,null,null,null,null,null,null,null,null,null,null,null,null,null,"~"]
["SA36",2022,"DC47",937,null,null,null,null,null,null,null,null,null,null,null,null,null,null,null,null,null,null,"~"]
["SA36",2022,"DC47",938,null,null,null,null,null,null,null,null,null,null,null,null,null,null,null,null,null,null,"~"]
["SA36",2022,"DC47",939,null,null,null,null,null,null,null,null,null,null,null,null,null,null,null,null,null,null,"~"]
["SA36",2022,"DC47",940,null,null,null,null,null,null,null,null,null,null,null,null,null,null,null,null,null,null,"~"]
["SA36",2022,"DC47",941,null,null,null,null,null,null,null,null,null,null,null,null,null,null,null,null,null,null,"~"]
["SA36",2022,"DC47",942,null,null,null,null,null,null,null,null,null,null,null,null,null,null,null,null,null,null,"~"]
["SA36",2022,"DC47",943,null,null,null,null,null,null,null,null,null,null,null,null,null,null,null,null,null,null,"~"]
["SA36",2022,"DC47",944,null,null,null,null,null,null,null,null,null,null,null,null,null,null,null,null,null,null,"~"]
["SA36",2022,"DC47",945,null,null,null,null,null,null,null,null,null,null,null,null,null,null,null,null,null,null,"~"]
["SA36",2022,"DC47",946,null,null,null,null,null,null,null,null,null,null,null,null,null,null,null,null,null,null,"~"]
["SA36",2022,"DC47",947,null,null,null,null,null,null,null,null,null,null,null,null,null,null,null,null,null,null,"~"]
["SA36",2022,"DC47",948,null,null,null,null,null,null,null,null,null,null,null,null,null,null,null,null,null,null,"~"]
["SA36",2022,"DC47",949,null,null,null,null,null,null,null,null,null,null,null,null,null,null,null,null,null,null,"~"]
["SA36",2022,"DC47",950,null,null,null,null,null,null,null,null,null,null,null,null,null,null,null,null,null,null,"~"]
["SA36",2022,"DC47",951,null,null,null,null,null,null,null,null,null,null,null,null,null,null,null,null,null,null,"~"]
["SA36",2022,"DC47",952,null,null,null,null,null,null,null,null,null,null,null,null,null,null,null,null,null,null,"~"]
["SA36",2022,"DC47",953,null,null,null,null,null,null,null,null,null,null,null,null,null,null,null,null,null,null,"~"]
["SA36",2022,"DC47",954,null,null,null,null,null,null,null,null,null,null,null,null,null,null,null,null,null,null,"~"]
["SA36",2022,"DC47",955,null,null,null,null,null,null,null,null,null,null,null,null,null,null,null,null,null,null,"~"]
["SA36",2022,"DC47",956,null,null,null,null,null,null,null,null,null,null,null,null,null,null,null,null,null,null,"~"]
["SA36",2022,"DC47",957,null,null,null,null,null,null,null,null,null,null,null,null,null,null,null,null,null,null,"~"]
["SA36",2022,"DC47",958,null,null,null,null,null,null,null,null,null,null,null,null,null,null,null,null,null,null,"~"]
["SA36",2022,"DC47",959,null,null,null,null,null,null,null,null,null,null,null,null,null,null,null,null,null,null,"~"]
["SA36",2022,"DC47",960,null,null,null,null,null,null,null,null,null,null,null,null,null,null,null,null,null,null,"~"]
["SA36",2022,"DC47",961,null,null,null,null,null,null,null,null,null,null,null,null,null,null,null,null,null,null,"~"]
["SA36",2022,"DC47",962,null,null,null,null,null,null,null,null,null,null,null,null,null,null,null,null,null,null,"~"]
["SA36",2022,"DC47",963,null,null,null,null,null,null,null,null,null,null,null,null,null,null,null,null,null,null,"~"]
["SA36",2022,"DC47",964,null,null,null,null,null,null,null,null,null,null,null,null,null,null,null,null,null,null,"~"]
["SA36",2022,"DC47",965,null,null,null,null,null,null,null,null,null,null,null,null,null,null,null,null,null,null,"~"]
["SA36",2022,"DC47",966,null,null,null,null,null,null,null,null,null,null,null,null,null,null,null,null,null,null,"~"]
["SA36",2022,"DC47",967,null,null,null,null,null,null,null,null,null,null,null,null,null,null,null,null,null,null,"~"]
["SA36",2022,"DC47",968,null,null,null,null,null,null,null,null,null,null,null,null,null,null,null,null,null,null,"~"]
["SA36",2022,"DC47",969,null,null,null,null,null,null,null,null,null,null,null,null,null,null,null,null,null,null,"~"]
["SA36",2022,"DC47",970,null,null,null,null,null,null,null,null,null,null,null,null,null,null,null,null,null,null,"~"]
["SA36",2022,"DC47",971,null,null,null,null,null,null,null,null,null,null,null,null,null,null,null,null,null,null,"~"]
["SA36",2022,"DC47",972,null,null,null,null,null,null,null,null,null,null,null,null,null,null,null,null,null,null,"~"]
["SA36",2022,"DC47",973,null,null,null,null,null,null,null,null,null,null,null,null,null,null,null,null,null,null,"~"]
["SA36",2022,"DC47",974,null,null,null,null,null,null,null,null,null,null,null,null,null,null,null,null,null,null,"~"]
["SA36",2022,"DC47",975,null,null,null,null,null,null,null,null,null,null,null,null,null,null,null,null,null,null,"~"]
["SA36",2022,"DC47",976,null,null,null,null,null,null,null,null,null,null,null,null,null,null,null,null,null,null,"~"]
["SA36",2022,"DC47",977,null,null,null,null,null,null,null,null,null,null,null,null,null,null,null,null,null,null,"~"]
["SA36",2022,"DC47",978,null,null,null,null,null,null,null,null,null,null,null,null,null,null,null,null,null,null,"~"]
["SA36",2022,"DC47",979,null,null,null,null,null,null,null,null,null,null,null,null,null,null,null,null,null,null,"~"]
["SA36",2022,"DC47",980,null,null,null,null,null,null,null,null,null,null,null,null,null,null,null,null,null,null,"~"]
["SA36",2022,"DC47",981,null,null,null,null,null,null,null,null,null,null,null,null,null,null,null,null,null,null,"~"]
["SA36",2022,"DC47",982,null,null,null,null,null,null,null,null,null,null,null,null,null,null,null,null,null,null,"~"]
["SA36",2022,"DC47",983,null,null,null,null,null,null,null,null,null,null,null,null,null,null,null,null,null,null,"~"]
["SA36",{"$f":"+MTREF","v":2022},{"$f":"LEFT(muni,(FIND(\" \",muni,1)-1))","v":"DC47"},984,null,null,null,null,null,null,null,null,null,null,null,null,null,null,null,null,null,null,"~"]
["SA36",2022,"DC47",985,null,null,null,null,null,null,null,null,null,null,null,null,null,null,null,null,null,null,"~"]
["SA36",2022,"DC47",986,null,null,null,null,null,null,null,null,null,null,null,null,null,null,null,null,null,null,"~"]
["SA36",2022,"DC47",987,null,null,null,null,null,null,null,null,null,null,null,null,null,null,null,null,null,null,"~"]
["SA36",2022,"DC47",988,null,null,null,null,null,null,null,null,null,null,null,null,null,null,null,null,null,null,"~"]
["SA36",2022,"DC47",989,null,null,null,null,null,null,null,null,null,null,null,null,null,null,null,null,null,null,"~"]
["SA36",2022,"DC47",990,null,null,null,null,null,null,null,null,null,null,null,null,null,null,null,null,null,null,"~"]
["SA36",2022,"DC47",991,null,null,null,null,null,null,null,null,null,null,null,null,null,null,null,null,null,null,"~"]
["SA36",2022,"DC47",992,null,null,null,null,null,null,null,null,null,null,null,null,null,null,null,null,null,null,"~"]
["SA36",2022,"DC47",993,null,null,null,null,null,null,null,null,null,null,null,null,null,null,null,null,null,null,"~"]
["SA36",2022,"DC47",994,null,null,null,null,null,null,null,null,null,null,null,null,null,null,null,null,null,null,"~"]
["SA36",2022,"DC47",995,null,null,null,null,null,null,null,null,null,null,null,null,null,null,null,null,null,null,"~"]
["SA36",2022,"DC47",996,null,null,null,null,null,null,null,null,null,null,null,null,null,null,null,null,null,null,"~"]
["SA36",2022,"DC47",997,null,null,null,null,null,null,null,null,null,null,null,null,null,null,null,null,null,null,"~"]
["SA36",2022,"DC47",998,null,null,null,null,null,null,null,null,null,null,null,null,null,null,null,null,null,null,"~"]
["SA36",2022,"DC47",999,null,null,null,null,null,null,null,null,null,null,null,null,null,null,null,null,null,null,"~"]
["SA36",2022,"DC47",1000,null,null,null,null,null,null,null,null,null,null,null,null,null,null,null,null,null,null,"~"]
["SA37",2022,"DC47",1,null,null,null,null,null,null,null,null,null,null,null,null,null,null,null,null,null,null,"~"]
["SA37",2022,"DC47",2,null,null,null,null,null,null,null,null,null,null,null,null,null,null,null,null,null,null,"~"]
["SA37",2022,"DC47",3,null,null,null,null,null,null,null,null,null,null,null,null,null,null,null,null,null,null,"~"]
["SA37",2022,"DC47",4,null,null,null,null,null,null,null,null,null,null,null,null,null,null,null,null,null,null,"~"]
["SA37",2022,"DC47",5,null,null,null,null,null,null,null,null,null,null,null,null,null,null,null,null,null,null,"~"]
["SA37",2022,"DC47",6,null,null,null,null,null,null,null,null,null,null,null,null,null,null,null,null,null,null,"~"]
["SA37",2022,"DC47",7,null,null,null,null,null,null,null,null,null,null,null,null,null,null,null,null,null,null,"~"]
["SA37",2022,"DC47",8,null,null,null,null,null,null,null,null,null,null,null,null,null,null,null,null,null,null,"~"]
["SA37",2022,"DC47",9,null,null,null,null,null,null,null,null,null,null,null,null,null,null,null,null,null,null,"~"]
["SA37",2022,"DC47",10,null,null,null,null,null,null,null,null,null,null,null,null,null,null,null,null,null,null,"~"]
["SA37",2022,"DC47",11,null,null,null,null,null,null,null,null,null,null,null,null,null,null,null,null,null,null,"~"]
["SA37",2022,"DC47",12,null,null,null,null,null,null,null,null,null,null,null,null,null,null,null,null,null,null,"~"]
["SA37",2022,"DC47",13,null,null,null,null,null,null,null,null,null,null,null,null,null,null,null,null,null,null,"~"]
["SA37",2022,"DC47",14,null,null,null,null,null,null,null,null,null,null,null,null,null,null,null,null,null,null,"~"]
["SA37",2022,"DC47",15,null,null,null,null,null,null,null,null,null,null,null,null,null,null,null,null,null,null,"~"]
["SA37",2022,"DC47",16,null,null,null,null,null,null,null,null,null,null,null,null,null,null,null,null,null,null,"~"]
["SA37",2022,"DC47",17,null,null,null,null,null,null,null,null,null,null,null,null,null,null,null,null,null,null,"~"]
["SA37",2022,"DC47",18,null,null,null,null,null,null,null,null,null,null,null,null,null,null,null,null,null,null,"~"]
["SA37",2022,"DC47",19,null,null,null,null,null,null,null,null,null,null,null,null,null,null,null,null,null,null,"~"]
["SA37",2022,"DC47",20,null,null,null,null,null,null,null,null,null,null,null,null,null,null,null,null,null,null,"~"]
["SA37",2022,"DC47",21,null,null,null,null,null,null,null,null,null,null,null,null,null,null,null,null,null,null,"~"]
["SA37",2022,"DC47",22,null,null,null,null,null,null,null,null,null,null,null,null,null,null,null,null,null,null,"~"]
["SA37",2022,"DC47",23,null,null,null,null,null,null,null,null,null,null,null,null,null,null,null,null,null,null,"~"]
["SA37",2022,"DC47",24,null,null,null,null,null,null,null,null,null,null,null,null,null,null,null,null,null,null,"~"]
["SA37",2022,"DC47",25,null,null,null,null,null,null,null,null,null,null,null,null,null,null,null,null,null,null,"~"]
["SA37",2022,"DC47",26,null,null,null,null,null,null,null,null,null,null,null,null,null,null,null,null,null,null,"~"]
["SA37",2022,"DC47",27,null,null,null,null,null,null,null,null,null,null,null,null,null,null,null,null,null,null,"~"]
["SA37",2022,"DC47",28,null,null,null,null,null,null,null,null,null,null,null,null,null,null,null,null,null,null,"~"]
["SA37",2022,"DC47",29,null,null,null,null,null,null,null,null,null,null,null,null,null,null,null,null,null,null,"~"]
["SA37",2022,"DC47",30,null,null,null,null,null,null,null,null,null,null,null,null,null,null,null,null,null,null,"~"]
["SA37",2022,"DC47",31,null,null,null,null,null,null,null,null,null,null,null,null,null,null,null,null,null,null,"~"]
["SA37",2022,"DC47",32,null,null,null,null,null,null,null,null,null,null,null,null,null,null,null,null,null,null,"~"]
["SA37",2022,"DC47",33,null,null,null,null,null,null,null,null,null,null,null,null,null,null,null,null,null,null,"~"]
["SA37",2022,"DC47",34,null,null,null,null,null,null,null,null,null,null,null,null,null,null,null,null,null,null,"~"]
["SA37",2022,"DC47",35,null,null,null,null,null,null,null,null,null,null,null,null,null,null,null,null,null,null,"~"]
["SA37",2022,"DC47",36,null,null,null,null,null,null,null,null,null,null,null,null,null,null,null,null,null,null,"~"]
["SA37",2022,"DC47",37,null,null,null,null,null,null,null,null,null,null,null,null,null,null,null,null,null,null,"~"]
["SA37",2022,"DC47",38,null,null,null,null,null,null,null,null,null,null,null,null,null,null,null,null,null,null,"~"]
["SA37",2022,"DC47",39,null,null,null,null,null,null,null,null,null,null,null,null,null,null,null,null,null,null,"~"]
["SA37",2022,"DC47",40,null,null,null,null,null,null,null,null,null,null,null,null,null,null,null,null,null,null,"~"]
["SA37",2022,"DC47",41,null,null,null,null,null,null,null,null,null,null,null,null,null,null,null,null,null,null,"~"]
["SA37",2022,"DC47",42,null,null,null,null,null,null,null,null,null,null,null,null,null,null,null,null,null,null,"~"]
["SA37",2022,"DC47",43,null,null,null,null,null,null,null,null,null,null,null,null,null,null,null,null,null,null,"~"]
["SA37",2022,"DC47",44,null,null,null,null,null,null,null,null,null,null,null,null,null,null,null,null,null,null,"~"]
["SA37",2022,"DC47",45,null,null,null,null,null,null,null,null,null,null,null,null,null,null,null,null,null,null,"~"]
["SA37",2022,"DC47",46,null,null,null,null,null,null,null,null,null,null,null,null,null,null,null,null,null,null,"~"]
["SA37",2022,"DC47",47,null,null,null,null,null,null,null,null,null,null,null,null,null,null,null,null,null,null,"~"]
["SA37",{"$f":"+MTREF","v":2022},{"$f":"LEFT(muni,(FIND(\" \",muni,1)-1))","v":"DC47"},48,null,null,null,null,null,null,null,null,null,null,null,null,null,null,null,null,null,null,"~"]
["SA37",2022,"DC47",49,null,null,null,null,null,null,null,null,null,null,null,null,null,null,null,null,null,null,"~"]
["SA37",2022,"DC47",50,null,null,null,null,null,null,null,null,null,null,null,null,null,null,null,null,null,null,"~"]
["SA37",2022,"DC47",51,null,null,null,null,null,null,null,null,null,null,null,null,null,null,null,null,null,null,"~"]
["SA37",2022,"DC47",52,null,null,null,null,null,null,null,null,null,null,null,null,null,null,null,null,null,null,"~"]
["SA37",2022,"DC47",53,null,null,null,null,null,null,null,null,null,null,null,null,null,null,null,null,null,null,"~"]
["SA37",2022,"DC47",54,null,null,null,null,null,null,null,null,null,null,null,null,null,null,null,null,null,null,"~"]
["SA37",2022,"DC47",55,null,null,null,null,null,null,null,null,null,null,null,null,null,null,null,null,null,null,"~"]
["SA37",2022,"DC47",56,null,null,null,null,null,null,null,null,null,null,null,null,null,null,null,null,null,null,"~"]
["SA37",2022,"DC47",57,null,null,null,null,null,null,null,null,null,null,null,null,null,null,null,null,null,null,"~"]
["SA37",2022,"DC47",58,null,null,null,null,null,null,null,null,null,null,null,null,null,null,null,null,null,null,"~"]
["SA37",2022,"DC47",59,null,null,null,null,null,null,null,null,null,null,null,null,null,null,null,null,null,null,"~"]
["SA37",2022,"DC47",60,null,null,null,null,null,null,null,null,null,null,null,null,null,null,null,null,null,null,"~"]
["SA37",2022,"DC47",61,null,null,null,null,null,null,null,null,null,null,null,null,null,null,null,null,null,null,"~"]
["SA37",2022,"DC47",62,null,null,null,null,null,null,null,null,null,null,null,null,null,null,null,null,null,null,"~"]
["SA37",2022,"DC47",63,null,null,null,null,null,null,null,null,null,null,null,null,null,null,null,null,null,null,"~"]
["SA37",2022,"DC47",64,null,null,null,null,null,null,null,null,null,null,null,null,null,null,null,null,null,null,"~"]
["SA37",2022,"DC47",65,null,null,null,null,null,null,null,null,null,null,null,null,null,null,null,null,null,null,"~"]
["SA37",2022,"DC47",66,null,null,null,null,null,null,null,null,null,null,null,null,null,null,null,null,null,null,"~"]
["SA37",2022,"DC47",67,null,null,null,null,null,null,null,null,null,null,null,null,null,null,null,null,null,null,"~"]
["SA37",2022,"DC47",68,null,null,null,null,null,null,null,null,null,null,null,null,null,null,null,null,null,null,"~"]
["SA37",2022,"DC47",69,null,null,null,null,null,null,null,null,null,null,null,null,null,null,null,null,null,null,"~"]
["SA37",2022,"DC47",70,null,null,null,null,null,null,null,null,null,null,null,null,null,null,null,null,null,null,"~"]
["SA37",2022,"DC47",71,null,null,null,null,null,null,null,null,null,null,null,null,null,null,null,null,null,null,"~"]
["SA37",2022,"DC47",72,null,null,null,null,null,null,null,null,null,null,null,null,null,null,null,null,null,null,"~"]
["SA37",2022,"DC47",73,null,null,null,null,null,null,null,null,null,null,null,null,null,null,null,null,null,null,"~"]
["SA37",2022,"DC47",74,null,null,null,null,null,null,null,null,null,null,null,null,null,null,null,null,null,null,"~"]
["SA37",2022,"DC47",75,null,null,null,null,null,null,null,null,null,null,null,null,null,null,null,null,null,null,"~"]
["SA37",2022,"DC47",76,null,null,null,null,null,null,null,null,null,null,null,null,null,null,null,null,null,null,"~"]
["SA37",2022,"DC47",77,null,null,null,null,null,null,null,null,null,null,null,null,null,null,null,null,null,null,"~"]
["SA37",2022,"DC47",78,null,null,null,null,null,null,null,null,null,null,null,null,null,null,null,null,null,null,"~"]
["SA37",2022,"DC47",79,null,null,null,null,null,null,null,null,null,null,null,null,null,null,null,null,null,null,"~"]
["SA37",2022,"DC47",80,null,null,null,null,null,null,null,null,null,null,null,null,null,null,null,null,null,null,"~"]
["SA37",2022,"DC47",81,null,null,null,null,null,null,null,null,null,null,null,null,null,null,null,null,null,null,"~"]
["SA37",2022,"DC47",82,null,null,null,null,null,null,null,null,null,null,null,null,null,null,null,null,null,null,"~"]
["SA37",2022,"DC47",83,null,null,null,null,null,null,null,null,null,null,null,null,null,null,null,null,null,null,"~"]
["SA37",2022,"DC47",84,null,null,null,null,null,null,null,null,null,null,null,null,null,null,null,null,null,null,"~"]
["SA37",2022,"DC47",85,null,null,null,null,null,null,null,null,null,null,null,null,null,null,null,null,null,null,"~"]
["SA37",2022,"DC47",86,null,null,null,null,null,null,null,null,null,null,null,null,null,null,null,null,null,null,"~"]
["SA37",2022,"DC47",87,null,null,null,null,null,null,null,null,null,null,null,null,null,null,null,null,null,null,"~"]
["SA37",2022,"DC47",88,null,null,null,null,null,null,null,null,null,null,null,null,null,null,null,null,null,null,"~"]
["SA37",2022,"DC47",89,null,null,null,null,null,null,null,null,null,null,null,null,null,null,null,null,null,null,"~"]
["SA37",2022,"DC47",90,null,null,null,null,null,null,null,null,null,null,null,null,null,null,null,null,null,null,"~"]
["SA37",2022,"DC47",91,null,null,null,null,null,null,null,null,null,null,null,null,null,null,null,null,null,null,"~"]
["SA37",2022,"DC47",92,null,null,null,null,null,null,null,null,null,null,null,null,null,null,null,null,null,null,"~"]
["SA37",2022,"DC47",93,null,null,null,null,null,null,null,null,null,null,null,null,null,null,null,null,null,null,"~"]
["SA37",2022,"DC47",94,null,null,null,null,null,null,null,null,null,null,null,null,null,null,null,null,null,null,"~"]
["SA37",2022,"DC47",95,null,null,null,null,null,null,null,null,null,null,null,null,null,null,null,null,null,null,"~"]
["SA37",2022,"DC47",96,null,null,null,null,null,null,null,null,null,null,null,null,null,null,null,null,null,null,"~"]
["SA37",2022,"DC47",97,null,null,null,null,null,null,null,null,null,null,null,null,null,null,null,null,null,null,"~"]
["SA37",2022,"DC47",98,null,null,null,null,null,null,null,null,null,null,null,null,null,null,null,null,null,null,"~"]
["SA37",2022,"DC47",99,null,null,null,null,null,null,null,null,null,null,null,null,null,null,null,null,null,null,"~"]
["SA37",2022,"DC47",100,null,null,null,null,null,null,null,null,null,null,null,null,null,null,null,null,null,null,"~"]
["SA37",2022,"DC47",101,null,null,null,null,null,null,null,null,null,null,null,null,null,null,null,null,null,null,"~"]
["SA37",2022,"DC47",102,null,null,null,null,null,null,null,null,null,null,null,null,null,null,null,null,null,null,"~"]
["SA37",2022,"DC47",103,null,null,null,null,null,null,null,null,null,null,null,null,null,null,null,null,null,null,"~"]
["SA37",2022,"DC47",104,null,null,null,null,null,null,null,null,null,null,null,null,null,null,null,null,null,null,"~"]
["SA37",2022,"DC47",105,null,null,null,null,null,null,null,null,null,null,null,null,null,null,null,null,null,null,"~"]
["SA37",2022,"DC47",106,null,null,null,null,null,null,null,null,null,null,null,null,null,null,null,null,null,null,"~"]
["SA37",2022,"DC47",107,null,null,null,null,null,null,null,null,null,null,null,null,null,null,null,null,null,null,"~"]
["SA37",2022,"DC47",108,null,null,null,null,null,null,null,null,null,null,null,null,null,null,null,null,null,null,"~"]
["SA37",2022,"DC47",109,null,null,null,null,null,null,null,null,null,null,null,null,null,null,null,null,null,null,"~"]
["SA37",2022,"DC47",110,null,null,null,null,null,null,null,null,null,null,null,null,null,null,null,null,null,null,"~"]
["SA37",2022,"DC47",111,null,null,null,null,null,null,null,null,null,null,null,null,null,null,null,null,null,null,"~"]
["SA37",{"$f":"+MTREF","v":2022},{"$f":"LEFT(muni,(FIND(\" \",muni,1)-1))","v":"DC47"},112,null,null,null,null,null,null,null,null,null,null,null,null,null,null,null,null,null,null,"~"]
["SA37",2022,"DC47",113,null,null,null,null,null,null,null,null,null,null,null,null,null,null,null,null,null,null,"~"]
["SA37",2022,"DC47",114,null,null,null,null,null,null,null,null,null,null,null,null,null,null,null,null,null,null,"~"]
["SA37",2022,"DC47",115,null,null,null,null,null,null,null,null,null,null,null,null,null,null,null,null,null,null,"~"]
["SA37",2022,"DC47",116,null,null,null,null,null,null,null,null,null,null,null,null,null,null,null,null,null,null,"~"]
["SA37",2022,"DC47",117,null,null,null,null,null,null,null,null,null,null,null,null,null,null,null,null,null,null,"~"]
["SA37",2022,"DC47",118,null,null,null,null,null,null,null,null,null,null,null,null,null,null,null,null,null,null,"~"]
["SA37",2022,"DC47",119,null,null,null,null,null,null,null,null,null,null,null,null,null,null,null,null,null,null,"~"]
["SA37",2022,"DC47",120,null,null,null,null,null,null,null,null,null,null,null,null,null,null,null,null,null,null,"~"]
["SA37",2022,"DC47",121,null,null,null,null,null,null,null,null,null,null,null,null,null,null,null,null,null,null,"~"]
["SA37",2022,"DC47",122,null,null,null,null,null,null,null,null,null,null,null,null,null,null,null,null,null,null,"~"]
["SA37",2022,"DC47",123,null,null,null,null,null,null,null,null,null,null,null,null,null,null,null,null,null,null,"~"]
["SA37",2022,"DC47",124,null,null,null,null,null,null,null,null,null,null,null,null,null,null,null,null,null,null,"~"]
["SA37",2022,"DC47",125,null,null,null,null,null,null,null,null,null,null,null,null,null,null,null,null,null,null,"~"]
["SA37",2022,"DC47",126,null,null,null,null,null,null,null,null,null,null,null,null,null,null,null,null,null,null,"~"]
["SA37",2022,"DC47",127,null,null,null,null,null,null,null,null,null,null,null,null,null,null,null,null,null,null,"~"]
["SA37",2022,"DC47",128,null,null,null,null,null,null,null,null,null,null,null,null,null,null,null,null,null,null,"~"]
["SA37",2022,"DC47",129,null,null,null,null,null,null,null,null,null,null,null,null,null,null,null,null,null,null,"~"]
["SA37",2022,"DC47",130,null,null,null,null,null,null,null,null,null,null,null,null,null,null,null,null,null,null,"~"]
["SA37",2022,"DC47",131,null,null,null,null,null,null,null,null,null,null,null,null,null,null,null,null,null,null,"~"]
["SA37",2022,"DC47",132,null,null,null,null,null,null,null,null,null,null,null,null,null,null,null,null,null,null,"~"]
["SA37",2022,"DC47",133,null,null,null,null,null,null,null,null,null,null,null,null,null,null,null,null,null,null,"~"]
["SA37",2022,"DC47",134,null,null,null,null,null,null,null,null,null,null,null,null,null,null,null,null,null,null,"~"]
["SA37",2022,"DC47",135,null,null,null,null,null,null,null,null,null,null,null,null,null,null,null,null,null,null,"~"]
["SA37",2022,"DC47",136,null,null,null,null,null,null,null,null,null,null,null,null,null,null,null,null,null,null,"~"]
["SA37",2022,"DC47",137,null,null,null,null,null,null,null,null,null,null,null,null,null,null,null,null,null,null,"~"]
["SA37",2022,"DC47",138,null,null,null,null,null,null,null,null,null,null,null,null,null,null,null,null,null,null,"~"]
["SA37",2022,"DC47",139,null,null,null,null,null,null,null,null,null,null,null,null,null,null,null,null,null,null,"~"]
["SA37",2022,"DC47",140,null,null,null,null,null,null,null,null,null,null,null,null,null,null,null,null,null,null,"~"]
["SA37",2022,"DC47",141,null,null,null,null,null,null,null,null,null,null,null,null,null,null,null,null,null,null,"~"]
["SA37",2022,"DC47",142,null,null,null,null,null,null,null,null,null,null,null,null,null,null,null,null,null,null,"~"]
["SA37",2022,"DC47",143,null,null,null,null,null,null,null,null,null,null,null,null,null,null,null,null,null,null,"~"]
["SA37",2022,"DC47",144,null,null,null,null,null,null,null,null,null,null,null,null,null,null,null,null,null,null,"~"]
["SA37",2022,"DC47",145,null,null,null,null,null,null,null,null,null,null,null,null,null,null,null,null,null,null,"~"]
["SA37",2022,"DC47",146,null,null,null,null,null,null,null,null,null,null,null,null,null,null,null,null,null,null,"~"]
["SA37",2022,"DC47",147,null,null,null,null,null,null,null,null,null,null,null,null,null,null,null,null,null,null,"~"]
["SA37",2022,"DC47",148,null,null,null,null,null,null,null,null,null,null,null,null,null,null,null,null,null,null,"~"]
["SA37",2022,"DC47",149,null,null,null,null,null,null,null,null,null,null,null,null,null,null,null,null,null,null,"~"]
["SA37",2022,"DC47",150,null,null,null,null,null,null,null,null,null,null,null,null,null,null,null,null,null,null,"~"]
["SA37",2022,"DC47",151,null,null,null,null,null,null,null,null,null,null,null,null,null,null,null,null,null,null,"~"]
["SA37",2022,"DC47",152,null,null,null,null,null,null,null,null,null,null,null,null,null,null,null,null,null,null,"~"]
["SA37",2022,"DC47",153,null,null,null,null,null,null,null,null,null,null,null,null,null,null,null,null,null,null,"~"]
["SA37",2022,"DC47",154,null,null,null,null,null,null,null,null,null,null,null,null,null,null,null,null,null,null,"~"]
["SA37",2022,"DC47",155,null,null,null,null,null,null,null,null,null,null,null,null,null,null,null,null,null,null,"~"]
["SA37",2022,"DC47",156,null,null,null,null,null,null,null,null,null,null,null,null,null,null,null,null,null,null,"~"]
["SA37",2022,"DC47",157,null,null,null,null,null,null,null,null,null,null,null,null,null,null,null,null,null,null,"~"]
["SA37",2022,"DC47",158,null,null,null,null,null,null,null,null,null,null,null,null,null,null,null,null,null,null,"~"]
["SA37",2022,"DC47",159,null,null,null,null,null,null,null,null,null,null,null,null,null,null,null,null,null,null,"~"]
["SA37",2022,"DC47",160,null,null,null,null,null,null,null,null,null,null,null,null,null,null,null,null,null,null,"~"]
["SA37",2022,"DC47",161,null,null,null,null,null,null,null,null,null,null,null,null,null,null,null,null,null,null,"~"]
["SA37",2022,"DC47",162,null,null,null,null,null,null,null,null,null,null,null,null,null,null,null,null,null,null,"~"]
["SA37",2022,"DC47",163,null,null,null,null,null,null,null,null,null,null,null,null,null,null,null,null,null,null,"~"]
["SA37",2022,"DC47",164,null,null,null,null,null,null,null,null,null,null,null,null,null,null,null,null,null,null,"~"]
["SA37",2022,"DC47",165,null,null,null,null,null,null,null,null,null,null,null,null,null,null,null,null,null,null,"~"]
["SA37",2022,"DC47",166,null,null,null,null,null,null,null,null,null,null,null,null,null,null,null,null,null,null,"~"]
["SA37",2022,"DC47",167,null,null,null,null,null,null,null,null,null,null,null,null,null,null,null,null,null,null,"~"]
["SA37",2022,"DC47",168,null,null,null,null,null,null,null,null,null,null,null,null,null,null,null,null,null,null,"~"]
["SA37",2022,"DC47",169,null,null,null,null,null,null,null,null,null,null,null,null,null,null,null,null,null,null,"~"]
["SA37",2022,"DC47",170,null,null,null,null,null,null,null,null,null,null,null,null,null,null,null,null,null,null,"~"]
["SA37",2022,"DC47",171,null,null,null,null,null,null,null,null,null,null,null,null,null,null,null,null,null,null,"~"]
["SA37",2022,"DC47",172,null,null,null,null,null,null,null,null,null,null,null,null,null,null,null,null,null,null,"~"]
["SA37",2022,"DC47",173,null,null,null,null,null,null,null,null,null,null,null,null,null,null,null,null,null,null,"~"]
["SA37",2022,"DC47",174,null,null,null,null,null,null,null,null,null,null,null,null,null,null,null,null,null,null,"~"]
["SA37",2022,"DC47",175,null,null,null,null,null,null,null,null,null,null,null,null,null,null,null,null,null,null,"~"]
["SA37",{"$f":"+MTREF","v":2022},{"$f":"LEFT(muni,(FIND(\" \",muni,1)-1))","v":"DC47"},176,null,null,null,null,null,null,null,null,null,null,null,null,null,null,null,null,null,null,"~"]
["SA37",2022,"DC47",177,null,null,null,null,null,null,null,null,null,null,null,null,null,null,null,null,null,null,"~"]
["SA37",2022,"DC47",178,null,null,null,null,null,null,null,null,null,null,null,null,null,null,null,null,null,null,"~"]
["SA37",2022,"DC47",179,null,null,null,null,null,null,null,null,null,null,null,null,null,null,null,null,null,null,"~"]
["SA37",2022,"DC47",180,null,null,null,null,null,null,null,null,null,null,null,null,null,null,null,null,null,null,"~"]
["SA37",2022,"DC47",181,null,null,null,null,null,null,null,null,null,null,null,null,null,null,null,null,null,null,"~"]
["SA37",2022,"DC47",182,null,null,null,null,null,null,null,null,null,null,null,null,null,null,null,null,null,null,"~"]
["SA37",2022,"DC47",183,null,null,null,null,null,null,null,null,null,null,null,null,null,null,null,null,null,null,"~"]
["SA37",2022,"DC47",184,null,null,null,null,null,null,null,null,null,null,null,null,null,null,null,null,null,null,"~"]
["SA37",2022,"DC47",185,null,null,null,null,null,null,null,null,null,null,null,null,null,null,null,null,null,null,"~"]
["SA37",2022,"DC47",186,null,null,null,null,null,null,null,null,null,null,null,null,null,null,null,null,null,null,"~"]
["SA37",2022,"DC47",187,null,null,null,null,null,null,null,null,null,null,null,null,null,null,null,null,null,null,"~"]
["SA37",2022,"DC47",188,null,null,null,null,null,null,null,null,null,null,null,null,null,null,null,null,null,null,"~"]
["SA37",2022,"DC47",189,null,null,null,null,null,null,null,null,null,null,null,null,null,null,null,null,null,null,"~"]
["SA37",2022,"DC47",190,null,null,null,null,null,null,null,null,null,null,null,null,null,null,null,null,null,null,"~"]
["SA37",2022,"DC47",191,null,null,null,null,null,null,null,null,null,null,null,null,null,null,null,null,null,null,"~"]
["SA37",2022,"DC47",192,null,null,null,null,null,null,null,null,null,null,null,null,null,null,null,null,null,null,"~"]
["SA37",2022,"DC47",193,null,null,null,null,null,null,null,null,null,null,null,null,null,null,null,null,null,null,"~"]
["SA37",2022,"DC47",194,null,null,null,null,null,null,null,null,null,null,null,null,null,null,null,null,null,null,"~"]
["SA37",2022,"DC47",195,null,null,null,null,null,null,null,null,null,null,null,null,null,null,null,null,null,null,"~"]
["SA37",2022,"DC47",196,null,null,null,null,null,null,null,null,null,null,null,null,null,null,null,null,null,null,"~"]
["SA37",2022,"DC47",197,null,null,null,null,null,null,null,null,null,null,null,null,null,null,null,null,null,null,"~"]
["SA37",2022,"DC47",198,null,null,null,null,null,null,null,null,null,null,null,null,null,null,null,null,null,null,"~"]
["SA37",2022,"DC47",199,null,null,null,null,null,null,null,null,null,null,null,null,null,null,null,null,null,null,"~"]
["SA37",2022,"DC47",200,null,null,null,null,null,null,null,null,null,null,null,null,null,null,null,null,null,null,"~"]
["SA37",2022,"DC47",201,null,null,null,null,null,null,null,null,null,null,null,null,null,null,null,null,null,null,"~"]
["SA37",2022,"DC47",202,null,null,null,null,null,null,null,null,null,null,null,null,null,null,null,null,null,null,"~"]
["SA37",2022,"DC47",203,null,null,null,null,null,null,null,null,null,null,null,null,null,null,null,null,null,null,"~"]
["SA37",2022,"DC47",204,null,null,null,null,null,null,null,null,null,null,null,null,null,null,null,null,null,null,"~"]
["SA37",2022,"DC47",205,null,null,null,null,null,null,null,null,null,null,null,null,null,null,null,null,null,null,"~"]
["SA37",2022,"DC47",206,null,null,null,null,null,null,null,null,null,null,null,null,null,null,null,null,null,null,"~"]
["SA37",2022,"DC47",207,null,null,null,null,null,null,null,null,null,null,null,null,null,null,null,null,null,null,"~"]
["SA37",2022,"DC47",208,null,null,null,null,null,null,null,null,null,null,null,null,null,null,null,null,null,null,"~"]
["SA37",2022,"DC47",209,null,null,null,null,null,null,null,null,null,null,null,null,null,null,null,null,null,null,"~"]
["SA37",2022,"DC47",210,null,null,null,null,null,null,null,null,null,null,null,null,null,null,null,null,null,null,"~"]
["SA37",2022,"DC47",211,null,null,null,null,null,null,null,null,null,null,null,null,null,null,null,null,null,null,"~"]
["SA37",2022,"DC47",212,null,null,null,null,null,null,null,null,null,null,null,null,null,null,null,null,null,null,"~"]
["SA37",2022,"DC47",213,null,null,null,null,null,null,null,null,null,null,null,null,null,null,null,null,null,null,"~"]
["SA37",2022,"DC47",214,null,null,null,null,null,null,null,null,null,null,null,null,null,null,null,null,null,null,"~"]
["SA37",2022,"DC47",215,null,null,null,null,null,null,null,null,null,null,null,null,null,null,null,null,null,null,"~"]
["SA37",2022,"DC47",216,null,null,null,null,null,null,null,null,null,null,null,null,null,null,null,null,null,null,"~"]
["SA37",2022,"DC47",217,null,null,null,null,null,null,null,null,null,null,null,null,null,null,null,null,null,null,"~"]
["SA37",2022,"DC47",218,null,null,null,null,null,null,null,null,null,null,null,null,null,null,null,null,null,null,"~"]
["SA37",2022,"DC47",219,null,null,null,null,null,null,null,null,null,null,null,null,null,null,null,null,null,null,"~"]
["SA37",2022,"DC47",220,null,null,null,null,null,null,null,null,null,null,null,null,null,null,null,null,null,null,"~"]
["SA37",2022,"DC47",221,null,null,null,null,null,null,null,null,null,null,null,null,null,null,null,null,null,null,"~"]
["SA37",2022,"DC47",222,null,null,null,null,null,null,null,null,null,null,null,null,null,null,null,null,null,null,"~"]
["SA37",2022,"DC47",223,null,null,null,null,null,null,null,null,null,null,null,null,null,null,null,null,null,null,"~"]
["SA37",2022,"DC47",224,null,null,null,null,null,null,null,null,null,null,null,null,null,null,null,null,null,null,"~"]
["SA37",2022,"DC47",225,null,null,null,null,null,null,null,null,null,null,null,null,null,null,null,null,null,null,"~"]
["SA37",2022,"DC47",226,null,null,null,null,null,null,null,null,null,null,null,null,null,null,null,null,null,null,"~"]
["SA37",2022,"DC47",227,null,null,null,null,null,null,null,null,null,null,null,null,null,null,null,null,null,null,"~"]
["SA37",2022,"DC47",228,null,null,null,null,null,null,null,null,null,null,null,null,null,null,null,null,null,null,"~"]
["SA37",2022,"DC47",229,null,null,null,null,null,null,null,null,null,null,null,null,null,null,null,null,null,null,"~"]
["SA37",2022,"DC47",230,null,null,null,null,null,null,null,null,null,null,null,null,null,null,null,null,null,null,"~"]
["SA37",2022,"DC47",231,null,null,null,null,null,null,null,null,null,null,null,null,null,null,null,null,null,null,"~"]
["SA37",2022,"DC47",232,null,null,null,null,null,null,null,null,null,null,null,null,null,null,null,null,null,null,"~"]
["SA37",2022,"DC47",233,null,null,null,null,null,null,null,null,null,null,null,null,null,null,null,null,null,null,"~"]
["SA37",2022,"DC47",234,null,null,null,null,null,null,null,null,null,null,null,null,null,null,null,null,null,null,"~"]
["SA37",2022,"DC47",235,null,null,null,null,null,null,null,null,null,null,null,null,null,null,null,null,null,null,"~"]
["SA37",2022,"DC47",236,null,null,null,null,null,null,null,null,null,null,null,null,null,null,null,null,null,null,"~"]
["SA37",2022,"DC47",237,null,null,null,null,null,null,null,null,null,null,null,null,null,null,null,null,null,null,"~"]
["SA37",2022,"DC47",238,null,null,null,null,null,null,null,null,null,null,null,null,null,null,null,null,null,null,"~"]
["SA37",2022,"DC47",239,null,null,null,null,null,null,null,null,null,null,null,null,null,null,null,null,null,null,"~"]
["SA37",{"$f":"+MTREF","v":2022},{"$f":"LEFT(muni,(FIND(\" \",muni,1)-1))","v":"DC47"},240,null,null,null,null,null,null,null,null,null,null,null,null,null,null,null,null,null,null,"~"]
["SA37",2022,"DC47",241,null,null,null,null,null,null,null,null,null,null,null,null,null,null,null,null,null,null,"~"]
["SA37",2022,"DC47",242,null,null,null,null,null,null,null,null,null,null,null,null,null,null,null,null,null,null,"~"]
["SA37",2022,"DC47",243,null,null,null,null,null,null,null,null,null,null,null,null,null,null,null,null,null,null,"~"]
["SA37",2022,"DC47",244,null,null,null,null,null,null,null,null,null,null,null,null,null,null,null,null,null,null,"~"]
["SA37",2022,"DC47",245,null,null,null,null,null,null,null,null,null,null,null,null,null,null,null,null,null,null,"~"]
["SA37",2022,"DC47",246,null,null,null,null,null,null,null,null,null,null,null,null,null,null,null,null,null,null,"~"]
["SA37",2022,"DC47",247,null,null,null,null,null,null,null,null,null,null,null,null,null,null,null,null,null,null,"~"]
["SA37",2022,"DC47",248,null,null,null,null,null,null,null,null,null,null,null,null,null,null,null,null,null,null,"~"]
["SA37",2022,"DC47",249,null,null,null,null,null,null,null,null,null,null,null,null,null,null,null,null,null,null,"~"]
["SA37",2022,"DC47",250,null,null,null,null,null,null,null,null,null,null,null,null,null,null,null,null,null,null,"~"]
["SA37",2022,"DC47",251,null,null,null,null,null,null,null,null,null,null,null,null,null,null,null,null,null,null,"~"]
["SA37",2022,"DC47",252,null,null,null,null,null,null,null,null,null,null,null,null,null,null,null,null,null,null,"~"]
["SA37",2022,"DC47",253,null,null,null,null,null,null,null,null,null,null,null,null,null,null,null,null,null,null,"~"]
["SA37",2022,"DC47",254,null,null,null,null,null,null,null,null,null,null,null,null,null,null,null,null,null,null,"~"]
["SA37",2022,"DC47",255,null,null,null,null,null,null,null,null,null,null,null,null,null,null,null,null,null,null,"~"]
["SA37",2022,"DC47",256,null,null,null,null,null,null,null,null,null,null,null,null,null,null,null,null,null,null,"~"]
["SA37",2022,"DC47",257,null,null,null,null,null,null,null,null,null,null,null,null,null,null,null,null,null,null,"~"]
["SA37",2022,"DC47",258,null,null,null,null,null,null,null,null,null,null,null,null,null,null,null,null,null,null,"~"]
["SA37",2022,"DC47",259,null,null,null,null,null,null,null,null,null,null,null,null,null,null,null,null,null,null,"~"]
["SA37",2022,"DC47",260,null,null,null,null,null,null,null,null,null,null,null,null,null,null,null,null,null,null,"~"]
["SA37",2022,"DC47",261,null,null,null,null,null,null,null,null,null,null,null,null,null,null,null,null,null,null,"~"]
["SA37",2022,"DC47",262,null,null,null,null,null,null,null,null,null,null,null,null,null,null,null,null,null,null,"~"]
["SA37",2022,"DC47",263,null,null,null,null,null,null,null,null,null,null,null,null,null,null,null,null,null,null,"~"]
["SA37",2022,"DC47",264,null,null,null,null,null,null,null,null,null,null,null,null,null,null,null,null,null,null,"~"]
["SA37",2022,"DC47",265,null,null,null,null,null,null,null,null,null,null,null,null,null,null,null,null,null,null,"~"]
["SA37",2022,"DC47",266,null,null,null,null,null,null,null,null,null,null,null,null,null,null,null,null,null,null,"~"]
["SA37",2022,"DC47",267,null,null,null,null,null,null,null,null,null,null,null,null,null,null,null,null,null,null,"~"]
["SA37",2022,"DC47",268,null,null,null,null,null,null,null,null,null,null,null,null,null,null,null,null,null,null,"~"]
["SA37",2022,"DC47",269,null,null,null,null,null,null,null,null,null,null,null,null,null,null,null,null,null,null,"~"]
["SA37",2022,"DC47",270,null,null,null,null,null,null,null,null,null,null,null,null,null,null,null,null,null,null,"~"]
["SA37",2022,"DC47",271,null,null,null,null,null,null,null,null,null,null,null,null,null,null,null,null,null,null,"~"]
["SA37",2022,"DC47",272,null,null,null,null,null,null,null,null,null,null,null,null,null,null,null,null,null,null,"~"]
["SA37",2022,"DC47",273,null,null,null,null,null,null,null,null,null,null,null,null,null,null,null,null,null,null,"~"]
["SA37",2022,"DC47",274,null,null,null,null,null,null,null,null,null,null,null,null,null,null,null,null,null,null,"~"]
["SA37",2022,"DC47",275,null,null,null,null,null,null,null,null,null,null,null,null,null,null,null,null,null,null,"~"]
["SA37",2022,"DC47",276,null,null,null,null,null,null,null,null,null,null,null,null,null,null,null,null,null,null,"~"]
["SA37",2022,"DC47",277,null,null,null,null,null,null,null,null,null,null,null,null,null,null,null,null,null,null,"~"]
["SA37",2022,"DC47",278,null,null,null,null,null,null,null,null,null,null,null,null,null,null,null,null,null,null,"~"]
["SA37",2022,"DC47",279,null,null,null,null,null,null,null,null,null,null,null,null,null,null,null,null,null,null,"~"]
["SA37",2022,"DC47",280,null,null,null,null,null,null,null,null,null,null,null,null,null,null,null,null,null,null,"~"]
["SA37",2022,"DC47",281,null,null,null,null,null,null,null,null,null,null,null,null,null,null,null,null,null,null,"~"]
["SA37",2022,"DC47",282,null,null,null,null,null,null,null,null,null,null,null,null,null,null,null,null,null,null,"~"]
["SA37",2022,"DC47",283,null,null,null,null,null,null,null,null,null,null,null,null,null,null,null,null,null,null,"~"]
["SA37",2022,"DC47",284,null,null,null,null,null,null,null,null,null,null,null,null,null,null,null,null,null,null,"~"]
["SA37",2022,"DC47",285,null,null,null,null,null,null,null,null,null,null,null,null,null,null,null,null,null,null,"~"]
["SA37",2022,"DC47",286,null,null,null,null,null,null,null,null,null,null,null,null,null,null,null,null,null,null,"~"]
["SA37",2022,"DC47",287,null,null,null,null,null,null,null,null,null,null,null,null,null,null,null,null,null,null,"~"]
["SA37",2022,"DC47",288,null,null,null,null,null,null,null,null,null,null,null,null,null,null,null,null,null,null,"~"]
["SA37",2022,"DC47",289,null,null,null,null,null,null,null,null,null,null,null,null,null,null,null,null,null,null,"~"]
["SA37",2022,"DC47",290,null,null,null,null,null,null,null,null,null,null,null,null,null,null,null,null,null,null,"~"]
["SA37",2022,"DC47",291,null,null,null,null,null,null,null,null,null,null,null,null,null,null,null,null,null,null,"~"]
["SA37",2022,"DC47",292,null,null,null,null,null,null,null,null,null,null,null,null,null,null,null,null,null,null,"~"]
["SA37",2022,"DC47",293,null,null,null,null,null,null,null,null,null,null,null,null,null,null,null,null,null,null,"~"]
["SA37",2022,"DC47",294,null,null,null,null,null,null,null,null,null,null,null,null,null,null,null,null,null,null,"~"]
["SA37",2022,"DC47",295,null,null,null,null,null,null,null,null,null,null,null,null,null,null,null,null,null,null,"~"]
["SA37",2022,"DC47",296,null,null,null,null,null,null,null,null,null,null,null,null,null,null,null,null,null,null,"~"]
["SA37",2022,"DC47",297,null,null,null,null,null,null,null,null,null,null,null,null,null,null,null,null,null,null,"~"]
["SA37",2022,"DC47",298,null,null,null,null,null,null,null,null,null,null,null,null,null,null,null,null,null,null,"~"]
["SA37",2022,"DC47",299,null,null,null,null,null,null,null,null,null,null,null,null,null,null,null,null,null,null,"~"]
["SA37",2022,"DC47",300,null,null,null,null,null,null,null,null,null,null,null,null,null,null,null,null,null,null,"~"]
["SA37",2022,"DC47",301,null,null,null,null,null,null,null,null,null,null,null,null,null,null,null,null,null,null,"~"]
["SA37",2022,"DC47",302,null,null,null,null,null,null,null,null,null,null,null,null,null,null,null,null,null,null,"~"]
["SA37",2022,"DC47",303,null,null,null,null,null,null,null,null,null,null,null,null,null,null,null,null,null,null,"~"]
["SA37",{"$f":"+MTREF","v":2022},{"$f":"LEFT(muni,(FIND(\" \",muni,1)-1))","v":"DC47"},304,null,null,null,null,null,null,null,null,null,null,null,null,null,null,null,null,null,null,"~"]
["SA37",2022,"DC47",305,null,null,null,null,null,null,null,null,null,null,null,null,null,null,null,null,null,null,"~"]
["SA37",2022,"DC47",306,null,null,null,null,null,null,null,null,null,null,null,null,null,null,null,null,null,null,"~"]
["SA37",2022,"DC47",307,null,null,null,null,null,null,null,null,null,null,null,null,null,null,null,null,null,null,"~"]
["SA37",2022,"DC47",308,null,null,null,null,null,null,null,null,null,null,null,null,null,null,null,null,null,null,"~"]
["SA37",2022,"DC47",309,null,null,null,null,null,null,null,null,null,null,null,null,null,null,null,null,null,null,"~"]
["SA37",2022,"DC47",310,null,null,null,null,null,null,null,null,null,null,null,null,null,null,null,null,null,null,"~"]
["SA37",2022,"DC47",311,null,null,null,null,null,null,null,null,null,null,null,null,null,null,null,null,null,null,"~"]
["SA37",2022,"DC47",312,null,null,null,null,null,null,null,null,null,null,null,null,null,null,null,null,null,null,"~"]
["SA37",2022,"DC47",313,null,null,null,null,null,null,null,null,null,null,null,null,null,null,null,null,null,null,"~"]
["SA37",2022,"DC47",314,null,null,null,null,null,null,null,null,null,null,null,null,null,null,null,null,null,null,"~"]
["SA37",2022,"DC47",315,null,null,null,null,null,null,null,null,null,null,null,null,null,null,null,null,null,null,"~"]
["SA37",2022,"DC47",316,null,null,null,null,null,null,null,null,null,null,null,null,null,null,null,null,null,null,"~"]
["SA37",2022,"DC47",317,null,null,null,null,null,null,null,null,null,null,null,null,null,null,null,null,null,null,"~"]
["SA37",2022,"DC47",318,null,null,null,null,null,null,null,null,null,null,null,null,null,null,null,null,null,null,"~"]
["SA37",2022,"DC47",319,null,null,null,null,null,null,null,null,null,null,null,null,null,null,null,null,null,null,"~"]
["SA37",2022,"DC47",320,null,null,null,null,null,null,null,null,null,null,null,null,null,null,null,null,null,null,"~"]
["SA37",2022,"DC47",321,null,null,null,null,null,null,null,null,null,null,null,null,null,null,null,null,null,null,"~"]
["SA37",2022,"DC47",322,null,null,null,null,null,null,null,null,null,null,null,null,null,null,null,null,null,null,"~"]
["SA37",2022,"DC47",323,null,null,null,null,null,null,null,null,null,null,null,null,null,null,null,null,null,null,"~"]
["SA37",2022,"DC47",324,null,null,null,null,null,null,null,null,null,null,null,null,null,null,null,null,null,null,"~"]
["SA37",2022,"DC47",325,null,null,null,null,null,null,null,null,null,null,null,null,null,null,null,null,null,null,"~"]
["SA37",2022,"DC47",326,null,null,null,null,null,null,null,null,null,null,null,null,null,null,null,null,null,null,"~"]
["SA37",2022,"DC47",327,null,null,null,null,null,null,null,null,null,null,null,null,null,null,null,null,null,null,"~"]
["SA37",2022,"DC47",328,null,null,null,null,null,null,null,null,null,null,null,null,null,null,null,null,null,null,"~"]
["SA37",2022,"DC47",329,null,null,null,null,null,null,null,null,null,null,null,null,null,null,null,null,null,null,"~"]
["SA37",2022,"DC47",330,null,null,null,null,null,null,null,null,null,null,null,null,null,null,null,null,null,null,"~"]
["SA37",2022,"DC47",331,null,null,null,null,null,null,null,null,null,null,null,null,null,null,null,null,null,null,"~"]
["SA37",2022,"DC47",332,null,null,null,null,null,null,null,null,null,null,null,null,null,null,null,null,null,null,"~"]
["SA37",2022,"DC47",333,null,null,null,null,null,null,null,null,null,null,null,null,null,null,null,null,null,null,"~"]
["SA37",2022,"DC47",334,null,null,null,null,null,null,null,null,null,null,null,null,null,null,null,null,null,null,"~"]
["SA37",2022,"DC47",335,null,null,null,null,null,null,null,null,null,null,null,null,null,null,null,null,null,null,"~"]
["SA37",2022,"DC47",336,null,null,null,null,null,null,null,null,null,null,null,null,null,null,null,null,null,null,"~"]
["SA37",2022,"DC47",337,null,null,null,null,null,null,null,null,null,null,null,null,null,null,null,null,null,null,"~"]
["SA37",2022,"DC47",338,null,null,null,null,null,null,null,null,null,null,null,null,null,null,null,null,null,null,"~"]
["SA37",2022,"DC47",339,null,null,null,null,null,null,null,null,null,null,null,null,null,null,null,null,null,null,"~"]
["SA37",2022,"DC47",340,null,null,null,null,null,null,null,null,null,null,null,null,null,null,null,null,null,null,"~"]
["SA37",2022,"DC47",341,null,null,null,null,null,null,null,null,null,null,null,null,null,null,null,null,null,null,"~"]
["SA37",2022,"DC47",342,null,null,null,null,null,null,null,null,null,null,null,null,null,null,null,null,null,null,"~"]
["SA37",2022,"DC47",343,null,null,null,null,null,null,null,null,null,null,null,null,null,null,null,null,null,null,"~"]
["SA37",2022,"DC47",344,null,null,null,null,null,null,null,null,null,null,null,null,null,null,null,null,null,null,"~"]
["SA37",2022,"DC47",345,null,null,null,null,null,null,null,null,null,null,null,null,null,null,null,null,null,null,"~"]
["SA37",2022,"DC47",346,null,null,null,null,null,null,null,null,null,null,null,null,null,null,null,null,null,null,"~"]
["SA37",2022,"DC47",347,null,null,null,null,null,null,null,null,null,null,null,null,null,null,null,null,null,null,"~"]
["SA37",2022,"DC47",348,null,null,null,null,null,null,null,null,null,null,null,null,null,null,null,null,null,null,"~"]
["SA37",2022,"DC47",349,null,null,null,null,null,null,null,null,null,null,null,null,null,null,null,null,null,null,"~"]
["SA37",2022,"DC47",350,null,null,null,null,null,null,null,null,null,null,null,null,null,null,null,null,null,null,"~"]
["SA37",2022,"DC47",351,null,null,null,null,null,null,null,null,null,null,null,null,null,null,null,null,null,null,"~"]
["SA37",2022,"DC47",352,null,null,null,null,null,null,null,null,null,null,null,null,null,null,null,null,null,null,"~"]
["SA37",2022,"DC47",353,null,null,null,null,null,null,null,null,null,null,null,null,null,null,null,null,null,null,"~"]
["SA37",2022,"DC47",354,null,null,null,null,null,null,null,null,null,null,null,null,null,null,null,null,null,null,"~"]
["SA37",2022,"DC47",355,null,null,null,null,null,null,null,null,null,null,null,null,null,null,null,null,null,null,"~"]
["SA37",2022,"DC47",356,null,null,null,null,null,null,null,null,null,null,null,null,null,null,null,null,null,null,"~"]
["SA37",2022,"DC47",357,null,null,null,null,null,null,null,null,null,null,null,null,null,null,null,null,null,null,"~"]
["SA37",2022,"DC47",358,null,null,null,null,null,null,null,null,null,null,null,null,null,null,null,null,null,null,"~"]
["SA37",2022,"DC47",359,null,null,null,null,null,null,null,null,null,null,null,null,null,null,null,null,null,null,"~"]
["SA37",2022,"DC47",360,null,null,null,null,null,null,null,null,null,null,null,null,null,null,null,null,null,null,"~"]
["SA37",2022,"DC47",361,null,null,null,null,null,null,null,null,null,null,null,null,null,null,null,null,null,null,"~"]
["SA37",2022,"DC47",362,null,null,null,null,null,null,null,null,null,null,null,null,null,null,null,null,null,null,"~"]
["SA37",2022,"DC47",363,null,null,null,null,null,null,null,null,null,null,null,null,null,null,null,null,null,null,"~"]
["SA37",2022,"DC47",364,null,null,null,null,null,null,null,null,null,null,null,null,null,null,null,null,null,null,"~"]
["SA37",2022,"DC47",365,null,null,null,null,null,null,null,null,null,null,null,null,null,null,null,null,null,null,"~"]
["SA37",2022,"DC47",366,null,null,null,null,null,null,null,null,null,null,null,null,null,null,null,null,null,null,"~"]
["SA37",2022,"DC47",367,null,null,null,null,null,null,null,null,null,null,null,null,null,null,null,null,null,null,"~"]
["SA37",{"$f":"+MTREF","v":2022},{"$f":"LEFT(muni,(FIND(\" \",muni,1)-1))","v":"DC47"},368,null,null,null,null,null,null,null,null,null,null,null,null,null,null,null,null,null,null,"~"]
["SA37",2022,"DC47",369,null,null,null,null,null,null,null,null,null,null,null,null,null,null,null,null,null,null,"~"]
["SA37",2022,"DC47",370,null,null,null,null,null,null,null,null,null,null,null,null,null,null,null,null,null,null,"~"]
["SA37",2022,"DC47",371,null,null,null,null,null,null,null,null,null,null,null,null,null,null,null,null,null,null,"~"]
["SA37",2022,"DC47",372,null,null,null,null,null,null,null,null,null,null,null,null,null,null,null,null,null,null,"~"]
["SA37",2022,"DC47",373,null,null,null,null,null,null,null,null,null,null,null,null,null,null,null,null,null,null,"~"]
["SA37",2022,"DC47",374,null,null,null,null,null,null,null,null,null,null,null,null,null,null,null,null,null,null,"~"]
["SA37",2022,"DC47",375,null,null,null,null,null,null,null,null,null,null,null,null,null,null,null,null,null,null,"~"]
["SA37",2022,"DC47",376,null,null,null,null,null,null,null,null,null,null,null,null,null,null,null,null,null,null,"~"]
["SA37",2022,"DC47",377,null,null,null,null,null,null,null,null,null,null,null,null,null,null,null,null,null,null,"~"]
["SA37",2022,"DC47",378,null,null,null,null,null,null,null,null,null,null,null,null,null,null,null,null,null,null,"~"]
["SA37",2022,"DC47",379,null,null,null,null,null,null,null,null,null,null,null,null,null,null,null,null,null,null,"~"]
["SA37",2022,"DC47",380,null,null,null,null,null,null,null,null,null,null,null,null,null,null,null,null,null,null,"~"]
["SA37",2022,"DC47",381,null,null,null,null,null,null,null,null,null,null,null,null,null,null,null,null,null,null,"~"]
["SA37",2022,"DC47",382,null,null,null,null,null,null,null,null,null,null,null,null,null,null,null,null,null,null,"~"]
["SA37",2022,"DC47",383,null,null,null,null,null,null,null,null,null,null,null,null,null,null,null,null,null,null,"~"]
["SA37",2022,"DC47",384,null,null,null,null,null,null,null,null,null,null,null,null,null,null,null,null,null,null,"~"]
["SA37",2022,"DC47",385,null,null,null,null,null,null,null,null,null,null,null,null,null,null,null,null,null,null,"~"]
["SA37",2022,"DC47",386,null,null,null,null,null,null,null,null,null,null,null,null,null,null,null,null,null,null,"~"]
["SA37",2022,"DC47",387,null,null,null,null,null,null,null,null,null,null,null,null,null,null,null,null,null,null,"~"]
["SA37",2022,"DC47",388,null,null,null,null,null,null,null,null,null,null,null,null,null,null,null,null,null,null,"~"]
["SA37",2022,"DC47",389,null,null,null,null,null,null,null,null,null,null,null,null,null,null,null,null,null,null,"~"]
["SA37",2022,"DC47",390,null,null,null,null,null,null,null,null,null,null,null,null,null,null,null,null,null,null,"~"]
["SA37",2022,"DC47",391,null,null,null,null,null,null,null,null,null,null,null,null,null,null,null,null,null,null,"~"]
["SA37",2022,"DC47",392,null,null,null,null,null,null,null,null,null,null,null,null,null,null,null,null,null,null,"~"]
["SA37",2022,"DC47",393,null,null,null,null,null,null,null,null,null,null,null,null,null,null,null,null,null,null,"~"]
["SA37",2022,"DC47",394,null,null,null,null,null,null,null,null,null,null,null,null,null,null,null,null,null,null,"~"]
["SA37",2022,"DC47",395,null,null,null,null,null,null,null,null,null,null,null,null,null,null,null,null,null,null,"~"]
["SA37",2022,"DC47",396,null,null,null,null,null,null,null,null,null,null,null,null,null,null,null,null,null,null,"~"]
["SA37",2022,"DC47",397,null,null,null,null,null,null,null,null,null,null,null,null,null,null,null,null,null,null,"~"]
["SA37",2022,"DC47",398,null,null,null,null,null,null,null,null,null,null,null,null,null,null,null,null,null,null,"~"]
["SA37",2022,"DC47",399,null,null,null,null,null,null,null,null,null,null,null,null,null,null,null,null,null,null,"~"]
["SA37",2022,"DC47",400,null,null,null,null,null,null,null,null,null,null,null,null,null,null,null,null,null,null,"~"]
["SA37",2022,"DC47",401,null,null,null,null,null,null,null,null,null,null,null,null,null,null,null,null,null,null,"~"]
["SA37",2022,"DC47",402,null,null,null,null,null,null,null,null,null,null,null,null,null,null,null,null,null,null,"~"]
["SA37",2022,"DC47",403,null,null,null,null,null,null,null,null,null,null,null,null,null,null,null,null,null,null,"~"]
["SA37",2022,"DC47",404,null,null,null,null,null,null,null,null,null,null,null,null,null,null,null,null,null,null,"~"]
["SA37",2022,"DC47",405,null,null,null,null,null,null,null,null,null,null,null,null,null,null,null,null,null,null,"~"]
["SA37",2022,"DC47",406,null,null,null,null,null,null,null,null,null,null,null,null,null,null,null,null,null,null,"~"]
["SA37",2022,"DC47",407,null,null,null,null,null,null,null,null,null,null,null,null,null,null,null,null,null,null,"~"]
["SA37",2022,"DC47",408,null,null,null,null,null,null,null,null,null,null,null,null,null,null,null,null,null,null,"~"]
["SA37",2022,"DC47",409,null,null,null,null,null,null,null,null,null,null,null,null,null,null,null,null,null,null,"~"]
["SA37",2022,"DC47",410,null,null,null,null,null,null,null,null,null,null,null,null,null,null,null,null,null,null,"~"]
["SA37",2022,"DC47",411,null,null,null,null,null,null,null,null,null,null,null,null,null,null,null,null,null,null,"~"]
["SA37",2022,"DC47",412,null,null,null,null,null,null,null,null,null,null,null,null,null,null,null,null,null,null,"~"]
["SA37",2022,"DC47",413,null,null,null,null,null,null,null,null,null,null,null,null,null,null,null,null,null,null,"~"]
["SA37",2022,"DC47",414,null,null,null,null,null,null,null,null,null,null,null,null,null,null,null,null,null,null,"~"]
["SA37",2022,"DC47",415,null,null,null,null,null,null,null,null,null,null,null,null,null,null,null,null,null,null,"~"]
["SA37",2022,"DC47",416,null,null,null,null,null,null,null,null,null,null,null,null,null,null,null,null,null,null,"~"]
["SA37",2022,"DC47",417,null,null,null,null,null,null,null,null,null,null,null,null,null,null,null,null,null,null,"~"]
["SA37",2022,"DC47",418,null,null,null,null,null,null,null,null,null,null,null,null,null,null,null,null,null,null,"~"]
["SA37",2022,"DC47",419,null,null,null,null,null,null,null,null,null,null,null,null,null,null,null,null,null,null,"~"]
["SA37",2022,"DC47",420,null,null,null,null,null,null,null,null,null,null,null,null,null,null,null,null,null,null,"~"]
["SA37",2022,"DC47",421,null,null,null,null,null,null,null,null,null,null,null,null,null,null,null,null,null,null,"~"]
["SA37",2022,"DC47",422,null,null,null,null,null,null,null,null,null,null,null,null,null,null,null,null,null,null,"~"]
["SA37",2022,"DC47",423,null,null,null,null,null,null,null,null,null,null,null,null,null,null,null,null,null,null,"~"]
["SA37",2022,"DC47",424,null,null,null,null,null,null,null,null,null,null,null,null,null,null,null,null,null,null,"~"]
["SA37",2022,"DC47",425,null,null,null,null,null,null,null,null,null,null,null,null,null,null,null,null,null,null,"~"]
["SA37",2022,"DC47",426,null,null,null,null,null,null,null,null,null,null,null,null,null,null,null,null,null,null,"~"]
["SA37",2022,"DC47",427,null,null,null,null,null,null,null,null,null,null,null,null,null,null,null,null,null,null,"~"]
["SA37",2022,"DC47",428,null,null,null,null,null,null,null,null,null,null,null,null,null,null,null,null,null,null,"~"]
["SA37",2022,"DC47",429,null,null,null,null,null,null,null,null,null,null,null,null,null,null,null,null,null,null,"~"]
["SA37",2022,"DC47",430,null,null,null,null,null,null,null,null,null,null,null,null,null,null,null,null,null,null,"~"]
["SA37",2022,"DC47",431,null,null,null,null,null,null,null,null,null,null,null,null,null,null,null,null,null,null,"~"]
["SA37",{"$f":"+MTREF","v":2022},{"$f":"LEFT(muni,(FIND(\" \",muni,1)-1))","v":"DC47"},432,null,null,null,null,null,null,null,null,null,null,null,null,null,null,null,null,null,null,"~"]
["SA37",2022,"DC47",433,null,null,null,null,null,null,null,null,null,null,null,null,null,null,null,null,null,null,"~"]
["SA37",2022,"DC47",434,null,null,null,null,null,null,null,null,null,null,null,null,null,null,null,null,null,null,"~"]
["SA37",2022,"DC47",435,null,null,null,null,null,null,null,null,null,null,null,null,null,null,null,null,null,null,"~"]
["SA37",2022,"DC47",436,null,null,null,null,null,null,null,null,null,null,null,null,null,null,null,null,null,null,"~"]
["SA37",2022,"DC47",437,null,null,null,null,null,null,null,null,null,null,null,null,null,null,null,null,null,null,"~"]
["SA37",2022,"DC47",438,null,null,null,null,null,null,null,null,null,null,null,null,null,null,null,null,null,null,"~"]
["SA37",2022,"DC47",439,null,null,null,null,null,null,null,null,null,null,null,null,null,null,null,null,null,null,"~"]
["SA37",2022,"DC47",440,null,null,null,null,null,null,null,null,null,null,null,null,null,null,null,null,null,null,"~"]
["SA37",2022,"DC47",441,null,null,null,null,null,null,null,null,null,null,null,null,null,null,null,null,null,null,"~"]
["SA37",2022,"DC47",442,null,null,null,null,null,null,null,null,null,null,null,null,null,null,null,null,null,null,"~"]
["SA37",2022,"DC47",443,null,null,null,null,null,null,null,null,null,null,null,null,null,null,null,null,null,null,"~"]
["SA37",2022,"DC47",444,null,null,null,null,null,null,null,null,null,null,null,null,null,null,null,null,null,null,"~"]
["SA37",2022,"DC47",445,null,null,null,null,null,null,null,null,null,null,null,null,null,null,null,null,null,null,"~"]
["SA37",2022,"DC47",446,null,null,null,null,null,null,null,null,null,null,null,null,null,null,null,null,null,null,"~"]
["SA37",2022,"DC47",447,null,null,null,null,null,null,null,null,null,null,null,null,null,null,null,null,null,null,"~"]
["SA37",2022,"DC47",448,null,null,null,null,null,null,null,null,null,null,null,null,null,null,null,null,null,null,"~"]
["SA37",2022,"DC47",449,null,null,null,null,null,null,null,null,null,null,null,null,null,null,null,null,null,null,"~"]
["SA37",2022,"DC47",450,null,null,null,null,null,null,null,null,null,null,null,null,null,null,null,null,null,null,"~"]
["SA37",2022,"DC47",451,null,null,null,null,null,null,null,null,null,null,null,null,null,null,null,null,null,null,"~"]
["SA37",2022,"DC47",452,null,null,null,null,null,null,null,null,null,null,null,null,null,null,null,null,null,null,"~"]
["SA37",2022,"DC47",453,null,null,null,null,null,null,null,null,null,null,null,null,null,null,null,null,null,null,"~"]
["SA37",2022,"DC47",454,null,null,null,null,null,null,null,null,null,null,null,null,null,null,null,null,null,null,"~"]
["SA37",2022,"DC47",455,null,null,null,null,null,null,null,null,null,null,null,null,null,null,null,null,null,null,"~"]
["SA37",2022,"DC47",456,null,null,null,null,null,null,null,null,null,null,null,null,null,null,null,null,null,null,"~"]
["SA37",2022,"DC47",457,null,null,null,null,null,null,null,null,null,null,null,null,null,null,null,null,null,null,"~"]
["SA37",2022,"DC47",458,null,null,null,null,null,null,null,null,null,null,null,null,null,null,null,null,null,null,"~"]
["SA37",2022,"DC47",459,null,null,null,null,null,null,null,null,null,null,null,null,null,null,null,null,null,null,"~"]
["SA37",2022,"DC47",460,null,null,null,null,null,null,null,null,null,null,null,null,null,null,null,null,null,null,"~"]
["SA37",2022,"DC47",461,null,null,null,null,null,null,null,null,null,null,null,null,null,null,null,null,null,null,"~"]
["SA37",2022,"DC47",462,null,null,null,null,null,null,null,null,null,null,null,null,null,null,null,null,null,null,"~"]
["SA37",2022,"DC47",463,null,null,null,null,null,null,null,null,null,null,null,null,null,null,null,null,null,null,"~"]
["SA37",2022,"DC47",464,null,null,null,null,null,null,null,null,null,null,null,null,null,null,null,null,null,null,"~"]
["SA37",2022,"DC47",465,null,null,null,null,null,null,null,null,null,null,null,null,null,null,null,null,null,null,"~"]
["SA37",2022,"DC47",466,null,null,null,null,null,null,null,null,null,null,null,null,null,null,null,null,null,null,"~"]
["SA37",2022,"DC47",467,null,null,null,null,null,null,null,null,null,null,null,null,null,null,null,null,null,null,"~"]
["SA37",2022,"DC47",468,null,null,null,null,null,null,null,null,null,null,null,null,null,null,null,null,null,null,"~"]
["SA37",2022,"DC47",469,null,null,null,null,null,null,null,null,null,null,null,null,null,null,null,null,null,null,"~"]
["SA37",2022,"DC47",470,null,null,null,null,null,null,null,null,null,null,null,null,null,null,null,null,null,null,"~"]
["SA37",2022,"DC47",471,null,null,null,null,null,null,null,null,null,null,null,null,null,null,null,null,null,null,"~"]
["SA37",2022,"DC47",472,null,null,null,null,null,null,null,null,null,null,null,null,null,null,null,null,null,null,"~"]
["SA37",2022,"DC47",473,null,null,null,null,null,null,null,null,null,null,null,null,null,null,null,null,null,null,"~"]
["SA37",2022,"DC47",474,null,null,null,null,null,null,null,null,null,null,null,null,null,null,null,null,null,null,"~"]
["SA37",2022,"DC47",475,null,null,null,null,null,null,null,null,null,null,null,null,null,null,null,null,null,null,"~"]
["SA37",2022,"DC47",476,null,null,null,null,null,null,null,null,null,null,null,null,null,null,null,null,null,null,"~"]
["SA37",2022,"DC47",477,null,null,null,null,null,null,null,null,null,null,null,null,null,null,null,null,null,null,"~"]
["SA37",2022,"DC47",478,null,null,null,null,null,null,null,null,null,null,null,null,null,null,null,null,null,null,"~"]
["SA37",2022,"DC47",479,null,null,null,null,null,null,null,null,null,null,null,null,null,null,null,null,null,null,"~"]
["SA37",2022,"DC47",480,null,null,null,null,null,null,null,null,null,null,null,null,null,null,null,null,null,null,"~"]
["SA37",2022,"DC47",481,null,null,null,null,null,null,null,null,null,null,null,null,null,null,null,null,null,null,"~"]
["SA37",2022,"DC47",482,null,null,null,null,null,null,null,null,null,null,null,null,null,null,null,null,null,null,"~"]
["SA37",2022,"DC47",483,null,null,null,null,null,null,null,null,null,null,null,null,null,null,null,null,null,null,"~"]
["SA37",2022,"DC47",484,null,null,null,null,null,null,null,null,null,null,null,null,null,null,null,null,null,null,"~"]
["SA37",2022,"DC47",485,null,null,null,null,null,null,null,null,null,null,null,null,null,null,null,null,null,null,"~"]
["SA37",2022,"DC47",486,null,null,null,null,null,null,null,null,null,null,null,null,null,null,null,null,null,null,"~"]
["SA37",2022,"DC47",487,null,null,null,null,null,null,null,null,null,null,null,null,null,null,null,null,null,null,"~"]
["SA37",2022,"DC47",488,null,null,null,null,null,null,null,null,null,null,null,null,null,null,null,null,null,null,"~"]
["SA37",2022,"DC47",489,null,null,null,null,null,null,null,null,null,null,null,null,null,null,null,null,null,null,"~"]
["SA37",2022,"DC47",490,null,null,null,null,null,null,null,null,null,null,null,null,null,null,null,null,null,null,"~"]
["SA37",2022,"DC47",491,null,null,null,null,null,null,null,null,null,null,null,null,null,null,null,null,null,null,"~"]
["SA37",2022,"DC47",492,null,null,null,null,null,null,null,null,null,null,null,null,null,null,null,null,null,null,"~"]
["SA37",2022,"DC47",493,null,null,null,null,null,null,null,null,null,null,null,null,null,null,null,null,null,null,"~"]
["SA37",2022,"DC47",494,null,null,null,null,null,null,null,null,null,null,null,null,null,null,null,null,null,null,"~"]
["SA37",2022,"DC47",495,null,null,null,null,null,null,null,null,null,null,null,null,null,null,null,null,null,null,"~"]
["SA37",{"$f":"+MTREF","v":2022},{"$f":"LEFT(muni,(FIND(\" \",muni,1)-1))","v":"DC47"},496,null,null,null,null,null,null,null,null,null,null,null,null,null,null,null,null,null,null,"~"]
["SA37",2022,"DC47",497,null,null,null,null,null,null,null,null,null,null,null,null,null,null,null,null,null,null,"~"]
["SA37",2022,"DC47",498,null,null,null,null,null,null,null,null,null,null,null,null,null,null,null,null,null,null,"~"]
["SA37",2022,"DC47",499,null,null,null,null,null,null,null,null,null,null,null,null,null,null,null,null,null,null,"~"]
["SA37",2022,"DC47",500,null,null,null,null,null,null,null,null,null,null,null,null,null,null,null,null,null,null,"~"]
["SA37",2022,"DC47",501,null,null,null,null,null,null,null,null,null,null,null,null,null,null,null,null,null,null,"~"]
["SA37",2022,"DC47",502,null,null,null,null,null,null,null,null,null,null,null,null,null,null,null,null,null,null,"~"]
["SA37",2022,"DC47",503,null,null,null,null,null,null,null,null,null,null,null,null,null,null,null,null,null,null,"~"]
["SA37",2022,"DC47",504,null,null,null,null,null,null,null,null,null,null,null,null,null,null,null,null,null,null,"~"]
["SA37",2022,"DC47",505,null,null,null,null,null,null,null,null,null,null,null,null,null,null,null,null,null,null,"~"]
["SA37",2022,"DC47",506,null,null,null,null,null,null,null,null,null,null,null,null,null,null,null,null,null,null,"~"]
["SA37",2022,"DC47",507,null,null,null,null,null,null,null,null,null,null,null,null,null,null,null,null,null,null,"~"]
["SA37",2022,"DC47",508,null,null,null,null,null,null,null,null,null,null,null,null,null,null,null,null,null,null,"~"]
["SA37",2022,"DC47",509,null,null,null,null,null,null,null,null,null,null,null,null,null,null,null,null,null,null,"~"]
["SA37",2022,"DC47",510,null,null,null,null,null,null,null,null,null,null,null,null,null,null,null,null,null,null,"~"]
["SA37",2022,"DC47",511,null,null,null,null,null,null,null,null,null,null,null,null,null,null,null,null,null,null,"~"]
["SA37",2022,"DC47",512,null,null,null,null,null,null,null,null,null,null,null,null,null,null,null,null,null,null,"~"]
["SA37",2022,"DC47",513,null,null,null,null,null,null,null,null,null,null,null,null,null,null,null,null,null,null,"~"]
["SA37",2022,"DC47",514,null,null,null,null,null,null,null,null,null,null,null,null,null,null,null,null,null,null,"~"]
["SA37",2022,"DC47",515,null,null,null,null,null,null,null,null,null,null,null,null,null,null,null,null,null,null,"~"]
["SA37",2022,"DC47",516,null,null,null,null,null,null,null,null,null,null,null,null,null,null,null,null,null,null,"~"]
["SA37",2022,"DC47",517,null,null,null,null,null,null,null,null,null,null,null,null,null,null,null,null,null,null,"~"]
["SA37",2022,"DC47",518,null,null,null,null,null,null,null,null,null,null,null,null,null,null,null,null,null,null,"~"]
["SA37",2022,"DC47",519,null,null,null,null,null,null,null,null,null,null,null,null,null,null,null,null,null,null,"~"]
["SA37",2022,"DC47",520,null,null,null,null,null,null,null,null,null,null,null,null,null,null,null,null,null,null,"~"]
["SA37",2022,"DC47",521,null,null,null,null,null,null,null,null,null,null,null,null,null,null,null,null,null,null,"~"]
["SA37",2022,"DC47",522,null,null,null,null,null,null,null,null,null,null,null,null,null,null,null,null,null,null,"~"]
["SA37",2022,"DC47",523,null,null,null,null,null,null,null,null,null,null,null,null,null,null,null,null,null,null,"~"]
["SA37",2022,"DC47",524,null,null,null,null,null,null,null,null,null,null,null,null,null,null,null,null,null,null,"~"]
["SA37",2022,"DC47",525,null,null,null,null,null,null,null,null,null,null,null,null,null,null,null,null,null,null,"~"]
["SA37",2022,"DC47",526,null,null,null,null,null,null,null,null,null,null,null,null,null,null,null,null,null,null,"~"]
["SA37",2022,"DC47",527,null,null,null,null,null,null,null,null,null,null,null,null,null,null,null,null,null,null,"~"]
["SA37",2022,"DC47",528,null,null,null,null,null,null,null,null,null,null,null,null,null,null,null,null,null,null,"~"]
["SA37",2022,"DC47",529,null,null,null,null,null,null,null,null,null,null,null,null,null,null,null,null,null,null,"~"]
["SA37",2022,"DC47",530,null,null,null,null,null,null,null,null,null,null,null,null,null,null,null,null,null,null,"~"]
["SA37",2022,"DC47",531,null,null,null,null,null,null,null,null,null,null,null,null,null,null,null,null,null,null,"~"]
["SA37",2022,"DC47",532,null,null,null,null,null,null,null,null,null,null,null,null,null,null,null,null,null,null,"~"]
["SA37",2022,"DC47",533,null,null,null,null,null,null,null,null,null,null,null,null,null,null,null,null,null,null,"~"]
["SA37",2022,"DC47",534,null,null,null,null,null,null,null,null,null,null,null,null,null,null,null,null,null,null,"~"]
["SA37",2022,"DC47",535,null,null,null,null,null,null,null,null,null,null,null,null,null,null,null,null,null,null,"~"]
["SA37",2022,"DC47",536,null,null,null,null,null,null,null,null,null,null,null,null,null,null,null,null,null,null,"~"]
["SA37",2022,"DC47",537,null,null,null,null,null,null,null,null,null,null,null,null,null,null,null,null,null,null,"~"]
["SA37",2022,"DC47",538,null,null,null,null,null,null,null,null,null,null,null,null,null,null,null,null,null,null,"~"]
["SA37",2022,"DC47",539,null,null,null,null,null,null,null,null,null,null,null,null,null,null,null,null,null,null,"~"]
["SA37",2022,"DC47",540,null,null,null,null,null,null,null,null,null,null,null,null,null,null,null,null,null,null,"~"]
["SA37",2022,"DC47",541,null,null,null,null,null,null,null,null,null,null,null,null,null,null,null,null,null,null,"~"]
["SA37",2022,"DC47",542,null,null,null,null,null,null,null,null,null,null,null,null,null,null,null,null,null,null,"~"]
["SA37",2022,"DC47",543,null,null,null,null,null,null,null,null,null,null,null,null,null,null,null,null,null,null,"~"]
["SA37",2022,"DC47",544,null,null,null,null,null,null,null,null,null,null,null,null,null,null,null,null,null,null,"~"]
["SA37",2022,"DC47",545,null,null,null,null,null,null,null,null,null,null,null,null,null,null,null,null,null,null,"~"]
["SA37",2022,"DC47",546,null,null,null,null,null,null,null,null,null,null,null,null,null,null,null,null,null,null,"~"]
["SA37",2022,"DC47",547,null,null,null,null,null,null,null,null,null,null,null,null,null,null,null,null,null,null,"~"]
["SA37",2022,"DC47",548,null,null,null,null,null,null,null,null,null,null,null,null,null,null,null,null,null,null,"~"]
["SA37",2022,"DC47",549,null,null,null,null,null,null,null,null,null,null,null,null,null,null,null,null,null,null,"~"]
["SA37",2022,"DC47",550,null,null,null,null,null,null,null,null,null,null,null,null,null,null,null,null,null,null,"~"]
["SA37",2022,"DC47",551,null,null,null,null,null,null,null,null,null,null,null,null,null,null,null,null,null,null,"~"]
["SA37",2022,"DC47",552,null,null,null,null,null,null,null,null,null,null,null,null,null,null,null,null,null,null,"~"]
["SA37",2022,"DC47",553,null,null,null,null,null,null,null,null,null,null,null,null,null,null,null,null,null,null,"~"]
["SA37",2022,"DC47",554,null,null,null,null,null,null,null,null,null,null,null,null,null,null,null,null,null,null,"~"]
["SA37",2022,"DC47",555,null,null,null,null,null,null,null,null,null,null,null,null,null,null,null,null,null,null,"~"]
["SA37",2022,"DC47",556,null,null,null,null,null,null,null,null,null,null,null,null,null,null,null,null,null,null,"~"]
["SA37",2022,"DC47",557,null,null,null,null,null,null,null,null,null,null,null,null,null,null,null,null,null,null,"~"]
["SA37",2022,"DC47",558,null,null,null,null,null,null,null,null,null,null,null,null,null,null,null,null,null,null,"~"]
["SA37",2022,"DC47",559,null,null,null,null,null,null,null,null,null,null,null,null,null,null,null,null,null,null,"~"]
["SA37",{"$f":"+MTREF","v":2022},{"$f":"LEFT(muni,(FIND(\" \",muni,1)-1))","v":"DC47"},560,null,null,null,null,null,null,null,null,null,null,null,null,null,null,null,null,null,null,"~"]
["SA37",2022,"DC47",561,null,null,null,null,null,null,null,null,null,null,null,null,null,null,null,null,null,null,"~"]
["SA37",2022,"DC47",562,null,null,null,null,null,null,null,null,null,null,null,null,null,null,null,null,null,null,"~"]
["SA37",2022,"DC47",563,null,null,null,null,null,null,null,null,null,null,null,null,null,null,null,null,null,null,"~"]
["SA37",2022,"DC47",564,null,null,null,null,null,null,null,null,null,null,null,null,null,null,null,null,null,null,"~"]
["SA37",2022,"DC47",565,null,null,null,null,null,null,null,null,null,null,null,null,null,null,null,null,null,null,"~"]
["SA37",2022,"DC47",566,null,null,null,null,null,null,null,null,null,null,null,null,null,null,null,null,null,null,"~"]
["SA37",2022,"DC47",567,null,null,null,null,null,null,null,null,null,null,null,null,null,null,null,null,null,null,"~"]
["SA37",2022,"DC47",568,null,null,null,null,null,null,null,null,null,null,null,null,null,null,null,null,null,null,"~"]
["SA37",2022,"DC47",569,null,null,null,null,null,null,null,null,null,null,null,null,null,null,null,null,null,null,"~"]
["SA37",2022,"DC47",570,null,null,null,null,null,null,null,null,null,null,null,null,null,null,null,null,null,null,"~"]
["SA37",2022,"DC47",571,null,null,null,null,null,null,null,null,null,null,null,null,null,null,null,null,null,null,"~"]
["SA37",2022,"DC47",572,null,null,null,null,null,null,null,null,null,null,null,null,null,null,null,null,null,null,"~"]
["SA37",2022,"DC47",573,null,null,null,null,null,null,null,null,null,null,null,null,null,null,null,null,null,null,"~"]
["SA37",2022,"DC47",574,null,null,null,null,null,null,null,null,null,null,null,null,null,null,null,null,null,null,"~"]
["SA37",2022,"DC47",575,null,null,null,null,null,null,null,null,null,null,null,null,null,null,null,null,null,null,"~"]
["SA37",2022,"DC47",576,null,null,null,null,null,null,null,null,null,null,null,null,null,null,null,null,null,null,"~"]
["SA37",2022,"DC47",577,null,null,null,null,null,null,null,null,null,null,null,null,null,null,null,null,null,null,"~"]
["SA37",2022,"DC47",578,null,null,null,null,null,null,null,null,null,null,null,null,null,null,null,null,null,null,"~"]
["SA37",2022,"DC47",579,null,null,null,null,null,null,null,null,null,null,null,null,null,null,null,null,null,null,"~"]
["SA37",2022,"DC47",580,null,null,null,null,null,null,null,null,null,null,null,null,null,null,null,null,null,null,"~"]
["SA37",2022,"DC47",581,null,null,null,null,null,null,null,null,null,null,null,null,null,null,null,null,null,null,"~"]
["SA37",2022,"DC47",582,null,null,null,null,null,null,null,null,null,null,null,null,null,null,null,null,null,null,"~"]
["SA37",2022,"DC47",583,null,null,null,null,null,null,null,null,null,null,null,null,null,null,null,null,null,null,"~"]
["SA37",2022,"DC47",584,null,null,null,null,null,null,null,null,null,null,null,null,null,null,null,null,null,null,"~"]
["SA37",2022,"DC47",585,null,null,null,null,null,null,null,null,null,null,null,null,null,null,null,null,null,null,"~"]
["SA37",2022,"DC47",586,null,null,null,null,null,null,null,null,null,null,null,null,null,null,null,null,null,null,"~"]
["SA37",2022,"DC47",587,null,null,null,null,null,null,null,null,null,null,null,null,null,null,null,null,null,null,"~"]
["SA37",2022,"DC47",588,null,null,null,null,null,null,null,null,null,null,null,null,null,null,null,null,null,null,"~"]
["SA37",2022,"DC47",589,null,null,null,null,null,null,null,null,null,null,null,null,null,null,null,null,null,null,"~"]
["SA37",2022,"DC47",590,null,null,null,null,null,null,null,null,null,null,null,null,null,null,null,null,null,null,"~"]
["SA37",2022,"DC47",591,null,null,null,null,null,null,null,null,null,null,null,null,null,null,null,null,null,null,"~"]
["SA37",2022,"DC47",592,null,null,null,null,null,null,null,null,null,null,null,null,null,null,null,null,null,null,"~"]
["SA37",2022,"DC47",593,null,null,null,null,null,null,null,null,null,null,null,null,null,null,null,null,null,null,"~"]
["SA37",2022,"DC47",594,null,null,null,null,null,null,null,null,null,null,null,null,null,null,null,null,null,null,"~"]
["SA37",2022,"DC47",595,null,null,null,null,null,null,null,null,null,null,null,null,null,null,null,null,null,null,"~"]
["SA37",2022,"DC47",596,null,null,null,null,null,null,null,null,null,null,null,null,null,null,null,null,null,null,"~"]
["SA37",2022,"DC47",597,null,null,null,null,null,null,null,null,null,null,null,null,null,null,null,null,null,null,"~"]
["SA37",2022,"DC47",598,null,null,null,null,null,null,null,null,null,null,null,null,null,null,null,null,null,null,"~"]
["SA37",2022,"DC47",599,null,null,null,null,null,null,null,null,null,null,null,null,null,null,null,null,null,null,"~"]
["SA37",2022,"DC47",600,null,null,null,null,null,null,null,null,null,null,null,null,null,null,null,null,null,null,"~"]
["SA37",2022,"DC47",601,null,null,null,null,null,null,null,null,null,null,null,null,null,null,null,null,null,null,"~"]
["SA37",2022,"DC47",602,null,null,null,null,null,null,null,null,null,null,null,null,null,null,null,null,null,null,"~"]
["SA37",2022,"DC47",603,null,null,null,null,null,null,null,null,null,null,null,null,null,null,null,null,null,null,"~"]
["SA37",2022,"DC47",604,null,null,null,null,null,null,null,null,null,null,null,null,null,null,null,null,null,null,"~"]
["SA37",2022,"DC47",605,null,null,null,null,null,null,null,null,null,null,null,null,null,null,null,null,null,null,"~"]
["SA37",2022,"DC47",606,null,null,null,null,null,null,null,null,null,null,null,null,null,null,null,null,null,null,"~"]
["SA37",2022,"DC47",607,null,null,null,null,null,null,null,null,null,null,null,null,null,null,null,null,null,null,"~"]
["SA37",2022,"DC47",608,null,null,null,null,null,null,null,null,null,null,null,null,null,null,null,null,null,null,"~"]
["SA37",2022,"DC47",609,null,null,null,null,null,null,null,null,null,null,null,null,null,null,null,null,null,null,"~"]
["SA37",2022,"DC47",610,null,null,null,null,null,null,null,null,null,null,null,null,null,null,null,null,null,null,"~"]
["SA37",2022,"DC47",611,null,null,null,null,null,null,null,null,null,null,null,null,null,null,null,null,null,null,"~"]
["SA37",2022,"DC47",612,null,null,null,null,null,null,null,null,null,null,null,null,null,null,null,null,null,null,"~"]
["SA37",2022,"DC47",613,null,null,null,null,null,null,null,null,null,null,null,null,null,null,null,null,null,null,"~"]
["SA37",2022,"DC47",614,null,null,null,null,null,null,null,null,null,null,null,null,null,null,null,null,null,null,"~"]
["SA37",2022,"DC47",615,null,null,null,null,null,null,null,null,null,null,null,null,null,null,null,null,null,null,"~"]
["SA37",2022,"DC47",616,null,null,null,null,null,null,null,null,null,null,null,null,null,null,null,null,null,null,"~"]
["SA37",2022,"DC47",617,null,null,null,null,null,null,null,null,null,null,null,null,null,null,null,null,null,null,"~"]
["SA37",2022,"DC47",618,null,null,null,null,null,null,null,null,null,null,null,null,null,null,null,null,null,null,"~"]
["SA37",2022,"DC47",619,null,null,null,null,null,null,null,null,null,null,null,null,null,null,null,null,null,null,"~"]
["SA37",2022,"DC47",620,null,null,null,null,null,null,null,null,null,null,null,null,null,null,null,null,null,null,"~"]
["SA37",2022,"DC47",621,null,null,null,null,null,null,null,null,null,null,null,null,null,null,null,null,null,null,"~"]
["SA37",2022,"DC47",622,null,null,null,null,null,null,null,null,null,null,null,null,null,null,null,null,null,null,"~"]
["SA37",2022,"DC47",623,null,null,null,null,null,null,null,null,null,null,null,null,null,null,null,null,null,null,"~"]
["SA37",{"$f":"+MTREF","v":2022},{"$f":"LEFT(muni,(FIND(\" \",muni,1)-1))","v":"DC47"},624,null,null,null,null,null,null,null,null,null,null,null,null,null,null,null,null,null,null,"~"]
["SA37",2022,"DC47",625,null,null,null,null,null,null,null,null,null,null,null,null,null,null,null,null,null,null,"~"]
["SA37",2022,"DC47",626,null,null,null,null,null,null,null,null,null,null,null,null,null,null,null,null,null,null,"~"]
["SA37",2022,"DC47",627,null,null,null,null,null,null,null,null,null,null,null,null,null,null,null,null,null,null,"~"]
["SA37",2022,"DC47",628,null,null,null,null,null,null,null,null,null,null,null,null,null,null,null,null,null,null,"~"]
["SA37",2022,"DC47",629,null,null,null,null,null,null,null,null,null,null,null,null,null,null,null,null,null,null,"~"]
["SA37",2022,"DC47",630,null,null,null,null,null,null,null,null,null,null,null,null,null,null,null,null,null,null,"~"]
["SA37",2022,"DC47",631,null,null,null,null,null,null,null,null,null,null,null,null,null,null,null,null,null,null,"~"]
["SA37",2022,"DC47",632,null,null,null,null,null,null,null,null,null,null,null,null,null,null,null,null,null,null,"~"]
["SA37",2022,"DC47",633,null,null,null,null,null,null,null,null,null,null,null,null,null,null,null,null,null,null,"~"]
["SA37",2022,"DC47",634,null,null,null,null,null,null,null,null,null,null,null,null,null,null,null,null,null,null,"~"]
["SA37",2022,"DC47",635,null,null,null,null,null,null,null,null,null,null,null,null,null,null,null,null,null,null,"~"]
["SA37",2022,"DC47",636,null,null,null,null,null,null,null,null,null,null,null,null,null,null,null,null,null,null,"~"]
["SA37",2022,"DC47",637,null,null,null,null,null,null,null,null,null,null,null,null,null,null,null,null,null,null,"~"]
["SA37",2022,"DC47",638,null,null,null,null,null,null,null,null,null,null,null,null,null,null,null,null,null,null,"~"]
["SA37",2022,"DC47",639,null,null,null,null,null,null,null,null,null,null,null,null,null,null,null,null,null,null,"~"]
["SA37",2022,"DC47",640,null,null,null,null,null,null,null,null,null,null,null,null,null,null,null,null,null,null,"~"]
["SA37",2022,"DC47",641,null,null,null,null,null,null,null,null,null,null,null,null,null,null,null,null,null,null,"~"]
["SA37",2022,"DC47",642,null,null,null,null,null,null,null,null,null,null,null,null,null,null,null,null,null,null,"~"]
["SA37",2022,"DC47",643,null,null,null,null,null,null,null,null,null,null,null,null,null,null,null,null,null,null,"~"]
["SA37",2022,"DC47",644,null,null,null,null,null,null,null,null,null,null,null,null,null,null,null,null,null,null,"~"]
["SA37",2022,"DC47",645,null,null,null,null,null,null,null,null,null,null,null,null,null,null,null,null,null,null,"~"]
["SA37",2022,"DC47",646,null,null,null,null,null,null,null,null,null,null,null,null,null,null,null,null,null,null,"~"]
["SA37",2022,"DC47",647,null,null,null,null,null,null,null,null,null,null,null,null,null,null,null,null,null,null,"~"]
["SA37",2022,"DC47",648,null,null,null,null,null,null,null,null,null,null,null,null,null,null,null,null,null,null,"~"]
["SA37",2022,"DC47",649,null,null,null,null,null,null,null,null,null,null,null,null,null,null,null,null,null,null,"~"]
["SA37",2022,"DC47",650,null,null,null,null,null,null,null,null,null,null,null,null,null,null,null,null,null,null,"~"]
["SA37",2022,"DC47",651,null,null,null,null,null,null,null,null,null,null,null,null,null,null,null,null,null,null,"~"]
["SA37",2022,"DC47",652,null,null,null,null,null,null,null,null,null,null,null,null,null,null,null,null,null,null,"~"]
["SA37",2022,"DC47",653,null,null,null,null,null,null,null,null,null,null,null,null,null,null,null,null,null,null,"~"]
["SA37",2022,"DC47",654,null,null,null,null,null,null,null,null,null,null,null,null,null,null,null,null,null,null,"~"]
["SA37",2022,"DC47",655,null,null,null,null,null,null,null,null,null,null,null,null,null,null,null,null,null,null,"~"]
["SA37",2022,"DC47",656,null,null,null,null,null,null,null,null,null,null,null,null,null,null,null,null,null,null,"~"]
["SA37",2022,"DC47",657,null,null,null,null,null,null,null,null,null,null,null,null,null,null,null,null,null,null,"~"]
["SA37",2022,"DC47",658,null,null,null,null,null,null,null,null,null,null,null,null,null,null,null,null,null,null,"~"]
["SA37",2022,"DC47",659,null,null,null,null,null,null,null,null,null,null,null,null,null,null,null,null,null,null,"~"]
["SA37",2022,"DC47",660,null,null,null,null,null,null,null,null,null,null,null,null,null,null,null,null,null,null,"~"]
["SA37",2022,"DC47",661,null,null,null,null,null,null,null,null,null,null,null,null,null,null,null,null,null,null,"~"]
["SA37",2022,"DC47",662,null,null,null,null,null,null,null,null,null,null,null,null,null,null,null,null,null,null,"~"]
["SA37",2022,"DC47",663,null,null,null,null,null,null,null,null,null,null,null,null,null,null,null,null,null,null,"~"]
["SA37",2022,"DC47",664,null,null,null,null,null,null,null,null,null,null,null,null,null,null,null,null,null,null,"~"]
["SA37",2022,"DC47",665,null,null,null,null,null,null,null,null,null,null,null,null,null,null,null,null,null,null,"~"]
["SA37",2022,"DC47",666,null,null,null,null,null,null,null,null,null,null,null,null,null,null,null,null,null,null,"~"]
["SA37",2022,"DC47",667,null,null,null,null,null,null,null,null,null,null,null,null,null,null,null,null,null,null,"~"]
["SA37",2022,"DC47",668,null,null,null,null,null,null,null,null,null,null,null,null,null,null,null,null,null,null,"~"]
["SA37",2022,"DC47",669,null,null,null,null,null,null,null,null,null,null,null,null,null,null,null,null,null,null,"~"]
["SA37",2022,"DC47",670,null,null,null,null,null,null,null,null,null,null,null,null,null,null,null,null,null,null,"~"]
["SA37",2022,"DC47",671,null,null,null,null,null,null,null,null,null,null,null,null,null,null,null,null,null,null,"~"]
["SA37",2022,"DC47",672,null,null,null,null,null,null,null,null,null,null,null,null,null,null,null,null,null,null,"~"]
["SA37",2022,"DC47",673,null,null,null,null,null,null,null,null,null,null,null,null,null,null,null,null,null,null,"~"]
["SA37",2022,"DC47",674,null,null,null,null,null,null,null,null,null,null,null,null,null,null,null,null,null,null,"~"]
["SA37",2022,"DC47",675,null,null,null,null,null,null,null,null,null,null,null,null,null,null,null,null,null,null,"~"]
["SA37",2022,"DC47",676,null,null,null,null,null,null,null,null,null,null,null,null,null,null,null,null,null,null,"~"]
["SA37",2022,"DC47",677,null,null,null,null,null,null,null,null,null,null,null,null,null,null,null,null,null,null,"~"]
["SA37",2022,"DC47",678,null,null,null,null,null,null,null,null,null,null,null,null,null,null,null,null,null,null,"~"]
["SA37",2022,"DC47",679,null,null,null,null,null,null,null,null,null,null,null,null,null,null,null,null,null,null,"~"]
["SA37",2022,"DC47",680,null,null,null,null,null,null,null,null,null,null,null,null,null,null,null,null,null,null,"~"]
["SA37",2022,"DC47",681,null,null,null,null,null,null,null,null,null,null,null,null,null,null,null,null,null,null,"~"]
["SA37",2022,"DC47",682,null,null,null,null,null,null,null,null,null,null,null,null,null,null,null,null,null,null,"~"]
["SA37",2022,"DC47",683,null,null,null,null,null,null,null,null,null,null,null,null,null,null,null,null,null,null,"~"]
["SA37",2022,"DC47",684,null,null,null,null,null,null,null,null,null,null,null,null,null,null,null,null,null,null,"~"]
["SA37",2022,"DC47",685,null,null,null,null,null,null,null,null,null,null,null,null,null,null,null,null,null,null,"~"]
["SA37",2022,"DC47",686,null,null,null,null,null,null,null,null,null,null,null,null,null,null,null,null,null,null,"~"]
["SA37",2022,"DC47",687,null,null,null,null,null,null,null,null,null,null,null,null,null,null,null,null,null,null,"~"]
["SA37",{"$f":"+MTREF","v":2022},{"$f":"LEFT(muni,(FIND(\" \",muni,1)-1))","v":"DC47"},688,null,null,null,null,null,null,null,null,null,null,null,null,null,null,null,null,null,null,"~"]
["SA37",2022,"DC47",689,null,null,null,null,null,null,null,null,null,null,null,null,null,null,null,null,null,null,"~"]
["SA37",2022,"DC47",690,null,null,null,null,null,null,null,null,null,null,null,null,null,null,null,null,null,null,"~"]
["SA37",2022,"DC47",691,null,null,null,null,null,null,null,null,null,null,null,null,null,null,null,null,null,null,"~"]
["SA37",2022,"DC47",692,null,null,null,null,null,null,null,null,null,null,null,null,null,null,null,null,null,null,"~"]
["SA37",2022,"DC47",693,null,null,null,null,null,null,null,null,null,null,null,null,null,null,null,null,null,null,"~"]
["SA37",2022,"DC47",694,null,null,null,null,null,null,null,null,null,null,null,null,null,null,null,null,null,null,"~"]
["SA37",2022,"DC47",695,null,null,null,null,null,null,null,null,null,null,null,null,null,null,null,null,null,null,"~"]
["SA37",2022,"DC47",696,null,null,null,null,null,null,null,null,null,null,null,null,null,null,null,null,null,null,"~"]
["SA37",2022,"DC47",697,null,null,null,null,null,null,null,null,null,null,null,null,null,null,null,null,null,null,"~"]
["SA37",2022,"DC47",698,null,null,null,null,null,null,null,null,null,null,null,null,null,null,null,null,null,null,"~"]
["SA37",2022,"DC47",699,null,null,null,null,null,null,null,null,null,null,null,null,null,null,null,null,null,null,"~"]
["SA37",2022,"DC47",700,null,null,null,null,null,null,null,null,null,null,null,null,null,null,null,null,null,null,"~"]
["SA37",2022,"DC47",701,null,null,null,null,null,null,null,null,null,null,null,null,null,null,null,null,null,null,"~"]
["SA37",2022,"DC47",702,null,null,null,null,null,null,null,null,null,null,null,null,null,null,null,null,null,null,"~"]
["SA37",2022,"DC47",703,null,null,null,null,null,null,null,null,null,null,null,null,null,null,null,null,null,null,"~"]
["SA37",2022,"DC47",704,null,null,null,null,null,null,null,null,null,null,null,null,null,null,null,null,null,null,"~"]
["SA37",2022,"DC47",705,null,null,null,null,null,null,null,null,null,null,null,null,null,null,null,null,null,null,"~"]
["SA37",2022,"DC47",706,null,null,null,null,null,null,null,null,null,null,null,null,null,null,null,null,null,null,"~"]
["SA37",2022,"DC47",707,null,null,null,null,null,null,null,null,null,null,null,null,null,null,null,null,null,null,"~"]
["SA37",2022,"DC47",708,null,null,null,null,null,null,null,null,null,null,null,null,null,null,null,null,null,null,"~"]
["SA37",2022,"DC47",709,null,null,null,null,null,null,null,null,null,null,null,null,null,null,null,null,null,null,"~"]
["SA37",2022,"DC47",710,null,null,null,null,null,null,null,null,null,null,null,null,null,null,null,null,null,null,"~"]
["SA37",2022,"DC47",711,null,null,null,null,null,null,null,null,null,null,null,null,null,null,null,null,null,null,"~"]
["SA37",2022,"DC47",712,null,null,null,null,null,null,null,null,null,null,null,null,null,null,null,null,null,null,"~"]
["SA37",2022,"DC47",713,null,null,null,null,null,null,null,null,null,null,null,null,null,null,null,null,null,null,"~"]
["SA37",2022,"DC47",714,null,null,null,null,null,null,null,null,null,null,null,null,null,null,null,null,null,null,"~"]
["SA37",2022,"DC47",715,null,null,null,null,null,null,null,null,null,null,null,null,null,null,null,null,null,null,"~"]
["SA37",2022,"DC47",716,null,null,null,null,null,null,null,null,null,null,null,null,null,null,null,null,null,null,"~"]
["SA37",2022,"DC47",717,null,null,null,null,null,null,null,null,null,null,null,null,null,null,null,null,null,null,"~"]
["SA37",2022,"DC47",718,null,null,null,null,null,null,null,null,null,null,null,null,null,null,null,null,null,null,"~"]
["SA37",2022,"DC47",719,null,null,null,null,null,null,null,null,null,null,null,null,null,null,null,null,null,null,"~"]
["SA37",2022,"DC47",720,null,null,null,null,null,null,null,null,null,null,null,null,null,null,null,null,null,null,"~"]
["SA37",2022,"DC47",721,null,null,null,null,null,null,null,null,null,null,null,null,null,null,null,null,null,null,"~"]
["SA37",2022,"DC47",722,null,null,null,null,null,null,null,null,null,null,null,null,null,null,null,null,null,null,"~"]
["SA37",2022,"DC47",723,null,null,null,null,null,null,null,null,null,null,null,null,null,null,null,null,null,null,"~"]
["SA37",2022,"DC47",724,null,null,null,null,null,null,null,null,null,null,null,null,null,null,null,null,null,null,"~"]
["SA37",2022,"DC47",725,null,null,null,null,null,null,null,null,null,null,null,null,null,null,null,null,null,null,"~"]
["SA37",2022,"DC47",726,null,null,null,null,null,null,null,null,null,null,null,null,null,null,null,null,null,null,"~"]
["SA37",2022,"DC47",727,null,null,null,null,null,null,null,null,null,null,null,null,null,null,null,null,null,null,"~"]
["SA37",2022,"DC47",728,null,null,null,null,null,null,null,null,null,null,null,null,null,null,null,null,null,null,"~"]
["SA37",2022,"DC47",729,null,null,null,null,null,null,null,null,null,null,null,null,null,null,null,null,null,null,"~"]
["SA37",2022,"DC47",730,null,null,null,null,null,null,null,null,null,null,null,null,null,null,null,null,null,null,"~"]
["SA37",2022,"DC47",731,null,null,null,null,null,null,null,null,null,null,null,null,null,null,null,null,null,null,"~"]
["SA37",2022,"DC47",732,null,null,null,null,null,null,null,null,null,null,null,null,null,null,null,null,null,null,"~"]
["SA37",2022,"DC47",733,null,null,null,null,null,null,null,null,null,null,null,null,null,null,null,null,null,null,"~"]
["SA37",2022,"DC47",734,null,null,null,null,null,null,null,null,null,null,null,null,null,null,null,null,null,null,"~"]
["SA37",2022,"DC47",735,null,null,null,null,null,null,null,null,null,null,null,null,null,null,null,null,null,null,"~"]
["SA37",2022,"DC47",736,null,null,null,null,null,null,null,null,null,null,null,null,null,null,null,null,null,null,"~"]
["SA37",2022,"DC47",737,null,null,null,null,null,null,null,null,null,null,null,null,null,null,null,null,null,null,"~"]
["SA37",2022,"DC47",738,null,null,null,null,null,null,null,null,null,null,null,null,null,null,null,null,null,null,"~"]
["SA37",2022,"DC47",739,null,null,null,null,null,null,null,null,null,null,null,null,null,null,null,null,null,null,"~"]
["SA37",2022,"DC47",740,null,null,null,null,null,null,null,null,null,null,null,null,null,null,null,null,null,null,"~"]
["SA37",2022,"DC47",741,null,null,null,null,null,null,null,null,null,null,null,null,null,null,null,null,null,null,"~"]
["SA37",2022,"DC47",742,null,null,null,null,null,null,null,null,null,null,null,null,null,null,null,null,null,null,"~"]
["SA37",2022,"DC47",743,null,null,null,null,null,null,null,null,null,null,null,null,null,null,null,null,null,null,"~"]
["SA37",2022,"DC47",744,null,null,null,null,null,null,null,null,null,null,null,null,null,null,null,null,null,null,"~"]
["SA37",2022,"DC47",745,null,null,null,null,null,null,null,null,null,null,null,null,null,null,null,null,null,null,"~"]
["SA37",2022,"DC47",746,null,null,null,null,null,null,null,null,null,null,null,null,null,null,null,null,null,null,"~"]
["SA37",2022,"DC47",747,null,null,null,null,null,null,null,null,null,null,null,null,null,null,null,null,null,null,"~"]
["SA37",2022,"DC47",748,null,null,null,null,null,null,null,null,null,null,null,null,null,null,null,null,null,null,"~"]
["SA37",2022,"DC47",749,null,null,null,null,null,null,null,null,null,null,null,null,null,null,null,null,null,null,"~"]
["SA37",2022,"DC47",750,null,null,null,null,null,null,null,null,null,null,null,null,null,null,null,null,null,null,"~"]
["SA37",2022,"DC47",751,null,null,null,null,null,null,null,null,null,null,null,null,null,null,null,null,null,null,"~"]
["SA37",{"$f":"+MTREF","v":2022},{"$f":"LEFT(muni,(FIND(\" \",muni,1)-1))","v":"DC47"},752,null,null,null,null,null,null,null,null,null,null,null,null,null,null,null,null,null,null,"~"]
["SA37",2022,"DC47",753,null,null,null,null,null,null,null,null,null,null,null,null,null,null,null,null,null,null,"~"]
["SA37",2022,"DC47",754,null,null,null,null,null,null,null,null,null,null,null,null,null,null,null,null,null,null,"~"]
["SA37",2022,"DC47",755,null,null,null,null,null,null,null,null,null,null,null,null,null,null,null,null,null,null,"~"]
["SA37",2022,"DC47",756,null,null,null,null,null,null,null,null,null,null,null,null,null,null,null,null,null,null,"~"]
["SA37",2022,"DC47",757,null,null,null,null,null,null,null,null,null,null,null,null,null,null,null,null,null,null,"~"]
["SA37",2022,"DC47",758,null,null,null,null,null,null,null,null,null,null,null,null,null,null,null,null,null,null,"~"]
["SA37",2022,"DC47",759,null,null,null,null,null,null,null,null,null,null,null,null,null,null,null,null,null,null,"~"]
["SA37",2022,"DC47",760,null,null,null,null,null,null,null,null,null,null,null,null,null,null,null,null,null,null,"~"]
["SA37",2022,"DC47",761,null,null,null,null,null,null,null,null,null,null,null,null,null,null,null,null,null,null,"~"]
["SA37",2022,"DC47",762,null,null,null,null,null,null,null,null,null,null,null,null,null,null,null,null,null,null,"~"]
["SA37",2022,"DC47",763,null,null,null,null,null,null,null,null,null,null,null,null,null,null,null,null,null,null,"~"]
["SA37",2022,"DC47",764,null,null,null,null,null,null,null,null,null,null,null,null,null,null,null,null,null,null,"~"]
["SA37",2022,"DC47",765,null,null,null,null,null,null,null,null,null,null,null,null,null,null,null,null,null,null,"~"]
["SA37",2022,"DC47",766,null,null,null,null,null,null,null,null,null,null,null,null,null,null,null,null,null,null,"~"]
["SA37",2022,"DC47",767,null,null,null,null,null,null,null,null,null,null,null,null,null,null,null,null,null,null,"~"]
["SA37",2022,"DC47",768,null,null,null,null,null,null,null,null,null,null,null,null,null,null,null,null,null,null,"~"]
["SA37",2022,"DC47",769,null,null,null,null,null,null,null,null,null,null,null,null,null,null,null,null,null,null,"~"]
["SA37",2022,"DC47",770,null,null,null,null,null,null,null,null,null,null,null,null,null,null,null,null,null,null,"~"]
["SA37",2022,"DC47",771,null,null,null,null,null,null,null,null,null,null,null,null,null,null,null,null,null,null,"~"]
["SA37",2022,"DC47",772,null,null,null,null,null,null,null,null,null,null,null,null,null,null,null,null,null,null,"~"]
["SA37",2022,"DC47",773,null,null,null,null,null,null,null,null,null,null,null,null,null,null,null,null,null,null,"~"]
["SA37",2022,"DC47",774,null,null,null,null,null,null,null,null,null,null,null,null,null,null,null,null,null,null,"~"]
["SA37",2022,"DC47",775,null,null,null,null,null,null,null,null,null,null,null,null,null,null,null,null,null,null,"~"]
["SA37",2022,"DC47",776,null,null,null,null,null,null,null,null,null,null,null,null,null,null,null,null,null,null,"~"]
["SA37",2022,"DC47",777,null,null,null,null,null,null,null,null,null,null,null,null,null,null,null,null,null,null,"~"]
["SA37",2022,"DC47",778,null,null,null,null,null,null,null,null,null,null,null,null,null,null,null,null,null,null,"~"]
["SA37",2022,"DC47",779,null,null,null,null,null,null,null,null,null,null,null,null,null,null,null,null,null,null,"~"]
["SA37",2022,"DC47",780,null,null,null,null,null,null,null,null,null,null,null,null,null,null,null,null,null,null,"~"]
["SA37",2022,"DC47",781,null,null,null,null,null,null,null,null,null,null,null,null,null,null,null,null,null,null,"~"]
["SA37",2022,"DC47",782,null,null,null,null,null,null,null,null,null,null,null,null,null,null,null,null,null,null,"~"]
["SA37",2022,"DC47",783,null,null,null,null,null,null,null,null,null,null,null,null,null,null,null,null,null,null,"~"]
["SA37",2022,"DC47",784,null,null,null,null,null,null,null,null,null,null,null,null,null,null,null,null,null,null,"~"]
["SA37",2022,"DC47",785,null,null,null,null,null,null,null,null,null,null,null,null,null,null,null,null,null,null,"~"]
["SA37",2022,"DC47",786,null,null,null,null,null,null,null,null,null,null,null,null,null,null,null,null,null,null,"~"]
["SA37",2022,"DC47",787,null,null,null,null,null,null,null,null,null,null,null,null,null,null,null,null,null,null,"~"]
["SA37",2022,"DC47",788,null,null,null,null,null,null,null,null,null,null,null,null,null,null,null,null,null,null,"~"]
["SA37",2022,"DC47",789,null,null,null,null,null,null,null,null,null,null,null,null,null,null,null,null,null,null,"~"]
["SA37",2022,"DC47",790,null,null,null,null,null,null,null,null,null,null,null,null,null,null,null,null,null,null,"~"]
["SA37",2022,"DC47",791,null,null,null,null,null,null,null,null,null,null,null,null,null,null,null,null,null,null,"~"]
["SA37",2022,"DC47",792,null,null,null,null,null,null,null,null,null,null,null,null,null,null,null,null,null,null,"~"]
["SA37",2022,"DC47",793,null,null,null,null,null,null,null,null,null,null,null,null,null,null,null,null,null,null,"~"]
["SA37",2022,"DC47",794,null,null,null,null,null,null,null,null,null,null,null,null,null,null,null,null,null,null,"~"]
["SA37",2022,"DC47",795,null,null,null,null,null,null,null,null,null,null,null,null,null,null,null,null,null,null,"~"]
["SA37",2022,"DC47",796,null,null,null,null,null,null,null,null,null,null,null,null,null,null,null,null,null,null,"~"]
["SA37",2022,"DC47",797,null,null,null,null,null,null,null,null,null,null,null,null,null,null,null,null,null,null,"~"]
["SA37",2022,"DC47",798,null,null,null,null,null,null,null,null,null,null,null,null,null,null,null,null,null,null,"~"]
["SA37",2022,"DC47",799,null,null,null,null,null,null,null,null,null,null,null,null,null,null,null,null,null,null,"~"]
["SA37",2022,"DC47",800,null,null,null,null,null,null,null,null,null,null,null,null,null,null,null,null,null,null,"~"]
["SA37",2022,"DC47",801,null,null,null,null,null,null,null,null,null,null,null,null,null,null,null,null,null,null,"~"]
["SA37",2022,"DC47",802,null,null,null,null,null,null,null,null,null,null,null,null,null,null,null,null,null,null,"~"]
["SA37",2022,"DC47",803,null,null,null,null,null,null,null,null,null,null,null,null,null,null,null,null,null,null,"~"]
["SA37",2022,"DC47",804,null,null,null,null,null,null,null,null,null,null,null,null,null,null,null,null,null,null,"~"]
["SA37",2022,"DC47",805,null,null,null,null,null,null,null,null,null,null,null,null,null,null,null,null,null,null,"~"]
["SA37",2022,"DC47",806,null,null,null,null,null,null,null,null,null,null,null,null,null,null,null,null,null,null,"~"]
["SA37",2022,"DC47",807,null,null,null,null,null,null,null,null,null,null,null,null,null,null,null,null,null,null,"~"]
["SA37",2022,"DC47",808,null,null,null,null,null,null,null,null,null,null,null,null,null,null,null,null,null,null,"~"]
["SA37",2022,"DC47",809,null,null,null,null,null,null,null,null,null,null,null,null,null,null,null,null,null,null,"~"]
["SA37",2022,"DC47",810,null,null,null,null,null,null,null,null,null,null,null,null,null,null,null,null,null,null,"~"]
["SA37",2022,"DC47",811,null,null,null,null,null,null,null,null,null,null,null,null,null,null,null,null,null,null,"~"]
["SA37",2022,"DC47",812,null,null,null,null,null,null,null,null,null,null,null,null,null,null,null,null,null,null,"~"]
["SA37",2022,"DC47",813,null,null,null,null,null,null,null,null,null,null,null,null,null,null,null,null,null,null,"~"]
["SA37",2022,"DC47",814,null,null,null,null,null,null,null,null,null,null,null,null,null,null,null,null,null,null,"~"]
["SA37",2022,"DC47",815,null,null,null,null,null,null,null,null,null,null,null,null,null,null,null,null,null,null,"~"]
["SA37",{"$f":"+MTREF","v":2022},{"$f":"LEFT(muni,(FIND(\" \",muni,1)-1))","v":"DC47"},816,null,null,null,null,null,null,null,null,null,null,null,null,null,null,null,null,null,null,"~"]
["SA37",2022,"DC47",817,null,null,null,null,null,null,null,null,null,null,null,null,null,null,null,null,null,null,"~"]
["SA37",2022,"DC47",818,null,null,null,null,null,null,null,null,null,null,null,null,null,null,null,null,null,null,"~"]
["SA37",2022,"DC47",819,null,null,null,null,null,null,null,null,null,null,null,null,null,null,null,null,null,null,"~"]
["SA37",2022,"DC47",820,null,null,null,null,null,null,null,null,null,null,null,null,null,null,null,null,null,null,"~"]
["SA37",2022,"DC47",821,null,null,null,null,null,null,null,null,null,null,null,null,null,null,null,null,null,null,"~"]
["SA37",2022,"DC47",822,null,null,null,null,null,null,null,null,null,null,null,null,null,null,null,null,null,null,"~"]
["SA37",2022,"DC47",823,null,null,null,null,null,null,null,null,null,null,null,null,null,null,null,null,null,null,"~"]
["SA37",2022,"DC47",824,null,null,null,null,null,null,null,null,null,null,null,null,null,null,null,null,null,null,"~"]
["SA37",2022,"DC47",825,null,null,null,null,null,null,null,null,null,null,null,null,null,null,null,null,null,null,"~"]
["SA37",2022,"DC47",826,null,null,null,null,null,null,null,null,null,null,null,null,null,null,null,null,null,null,"~"]
["SA37",2022,"DC47",827,null,null,null,null,null,null,null,null,null,null,null,null,null,null,null,null,null,null,"~"]
["SA37",2022,"DC47",828,null,null,null,null,null,null,null,null,null,null,null,null,null,null,null,null,null,null,"~"]
["SA37",2022,"DC47",829,null,null,null,null,null,null,null,null,null,null,null,null,null,null,null,null,null,null,"~"]
["SA37",2022,"DC47",830,null,null,null,null,null,null,null,null,null,null,null,null,null,null,null,null,null,null,"~"]
["SA37",2022,"DC47",831,null,null,null,null,null,null,null,null,null,null,null,null,null,null,null,null,null,null,"~"]
["SA37",2022,"DC47",832,null,null,null,null,null,null,null,null,null,null,null,null,null,null,null,null,null,null,"~"]
["SA37",2022,"DC47",833,null,null,null,null,null,null,null,null,null,null,null,null,null,null,null,null,null,null,"~"]
["SA37",2022,"DC47",834,null,null,null,null,null,null,null,null,null,null,null,null,null,null,null,null,null,null,"~"]
["SA37",2022,"DC47",835,null,null,null,null,null,null,null,null,null,null,null,null,null,null,null,null,null,null,"~"]
["SA37",2022,"DC47",836,null,null,null,null,null,null,null,null,null,null,null,null,null,null,null,null,null,null,"~"]
["SA37",2022,"DC47",837,null,null,null,null,null,null,null,null,null,null,null,null,null,null,null,null,null,null,"~"]
["SA37",2022,"DC47",838,null,null,null,null,null,null,null,null,null,null,null,null,null,null,null,null,null,null,"~"]
["SA37",2022,"DC47",839,null,null,null,null,null,null,null,null,null,null,null,null,null,null,null,null,null,null,"~"]
["SA37",2022,"DC47",840,null,null,null,null,null,null,null,null,null,null,null,null,null,null,null,null,null,null,"~"]
["SA37",2022,"DC47",841,null,null,null,null,null,null,null,null,null,null,null,null,null,null,null,null,null,null,"~"]
["SA37",2022,"DC47",842,null,null,null,null,null,null,null,null,null,null,null,null,null,null,null,null,null,null,"~"]
["SA37",2022,"DC47",843,null,null,null,null,null,null,null,null,null,null,null,null,null,null,null,null,null,null,"~"]
["SA37",2022,"DC47",844,null,null,null,null,null,null,null,null,null,null,null,null,null,null,null,null,null,null,"~"]
["SA37",2022,"DC47",845,null,null,null,null,null,null,null,null,null,null,null,null,null,null,null,null,null,null,"~"]
["SA37",2022,"DC47",846,null,null,null,null,null,null,null,null,null,null,null,null,null,null,null,null,null,null,"~"]
["SA37",2022,"DC47",847,null,null,null,null,null,null,null,null,null,null,null,null,null,null,null,null,null,null,"~"]
["SA37",2022,"DC47",848,null,null,null,null,null,null,null,null,null,null,null,null,null,null,null,null,null,null,"~"]
["SA37",2022,"DC47",849,null,null,null,null,null,null,null,null,null,null,null,null,null,null,null,null,null,null,"~"]
["SA37",2022,"DC47",850,null,null,null,null,null,null,null,null,null,null,null,null,null,null,null,null,null,null,"~"]
["SA37",2022,"DC47",851,null,null,null,null,null,null,null,null,null,null,null,null,null,null,null,null,null,null,"~"]
["SA37",2022,"DC47",852,null,null,null,null,null,null,null,null,null,null,null,null,null,null,null,null,null,null,"~"]
["SA37",2022,"DC47",853,null,null,null,null,null,null,null,null,null,null,null,null,null,null,null,null,null,null,"~"]
["SA37",2022,"DC47",854,null,null,null,null,null,null,null,null,null,null,null,null,null,null,null,null,null,null,"~"]
["SA37",2022,"DC47",855,null,null,null,null,null,null,null,null,null,null,null,null,null,null,null,null,null,null,"~"]
["SA37",2022,"DC47",856,null,null,null,null,null,null,null,null,null,null,null,null,null,null,null,null,null,null,"~"]
["SA37",2022,"DC47",857,null,null,null,null,null,null,null,null,null,null,null,null,null,null,null,null,null,null,"~"]
["SA37",2022,"DC47",858,null,null,null,null,null,null,null,null,null,null,null,null,null,null,null,null,null,null,"~"]
["SA37",2022,"DC47",859,null,null,null,null,null,null,null,null,null,null,null,null,null,null,null,null,null,null,"~"]
["SA37",2022,"DC47",860,null,null,null,null,null,null,null,null,null,null,null,null,null,null,null,null,null,null,"~"]
["SA37",2022,"DC47",861,null,null,null,null,null,null,null,null,null,null,null,null,null,null,null,null,null,null,"~"]
["SA37",2022,"DC47",862,null,null,null,null,null,null,null,null,null,null,null,null,null,null,null,null,null,null,"~"]
["SA37",2022,"DC47",863,null,null,null,null,null,null,null,null,null,null,null,null,null,null,null,null,null,null,"~"]
["SA37",2022,"DC47",864,null,null,null,null,null,null,null,null,null,null,null,null,null,null,null,null,null,null,"~"]
["SA37",2022,"DC47",865,null,null,null,null,null,null,null,null,null,null,null,null,null,null,null,null,null,null,"~"]
["SA37",2022,"DC47",866,null,null,null,null,null,null,null,null,null,null,null,null,null,null,null,null,null,null,"~"]
["SA37",2022,"DC47",867,null,null,null,null,null,null,null,null,null,null,null,null,null,null,null,null,null,null,"~"]
["SA37",2022,"DC47",868,null,null,null,null,null,null,null,null,null,null,null,null,null,null,null,null,null,null,"~"]
["SA37",2022,"DC47",869,null,null,null,null,null,null,null,null,null,null,null,null,null,null,null,null,null,null,"~"]
["SA37",2022,"DC47",870,null,null,null,null,null,null,null,null,null,null,null,null,null,null,null,null,null,null,"~"]
["SA37",2022,"DC47",871,null,null,null,null,null,null,null,null,null,null,null,null,null,null,null,null,null,null,"~"]
["SA37",2022,"DC47",872,null,null,null,null,null,null,null,null,null,null,null,null,null,null,null,null,null,null,"~"]
["SA37",2022,"DC47",873,null,null,null,null,null,null,null,null,null,null,null,null,null,null,null,null,null,null,"~"]
["SA37",2022,"DC47",874,null,null,null,null,null,null,null,null,null,null,null,null,null,null,null,null,null,null,"~"]
["SA37",2022,"DC47",875,null,null,null,null,null,null,null,null,null,null,null,null,null,null,null,null,null,null,"~"]
["SA37",2022,"DC47",876,null,null,null,null,null,null,null,null,null,null,null,null,null,null,null,null,null,null,"~"]
["SA37",2022,"DC47",877,null,null,null,null,null,null,null,null,null,null,null,null,null,null,null,null,null,null,"~"]
["SA37",2022,"DC47",878,null,null,null,null,null,null,null,null,null,null,null,null,null,null,null,null,null,null,"~"]
["SA37",2022,"DC47",879,null,null,null,null,null,null,null,null,null,null,null,null,null,null,null,null,null,null,"~"]
["SA37",{"$f":"+MTREF","v":2022},{"$f":"LEFT(muni,(FIND(\" \",muni,1)-1))","v":"DC47"},880,null,null,null,null,null,null,null,null,null,null,null,null,null,null,null,null,null,null,"~"]
["SA37",2022,"DC47",881,null,null,null,null,null,null,null,null,null,null,null,null,null,null,null,null,null,null,"~"]
["SA37",2022,"DC47",882,null,null,null,null,null,null,null,null,null,null,null,null,null,null,null,null,null,null,"~"]
["SA37",2022,"DC47",883,null,null,null,null,null,null,null,null,null,null,null,null,null,null,null,null,null,null,"~"]
["SA37",2022,"DC47",884,null,null,null,null,null,null,null,null,null,null,null,null,null,null,null,null,null,null,"~"]
["SA37",2022,"DC47",885,null,null,null,null,null,null,null,null,null,null,null,null,null,null,null,null,null,null,"~"]
["SA37",2022,"DC47",886,null,null,null,null,null,null,null,null,null,null,null,null,null,null,null,null,null,null,"~"]
["SA37",2022,"DC47",887,null,null,null,null,null,null,null,null,null,null,null,null,null,null,null,null,null,null,"~"]
["SA37",2022,"DC47",888,null,null,null,null,null,null,null,null,null,null,null,null,null,null,null,null,null,null,"~"]
["SA37",2022,"DC47",889,null,null,null,null,null,null,null,null,null,null,null,null,null,null,null,null,null,null,"~"]
["SA37",2022,"DC47",890,null,null,null,null,null,null,null,null,null,null,null,null,null,null,null,null,null,null,"~"]
["SA37",2022,"DC47",891,null,null,null,null,null,null,null,null,null,null,null,null,null,null,null,null,null,null,"~"]
["SA37",2022,"DC47",892,null,null,null,null,null,null,null,null,null,null,null,null,null,null,null,null,null,null,"~"]
["SA37",2022,"DC47",893,null,null,null,null,null,null,null,null,null,null,null,null,null,null,null,null,null,null,"~"]
["SA37",2022,"DC47",894,null,null,null,null,null,null,null,null,null,null,null,null,null,null,null,null,null,null,"~"]
["SA37",2022,"DC47",895,null,null,null,null,null,null,null,null,null,null,null,null,null,null,null,null,null,null,"~"]
["SA37",2022,"DC47",896,null,null,null,null,null,null,null,null,null,null,null,null,null,null,null,null,null,null,"~"]
["SA37",2022,"DC47",897,null,null,null,null,null,null,null,null,null,null,null,null,null,null,null,null,null,null,"~"]
["SA37",2022,"DC47",898,null,null,null,null,null,null,null,null,null,null,null,null,null,null,null,null,null,null,"~"]
["SA37",2022,"DC47",899,null,null,null,null,null,null,null,null,null,null,null,null,null,null,null,null,null,null,"~"]
["SA37",2022,"DC47",900,null,null,null,null,null,null,null,null,null,null,null,null,null,null,null,null,null,null,"~"]
["SA37",2022,"DC47",901,null,null,null,null,null,null,null,null,null,null,null,null,null,null,null,null,null,null,"~"]
["SA37",2022,"DC47",902,null,null,null,null,null,null,null,null,null,null,null,null,null,null,null,null,null,null,"~"]
["SA37",2022,"DC47",903,null,null,null,null,null,null,null,null,null,null,null,null,null,null,null,null,null,null,"~"]
["SA37",2022,"DC47",904,null,null,null,null,null,null,null,null,null,null,null,null,null,null,null,null,null,null,"~"]
["SA37",2022,"DC47",905,null,null,null,null,null,null,null,null,null,null,null,null,null,null,null,null,null,null,"~"]
["SA37",2022,"DC47",906,null,null,null,null,null,null,null,null,null,null,null,null,null,null,null,null,null,null,"~"]
["SA37",2022,"DC47",907,null,null,null,null,null,null,null,null,null,null,null,null,null,null,null,null,null,null,"~"]
["SA37",2022,"DC47",908,null,null,null,null,null,null,null,null,null,null,null,null,null,null,null,null,null,null,"~"]
["SA37",2022,"DC47",909,null,null,null,null,null,null,null,null,null,null,null,null,null,null,null,null,null,null,"~"]
["SA37",2022,"DC47",910,null,null,null,null,null,null,null,null,null,null,null,null,null,null,null,null,null,null,"~"]
["SA37",2022,"DC47",911,null,null,null,null,null,null,null,null,null,null,null,null,null,null,null,null,null,null,"~"]
["SA37",2022,"DC47",912,null,null,null,null,null,null,null,null,null,null,null,null,null,null,null,null,null,null,"~"]
["SA37",2022,"DC47",913,null,null,null,null,null,null,null,null,null,null,null,null,null,null,null,null,null,null,"~"]
["SA37",2022,"DC47",914,null,null,null,null,null,null,null,null,null,null,null,null,null,null,null,null,null,null,"~"]
["SA37",2022,"DC47",915,null,null,null,null,null,null,null,null,null,null,null,null,null,null,null,null,null,null,"~"]
["SA37",2022,"DC47",916,null,null,null,null,null,null,null,null,null,null,null,null,null,null,null,null,null,null,"~"]
["SA37",2022,"DC47",917,null,null,null,null,null,null,null,null,null,null,null,null,null,null,null,null,null,null,"~"]
["SA37",2022,"DC47",918,null,null,null,null,null,null,null,null,null,null,null,null,null,null,null,null,null,null,"~"]
["SA37",2022,"DC47",919,null,null,null,null,null,null,null,null,null,null,null,null,null,null,null,null,null,null,"~"]
["SA37",2022,"DC47",920,null,null,null,null,null,null,null,null,null,null,null,null,null,null,null,null,null,null,"~"]
["SA37",2022,"DC47",921,null,null,null,null,null,null,null,null,null,null,null,null,null,null,null,null,null,null,"~"]
["SA37",2022,"DC47",922,null,null,null,null,null,null,null,null,null,null,null,null,null,null,null,null,null,null,"~"]
["SA37",2022,"DC47",923,null,null,null,null,null,null,null,null,null,null,null,null,null,null,null,null,null,null,"~"]
["SA37",2022,"DC47",924,null,null,null,null,null,null,null,null,null,null,null,null,null,null,null,null,null,null,"~"]
["SA37",2022,"DC47",925,null,null,null,null,null,null,null,null,null,null,null,null,null,null,null,null,null,null,"~"]
["SA37",2022,"DC47",926,null,null,null,null,null,null,null,null,null,null,null,null,null,null,null,null,null,null,"~"]
["SA37",2022,"DC47",927,null,null,null,null,null,null,null,null,null,null,null,null,null,null,null,null,null,null,"~"]
["SA37",2022,"DC47",928,null,null,null,null,null,null,null,null,null,null,null,null,null,null,null,null,null,null,"~"]
["SA37",2022,"DC47",929,null,null,null,null,null,null,null,null,null,null,null,null,null,null,null,null,null,null,"~"]
["SA37",2022,"DC47",930,null,null,null,null,null,null,null,null,null,null,null,null,null,null,null,null,null,null,"~"]
["SA37",2022,"DC47",931,null,null,null,null,null,null,null,null,null,null,null,null,null,null,null,null,null,null,"~"]
["SA37",2022,"DC47",932,null,null,null,null,null,null,null,null,null,null,null,null,null,null,null,null,null,null,"~"]
["SA37",2022,"DC47",933,null,null,null,null,null,null,null,null,null,null,null,null,null,null,null,null,null,null,"~"]
["SA37",2022,"DC47",934,null,null,null,null,null,null,null,null,null,null,null,null,null,null,null,null,null,null,"~"]
["SA37",2022,"DC47",935,null,null,null,null,null,null,null,null,null,null,null,null,null,null,null,null,null,null,"~"]
["SA37",2022,"DC47",936,null,null,null,null,null,null,null,null,null,null,null,null,null,null,null,null,null,null,"~"]
["SA37",2022,"DC47",937,null,null,null,null,null,null,null,null,null,null,null,null,null,null,null,null,null,null,"~"]
["SA37",2022,"DC47",938,null,null,null,null,null,null,null,null,null,null,null,null,null,null,null,null,null,null,"~"]
["SA37",2022,"DC47",939,null,null,null,null,null,null,null,null,null,null,null,null,null,null,null,null,null,null,"~"]
["SA37",2022,"DC47",940,null,null,null,null,null,null,null,null,null,null,null,null,null,null,null,null,null,null,"~"]
["SA37",2022,"DC47",941,null,null,null,null,null,null,null,null,null,null,null,null,null,null,null,null,null,null,"~"]
["SA37",2022,"DC47",942,null,null,null,null,null,null,null,null,null,null,null,null,null,null,null,null,null,null,"~"]
["SA37",2022,"DC47",943,null,null,null,null,null,null,null,null,null,null,null,null,null,null,null,null,null,null,"~"]
["SA37",{"$f":"+MTREF","v":2022},{"$f":"LEFT(muni,(FIND(\" \",muni,1)-1))","v":"DC47"},944,null,null,null,null,null,null,null,null,null,null,null,null,null,null,null,null,null,null,"~"]
["SA37",2022,"DC47",945,null,null,null,null,null,null,null,null,null,null,null,null,null,null,null,null,null,null,"~"]
["SA37",2022,"DC47",946,null,null,null,null,null,null,null,null,null,null,null,null,null,null,null,null,null,null,"~"]
["SA37",2022,"DC47",947,null,null,null,null,null,null,null,null,null,null,null,null,null,null,null,null,null,null,"~"]
["SA37",2022,"DC47",948,null,null,null,null,null,null,null,null,null,null,null,null,null,null,null,null,null,null,"~"]
["SA37",2022,"DC47",949,null,null,null,null,null,null,null,null,null,null,null,null,null,null,null,null,null,null,"~"]
["SA37",2022,"DC47",950,null,null,null,null,null,null,null,null,null,null,null,null,null,null,null,null,null,null,"~"]
["SA37",2022,"DC47",951,null,null,null,null,null,null,null,null,null,null,null,null,null,null,null,null,null,null,"~"]
["SA37",2022,"DC47",952,null,null,null,null,null,null,null,null,null,null,null,null,null,null,null,null,null,null,"~"]
["SA37",2022,"DC47",953,null,null,null,null,null,null,null,null,null,null,null,null,null,null,null,null,null,null,"~"]
["SA37",2022,"DC47",954,null,null,null,null,null,null,null,null,null,null,null,null,null,null,null,null,null,null,"~"]
["SA37",2022,"DC47",955,null,null,null,null,null,null,null,null,null,null,null,null,null,null,null,null,null,null,"~"]
["SA37",2022,"DC47",956,null,null,null,null,null,null,null,null,null,null,null,null,null,null,null,null,null,null,"~"]
["SA37",2022,"DC47",957,null,null,null,null,null,null,null,null,null,null,null,null,null,null,null,null,null,null,"~"]
["SA37",2022,"DC47",958,null,null,null,null,null,null,null,null,null,null,null,null,null,null,null,null,null,null,"~"]
["SA37",2022,"DC47",959,null,null,null,null,null,null,null,null,null,null,null,null,null,null,null,null,null,null,"~"]
["SA37",2022,"DC47",960,null,null,null,null,null,null,null,null,null,null,null,null,null,null,null,null,null,null,"~"]
["SA37",2022,"DC47",961,null,null,null,null,null,null,null,null,null,null,null,null,null,null,null,null,null,null,"~"]
["SA37",2022,"DC47",962,null,null,null,null,null,null,null,null,null,null,null,null,null,null,null,null,null,null,"~"]
["SA37",2022,"DC47",963,null,null,null,null,null,null,null,null,null,null,null,null,null,null,null,null,null,null,"~"]
["SA37",2022,"DC47",964,null,null,null,null,null,null,null,null,null,null,null,null,null,null,null,null,null,null,"~"]
["SA37",2022,"DC47",965,null,null,null,null,null,null,null,null,null,null,null,null,null,null,null,null,null,null,"~"]
["SA37",2022,"DC47",966,null,null,null,null,null,null,null,null,null,null,null,null,null,null,null,null,null,null,"~"]
["SA37",2022,"DC47",967,null,null,null,null,null,null,null,null,null,null,null,null,null,null,null,null,null,null,"~"]
["SA37",2022,"DC47",968,null,null,null,null,null,null,null,null,null,null,null,null,null,null,null,null,null,null,"~"]
["SA37",2022,"DC47",969,null,null,null,null,null,null,null,null,null,null,null,null,null,null,null,null,null,null,"~"]
["SA37",2022,"DC47",970,null,null,null,null,null,null,null,null,null,null,null,null,null,null,null,null,null,null,"~"]
["SA37",2022,"DC47",971,null,null,null,null,null,null,null,null,null,null,null,null,null,null,null,null,null,null,"~"]
["SA37",2022,"DC47",972,null,null,null,null,null,null,null,null,null,null,null,null,null,null,null,null,null,null,"~"]
["SA37",2022,"DC47",973,null,null,null,null,null,null,null,null,null,null,null,null,null,null,null,null,null,null,"~"]
["SA37",2022,"DC47",974,null,null,null,null,null,null,null,null,null,null,null,null,null,null,null,null,null,null,"~"]
["SA37",2022,"DC47",975,null,null,null,null,null,null,null,null,null,null,null,null,null,null,null,null,null,null,"~"]
["SA37",2022,"DC47",976,null,null,null,null,null,null,null,null,null,null,null,null,null,null,null,null,null,null,"~"]
["SA37",2022,"DC47",977,null,null,null,null,null,null,null,null,null,null,null,null,null,null,null,null,null,null,"~"]
["SA37",2022,"DC47",978,null,null,null,null,null,null,null,null,null,null,null,null,null,null,null,null,null,null,"~"]
["SA37",2022,"DC47",979,null,null,null,null,null,null,null,null,null,null,null,null,null,null,null,null,null,null,"~"]
["SA37",2022,"DC47",980,null,null,null,null,null,null,null,null,null,null,null,null,null,null,null,null,null,null,"~"]
["SA37",2022,"DC47",981,null,null,null,null,null,null,null,null,null,null,null,null,null,null,null,null,null,null,"~"]
["SA37",2022,"DC47",982,null,null,null,null,null,null,null,null,null,null,null,null,null,null,null,null,null,null,"~"]
["SA37",2022,"DC47",983,null,null,null,null,null,null,null,null,null,null,null,null,null,null,null,null,null,null,"~"]
["SA37",2022,"DC47",984,null,null,null,null,null,null,null,null,null,null,null,null,null,null,null,null,null,null,"~"]
["SA37",2022,"DC47",985,null,null,null,null,null,null,null,null,null,null,null,null,null,null,null,null,null,null,"~"]
["SA37",2022,"DC47",986,null,null,null,null,null,null,null,null,null,null,null,null,null,null,null,null,null,null,"~"]
["SA37",2022,"DC47",987,null,null,null,null,null,null,null,null,null,null,null,null,null,null,null,null,null,null,"~"]
["SA37",2022,"DC47",988,null,null,null,null,null,null,null,null,null,null,null,null,null,null,null,null,null,null,"~"]
["SA37",2022,"DC47",989,null,null,null,null,null,null,null,null,null,null,null,null,null,null,null,null,null,null,"~"]
["SA37",2022,"DC47",990,null,null,null,null,null,null,null,null,null,null,null,null,null,null,null,null,null,null,"~"]
["SA37",2022,"DC47",991,null,null,null,null,null,null,null,null,null,null,null,null,null,null,null,null,null,null,"~"]
["SA37",2022,"DC47",992,null,null,null,null,null,null,null,null,null,null,null,null,null,null,null,null,null,null,"~"]
["SA37",2022,"DC47",993,null,null,null,null,null,null,null,null,null,null,null,null,null,null,null,null,null,null,"~"]
["SA37",2022,"DC47",994,null,null,null,null,null,null,null,null,null,null,null,null,null,null,null,null,null,null,"~"]
["SA37",2022,"DC47",995,null,null,null,null,null,null,null,null,null,null,null,null,null,null,null,null,null,null,"~"]
["SA37",2022,"DC47",996,null,null,null,null,null,null,null,null,null,null,null,null,null,null,null,null,null,null,"~"]
["SA37",2022,"DC47",997,null,null,null,null,null,null,null,null,null,null,null,null,null,null,null,null,null,null,"~"]
["SA37",2022,"DC47",998,null,null,null,null,null,null,null,null,null,null,null,null,null,null,null,null,null,null,"~"]
["SA37",2022,"DC47",999,null,null,null,null,null,null,null,null,null,null,null,null,null,null,null,null,null,null,"~"]
["SA37",2022,"DC47",1000,null,null,null,null,null,null,null,null,null,null,null,null,null,null,null,null,null,null,"~"]
["CONTACT",2022,"DC47",1,null,null,null,null,null,null,null,null,null,null,null,null,null,null,null,null,null,null,"~"]
["CONTACT",2022,"DC47",2,null,null,null,null,null,null,null,null,null,null,null,null,null,null,null,null,null,null,"~"]
["CONTACT",2022,"DC47",3,null,null,null,null,null,null,null,null,null,null,null,null,null,null,null,null,null,null,"~"]
["CONTACT",2022,"DC47",4,null,null,null,null,null,null,null,null,null,null,null,null,null,null,null,null,null,null,"~"]
["CONTACT",2022,"DC47",5,null,null,null,null,null,null,null,null,null,null,null,null,null,null,null,null,null,null,"~"]
["CONTACT",2022,"DC47",6,null,null,null,null,null,null,null,null,null,null,null,null,null,null,null,null,null,null,"~"]
["CONTACT",2022,"DC47",7,null,null,null,null,null,null,null,null,null,null,null,null,null,null,null,null,null,null,"~"]
["CONTACT",{"$f":"+MTREF","v":2022},{"$f":"LEFT(muni,(FIND(\" \",muni,1)-1))","v":"DC47"},8,null,null,null,null,null,null,null,null,null,null,null,null,null,null,null,null,null,null,"~"]
["CONTACT",2022,"DC47",9,null,null,null,null,null,null,null,null,null,null,null,null,null,null,null,null,null,null,"~"]
["CONTACT",2022,"DC47",10,null,null,null,null,null,null,null,null,null,null,null,null,null,null,null,null,null,null,"~"]
["CONTACT",2022,"DC47",11,null,null,null,null,null,null,null,null,null,null,null,null,null,null,null,null,null,null,"~"]
["CONTACT",2022,"DC47",12,null,null,null,null,null,null,null,null,null,null,null,null,null,null,null,null,null,null,"~"]
["CONTACT",2022,"DC47",13,null,null,null,null,null,null,null,null,null,null,null,null,null,null,null,null,null,null,"~"]
["CONTACT",2022,"DC47",14,null,null,null,null,null,null,null,null,null,null,null,null,null,null,null,null,null,null,"~"]
["CONTACT",2022,"DC47",15,null,null,null,null,null,null,null,null,null,null,null,null,null,null,null,null,null,null,"~"]
["CONTACT",2022,"DC47",16,null,null,null,null,null,null,null,null,null,null,null,null,null,null,null,null,null,null,"~"]
["CONTACT",2022,"DC47",17,null,null,null,null,null,null,null,null,null,null,null,null,null,null,null,null,null,null,"~"]
["CONTACT",2022,"DC47",18,null,null,null,null,null,null,null,null,null,null,null,null,null,null,null,null,null,null,"~"]
["CONTACT",2022,"DC47",19,null,null,null,null,null,null,null,null,null,null,null,null,null,null,null,null,null,null,"~"]
["CONTACT",2022,"DC47",20,null,null,null,null,null,null,null,null,null,null,null,null,null,null,null,null,null,null,"~"]
["CONTACT",2022,"DC47",21,null,null,null,null,null,null,null,null,null,null,null,null,null,null,null,null,null,null,"~"]
["CONTACT",2022,"DC47",22,null,null,null,null,null,null,null,null,null,null,null,null,null,null,null,null,null,null,"~"]
["CONTACT",2022,"DC47",23,null,null,null,null,null,null,null,null,null,null,null,null,null,null,null,null,null,null,"~"]
["CONTACT",2022,"DC47",24,null,null,null,null,null,null,null,null,null,null,null,null,null,null,null,null,null,null,"~"]
["CONTACT",2022,"DC47",25,null,null,null,null,null,null,null,null,null,null,null,null,null,null,null,null,null,null,"~"]
["CONTACT",2022,"DC47",26,null,null,null,null,null,null,null,null,null,null,null,null,null,null,null,null,null,null,"~"]
["CONTACT",2022,"DC47",27,null,null,null,null,null,null,null,null,null,null,null,null,null,null,null,null,null,null,"~"]
["CONTACT",2022,"DC47",28,null,null,null,null,null,null,null,null,null,null,null,null,null,null,null,null,null,null,"~"]
["CONTACT",2022,"DC47",29,null,null,null,null,null,null,null,null,null,null,null,null,null,null,null,null,null,null,"~"]
["CONTACT",2022,"DC47",30,null,null,null,null,null,null,null,null,null,null,null,null,null,null,null,null,null,null,"~"]
["CONTACT",2022,"DC47",31,null,null,null,null,null,null,null,null,null,null,null,null,null,null,null,null,null,null,"~"]
["CONTACT",2022,"DC47",32,null,null,null,null,null,null,null,null,null,null,null,null,null,null,null,null,null,null,"~"]
["CONTACT",2022,"DC47",33,null,null,null,null,null,null,null,null,null,null,null,null,null,null,null,null,null,null,"~"]
["CONTACT",2022,"DC47",34,null,null,null,null,null,null,null,null,null,null,null,null,null,null,null,null,null,null,"~"]
["CONTACT",2022,"DC47",35,null,null,null,null,null,null,null,null,null,null,null,null,null,null,null,null,null,null,"~"]
["CONTACT",2022,"DC47",36,null,null,null,null,null,null,null,null,null,null,null,null,null,null,null,null,null,null,"~"]
["CONTACT",2022,"DC47",37,null,null,null,null,null,null,null,null,null,null,null,null,null,null,null,null,null,null,"~"]
["CONTACT",2022,"DC47",38,null,null,null,null,null,null,null,null,null,null,null,null,null,null,null,null,null,null,"~"]
["CONTACT",2022,"DC47",39,null,null,null,null,null,null,null,null,null,null,null,null,null,null,null,null,null,null,"~"]
["CONTACT",2022,"DC47",40,null,null,null,null,null,null,null,null,null,null,null,null,null,null,null,null,null,null,"~"]
["CONTACT",2022,"DC47",41,null,null,null,null,null,null,null,null,null,null,null,null,null,null,null,null,null,null,"~"]
["CONTACT",2022,"DC47",42,null,null,null,null,null,null,null,null,null,null,null,null,null,null,null,null,null,null,"~"]
["CONTACT",2022,"DC47",43,null,null,null,null,null,null,null,null,null,null,null,null,null,null,null,null,null,null,"~"]
["CONTACT",2022,"DC47",44,null,null,null,null,null,null,null,null,null,null,null,null,null,null,null,null,null,null,"~"]
["CONTACT",2022,"DC47",45,null,null,null,null,null,null,null,null,null,null,null,null,null,null,null,null,null,null,"~"]
["CONTACT",2022,"DC47",46,null,null,null,null,null,null,null,null,null,null,null,null,null,null,null,null,null,null,"~"]
["CONTACT",2022,"DC47",47,null,null,null,null,null,null,null,null,null,null,null,null,null,null,null,null,null,null,"~"]
["CONTACT",2022,"DC47",48,null,null,null,null,null,null,null,null,null,null,null,null,null,null,null,null,null,null,"~"]
["CONTACT",2022,"DC47",49,null,null,null,null,null,null,null,null,null,null,null,null,null,null,null,null,null,null,"~"]
["CONTACT",2022,"DC47",50,null,null,null,null,null,null,null,null,null,null,null,null,null,null,null,null,null,null,"~"]
["CONTACT",2022,"DC47",51,null,null,null,null,null,null,null,null,null,null,null,null,null,null,null,null,null,null,"~"]
["CONTACT",2022,"DC47",52,null,null,null,null,null,null,null,null,null,null,null,null,null,null,null,null,null,null,"~"]
["CONTACT",2022,"DC47",53,null,null,null,null,null,null,null,null,null,null,null,null,null,null,null,null,null,null,"~"]
["CONTACT",2022,"DC47",54,null,null,null,null,null,null,null,null,null,null,null,null,null,null,null,null,null,null,"~"]
["CONTACT",2022,"DC47",55,null,null,null,null,null,null,null,null,null,null,null,null,null,null,null,null,null,null,"~"]
["CONTACT",2022,"DC47",56,null,null,null,null,null,null,null,null,null,null,null,null,null,null,null,null,null,null,"~"]
["CONTACT",2022,"DC47",57,null,null,null,null,null,null,null,null,null,null,null,null,null,null,null,null,null,null,"~"]
["CONTACT",2022,"DC47",58,null,null,null,null,null,null,null,null,null,null,null,null,null,null,null,null,null,null,"~"]
["CONTACT",2022,"DC47",59,null,null,null,null,null,null,null,null,null,null,null,null,null,null,null,null,null,null,"~"]
["CONTACT",2022,"DC47",60,null,null,null,null,null,null,null,null,null,null,null,null,null,null,null,null,null,null,"~"]
["CONTACT",2022,"DC47",61,null,null,null,null,null,null,null,null,null,null,null,null,null,null,null,null,null,null,"~"]
["CONTACT",2022,"DC47",62,null,null,null,null,null,null,null,null,null,null,null,null,null,null,null,null,null,null,"~"]
["CONTACT",2022,"DC47",63,null,null,null,null,null,null,null,null,null,null,null,null,null,null,null,null,null,null,"~"]
["CONTACT",2022,"DC47",64,null,null,null,null,null,null,null,null,null,null,null,null,null,null,null,null,null,null,"~"]
["CONTACT",2022,"DC47",65,null,null,null,null,null,null,null,null,null,null,null,null,null,null,null,null,null,null,"~"]
["CONTACT",2022,"DC47",66,null,null,null,null,null,null,null,null,null,null,null,null,null,null,null,null,null,null,"~"]
["CONTACT",2022,"DC47",67,null,null,null,null,null,null,null,null,null,null,null,null,null,null,null,null,null,null,"~"]
["CONTACT",2022,"DC47",68,null,null,null,null,null,null,null,null,null,null,null,null,null,null,null,null,null,null,"~"]
["CONTACT",2022,"DC47",69,null,null,null,null,null,null,null,null,null,null,null,null,null,null,null,null,null,null,"~"]
["CONTACT",2022,"DC47",70,null,null,null,null,null,null,null,null,null,null,null,null,null,null,null,null,null,null,"~"]
["CONTACT",2022,"DC47",71,null,null,null,null,null,null,null,null,null,null,null,null,null,null,null,null,null,null,"~"]
["CONTACT",{"$f":"+MTREF","v":2022},{"$f":"LEFT(muni,(FIND(\" \",muni,1)-1))","v":"DC47"},72,null,null,null,null,null,null,null,null,null,null,null,null,null,null,null,null,null,null,"~"]
["CONTACT",2022,"DC47",73,null,null,null,null,null,null,null,null,null,null,null,null,null,null,null,null,null,null,"~"]
["CONTACT",2022,"DC47",74,null,null,null,null,null,null,null,null,null,null,null,null,null,null,null,null,null,null,"~"]
["CONTACT",2022,"DC47",75,null,null,null,null,null,null,null,null,null,null,null,null,null,null,null,null,null,null,"~"]
["CONTACT",2022,"DC47",76,null,null,null,null,null,null,null,null,null,null,null,null,null,null,null,null,null,null,"~"]
["CONTACT",2022,"DC47",77,null,null,null,null,null,null,null,null,null,null,null,null,null,null,null,null,null,null,"~"]
["CONTACT",2022,"DC47",78,null,null,null,null,null,null,null,null,null,null,null,null,null,null,null,null,null,null,"~"]
["CONTACT",2022,"DC47",79,null,null,null,null,null,null,null,null,null,null,null,null,null,null,null,null,null,null,"~"]
["CONTACT",2022,"DC47",80,null,null,null,null,null,null,null,null,null,null,null,null,null,null,null,null,null,null,"~"]
["CONTACT",2022,"DC47",81,null,null,null,null,null,null,null,null,null,null,null,null,null,null,null,null,null,null,"~"]
["CONTACT",2022,"DC47",82,null,null,null,null,null,null,null,null,null,null,null,null,null,null,null,null,null,null,"~"]
["CONTACT",2022,"DC47",83,null,null,null,null,null,null,null,null,null,null,null,null,null,null,null,null,null,null,"~"]
["CONTACT",2022,"DC47",84,null,null,null,null,null,null,null,null,null,null,null,null,null,null,null,null,null,null,"~"]
["CONTACT",2022,"DC47",85,null,null,null,null,null,null,null,null,null,null,null,null,null,null,null,null,null,null,"~"]
["CONTACT",2022,"DC47",86,null,null,null,null,null,null,null,null,null,null,null,null,null,null,null,null,null,null,"~"]
["CONTACT",2022,"DC47",87,null,null,null,null,null,null,null,null,null,null,null,null,null,null,null,null,null,null,"~"]
["CONTACT",2022,"DC47",88,null,null,null,null,null,null,null,null,null,null,null,null,null,null,null,null,null,null,"~"]
["CONTACT",2022,"DC47",89,null,null,null,null,null,null,null,null,null,null,null,null,null,null,null,null,null,null,"~"]
["CONTACT",2022,"DC47",90,null,null,null,null,null,null,null,null,null,null,null,null,null,null,null,null,null,null,"~"]
["CONTACT",2022,"DC47",91,null,null,null,null,null,null,null,null,null,null,null,null,null,null,null,null,null,null,"~"]
["CONTACT",2022,"DC47",92,null,null,null,null,null,null,null,null,null,null,null,null,null,null,null,null,null,null,"~"]
["CONTACT",2022,"DC47",93,null,null,null,null,null,null,null,null,null,null,null,null,null,null,null,null,null,null,"~"]
["CONTACT",2022,"DC47",94,null,null,null,null,null,null,null,null,null,null,null,null,null,null,null,null,null,null,"~"]
["CONTACT",2022,"DC47",95,null,null,null,null,null,null,null,null,null,null,null,null,null,null,null,null,null,null,"~"]
["CONTACT",2022,"DC47",96,null,null,null,null,null,null,null,null,null,null,null,null,null,null,null,null,null,null,"~"]
["CONTACT",2022,"DC47",97,null,null,null,null,null,null,null,null,null,null,null,null,null,null,null,null,null,null,"~"]
["CONTACT",2022,"DC47",98,null,null,null,null,null,null,null,null,null,null,null,null,null,null,null,null,null,null,"~"]
["CONTACT",2022,"DC47",99,null,null,null,null,null,null,null,null,null,null,null,null,null,null,null,null,null,null,"~"]
["CONTACT",2022,"DC47",100,null,null,null,null,null,null,null,null,null,null,null,null,null,null,null,null,null,null,"~"]
["CONTACT",2022,"DC47",101,null,null,null,null,null,null,null,null,null,null,null,null,null,null,null,null,null,null,"~"]
["CONTACT",2022,"DC47",102,null,null,null,null,null,null,null,null,null,null,null,null,null,null,null,null,null,null,"~"]
["CONTACT",2022,"DC47",103,null,null,null,null,null,null,null,null,null,null,null,null,null,null,null,null,null,null,"~"]
["CONTACT",2022,"DC47",104,null,null,null,null,null,null,null,null,null,null,null,null,null,null,null,null,null,null,"~"]
["CONTACT",2022,"DC47",105,null,null,null,null,null,null,null,null,null,null,null,null,null,null,null,null,null,null,"~"]
["CONTACT",2022,"DC47",106,null,null,null,null,null,null,null,null,null,null,null,null,null,null,null,null,null,null,"~"]
["CONTACT",2022,"DC47",107,null,null,null,null,null,null,null,null,null,null,null,null,null,null,null,null,null,null,"~"]
["CONTACT",2022,"DC47",108,null,null,null,null,null,null,null,null,null,null,null,null,null,null,null,null,null,null,"~"]
["CONTACT",2022,"DC47",109,null,null,null,null,null,null,null,null,null,null,null,null,null,null,null,null,null,null,"~"]
["CONTACT",2022,"DC47",110,null,null,null,null,null,null,null,null,null,null,null,null,null,null,null,null,null,null,"~"]
["CONTACT",2022,"DC47",111,null,null,null,null,null,null,null,null,null,null,null,null,null,null,null,null,null,null,"~"]
["CONTACT",2022,"DC47",112,null,null,null,null,null,null,null,null,null,null,null,null,null,null,null,null,null,null,"~"]
["CONTACT",2022,"DC47",113,null,null,null,null,null,null,null,null,null,null,null,null,null,null,null,null,null,null,"~"]
["CONTACT",2022,"DC47",114,null,null,null,null,null,null,null,null,null,null,null,null,null,null,null,null,null,null,"~"]
["CONTACT",2022,"DC47",115,null,null,null,null,null,null,null,null,null,null,null,null,null,null,null,null,null,null,"~"]
["CONTACT",2022,"DC47",116,null,null,null,null,null,null,null,null,null,null,null,null,null,null,null,null,null,null,"~"]
["CONTACT",2022,"DC47",117,null,null,null,null,null,null,null,null,null,null,null,null,null,null,null,null,null,null,"~"]
["CONTACT",2022,"DC47",118,null,null,null,null,null,null,null,null,null,null,null,null,null,null,null,null,null,null,"~"]
["CONTACT",2022,"DC47",119,null,null,null,null,null,null,null,null,null,null,null,null,null,null,null,null,null,null,"~"]
["CONTACT",2022,"DC47",120,null,null,null,null,null,null,null,null,null,null,null,null,null,null,null,null,null,null,"~"]
["CONTACT",2022,"DC47",121,null,null,null,null,null,null,null,null,null,null,null,null,null,null,null,null,null,null,"~"]
["CONTACT",2022,"DC47",122,null,null,null,null,null,null,null,null,null,null,null,null,null,null,null,null,null,null,"~"]
["CONTACT",2022,"DC47",123,null,null,null,null,null,null,null,null,null,null,null,null,null,null,null,null,null,null,"~"]
["CONTACT",2022,"DC47",124,null,null,null,null,null,null,null,null,null,null,null,null,null,null,null,null,null,null,"~"]
["CONTACT",2022,"DC47",125,null,null,null,null,null,null,null,null,null,null,null,null,null,null,null,null,null,null,"~"]
["CONTACT",2022,"DC47",126,null,null,null,null,null,null,null,null,null,null,null,null,null,null,null,null,null,null,"~"]
["CONTACT",2022,"DC47",127,null,null,null,null,null,null,null,null,null,null,null,null,null,null,null,null,null,null,"~"]
["CONTACT",2022,"DC47",128,null,null,null,null,null,null,null,null,null,null,null,null,null,null,null,null,null,null,"~"]
["CONTACT",2022,"DC47",129,null,null,null,null,null,null,null,null,null,null,null,null,null,null,null,null,null,null,"~"]
["CONTACT",2022,"DC47",130,null,null,null,null,null,null,null,null,null,null,null,null,null,null,null,null,null,null,"~"]
["CONTACT",2022,"DC47",131,null,null,null,null,null,null,null,null,null,null,null,null,null,null,null,null,null,null,"~"]
["CONTACT",2022,"DC47",132,null,null,null,null,null,null,null,null,null,null,null,null,null,null,null,null,null,null,"~"]
["CONTACT",2022,"DC47",133,null,null,null,null,null,null,null,null,null,null,null,null,null,null,null,null,null,null,"~"]
["CONTACT",2022,"DC47",134,null,null,null,null,null,null,null,null,null,null,null,null,null,null,null,null,null,null,"~"]
["CONTACT",2022,"DC47",135,null,null,null,null,null,null,null,null,null,null,null,null,null,null,null,null,null,null,"~"]
["CONTACT",2022,"DC47",136,null,null,null,null,null,null,null,null,null,null,null,null,null,null,null,null,null,null,"~"]
["CONTACT",2022,"DC47",137,null,null,null,null,null,null,null,null,null,null,null,null,null,null,null,null,null,null,"~"]
["CONTACT",2022,"DC47",138,null,null,null,null,null,null,null,null,null,null,null,null,null,null,null,null,null,null,"~"]
["SA25",2022,"DC47",0,1,"Revenue By Source",null,null,null,null,null,null,null,null,null,null,null,null,null,null,null,null,"~"]
["SA25",2022,"DC47",0,2,"Property rates",null,null,null,null,null,null,null,null,null,null,null,null,null,null,null,null,"~"]
["SA25",2022,"DC47",0,3,"Property rates - penalties & collection charges",null,null,null,null,null,null,null,null,null,null,null,null,null,null,null,null,"~"]
["SA25",2022,"DC47",0,4,"Service charges - electricity revenue",null,null,null,null,null,null,null,null,null,null,null,null,null,null,null,null,"~"]
["SA25",2022,"DC47",0,5,"Service charges - water revenue",null,null,null,null,null,null,null,null,null,null,null,null,null,null,null,null,"~"]
["SA25",2022,"DC47",0,6,"Service charges - sanitation revenue",null,null,null,null,null,null,null,null,null,null,null,null,null,null,null,null,"~"]
["SA25",2022,"DC47",0,7,"Service charges - refuse revenue",null,null,null,null,null,null,null,null,null,null,null,null,null,null,null,null,"~"]
["SA25",2022,"DC47",0,8,"Service charges - other",null,null,null,null,null,null,null,null,null,null,null,null,null,null,null,null,"~"]
["SA25",2022,"DC47",0,9,"Rental of facilities and equipment",null,null,null,null,null,null,null,null,null,null,null,null,null,null,null,null,"~"]
["SA25",2022,"DC47",0,10,"Interest earned - external investments",null,null,null,null,null,null,null,null,null,null,null,null,null,null,null,null,"~"]
["SA25",2022,"DC47",0,11,"Interest earned - outstanding debtors",null,null,null,null,null,null,null,null,null,null,null,null,null,null,null,null,"~"]
["SA25",2022,"DC47",0,12,"Dividends received",null,null,null,null,null,null,null,null,null,null,null,null,null,null,null,null,"~"]
["SA25",2022,"DC47",0,13,"Fines",null,null,null,null,null,null,null,null,null,null,null,null,null,null,null,null,"~"]
["SA25",2022,"DC47",0,14,"Licences and permits",null,null,null,null,null,null,null,null,null,null,null,null,null,null,null,null,"~"]
["SA25",2022,"DC47",0,15,"Agency services",null,null,null,null,null,null,null,null,null,null,null,null,null,null,null,null,"~"]
["SA25",2022,"DC47",0,16,"Transfers recognised - operational",null,null,null,null,null,null,null,null,null,null,null,null,null,null,null,null,"~"]
["SA25",2022,"DC47",0,17,"Other revenue",null,null,null,null,null,null,null,null,null,null,null,null,null,null,null,null,"~"]
["SA25",2022,"DC47",0,18,"Gains on disposal of PPE",null,null,null,null,null,null,null,null,null,null,null,null,null,null,null,null,"~"]
["SA25",2022,"DC47",0,19,"Total Revenue (excluding capital transfers and contributions)",null,null,null,null,null,null,null,null,null,null,null,null,null,null,null,null,"~"]
["SA25",2022,"DC47",0,20,null,null,null,null,null,null,null,null,null,null,null,null,null,null,null,null,null,"~"]
["SA25",2022,"DC47",0,21,"Expenditure By Type",null,null,null,null,null,null,null,null,null,null,null,null,null,null,null,null,"~"]
["SA25",2022,"DC47",0,22,"Employee related costs",null,null,null,null,null,null,null,null,null,null,null,null,null,null,null,null,"~"]
["SA25",2022,"DC47",0,23,"Remuneration of councillors",null,null,null,null,null,null,null,null,null,null,null,null,null,null,null,null,"~"]
["SA25",2022,"DC47",0,24,"Debt impairment",null,null,null,null,null,null,null,null,null,null,null,null,null,null,null,null,"~"]
["SA25",2022,"DC47",0,25,"Depreciation & asset impairment",null,null,null,null,null,null,null,null,null,null,null,null,null,null,null,null,"~"]
["SA25",2022,"DC47",0,26,"Finance charges",null,null,null,null,null,null,null,null,null,null,null,null,null,null,null,null,"~"]
["SA25",2022,"DC47",0,27,"Bulk purchases",null,null,null,null,null,null,null,null,null,null,null,null,null,null,null,null,"~"]
["SA25",2022,"DC47",0,28,"Other materials",null,null,null,null,null,null,null,null,null,null,null,null,null,null,null,null,"~"]
["SA25",2022,"DC47",0,29,"Contracted services",null,null,null,null,null,null,null,null,null,null,null,null,null,null,null,null,"~"]
["SA25",2022,"DC47",0,30,"Transfers and grants",null,null,null,null,null,null,null,null,null,null,null,null,null,null,null,null,"~"]
["SA25",2022,"DC47",0,31,"Other expenditure",null,null,null,null,null,null,null,null,null,null,null,null,null,null,null,null,"~"]
["SA25",2022,"DC47",0,32,"Loss on disposal of PPE",null,null,null,null,null,null,null,null,null,null,null,null,null,null,null,null,"~"]
["SA25",2022,"DC47",0,33,"Total Expenditure",null,null,null,null,null,null,null,null,null,null,null,null,null,null,null,null,"~"]
["SA25",2022,"DC47",0,34,null,null,null,null,null,null,null,null,null,null,null,null,null,null,null,null,null,"~"]
["SA25",2022,"DC47",0,35,"Surplus/(Deficit)",null,null,null,null,null,null,null,null,null,null,null,null,null,null,null,null,"~"]
["SA25",{"$f":"+MTREF","v":2022},{"$f":"LEFT(muni,(FIND(\" \",muni,1)-1))","v":"DC47"},0,36,"Transfers recognised - capital",null,null,null,null,null,null,null,null,null,null,null,null,null,null,null,null,"~"]
["SA25",2022,"DC47",0,37,"Contributions recognised - capital",null,null,null,null,null,null,null,null,null,null,null,null,null,null,null,null,"~"]
["SA25",2022,"DC47",0,38,"Contributed assets",null,null,null,null,null,null,null,null,null,null,null,null,null,null,null,null,"~"]
["SA25",2022,"DC47",0,39,"Surplus/(Deficit) after capital transfers & contributions",null,null,null,null,null,null,null,null,null,null,null,null,null,null,null,null,"~"]
["SA25",2022,"DC47",0,40,"Taxation",null,null,null,null,null,null,null,null,null,null,null,null,null,null,null,null,"~"]
["SA25",2022,"DC47",0,41,"Attributable to minorities",null,null,null,null,null,null,null,null,null,null,null,null,null,null,null,null,"~"]
["SA25",2022,"DC47",0,44,"Share of surplus/ (deficit) of associate",null,null,null,null,null,null,null,null,null,null,null,null,null,null,null,null,"~"]
["SA27",2022,"DC47",null,null,"Revenue - Standard",null,null,null,null,null,null,null,null,null,null,null,null,null,null,null,null,"~"]
["SA27",2022,"DC47",null,null,"Governance and administration",null,null,null,null,null,null,null,null,null,null,null,null,null,null,null,null,"~"]
["SA27",2022,"DC47",1,11,"Executive and council",null,null,null,null,null,null,null,null,null,null,null,null,null,null,null,null,"~"]
["SA27",2022,"DC47",1,12,"Budget and treasury office",null,null,null,null,null,null,null,null,null,null,null,null,null,null,null,null,"~"]
["SA27",2022,"DC47",1,13,"Corporate services",null,null,null,null,null,null,null,null,null,null,null,null,null,null,null,null,"~"]
["SA27",2022,"DC47",null,null,"Community and public safety",null,null,null,null,null,null,null,null,null,null,null,null,null,null,null,null,"~"]
["SA27",2022,"DC47",1,21,"Community and social services",null,null,null,null,null,null,null,null,null,null,null,null,null,null,null,null,"~"]
["SA27",2022,"DC47",1,22,"Sport and recreation",null,null,null,null,null,null,null,null,null,null,null,null,null,null,null,null,"~"]
["SA27",2022,"DC47",1,23,"Public safety",null,null,null,null,null,null,null,null,null,null,null,null,null,null,null,null,"~"]
["SA27",2022,"DC47",1,24,"Housing",null,null,null,null,null,null,null,null,null,null,null,null,null,null,null,null,"~"]
["SA27",2022,"DC47",1,25,"Health",null,null,null,null,null,null,null,null,null,null,null,null,null,null,null,null,"~"]
["SA27",2022,"DC47",null,null,"Economic and environmental services",null,null,null,null,null,null,null,null,null,null,null,null,null,null,null,null,"~"]
["SA27",2022,"DC47",1,31,"Planning and development",null,null,null,null,null,null,null,null,null,null,null,null,null,null,null,null,"~"]
["SA27",2022,"DC47",1,32,"Road transport",null,null,null,null,null,null,null,null,null,null,null,null,null,null,null,null,"~"]
["SA27",2022,"DC47",1,33,"Environmental protection",null,null,null,null,null,null,null,null,null,null,null,null,null,null,null,null,"~"]
["SA27",2022,"DC47",null,null,"Trading services",null,null,null,null,null,null,null,null,null,null,null,null,null,null,null,null,"~"]
["SA27",2022,"DC47",1,41,"Electricity",null,null,null,null,null,null,null,null,null,null,null,null,null,null,null,null,"~"]
["SA27",2022,"DC47",1,42,"Water",null,null,null,null,null,null,null,null,null,null,null,null,null,null,null,null,"~"]
["SA27",2022,"DC47",1,43,"Waste water management",null,null,null,null,null,null,null,null,null,null,null,null,null,null,null,null,"~"]
["SA27",2022,"DC47",1,44,"Waste management",null,null,null,null,null,null,null,null,null,null,null,null,null,null,null,null,"~"]
["SA27",2022,"DC47",1,45,"Other",null,null,null,null,null,null,null,null,null,null,null,null,null,null,null,null,"~"]
["SA27",2022,"DC47",null,null,"Total Revenue - Standard",null,null,null,null,null,null,null,null,null,null,null,null,null,null,null,null,"~"]
["SA27",2022,"DC47",null,null,null,null,null,null,null,null,null,null,null,null,null,null,null,null,null,null,null,"~"]
["SA27",2022,"DC47",null,null,"Expenditure - Standard",null,null,null,null,null,null,null,null,null,null,null,null,null,null,null,null,"~"]
["SA27",2022,"DC47",null,null,"Governance and administration",null,null,null,null,null,null,null,null,null,null,null,null,null,null,null,null,"~"]
["SA27",2022,"DC47",2,11,"Executive and council",null,null,null,null,null,null,null,null,null,null,null,null,null,null,null,null,"~"]
["SA27",2022,"DC47",2,12,"Budget and treasury office",null,null,null,null,null,null,null,null,null,null,null,null,null,null,null,null,"~"]
["SA27",2022,"DC47",2,13,"Corporate services",null,null,null,null,null,null,null,null,null,null,null,null,null,null,null,null,"~"]
["SA27",2022,"DC47",null,null,"Community and public safety",null,null,null,null,null,null,null,null,null,null,null,null,null,null,null,null,"~"]
["SA27",2022,"DC47",2,21,"Community and social services",null,null,null,null,null,null,null,null,null,null,null,null,null,null,null,null,"~"]
["SA27",2022,"DC47",2,22,"Sport and recreation",null,null,null,null,null,null,null,null,null,null,null,null,null,null,null,null,"~"]
["SA27",2022,"DC47",2,23,"Public safety",null,null,null,null,null,null,null,null,null,null,null,null,null,null,null,null,"~"]
["SA27",2022,"DC47",2,24,"Housing",null,null,null,null,null,null,null,null,null,null,null,null,null,null,null,null,"~"]
["SA27",2022,"DC47",2,25,"Health",null,null,null,null,null,null,null,null,null,null,null,null,null,null,null,null,"~"]
["SA27",2022,"DC47",null,null,"Economic and environmental services",null,null,null,null,null,null,null,null,null,null,null,null,null,null,null,null,"~"]
["SA27",2022,"DC47",2,31,"Planning and development",null,null,null,null,null,null,null,null,null,null,null,null,null,null,null,null,"~"]
["SA27",2022,"DC47",2,32,"Road transport",null,null,null,null,null,null,null,null,null,null,null,null,null,null,null,null,"~"]
["SA27",2022,"DC47",2,33,"Environmental protection",null,null,null,null,null,null,null,null,null,null,null,null,null,null,null,null,"~"]
["SA27",2022,"DC47",null,null,"Trading services",null,null,null,null,null,null,null,null,null,null,null,null,null,null,null,null,"~"]
["SA27",2022,"DC47",2,41,"Electricity",null,null,null,null,null,null,null,null,null,null,null,null,null,null,null,null,"~"]
["SA27",2022,"DC47",2,42,"Water",null,null,null,null,null,null,null,null,null,null,null,null,null,null,null,null,"~"]
["SA27",2022,"DC47",2,43,"Waste water management",null,null,null,null,null,null,null,null,null,null,null,null,null,null,null,null,"~"]
["SA27",2022,"DC47",2,44,"Waste management",null,null,null,null,null,null,null,null,null,null,null,null,null,null,null,null,"~"]
["SA27",2022,"DC47",2,45,"Other",null,null,null,null,null,null,null,null,null,null,null,null,null,null,null,null,"~"]
["SA27",2022,"DC47",null,null,"Total Expenditure - Standard",null,null,null,null,null,null,null,null,null,null,null,null,null,null,null,null,"~"]
["SA29",2022,"DC47",null,null,"Capital Expenditure - Standard",null,null,null,null,null,null,null,null,null,null,null,null,null,null,null,null,"~"]
["SA29",2022,"DC47",null,null,"Governance and administration",null,null,null,null,null,null,null,null,null,null,null,null,null,null,null,null,"~"]
["SA29",2022,"DC47",1,11,"Executive and council",null,null,null,null,null,null,null,null,null,null,null,null,null,null,null,null,"~"]
["SA29",2022,"DC47",1,12,"Budget and treasury office",null,null,null,null,null,null,null,null,null,null,null,null,null,null,null,null,"~"]
["SA29",2022,"DC47",1,13,"Corporate services",null,null,null,null,null,null,null,null,null,null,null,null,null,null,null,null,"~"]
["SA29",2022,"DC47",null,null,"Community and public safety",null,null,null,null,null,null,null,null,null,null,null,null,null,null,null,null,"~"]
["SA29",2022,"DC47",1,21,"Community and social services",null,null,null,null,null,null,null,null,null,null,null,null,null,null,null,null,"~"]
["SA29",2022,"DC47",1,22,"Sport and recreation",null,null,null,null,null,null,null,null,null,null,null,null,null,null,null,null,"~"]
["SA29",2022,"DC47",1,23,"Public safety",null,null,null,null,null,null,null,null,null,null,null,null,null,null,null,null,"~"]
["SA29",2022,"DC47",1,24,"Housing",null,null,null,null,null,null,null,null,null,null,null,null,null,null,null,null,"~"]
["SA29",2022,"DC47",1,25,"Health",null,null,null,null,null,null,null,null,null,null,null,null,null,null,null,null,"~"]
["SA29",2022,"DC47",null,null,"Economic and environmental services",null,null,null,null,null,null,null,null,null,null,null,null,null,null,null,null,"~"]
["SA29",{"$f":"+MTREF","v":2022},{"$f":"LEFT(muni,(FIND(\" \",muni,1)-1))","v":"DC47"},1,31,"Planning and development",null,null,null,null,null,null,null,null,null,null,null,null,null,null,null,null,"~"]
["SA29",2022,"DC47",1,32,"Road transport",null,null,null,null,null,null,null,null,null,null,null,null,null,null,null,null,"~"]
["SA29",2022,"DC47",1,33,"Environmental protection",null,null,null,null,null,null,null,null,null,null,null,null,null,null,null,null,"~"]
["SA29",2022,"DC47",null,null,"Trading services",null,null,null,null,null,null,null,null,null,null,null,null,null,null,null,null,"~"]
["SA29",2022,"DC47",1,41,"Electricity",null,null,null,null,null,null,null,null,null,null,null,null,null,null,null,null,"~"]
["SA29",2022,"DC47",1,42,"Water",null,null,null,null,null,null,null,null,null,null,null,null,null,null,null,null,"~"]
["SA29",2022,"DC47",1,43,"Waste water management",null,null,null,null,null,null,null,null,null,null,null,null,null,null,null,null,"~"]
["SA29",2022,"DC47",1,44,"Waste management",null,null,null,null,null,null,null,null,null,null,null,null,null,null,null,null,"~"]
["SA29",2022,"DC47",1,45,"Other",null,null,null,null,null,null,null,null,null,null,null,null,null,null,null,null,"~"]
["SA29",2022,"DC47",null,null,"Total Capital Expenditure - Standard",null,null,null,null,null,null,null,null,null,null,null,null,null,null,null,null,"~"]
["SA29",2022,"DC47",null,null,null,null,null,null,null,null,null,null,null,null,null,null,null,null,null,null,null,"~"]
["SA29",2022,"DC47",2,50,"Funded by:",null,null,null,null,null,null,null,null,null,null,null,null,null,null,null,null,"~"]
["SA29",2022,"DC47",2,51,"National Government",null,null,null,null,null,null,null,null,null,null,null,null,null,null,null,null,"~"]
["SA29",2022,"DC47",2,52,"Provincial Government",null,null,null,null,null,null,null,null,null,null,null,null,null,null,null,null,"~"]
["SA29",2022,"DC47",2,53,"District Municipality",null,null,null,null,null,null,null,null,null,null,null,null,null,null,null,null,"~"]
["SA29",2022,"DC47",2,54,"Other transfers and grants",null,null,null,null,null,null,null,null,null,null,null,null,null,null,null,null,"~"]
["SA29",2022,"DC47",2,55,"Transfers recognised - capital",null,null,null,null,null,null,null,null,null,null,null,null,null,null,null,null,"~"]
["SA29",2022,"DC47",2,56,"Public contributions & donations",null,null,null,null,null,null,null,null,null,null,null,null,null,null,null,null,"~"]
["SA29",2022,"DC47",2,57,"Borrowing",null,null,null,null,null,null,null,null,null,null,null,null,null,null,null,null,"~"]
["SA29",2022,"DC47",2,58,"Internally generated funds",null,null,null,null,null,null,null,null,null,null,null,null,null,null,null,null,"~"]
["SA29",2022,"DC47",2,59,"Total Capital Funding",null,null,null,null,null,null,null,null,null,null,null,null,null,null,null,null,"~"]